{"text_format":"1","workbook":"xlsx","n_sheets":12,"sheets":["Report - ALL (DASHBOARD)","Chart - Prob Exc","Chart - Pattern","Report Data","Compile Data","___","Control","DSSPathnames","NAA 091720","ALTA2 PEA","Other","Conv_Flags"],"not_rendered":{"charts":9,"images":0,"macros":1,"external_links":0,"defined_names":7,"comments":2,"pivot_tables":0},"unopened":[],"bounds":{"document_bytes":16777216,"sheet_cells":100000,"rows_first":2000,"rows_last":500,"rows_between":2000,"halvings":0,"cell_chars":16384,"cell_head_chars":4096},"cells_cut":0,"cells_raw":0,"read":"whole","date_system":"1900"}

{"sheet":"Report - ALL (DASHBOARD)","index":0,"n_rows":116,"n_cols":23,"rows_kept":116,"cut":false,"hidden":false,"merged":[[0,0,0,22],[16,2,16,5],[17,2,17,5],[18,2,18,5],[19,2,19,5],[74,1,74,4],[75,1,75,4],[24,2,24,3],[25,2,25,3],[73,1,73,4],[20,2,23,3],[20,4,23,4],[20,5,23,5],[1,0,10,0]]}
["PRELIMINARY - NOT FOR DISTRIBUTION"]
["Dashboard","Select Parameter:",null,null,null,"Select Statistic:",null,null,"Select Seasonal Period:",null,null,"Do you want to convert CFS values to TAF/Mon?",null,null,null,null,null,null,null,null,null,null,1]
[null,null,null,null,null,null,null,null,null,null,null,null,null,null,null,null,null,null,null,null,null,null,1]
[null,null,null,null,null,null,null,null,null,null,null,null,null,null,null,null,null,null,null,null,null,null,16]
[null,null,null,null,null,null,null,null,null,null,null,"News",null,null,null,null,null,null,null,null,null,null,false]
[null,null,null,null,null,null,null,null,null,null,null,"- parameter list updated to include all items on the appendix list (in addition to other locations of interest)"]
[null,null,null,null,null,null,null,null,null,null,null,"- year type sorting is now done by calendar year"]
[null,null,null,null,null,null,null,null,null,null,null,"- year type sorting is provided for 60-20-20 index as well as 40-30-30 index"]
[null,null,null,null,null,null,null,null,null,null,null,"- format modified to be consistent with appendix reports"]
[null,null,null,null,null,null,null,null,null,null,null,"- check out the new spinners!"]
[]
[]
[null,{"$f":"CONCATENATE('Report Data'!$P$7,\" / seasonal statistics (\",$W$2,\"-\",$W$3,\"-\",$W$4,\"-\",IF(NOT($W$5),1,2),\"a):\")","v":"Shasta Storage (PRELIMINARY) / seasonal statistics (1-1-16-1a):"}]
[]
[]
[]
[null,null,{"$f":"'Report Data'!P6","v":"October-September"}]
[null,null,{"$f":"'Report Data'!P7","v":"Shasta Storage (PRELIMINARY)"}]
[null,null,{"$f":"'Report Data'!P9","v":"(S4/STORAGE)"}]
[null,null,{"$f":"'Report Data'!P8","v":"Averages "}]
[null,null,{"$f":"'Report Data'!P11","v":"Volume (TAF)"},null,null,{"$f":"CONCATENATE(\"Difference from \",'Report Data'!Q13)","v":"Difference from NAA 091720"}]
[]
[]
[]
[null,null,{"$f":"'Report Data'!O14","v":"NAA 091720"},null,{"$f":"'Report Data'!P14","v":3280.0582766142593}]
[null,null,{"$f":"'Report Data'!O15","v":"ALTA2 PEA"},null,{"$f":"'Report Data'!P15","v":3295.4292274969039},{"$f":"'Report Data'!Q15","v":15.370950882644593}]
[]
[]
[]
[]
[]
[]
[]
[]
[]
[]
[]
[]
[]
[]
[]
[]
[]
[]
[]
[]
[]
[]
[]
[]
[]
[]
[]
[]
[]
[]
[]
[]
[]
[null,{"$f":"CONCATENATE('Report Data'!$P$7,\" / monthly statistics (\",$W$2,\"-\",$W$3,\"-\",$W$4,\"-\",IF(NOT($W$5),1,2),\"b):\")","v":"Shasta Storage (PRELIMINARY) / monthly statistics (1-1-16-1b):"}]
[]
[]
[]
[]
[]
[]
[]
[]
[]
[]
[]
[]
[]
[]
[]
[]
[]
[]
[]
[]
[]
[]
[]
[]
[]
[]
[]
[]
[]
[]
[]
[]
[]
[]
[]
[]
[]
[]
[]
[]
[]
[]
[]
[]
[]
[]
[]
[]
[]
[]
[]
[]
[]
[]
[]
[null,{"$f":"CONCATENATE('Report Data'!$P$7,\" / time series (\",$W$2,\"-\",$W$3,\"-\",$W$4,\"-\",IF(NOT($W$5),1,2),\"c):\")","v":"Shasta Storage (PRELIMINARY) / time series (1-1-16-1c):"}]

{"sheet":"Chart - Prob Exc","index":1,"n_rows":0,"n_cols":0,"rows_kept":0,"cut":false,"hidden":false,"merged":[]}

{"sheet":"Chart - Pattern","index":2,"n_rows":0,"n_cols":0,"rows_kept":0,"cut":false,"hidden":false,"merged":[]}

{"sheet":"Report Data","index":3,"n_rows":110,"n_cols":26,"rows_kept":110,"cut":false,"hidden":false,"merged":[]}
[]
["Information, Tables and Calculations for Reports"]
[]
["Table of Selected Values for Monthly Chart:",null,null,null,null,null,null,null,null,null,null,null,null,null,"Trend Evaluation:",null,null,null,null,null,"Water Year Type Averages:"]
[]
["Title:",{"$f":"'Compile Data'!$B$5&\" (PRELIMINARY)\"","v":"Shasta Storage (PRELIMINARY)"},null,null,null,null,null,null,null,null,null,null,null,null,"Title:",{"$f":"INDEX(Other!$B$9:$B$33,'Report - ALL (DASHBOARD)'!$W$4)","v":"October-September"},null,null,null,null,"Title:",{"$f":"INDEX(Other!$B$9:$B$33,'Report - ALL (DASHBOARD)'!$W$4)","v":"October-September"}]
[null,{"$f":"INDEX(Other!$C$9:$C$33,'Report - ALL (DASHBOARD)'!$W$3)","v":"Averages"},null,null,null,null,null,null,null,null,null,null,null,null,null,{"$f":"'Compile Data'!$B$5&\" (PRELIMINARY)\"","v":"Shasta Storage (PRELIMINARY)"},null,null,null,null,null,{"$f":"'Compile Data'!$B$5&\" (PRELIMINARY)\"","v":"Shasta Storage (PRELIMINARY)"}]
[null,{"$f":"CONCATENATE(\"(\",'Compile Data'!$B$6,\"/\",'Compile Data'!$B$7,\")\")","v":"(S4/STORAGE)"},null,null,null,null,null,null,null,null,null,null,null,null,null,{"$f":"CONCATENATE(INDEX(Other!$C$9:$C$33,'Report - ALL (DASHBOARD)'!$W$3),\" \",IF('Report - ALL (DASHBOARD)'!$W$3>4,IF(AND('Compile Data'!$B$10=\"TAF\",'Compile Data'!$B$8=\"PER-AVER\"),\"Totals\",\"Averages\"),\"\"))","v":"Averages "},null,null,null,null,null,{"$f":"CONCATENATE(INDEX(Other!$C$9:$C$33,'Report - ALL (DASHBOARD)'!$W$3),\" \",IF('Report - ALL (DASHBOARD)'!$W$3>4,IF(AND('Compile Data'!$B$10=\"TAF\",'Compile Data'!$B$8=\"PER-AVER\"),\"Totals\",\"Averages\"),\"\"))","v":"Averages "}]
[null,null,null,null,null,null,null,null,null,null,null,null,null,null,null,{"$f":"CONCATENATE(\"(\",'Compile Data'!$B$6,\"/\",'Compile Data'!$B$7,\")\")","v":"(S4/STORAGE)"},null,null,null,null,null,{"$f":"CONCATENATE(\"(\",'Compile Data'!$B$6,\"/\",'Compile Data'!$B$7,\")\")","v":"(S4/STORAGE)"}]
[]
["Y-axis:",{"$f":"IF('Compile Data'!$B$10=\"CFS\",\"Flow (CFS)\",IF('Compile Data'!$B$10=\"TAF\",\"Volume (TAF)\",IF('Compile Data'!$B$10=\"KM\",\"POSITION (KM)\",IF('Compile Data'!$B$10=\"DEGF\",\"Temperature (deg F)\",\"\"))))","v":"Volume (TAF)"},null,null,null,null,null,null,null,null,null,null,null,null,null,{"$f":"IF('Compile Data'!$B$10=\"CFS\",\"Flow (CFS)\",IF('Compile Data'!$B$10=\"TAF\",\"Volume (TAF)\",IF('Compile Data'!$B$10=\"KM\",\"POSITION (KM)\",IF('Compile Data'!$B$10=\"DEGF\",\"Temperature (deg F)\",\"\"))))","v":"Volume (TAF)"},null,null,null,null,null,{"$f":"IF('Compile Data'!$B$10=\"CFS\",\"Flow (CFS)\",IF('Compile Data'!$B$10=\"TAF\",\"Volume (TAF)\",IF('Compile Data'!$B$10=\"KM\",\"POSITION (KM)\",\"\")))","v":"Volume (TAF)"}]
[null,null,null,null,null,null,null,null,null,null,null,null,null,null,null,null,"Diff from"]
[null,"OCT","NOV","DEC","JAN","FEB","MAR","APR","MAY","JUN","JUL","AUG","SEP",null,null,"Value",{"$f":"$O$14","v":"NAA 091720"},null,null,null,null,"Wet","Above Normal","Below Normal","Dry","Critically Dry"]
[{"$f":"'Compile Data'!$B$1","v":"NAA 091720"},{"$f":"INDEX('Compile Data'!J$95:J$118,'Report - ALL (DASHBOARD)'!$W$3)","v":2726.2026644035755},{"$f":"INDEX('Compile Data'!K$95:K$118,'Report - ALL (DASHBOARD)'!$W$3)","v":2730.626797245247},{"$f":"INDEX('Compile Data'!L$95:L$118,'Report - ALL (DASHBOARD)'!$W$3)","v":2854.5402383059945},{"$f":"INDEX('Compile Data'!M$95:M$118,'Report - ALL (DASHBOARD)'!$W$3)","v":3097.8366045895409},{"$f":"INDEX('Compile Data'!N$95:N$118,'Report - ALL (DASHBOARD)'!$W$3)","v":3339.4295271144529},{"$f":"INDEX('Compile Data'!O$95:O$118,'Report - ALL (DASHBOARD)'!$W$3)","v":3692.3683026124477},{"$f":"INDEX('Compile Data'!P$95:P$118,'Report - ALL (DASHBOARD)'!$W$3)","v":4051.2761054535831},{"$f":"INDEX('Compile Data'!Q$95:Q$118,'Report - ALL (DASHBOARD)'!$W$3)","v":4043.839792241406},{"$f":"INDEX('Compile Data'!R$95:R$118,'Report - ALL (DASHBOARD)'!$W$3)","v":3755.2692761844955},{"$f":"INDEX('Compile Data'!S$95:S$118,'Report - ALL (DASHBOARD)'!$W$3)","v":3285.653284383518},{"$f":"INDEX('Compile Data'!T$95:T$118,'Report - ALL (DASHBOARD)'!$W$3)","v":2960.1506916640378},{"$f":"INDEX('Compile Data'!U$95:U$118,'Report - ALL (DASHBOARD)'!$W$3)","v":2823.5060351728202},null,{"$f":"'Compile Data'!$B$1","v":"NAA 091720"},{"$f":"INDEX('Compile Data'!$J$95:$AG$118,'Report - ALL (DASHBOARD)'!$W$3,'Report - ALL (DASHBOARD)'!$W$4)","v":3280.0582766142593},null,null,null,null,{"$f":"'Compile Data'!$B$1","v":"NAA 091720"},{"$f":"INDEX('Compile Data'!$J$95:$AG$118,12,'Report - ALL (DASHBOARD)'!$W$4)","v":3585.0228214670078},{"$f":"INDEX('Compile Data'!$J$95:$AG$118,13,'Report - ALL (DASHBOARD)'!$W$4)","v":3439.9952086008648},{"$f":"INDEX('Compile Data'!$J$95:$AG$118,14,'Report - ALL (DASHBOARD)'!$W$4)","v":3464.7325242137713},{"$f":"INDEX('Compile Data'!$J$95:$AG$118,15,'Report - ALL (DASHBOARD)'!$W$4)","v":3247.1192466364623},{"$f":"INDEX('Compile Data'!$J$95:$AG$118,16,'Report - ALL (DASHBOARD)'!$W$4)","v":2293.3200868806375}]
[{"$f":"'Compile Data'!$C$1","v":"ALTA2 PEA"},{"$f":"INDEX('Compile Data'!AJ$95:AJ$118,'Report - ALL (DASHBOARD)'!$W$3)","v":2742.0506113110887},{"$f":"INDEX('Compile Data'!AK$95:AK$118,'Report - ALL (DASHBOARD)'!$W$3)","v":2741.951321934007},{"$f":"INDEX('Compile Data'!AL$95:AL$118,'Report - ALL (DASHBOARD)'!$W$3)","v":2865.0140329804458},{"$f":"INDEX('Compile Data'!AM$95:AM$118,'Report - ALL (DASHBOARD)'!$W$3)","v":3110.8743102218268},{"$f":"INDEX('Compile Data'!AN$95:AN$118,'Report - ALL (DASHBOARD)'!$W$3)","v":3350.30161280526},{"$f":"INDEX('Compile Data'!AO$95:AO$118,'Report - ALL (DASHBOARD)'!$W$3)","v":3702.7014228769531},{"$f":"INDEX('Compile Data'!AP$95:AP$118,'Report - ALL (DASHBOARD)'!$W$3)","v":4063.1694839781826},{"$f":"INDEX('Compile Data'!AQ$95:AQ$118,'Report - ALL (DASHBOARD)'!$W$3)","v":4060.1775948700556},{"$f":"INDEX('Compile Data'!AR$95:AR$118,'Report - ALL (DASHBOARD)'!$W$3)","v":3778.3415574099417},{"$f":"INDEX('Compile Data'!AS$95:AS$118,'Report - ALL (DASHBOARD)'!$W$3)","v":3306.9919064643668},{"$f":"INDEX('Compile Data'!AT$95:AT$118,'Report - ALL (DASHBOARD)'!$W$3)","v":2980.4430879804945},{"$f":"INDEX('Compile Data'!AU$95:AU$118,'Report - ALL (DASHBOARD)'!$W$3)","v":2843.133787130238},null,{"$f":"'Compile Data'!$C$1","v":"ALTA2 PEA"},{"$f":"INDEX('Compile Data'!$AJ$95:$BG$118,'Report - ALL (DASHBOARD)'!$W$3,'Report - ALL (DASHBOARD)'!$W$4)","v":3295.4292274969039},{"$f":"$P15-$P$14","v":15.370950882644593},null,null,null,{"$f":"'Compile Data'!$C$1","v":"ALTA2 PEA"},{"$f":"INDEX('Compile Data'!$AJ$95:$BG$118,12,'Report - ALL (DASHBOARD)'!$W$4)","v":3593.2032186644265},{"$f":"INDEX('Compile Data'!$AJ$95:$BG$118,13,'Report - ALL (DASHBOARD)'!$W$4)","v":3466.1515732048442},{"$f":"INDEX('Compile Data'!$AJ$95:$BG$118,14,'Report - ALL (DASHBOARD)'!$W$4)","v":3466.179962381826},{"$f":"INDEX('Compile Data'!$AJ$95:$BG$118,15,'Report - ALL (DASHBOARD)'!$W$4)","v":3263.3979649231624},{"$f":"INDEX('Compile Data'!$AJ$95:$BG$118,16,'Report - ALL (DASHBOARD)'!$W$4)","v":2328.3676040875439}]
[]
[]
[]
[]
[]
[]
["Annuals Plot:",null,null,null,null,null,null,null,null,null,null,null,null,null,"Exceedence Plot:"]
[]
["Title:",{"$f":"INDEX(Other!$B$9:$B$33,'Report - ALL (DASHBOARD)'!$W$4)","v":"October-September"},null,null,null,null,null,null,null,null,null,null,null,null,"Title:",{"$f":"INDEX(Other!$B$9:$B$33,'Report - ALL (DASHBOARD)'!$W$4)","v":"October-September"}]
[null,{"$f":"'Compile Data'!$B$5&\" (PRELIMINARY)\"","v":"Shasta Storage (PRELIMINARY)"},null,null,null,null,null,null,null,null,null,null,null,null,null,{"$f":"'Compile Data'!$B$5&\" (PRELIMINARY)\"","v":"Shasta Storage (PRELIMINARY)"}]
[null,{"$f":"IF('Compile Data'!$B$10=\"CFS\",\"Flow (CFS)\",IF('Compile Data'!$B$10=\"TAF\",\"Volume (TAF)\",IF('Compile Data'!$B$10=\"KM\",\"POSITION (KM)\",IF('Compile Data'!$B$10=\"DEGF\",\"Temperature (deg F)\",\"\"))))","v":"Volume (TAF)"},null,null,null,null,null,null,null,null,null,null,null,null,null,{"$f":"IF('Compile Data'!$B$10=\"CFS\",\"Flow (CFS)\",IF('Compile Data'!$B$10=\"TAF\",\"Volume (TAF)\",IF('Compile Data'!$B$10=\"KM\",\"POSITION (KM)\",IF('Compile Data'!$B$10=\"DEGF\",\"Temperature (deg F)\",\"\"))))","v":"Volume (TAF)"}]
[]
[null,{"$f":"'Compile Data'!$B$1","v":"NAA 091720"},{"$f":"'Compile Data'!$C$1","v":"ALTA2 PEA"},null,null,null,null,null,null,null,null,null,null,null,null,null,{"$f":"'Compile Data'!$B$1","v":"NAA 091720"},{"$f":"'Compile Data'!$C$1","v":"ALTA2 PEA"}]
[1922,{"$f":"INDEX('Compile Data'!$J$12:$AG$93,$A29-1921,'Report - ALL (DASHBOARD)'!$W$4)","v":3569.7492957115701},{"$f":"INDEX('Compile Data'!$AJ$12:$BG$93,$A29-1921,'Report - ALL (DASHBOARD)'!$W$4)","v":3584.1518340719795},null,null,null,null,null,null,null,null,null,null,null,1,{"$f":"(O29-1)/81","v":0},{"$f":"INDEX('Compile Data'!$J$121:$AG$202,$O29,'Report - ALL (DASHBOARD)'!$W$4)","v":3809.9254544606133},{"$f":"INDEX('Compile Data'!$AJ$121:$BG$202,$O29,'Report - ALL (DASHBOARD)'!$W$4)","v":3810.7021916958251}]
[{"$f":"A29+1","v":1923},{"$f":"INDEX('Compile Data'!$J$12:$AG$93,$A30-1921,'Report - ALL (DASHBOARD)'!$W$4)","v":3513.0448745804138},{"$f":"INDEX('Compile Data'!$AJ$12:$BG$93,$A30-1921,'Report - ALL (DASHBOARD)'!$W$4)","v":3500.2176320773519},null,null,null,null,null,null,null,null,null,null,null,2,1.2345679012345678E-2,{"$f":"INDEX('Compile Data'!$J$121:$AG$202,$O30,'Report - ALL (DASHBOARD)'!$W$4)","v":3803.3873831928045},{"$f":"INDEX('Compile Data'!$AJ$121:$BG$202,$O30,'Report - ALL (DASHBOARD)'!$W$4)","v":3799.9099380648045}]
[{"$f":"A30+1","v":1924},{"$f":"INDEX('Compile Data'!$J$12:$AG$93,$A31-1921,'Report - ALL (DASHBOARD)'!$W$4)","v":2330.4459446833825},{"$f":"INDEX('Compile Data'!$AJ$12:$BG$93,$A31-1921,'Report - ALL (DASHBOARD)'!$W$4)","v":2279.2157000843913},null,null,null,null,null,null,null,null,null,null,null,3,2.4691358024691357E-2,{"$f":"INDEX('Compile Data'!$J$121:$AG$202,$O31,'Report - ALL (DASHBOARD)'!$W$4)","v":3799.2191659314412},{"$f":"INDEX('Compile Data'!$AJ$121:$BG$202,$O31,'Report - ALL (DASHBOARD)'!$W$4)","v":3791.00759553136}]
[1925,{"$f":"INDEX('Compile Data'!$J$12:$AG$93,$A32-1921,'Report - ALL (DASHBOARD)'!$W$4)","v":2782.5295028837427},{"$f":"INDEX('Compile Data'!$AJ$12:$BG$93,$A32-1921,'Report - ALL (DASHBOARD)'!$W$4)","v":2777.9059524246691},null,null,null,null,null,null,null,null,null,null,null,4,3.7037037037037035E-2,{"$f":"INDEX('Compile Data'!$J$121:$AG$202,$O32,'Report - ALL (DASHBOARD)'!$W$4)","v":3789.5277228122509},{"$f":"INDEX('Compile Data'!$AJ$121:$BG$202,$O32,'Report - ALL (DASHBOARD)'!$W$4)","v":3786.3155164504192}]
[1926,{"$f":"INDEX('Compile Data'!$J$12:$AG$93,$A33-1921,'Report - ALL (DASHBOARD)'!$W$4)","v":3124.942251018299},{"$f":"INDEX('Compile Data'!$AJ$12:$BG$93,$A33-1921,'Report - ALL (DASHBOARD)'!$W$4)","v":3092.504379582499},null,null,null,null,null,null,null,null,null,null,null,5,4.9382716049382713E-2,{"$f":"INDEX('Compile Data'!$J$121:$AG$202,$O33,'Report - ALL (DASHBOARD)'!$W$4)","v":3779.2641506954628},{"$f":"INDEX('Compile Data'!$AJ$121:$BG$202,$O33,'Report - ALL (DASHBOARD)'!$W$4)","v":3777.9071032701372}]
[1927,{"$f":"INDEX('Compile Data'!$J$12:$AG$93,$A34-1921,'Report - ALL (DASHBOARD)'!$W$4)","v":3636.7670981244264},{"$f":"INDEX('Compile Data'!$AJ$12:$BG$93,$A34-1921,'Report - ALL (DASHBOARD)'!$W$4)","v":3631.3496013394765},null,null,null,null,null,null,null,null,null,null,null,6,6.1728395061728392E-2,{"$f":"INDEX('Compile Data'!$J$121:$AG$202,$O34,'Report - ALL (DASHBOARD)'!$W$4)","v":3775.0465204707803},{"$f":"INDEX('Compile Data'!$AJ$121:$BG$202,$O34,'Report - ALL (DASHBOARD)'!$W$4)","v":3772.8807767350268}]
[1928,{"$f":"INDEX('Compile Data'!$J$12:$AG$93,$A35-1921,'Report - ALL (DASHBOARD)'!$W$4)","v":3550.413217753086},{"$f":"INDEX('Compile Data'!$AJ$12:$BG$93,$A35-1921,'Report - ALL (DASHBOARD)'!$W$4)","v":3572.8279277190777},null,null,null,null,null,null,null,null,null,null,null,7,7.407407407407407E-2,{"$f":"INDEX('Compile Data'!$J$121:$AG$202,$O35,'Report - ALL (DASHBOARD)'!$W$4)","v":3772.4815251599607},{"$f":"INDEX('Compile Data'!$AJ$121:$BG$202,$O35,'Report - ALL (DASHBOARD)'!$W$4)","v":3772.4815251599607}]
[1929,{"$f":"INDEX('Compile Data'!$J$12:$AG$93,$A36-1921,'Report - ALL (DASHBOARD)'!$W$4)","v":2456.9783882248471},{"$f":"INDEX('Compile Data'!$AJ$12:$BG$93,$A36-1921,'Report - ALL (DASHBOARD)'!$W$4)","v":2534.1086823059877},null,null,null,null,null,null,null,null,null,null,null,8,8.6419753086419748E-2,{"$f":"INDEX('Compile Data'!$J$121:$AG$202,$O36,'Report - ALL (DASHBOARD)'!$W$4)","v":3760.395223242705},{"$f":"INDEX('Compile Data'!$AJ$121:$BG$202,$O36,'Report - ALL (DASHBOARD)'!$W$4)","v":3763.7083524096001}]
[1930,{"$f":"INDEX('Compile Data'!$J$12:$AG$93,$A37-1921,'Report - ALL (DASHBOARD)'!$W$4)","v":2509.1963992324122},{"$f":"INDEX('Compile Data'!$AJ$12:$BG$93,$A37-1921,'Report - ALL (DASHBOARD)'!$W$4)","v":2583.1552131153235},null,null,null,null,null,null,null,null,null,null,null,9,9.8765432098765427E-2,{"$f":"INDEX('Compile Data'!$J$121:$AG$202,$O37,'Report - ALL (DASHBOARD)'!$W$4)","v":3757.028969009149},{"$f":"INDEX('Compile Data'!$AJ$121:$BG$202,$O37,'Report - ALL (DASHBOARD)'!$W$4)","v":3757.6689182126083}]
[1931,{"$f":"INDEX('Compile Data'!$J$12:$AG$93,$A38-1921,'Report - ALL (DASHBOARD)'!$W$4)","v":1808.0150160573987},{"$f":"INDEX('Compile Data'!$AJ$12:$BG$93,$A38-1921,'Report - ALL (DASHBOARD)'!$W$4)","v":1972.1111584360333},null,null,null,null,null,null,null,null,null,null,null,10,0.1111111111111111,{"$f":"INDEX('Compile Data'!$J$121:$AG$202,$O38,'Report - ALL (DASHBOARD)'!$W$4)","v":3749.494448760885},{"$f":"INDEX('Compile Data'!$AJ$121:$BG$202,$O38,'Report - ALL (DASHBOARD)'!$W$4)","v":3749.445666930214}]
[1932,{"$f":"INDEX('Compile Data'!$J$12:$AG$93,$A39-1921,'Report - ALL (DASHBOARD)'!$W$4)","v":1323.0674697627665},{"$f":"INDEX('Compile Data'!$AJ$12:$BG$93,$A39-1921,'Report - ALL (DASHBOARD)'!$W$4)","v":1492.8546422230208},null,null,null,null,null,null,null,null,null,null,null,11,0.12345679012345678,{"$f":"INDEX('Compile Data'!$J$121:$AG$202,$O39,'Report - ALL (DASHBOARD)'!$W$4)","v":3747.7955511309688},{"$f":"INDEX('Compile Data'!$AJ$121:$BG$202,$O39,'Report - ALL (DASHBOARD)'!$W$4)","v":3746.06076309441}]
[1933,{"$f":"INDEX('Compile Data'!$J$12:$AG$93,$A40-1921,'Report - ALL (DASHBOARD)'!$W$4)","v":1338.0685259702391},{"$f":"INDEX('Compile Data'!$AJ$12:$BG$93,$A40-1921,'Report - ALL (DASHBOARD)'!$W$4)","v":1477.6537240417554},null,null,null,null,null,null,null,null,null,null,null,12,0.13580246913580246,{"$f":"INDEX('Compile Data'!$J$121:$AG$202,$O40,'Report - ALL (DASHBOARD)'!$W$4)","v":3743.8103846204758},{"$f":"INDEX('Compile Data'!$AJ$121:$BG$202,$O40,'Report - ALL (DASHBOARD)'!$W$4)","v":3743.4259249219463}]
[1934,{"$f":"INDEX('Compile Data'!$J$12:$AG$93,$A41-1921,'Report - ALL (DASHBOARD)'!$W$4)","v":1085.6491256461452},{"$f":"INDEX('Compile Data'!$AJ$12:$BG$93,$A41-1921,'Report - ALL (DASHBOARD)'!$W$4)","v":1221.6871986795688},null,null,null,null,null,null,null,null,null,null,null,13,0.14814814814814814,{"$f":"INDEX('Compile Data'!$J$121:$AG$202,$O41,'Report - ALL (DASHBOARD)'!$W$4)","v":3726.186898186334},{"$f":"INDEX('Compile Data'!$AJ$121:$BG$202,$O41,'Report - ALL (DASHBOARD)'!$W$4)","v":3734.9042037446275}]
[1935,{"$f":"INDEX('Compile Data'!$J$12:$AG$93,$A42-1921,'Report - ALL (DASHBOARD)'!$W$4)","v":1743.3346407661611},{"$f":"INDEX('Compile Data'!$AJ$12:$BG$93,$A42-1921,'Report - ALL (DASHBOARD)'!$W$4)","v":1785.5793951962271},null,null,null,null,null,null,null,null,null,null,null,14,0.16049382716049382,{"$f":"INDEX('Compile Data'!$J$121:$AG$202,$O42,'Report - ALL (DASHBOARD)'!$W$4)","v":3716.8215060846646},{"$f":"INDEX('Compile Data'!$AJ$121:$BG$202,$O42,'Report - ALL (DASHBOARD)'!$W$4)","v":3728.6636442915951}]
[1936,{"$f":"INDEX('Compile Data'!$J$12:$AG$93,$A43-1921,'Report - ALL (DASHBOARD)'!$W$4)","v":3168.4373887805309},{"$f":"INDEX('Compile Data'!$AJ$12:$BG$93,$A43-1921,'Report - ALL (DASHBOARD)'!$W$4)","v":3206.380375621849},null,null,null,null,null,null,null,null,null,null,null,15,0.1728395061728395,{"$f":"INDEX('Compile Data'!$J$121:$AG$202,$O43,'Report - ALL (DASHBOARD)'!$W$4)","v":3714.9207337736129},{"$f":"INDEX('Compile Data'!$AJ$121:$BG$202,$O43,'Report - ALL (DASHBOARD)'!$W$4)","v":3722.6869489771598}]
[1937,{"$f":"INDEX('Compile Data'!$J$12:$AG$93,$A44-1921,'Report - ALL (DASHBOARD)'!$W$4)","v":3175.2701487339036},{"$f":"INDEX('Compile Data'!$AJ$12:$BG$93,$A44-1921,'Report - ALL (DASHBOARD)'!$W$4)","v":3202.8966138266874},null,null,null,null,null,null,null,null,null,null,null,16,0.18518518518518517,{"$f":"INDEX('Compile Data'!$J$121:$AG$202,$O44,'Report - ALL (DASHBOARD)'!$W$4)","v":3709.5},{"$f":"INDEX('Compile Data'!$AJ$121:$BG$202,$O44,'Report - ALL (DASHBOARD)'!$W$4)","v":3718.7868532798798}]
[1938,{"$f":"INDEX('Compile Data'!$J$12:$AG$93,$A45-1921,'Report - ALL (DASHBOARD)'!$W$4)","v":3706.6291215682591},{"$f":"INDEX('Compile Data'!$AJ$12:$BG$93,$A45-1921,'Report - ALL (DASHBOARD)'!$W$4)","v":3706.0559888754028},null,null,null,null,null,null,null,null,null,null,null,17,0.19753086419753085,{"$f":"INDEX('Compile Data'!$J$121:$AG$202,$O45,'Report - ALL (DASHBOARD)'!$W$4)","v":3706.6291215682591},{"$f":"INDEX('Compile Data'!$AJ$121:$BG$202,$O45,'Report - ALL (DASHBOARD)'!$W$4)","v":3709.5}]
[1939,{"$f":"INDEX('Compile Data'!$J$12:$AG$93,$A46-1921,'Report - ALL (DASHBOARD)'!$W$4)","v":3200.144558453861},{"$f":"INDEX('Compile Data'!$AJ$12:$BG$93,$A46-1921,'Report - ALL (DASHBOARD)'!$W$4)","v":3215.0695561351436},null,null,null,null,null,null,null,null,null,null,null,18,0.20987654320987653,{"$f":"INDEX('Compile Data'!$J$121:$AG$202,$O46,'Report - ALL (DASHBOARD)'!$W$4)","v":3700.2506862551927},{"$f":"INDEX('Compile Data'!$AJ$121:$BG$202,$O46,'Report - ALL (DASHBOARD)'!$W$4)","v":3709.450535235077}]
[1940,{"$f":"INDEX('Compile Data'!$J$12:$AG$93,$A47-1921,'Report - ALL (DASHBOARD)'!$W$4)","v":3126.1471160113142},{"$f":"INDEX('Compile Data'!$AJ$12:$BG$93,$A47-1921,'Report - ALL (DASHBOARD)'!$W$4)","v":3127.3570869350019},null,null,null,null,null,null,null,null,null,null,null,19,0.22222222222222221,{"$f":"INDEX('Compile Data'!$J$121:$AG$202,$O47,'Report - ALL (DASHBOARD)'!$W$4)","v":3693.7768530172689},{"$f":"INDEX('Compile Data'!$AJ$121:$BG$202,$O47,'Report - ALL (DASHBOARD)'!$W$4)","v":3706.0559888754028}]
[1941,{"$f":"INDEX('Compile Data'!$J$12:$AG$93,$A48-1921,'Report - ALL (DASHBOARD)'!$W$4)","v":3648.3338623506643},{"$f":"INDEX('Compile Data'!$AJ$12:$BG$93,$A48-1921,'Report - ALL (DASHBOARD)'!$W$4)","v":3651.2496630608962},null,null,null,null,null,null,null,null,null,null,null,20,0.23456790123456789,{"$f":"INDEX('Compile Data'!$J$121:$AG$202,$O48,'Report - ALL (DASHBOARD)'!$W$4)","v":3692.6189154879708},{"$f":"INDEX('Compile Data'!$AJ$121:$BG$202,$O48,'Report - ALL (DASHBOARD)'!$W$4)","v":3702.5610675614516}]
[1942,{"$f":"INDEX('Compile Data'!$J$12:$AG$93,$A49-1921,'Report - ALL (DASHBOARD)'!$W$4)","v":3772.4815251599607},{"$f":"INDEX('Compile Data'!$AJ$12:$BG$93,$A49-1921,'Report - ALL (DASHBOARD)'!$W$4)","v":3772.4815251599607},null,null,null,null,null,null,null,null,null,null,null,21,0.24691358024691357,{"$f":"INDEX('Compile Data'!$J$121:$AG$202,$O49,'Report - ALL (DASHBOARD)'!$W$4)","v":3687.1666666666665},{"$f":"INDEX('Compile Data'!$AJ$121:$BG$202,$O49,'Report - ALL (DASHBOARD)'!$W$4)","v":3698.9845081428994}]
[1943,{"$f":"INDEX('Compile Data'!$J$12:$AG$93,$A50-1921,'Report - ALL (DASHBOARD)'!$W$4)","v":3757.028969009149},{"$f":"INDEX('Compile Data'!$AJ$12:$BG$93,$A50-1921,'Report - ALL (DASHBOARD)'!$W$4)","v":3749.445666930214},null,null,null,null,null,null,null,null,null,null,null,22,0.25925925925925924,{"$f":"INDEX('Compile Data'!$J$121:$AG$202,$O50,'Report - ALL (DASHBOARD)'!$W$4)","v":3675.5768902306786},{"$f":"INDEX('Compile Data'!$AJ$121:$BG$202,$O50,'Report - ALL (DASHBOARD)'!$W$4)","v":3691.918427868648}]
[1944,{"$f":"INDEX('Compile Data'!$J$12:$AG$93,$A51-1921,'Report - ALL (DASHBOARD)'!$W$4)","v":3153.8385742315149},{"$f":"INDEX('Compile Data'!$AJ$12:$BG$93,$A51-1921,'Report - ALL (DASHBOARD)'!$W$4)","v":3177.3243519181956},null,null,null,null,null,null,null,null,null,null,null,23,0.27160493827160492,{"$f":"INDEX('Compile Data'!$J$121:$AG$202,$O51,'Report - ALL (DASHBOARD)'!$W$4)","v":3672.8660817002783},{"$f":"INDEX('Compile Data'!$AJ$121:$BG$202,$O51,'Report - ALL (DASHBOARD)'!$W$4)","v":3687.1666666666665}]
[1945,{"$f":"INDEX('Compile Data'!$J$12:$AG$93,$A52-1921,'Report - ALL (DASHBOARD)'!$W$4)","v":3651.4395665586485},{"$f":"INDEX('Compile Data'!$AJ$12:$BG$93,$A52-1921,'Report - ALL (DASHBOARD)'!$W$4)","v":3668.2158981921002},null,null,null,null,null,null,null,null,null,null,null,24,0.2839506172839506,{"$f":"INDEX('Compile Data'!$J$121:$AG$202,$O52,'Report - ALL (DASHBOARD)'!$W$4)","v":3664.5530516854892},{"$f":"INDEX('Compile Data'!$AJ$121:$BG$202,$O52,'Report - ALL (DASHBOARD)'!$W$4)","v":3681.2937461522288}]
[1946,{"$f":"INDEX('Compile Data'!$J$12:$AG$93,$A53-1921,'Report - ALL (DASHBOARD)'!$W$4)","v":3716.8215060846646},{"$f":"INDEX('Compile Data'!$AJ$12:$BG$93,$A53-1921,'Report - ALL (DASHBOARD)'!$W$4)","v":3718.7868532798798},null,null,null,null,null,null,null,null,null,null,null,25,0.29629629629629628,{"$f":"INDEX('Compile Data'!$J$121:$AG$202,$O53,'Report - ALL (DASHBOARD)'!$W$4)","v":3651.4395665586485},{"$f":"INDEX('Compile Data'!$AJ$121:$BG$202,$O53,'Report - ALL (DASHBOARD)'!$W$4)","v":3675.6688819278929}]
[1947,{"$f":"INDEX('Compile Data'!$J$12:$AG$93,$A54-1921,'Report - ALL (DASHBOARD)'!$W$4)","v":3302.8392105018552},{"$f":"INDEX('Compile Data'!$AJ$12:$BG$93,$A54-1921,'Report - ALL (DASHBOARD)'!$W$4)","v":3283.7988919797881},null,null,null,null,null,null,null,null,null,null,null,26,0.30864197530864196,{"$f":"INDEX('Compile Data'!$J$121:$AG$202,$O54,'Report - ALL (DASHBOARD)'!$W$4)","v":3650.5781442925977},{"$f":"INDEX('Compile Data'!$AJ$121:$BG$202,$O54,'Report - ALL (DASHBOARD)'!$W$4)","v":3668.2158981921002}]
[1948,{"$f":"INDEX('Compile Data'!$J$12:$AG$93,$A55-1921,'Report - ALL (DASHBOARD)'!$W$4)","v":3543.4934319950876},{"$f":"INDEX('Compile Data'!$AJ$12:$BG$93,$A55-1921,'Report - ALL (DASHBOARD)'!$W$4)","v":3532.3235370094949},null,null,null,null,null,null,null,null,null,null,null,27,0.32098765432098764,{"$f":"INDEX('Compile Data'!$J$121:$AG$202,$O55,'Report - ALL (DASHBOARD)'!$W$4)","v":3648.3338623506643},{"$f":"INDEX('Compile Data'!$AJ$121:$BG$202,$O55,'Report - ALL (DASHBOARD)'!$W$4)","v":3663.6713345218891}]
[1949,{"$f":"INDEX('Compile Data'!$J$12:$AG$93,$A56-1921,'Report - ALL (DASHBOARD)'!$W$4)","v":3581.179794557966},{"$f":"INDEX('Compile Data'!$AJ$12:$BG$93,$A56-1921,'Report - ALL (DASHBOARD)'!$W$4)","v":3574.2034667583434},null,null,null,null,null,null,null,null,null,null,null,28,0.33333333333333331,{"$f":"INDEX('Compile Data'!$J$121:$AG$202,$O56,'Report - ALL (DASHBOARD)'!$W$4)","v":3646.6508659106748},{"$f":"INDEX('Compile Data'!$AJ$121:$BG$202,$O56,'Report - ALL (DASHBOARD)'!$W$4)","v":3661.0263475590541}]
[1950,{"$f":"INDEX('Compile Data'!$J$12:$AG$93,$A57-1921,'Report - ALL (DASHBOARD)'!$W$4)","v":3425.1100239524199},{"$f":"INDEX('Compile Data'!$AJ$12:$BG$93,$A57-1921,'Report - ALL (DASHBOARD)'!$W$4)","v":3451.6329667481937},null,null,null,null,null,null,null,null,null,null,null,29,0.34567901234567899,{"$f":"INDEX('Compile Data'!$J$121:$AG$202,$O57,'Report - ALL (DASHBOARD)'!$W$4)","v":3642.5450197943578},{"$f":"INDEX('Compile Data'!$AJ$121:$BG$202,$O57,'Report - ALL (DASHBOARD)'!$W$4)","v":3651.2496630608962}]
[1951,{"$f":"INDEX('Compile Data'!$J$12:$AG$93,$A58-1921,'Report - ALL (DASHBOARD)'!$W$4)","v":3664.5530516854892},{"$f":"INDEX('Compile Data'!$AJ$12:$BG$93,$A58-1921,'Report - ALL (DASHBOARD)'!$W$4)","v":3681.2937461522288},null,null,null,null,null,null,null,null,null,null,null,30,0.35802469135802467,{"$f":"INDEX('Compile Data'!$J$121:$AG$202,$O58,'Report - ALL (DASHBOARD)'!$W$4)","v":3640.733675658093},{"$f":"INDEX('Compile Data'!$AJ$121:$BG$202,$O58,'Report - ALL (DASHBOARD)'!$W$4)","v":3643.9233816590418}]
[1952,{"$f":"INDEX('Compile Data'!$J$12:$AG$93,$A59-1921,'Report - ALL (DASHBOARD)'!$W$4)","v":3749.494448760885},{"$f":"INDEX('Compile Data'!$AJ$12:$BG$93,$A59-1921,'Report - ALL (DASHBOARD)'!$W$4)","v":3763.7083524096001},null,null,null,null,null,null,null,null,null,null,null,31,0.37037037037037035,{"$f":"INDEX('Compile Data'!$J$121:$AG$202,$O59,'Report - ALL (DASHBOARD)'!$W$4)","v":3636.7670981244264},{"$f":"INDEX('Compile Data'!$AJ$121:$BG$202,$O59,'Report - ALL (DASHBOARD)'!$W$4)","v":3638.7546485293155}]
[1953,{"$f":"INDEX('Compile Data'!$J$12:$AG$93,$A60-1921,'Report - ALL (DASHBOARD)'!$W$4)","v":3809.9254544606133},{"$f":"INDEX('Compile Data'!$AJ$12:$BG$93,$A60-1921,'Report - ALL (DASHBOARD)'!$W$4)","v":3810.7021916958251},null,null,null,null,null,null,null,null,null,null,null,32,0.38271604938271603,{"$f":"INDEX('Compile Data'!$J$121:$AG$202,$O60,'Report - ALL (DASHBOARD)'!$W$4)","v":3628.9829562087775},{"$f":"INDEX('Compile Data'!$AJ$121:$BG$202,$O60,'Report - ALL (DASHBOARD)'!$W$4)","v":3631.3496013394765}]
[1954,{"$f":"INDEX('Compile Data'!$J$12:$AG$93,$A61-1921,'Report - ALL (DASHBOARD)'!$W$4)","v":3672.8660817002783},{"$f":"INDEX('Compile Data'!$AJ$12:$BG$93,$A61-1921,'Report - ALL (DASHBOARD)'!$W$4)","v":3709.450535235077},null,null,null,null,null,null,null,null,null,null,null,33,0.39506172839506171,{"$f":"INDEX('Compile Data'!$J$121:$AG$202,$O61,'Report - ALL (DASHBOARD)'!$W$4)","v":3623.3529832962763},{"$f":"INDEX('Compile Data'!$AJ$121:$BG$202,$O61,'Report - ALL (DASHBOARD)'!$W$4)","v":3613.3680222693579}]
[1955,{"$f":"INDEX('Compile Data'!$J$12:$AG$93,$A62-1921,'Report - ALL (DASHBOARD)'!$W$4)","v":3516.6738671107087},{"$f":"INDEX('Compile Data'!$AJ$12:$BG$93,$A62-1921,'Report - ALL (DASHBOARD)'!$W$4)","v":3544.3978390552929},null,null,null,null,null,null,null,null,null,null,null,34,0.40740740740740738,{"$f":"INDEX('Compile Data'!$J$121:$AG$202,$O62,'Report - ALL (DASHBOARD)'!$W$4)","v":3616.0829088440646},{"$f":"INDEX('Compile Data'!$AJ$121:$BG$202,$O62,'Report - ALL (DASHBOARD)'!$W$4)","v":3609.928513690727}]
[1956,{"$f":"INDEX('Compile Data'!$J$12:$AG$93,$A63-1921,'Report - ALL (DASHBOARD)'!$W$4)","v":3700.2506862551927},{"$f":"INDEX('Compile Data'!$AJ$12:$BG$93,$A63-1921,'Report - ALL (DASHBOARD)'!$W$4)","v":3698.9845081428994},null,null,null,null,null,null,null,null,null,null,null,35,0.41975308641975306,{"$f":"INDEX('Compile Data'!$J$121:$AG$202,$O63,'Report - ALL (DASHBOARD)'!$W$4)","v":3596.036470813398},{"$f":"INDEX('Compile Data'!$AJ$121:$BG$202,$O63,'Report - ALL (DASHBOARD)'!$W$4)","v":3608.8530506323773}]
[1957,{"$f":"INDEX('Compile Data'!$J$12:$AG$93,$A64-1921,'Report - ALL (DASHBOARD)'!$W$4)","v":3675.5768902306786},{"$f":"INDEX('Compile Data'!$AJ$12:$BG$93,$A64-1921,'Report - ALL (DASHBOARD)'!$W$4)","v":3702.5610675614516},null,null,null,null,null,null,null,null,null,null,null,36,0.43209876543209874,{"$f":"INDEX('Compile Data'!$J$121:$AG$202,$O64,'Report - ALL (DASHBOARD)'!$W$4)","v":3582.7152773919843},{"$f":"INDEX('Compile Data'!$AJ$121:$BG$202,$O64,'Report - ALL (DASHBOARD)'!$W$4)","v":3608.6627268213874}]
[1958,{"$f":"INDEX('Compile Data'!$J$12:$AG$93,$A65-1921,'Report - ALL (DASHBOARD)'!$W$4)","v":3709.5},{"$f":"INDEX('Compile Data'!$AJ$12:$BG$93,$A65-1921,'Report - ALL (DASHBOARD)'!$W$4)","v":3709.5},null,null,null,null,null,null,null,null,null,null,null,37,0.44444444444444442,{"$f":"INDEX('Compile Data'!$J$121:$AG$202,$O65,'Report - ALL (DASHBOARD)'!$W$4)","v":3581.179794557966},{"$f":"INDEX('Compile Data'!$AJ$121:$BG$202,$O65,'Report - ALL (DASHBOARD)'!$W$4)","v":3595.863500805865}]
[1959,{"$f":"INDEX('Compile Data'!$J$12:$AG$93,$A66-1921,'Report - ALL (DASHBOARD)'!$W$4)","v":3552.0407758555616},{"$f":"INDEX('Compile Data'!$AJ$12:$BG$93,$A66-1921,'Report - ALL (DASHBOARD)'!$W$4)","v":3593.2691297844281},null,null,null,null,null,null,null,null,null,null,null,38,0.4567901234567901,{"$f":"INDEX('Compile Data'!$J$121:$AG$202,$O66,'Report - ALL (DASHBOARD)'!$W$4)","v":3571.0777454962313},{"$f":"INDEX('Compile Data'!$AJ$121:$BG$202,$O66,'Report - ALL (DASHBOARD)'!$W$4)","v":3593.2691297844281}]
[1960,{"$f":"INDEX('Compile Data'!$J$12:$AG$93,$A67-1921,'Report - ALL (DASHBOARD)'!$W$4)","v":3300.1058185679481},{"$f":"INDEX('Compile Data'!$AJ$12:$BG$93,$A67-1921,'Report - ALL (DASHBOARD)'!$W$4)","v":3270.7148556914594},null,null,null,null,null,null,null,null,null,null,null,39,0.46913580246913578,{"$f":"INDEX('Compile Data'!$J$121:$AG$202,$O67,'Report - ALL (DASHBOARD)'!$W$4)","v":3569.7492957115701},{"$f":"INDEX('Compile Data'!$AJ$121:$BG$202,$O67,'Report - ALL (DASHBOARD)'!$W$4)","v":3584.1518340719795}]
[1961,{"$f":"INDEX('Compile Data'!$J$12:$AG$93,$A68-1921,'Report - ALL (DASHBOARD)'!$W$4)","v":3640.733675658093},{"$f":"INDEX('Compile Data'!$AJ$12:$BG$93,$A68-1921,'Report - ALL (DASHBOARD)'!$W$4)","v":3613.3680222693579},null,null,null,null,null,null,null,null,null,null,null,40,0.48148148148148145,{"$f":"INDEX('Compile Data'!$J$121:$AG$202,$O68,'Report - ALL (DASHBOARD)'!$W$4)","v":3566.260548158149},{"$f":"INDEX('Compile Data'!$AJ$121:$BG$202,$O68,'Report - ALL (DASHBOARD)'!$W$4)","v":3574.2034667583434}]
[1962,{"$f":"INDEX('Compile Data'!$J$12:$AG$93,$A69-1921,'Report - ALL (DASHBOARD)'!$W$4)","v":3582.7152773919843},{"$f":"INDEX('Compile Data'!$AJ$12:$BG$93,$A69-1921,'Report - ALL (DASHBOARD)'!$W$4)","v":3571.6456333411802},null,null,null,null,null,null,null,null,null,null,null,41,0.49382716049382713,{"$f":"INDEX('Compile Data'!$J$121:$AG$202,$O69,'Report - ALL (DASHBOARD)'!$W$4)","v":3552.0407758555616},{"$f":"INDEX('Compile Data'!$AJ$121:$BG$202,$O69,'Report - ALL (DASHBOARD)'!$W$4)","v":3572.8279277190777}]
[1963,{"$f":"INDEX('Compile Data'!$J$12:$AG$93,$A70-1921,'Report - ALL (DASHBOARD)'!$W$4)","v":3760.395223242705},{"$f":"INDEX('Compile Data'!$AJ$12:$BG$93,$A70-1921,'Report - ALL (DASHBOARD)'!$W$4)","v":3757.6689182126083},null,null,null,null,null,null,null,null,null,null,null,42,0.50617283950617287,{"$f":"INDEX('Compile Data'!$J$121:$AG$202,$O70,'Report - ALL (DASHBOARD)'!$W$4)","v":3550.413217753086},{"$f":"INDEX('Compile Data'!$AJ$121:$BG$202,$O70,'Report - ALL (DASHBOARD)'!$W$4)","v":3571.6456333411802}]
[1964,{"$f":"INDEX('Compile Data'!$J$12:$AG$93,$A71-1921,'Report - ALL (DASHBOARD)'!$W$4)","v":3487.3353865586892},{"$f":"INDEX('Compile Data'!$AJ$12:$BG$93,$A71-1921,'Report - ALL (DASHBOARD)'!$W$4)","v":3493.4605597831192},null,null,null,null,null,null,null,null,null,null,null,43,0.51851851851851849,{"$f":"INDEX('Compile Data'!$J$121:$AG$202,$O71,'Report - ALL (DASHBOARD)'!$W$4)","v":3543.4934319950876},{"$f":"INDEX('Compile Data'!$AJ$121:$BG$202,$O71,'Report - ALL (DASHBOARD)'!$W$4)","v":3566.853084326141}]
[1965,{"$f":"INDEX('Compile Data'!$J$12:$AG$93,$A72-1921,'Report - ALL (DASHBOARD)'!$W$4)","v":3693.7768530172689},{"$f":"INDEX('Compile Data'!$AJ$12:$BG$93,$A72-1921,'Report - ALL (DASHBOARD)'!$W$4)","v":3691.918427868648},null,null,null,null,null,null,null,null,null,null,null,44,0.53086419753086422,{"$f":"INDEX('Compile Data'!$J$121:$AG$202,$O72,'Report - ALL (DASHBOARD)'!$W$4)","v":3530.8396634708552},{"$f":"INDEX('Compile Data'!$AJ$121:$BG$202,$O72,'Report - ALL (DASHBOARD)'!$W$4)","v":3544.3978390552929}]
[1966,{"$f":"INDEX('Compile Data'!$J$12:$AG$93,$A73-1921,'Report - ALL (DASHBOARD)'!$W$4)","v":3650.5781442925977},{"$f":"INDEX('Compile Data'!$AJ$12:$BG$93,$A73-1921,'Report - ALL (DASHBOARD)'!$W$4)","v":3638.7546485293155},null,null,null,null,null,null,null,null,null,null,null,45,0.54320987654320985,{"$f":"INDEX('Compile Data'!$J$121:$AG$202,$O73,'Report - ALL (DASHBOARD)'!$W$4)","v":3516.6738671107087},{"$f":"INDEX('Compile Data'!$AJ$121:$BG$202,$O73,'Report - ALL (DASHBOARD)'!$W$4)","v":3532.3235370094949}]
[1967,{"$f":"INDEX('Compile Data'!$J$12:$AG$93,$A74-1921,'Report - ALL (DASHBOARD)'!$W$4)","v":3803.3873831928045},{"$f":"INDEX('Compile Data'!$AJ$12:$BG$93,$A74-1921,'Report - ALL (DASHBOARD)'!$W$4)","v":3791.00759553136},null,null,null,null,null,null,null,null,null,null,null,46,0.55555555555555558,{"$f":"INDEX('Compile Data'!$J$121:$AG$202,$O74,'Report - ALL (DASHBOARD)'!$W$4)","v":3513.0448745804138},{"$f":"INDEX('Compile Data'!$AJ$121:$BG$202,$O74,'Report - ALL (DASHBOARD)'!$W$4)","v":3500.2176320773519}]
[1968,{"$f":"INDEX('Compile Data'!$J$12:$AG$93,$A75-1921,'Report - ALL (DASHBOARD)'!$W$4)","v":3566.260548158149},{"$f":"INDEX('Compile Data'!$AJ$12:$BG$93,$A75-1921,'Report - ALL (DASHBOARD)'!$W$4)","v":3595.863500805865},null,null,null,null,null,null,null,null,null,null,null,47,0.5679012345679012,{"$f":"INDEX('Compile Data'!$J$121:$AG$202,$O75,'Report - ALL (DASHBOARD)'!$W$4)","v":3487.3353865586892},{"$f":"INDEX('Compile Data'!$AJ$121:$BG$202,$O75,'Report - ALL (DASHBOARD)'!$W$4)","v":3493.4605597831192}]
[1969,{"$f":"INDEX('Compile Data'!$J$12:$AG$93,$A76-1921,'Report - ALL (DASHBOARD)'!$W$4)","v":3726.186898186334},{"$f":"INDEX('Compile Data'!$AJ$12:$BG$93,$A76-1921,'Report - ALL (DASHBOARD)'!$W$4)","v":3734.9042037446275},null,null,null,null,null,null,null,null,null,null,null,48,0.58024691358024694,{"$f":"INDEX('Compile Data'!$J$121:$AG$202,$O76,'Report - ALL (DASHBOARD)'!$W$4)","v":3473.1024366288379},{"$f":"INDEX('Compile Data'!$AJ$121:$BG$202,$O76,'Report - ALL (DASHBOARD)'!$W$4)","v":3459.785669902963}]
[1970,{"$f":"INDEX('Compile Data'!$J$12:$AG$93,$A77-1921,'Report - ALL (DASHBOARD)'!$W$4)","v":3424.2979237833715},{"$f":"INDEX('Compile Data'!$AJ$12:$BG$93,$A77-1921,'Report - ALL (DASHBOARD)'!$W$4)","v":3420.8083802683163},null,null,null,null,null,null,null,null,null,null,null,49,0.59259259259259256,{"$f":"INDEX('Compile Data'!$J$121:$AG$202,$O77,'Report - ALL (DASHBOARD)'!$W$4)","v":3460.2150657141888},{"$f":"INDEX('Compile Data'!$AJ$121:$BG$202,$O77,'Report - ALL (DASHBOARD)'!$W$4)","v":3451.6329667481937}]
[1971,{"$f":"INDEX('Compile Data'!$J$12:$AG$93,$A78-1921,'Report - ALL (DASHBOARD)'!$W$4)","v":3747.7955511309688},{"$f":"INDEX('Compile Data'!$AJ$12:$BG$93,$A78-1921,'Report - ALL (DASHBOARD)'!$W$4)","v":3743.4259249219463},null,null,null,null,null,null,null,null,null,null,null,50,0.60493827160493829,{"$f":"INDEX('Compile Data'!$J$121:$AG$202,$O78,'Report - ALL (DASHBOARD)'!$W$4)","v":3425.1100239524199},{"$f":"INDEX('Compile Data'!$AJ$121:$BG$202,$O78,'Report - ALL (DASHBOARD)'!$W$4)","v":3450.7918532052968}]
[1972,{"$f":"INDEX('Compile Data'!$J$12:$AG$93,$A79-1921,'Report - ALL (DASHBOARD)'!$W$4)","v":3642.5450197943578},{"$f":"INDEX('Compile Data'!$AJ$12:$BG$93,$A79-1921,'Report - ALL (DASHBOARD)'!$W$4)","v":3663.6713345218891},null,null,null,null,null,null,null,null,null,null,null,51,0.61728395061728392,{"$f":"INDEX('Compile Data'!$J$121:$AG$202,$O79,'Report - ALL (DASHBOARD)'!$W$4)","v":3424.2979237833715},{"$f":"INDEX('Compile Data'!$AJ$121:$BG$202,$O79,'Report - ALL (DASHBOARD)'!$W$4)","v":3428.4558045558229}]
[1973,{"$f":"INDEX('Compile Data'!$J$12:$AG$93,$A80-1921,'Report - ALL (DASHBOARD)'!$W$4)","v":3646.6508659106748},{"$f":"INDEX('Compile Data'!$AJ$12:$BG$93,$A80-1921,'Report - ALL (DASHBOARD)'!$W$4)","v":3675.6688819278929},null,null,null,null,null,null,null,null,null,null,null,52,0.62962962962962965,{"$f":"INDEX('Compile Data'!$J$121:$AG$202,$O80,'Report - ALL (DASHBOARD)'!$W$4)","v":3422.1204674504279},{"$f":"INDEX('Compile Data'!$AJ$121:$BG$202,$O80,'Report - ALL (DASHBOARD)'!$W$4)","v":3420.8083802683163}]
[1974,{"$f":"INDEX('Compile Data'!$J$12:$AG$93,$A81-1921,'Report - ALL (DASHBOARD)'!$W$4)","v":3714.9207337736129},{"$f":"INDEX('Compile Data'!$AJ$12:$BG$93,$A81-1921,'Report - ALL (DASHBOARD)'!$W$4)","v":3722.6869489771598},null,null,null,null,null,null,null,null,null,null,null,53,0.64197530864197527,{"$f":"INDEX('Compile Data'!$J$121:$AG$202,$O81,'Report - ALL (DASHBOARD)'!$W$4)","v":3393.840281585417},{"$f":"INDEX('Compile Data'!$AJ$121:$BG$202,$O81,'Report - ALL (DASHBOARD)'!$W$4)","v":3420.7573902808181}]
[1975,{"$f":"INDEX('Compile Data'!$J$12:$AG$93,$A82-1921,'Report - ALL (DASHBOARD)'!$W$4)","v":3799.2191659314412},{"$f":"INDEX('Compile Data'!$AJ$12:$BG$93,$A82-1921,'Report - ALL (DASHBOARD)'!$W$4)","v":3799.9099380648045},null,null,null,null,null,null,null,null,null,null,null,54,0.65432098765432101,{"$f":"INDEX('Compile Data'!$J$121:$AG$202,$O82,'Report - ALL (DASHBOARD)'!$W$4)","v":3333.1482291695334},{"$f":"INDEX('Compile Data'!$AJ$121:$BG$202,$O82,'Report - ALL (DASHBOARD)'!$W$4)","v":3342.3287935243911}]
[1976,{"$f":"INDEX('Compile Data'!$J$12:$AG$93,$A83-1921,'Report - ALL (DASHBOARD)'!$W$4)","v":3422.1204674504279},{"$f":"INDEX('Compile Data'!$AJ$12:$BG$93,$A83-1921,'Report - ALL (DASHBOARD)'!$W$4)","v":3428.4558045558229},null,null,null,null,null,null,null,null,null,null,null,55,0.66666666666666663,{"$f":"INDEX('Compile Data'!$J$121:$AG$202,$O83,'Report - ALL (DASHBOARD)'!$W$4)","v":3302.8392105018552},{"$f":"INDEX('Compile Data'!$AJ$121:$BG$202,$O83,'Report - ALL (DASHBOARD)'!$W$4)","v":3283.7988919797881}]
[1977,{"$f":"INDEX('Compile Data'!$J$12:$AG$93,$A84-1921,'Report - ALL (DASHBOARD)'!$W$4)","v":1644.1044689057362},{"$f":"INDEX('Compile Data'!$AJ$12:$BG$93,$A84-1921,'Report - ALL (DASHBOARD)'!$W$4)","v":1743.8360888148206},null,null,null,null,null,null,null,null,null,null,null,56,0.67901234567901236,{"$f":"INDEX('Compile Data'!$J$121:$AG$202,$O84,'Report - ALL (DASHBOARD)'!$W$4)","v":3300.1058185679481},{"$f":"INDEX('Compile Data'!$AJ$121:$BG$202,$O84,'Report - ALL (DASHBOARD)'!$W$4)","v":3281.0432140011903}]
[1978,{"$f":"INDEX('Compile Data'!$J$12:$AG$93,$A85-1921,'Report - ALL (DASHBOARD)'!$W$4)","v":3062.8042040315922},{"$f":"INDEX('Compile Data'!$AJ$12:$BG$93,$A85-1921,'Report - ALL (DASHBOARD)'!$W$4)","v":3071.6174254029229},null,null,null,null,null,null,null,null,null,null,null,57,0.69135802469135799,{"$f":"INDEX('Compile Data'!$J$121:$AG$202,$O85,'Report - ALL (DASHBOARD)'!$W$4)","v":3200.144558453861},{"$f":"INDEX('Compile Data'!$AJ$121:$BG$202,$O85,'Report - ALL (DASHBOARD)'!$W$4)","v":3270.7148556914594}]
[1979,{"$f":"INDEX('Compile Data'!$J$12:$AG$93,$A86-1921,'Report - ALL (DASHBOARD)'!$W$4)","v":3571.0777454962313},{"$f":"INDEX('Compile Data'!$AJ$12:$BG$93,$A86-1921,'Report - ALL (DASHBOARD)'!$W$4)","v":3609.928513690727},null,null,null,null,null,null,null,null,null,null,null,58,0.70370370370370372,{"$f":"INDEX('Compile Data'!$J$121:$AG$202,$O86,'Report - ALL (DASHBOARD)'!$W$4)","v":3195.9988311898633},{"$f":"INDEX('Compile Data'!$AJ$121:$BG$202,$O86,'Report - ALL (DASHBOARD)'!$W$4)","v":3215.0695561351436}]
[1980,{"$f":"INDEX('Compile Data'!$J$12:$AG$93,$A87-1921,'Report - ALL (DASHBOARD)'!$W$4)","v":3623.3529832962763},{"$f":"INDEX('Compile Data'!$AJ$12:$BG$93,$A87-1921,'Report - ALL (DASHBOARD)'!$W$4)","v":3643.9233816590418},null,null,null,null,null,null,null,null,null,null,null,59,0.71604938271604934,{"$f":"INDEX('Compile Data'!$J$121:$AG$202,$O87,'Report - ALL (DASHBOARD)'!$W$4)","v":3175.2701487339036},{"$f":"INDEX('Compile Data'!$AJ$121:$BG$202,$O87,'Report - ALL (DASHBOARD)'!$W$4)","v":3206.380375621849}]
[1981,{"$f":"INDEX('Compile Data'!$J$12:$AG$93,$A88-1921,'Report - ALL (DASHBOARD)'!$W$4)","v":3530.8396634708552},{"$f":"INDEX('Compile Data'!$AJ$12:$BG$93,$A88-1921,'Report - ALL (DASHBOARD)'!$W$4)","v":3566.853084326141},null,null,null,null,null,null,null,null,null,null,null,60,0.72839506172839508,{"$f":"INDEX('Compile Data'!$J$121:$AG$202,$O88,'Report - ALL (DASHBOARD)'!$W$4)","v":3168.4373887805309},{"$f":"INDEX('Compile Data'!$AJ$121:$BG$202,$O88,'Report - ALL (DASHBOARD)'!$W$4)","v":3202.8966138266874}]
[1982,{"$f":"INDEX('Compile Data'!$J$12:$AG$93,$A89-1921,'Report - ALL (DASHBOARD)'!$W$4)","v":3743.8103846204758},{"$f":"INDEX('Compile Data'!$AJ$12:$BG$93,$A89-1921,'Report - ALL (DASHBOARD)'!$W$4)","v":3746.06076309441},null,null,null,null,null,null,null,null,null,null,null,61,0.7407407407407407,{"$f":"INDEX('Compile Data'!$J$121:$AG$202,$O89,'Report - ALL (DASHBOARD)'!$W$4)","v":3157.4598730599828},{"$f":"INDEX('Compile Data'!$AJ$121:$BG$202,$O89,'Report - ALL (DASHBOARD)'!$W$4)","v":3177.3243519181956}]
[1983,{"$f":"INDEX('Compile Data'!$J$12:$AG$93,$A90-1921,'Report - ALL (DASHBOARD)'!$W$4)","v":3687.1666666666665},{"$f":"INDEX('Compile Data'!$AJ$12:$BG$93,$A90-1921,'Report - ALL (DASHBOARD)'!$W$4)","v":3687.1666666666665},null,null,null,null,null,null,null,null,null,null,null,62,0.75308641975308643,{"$f":"INDEX('Compile Data'!$J$121:$AG$202,$O90,'Report - ALL (DASHBOARD)'!$W$4)","v":3153.8385742315149},{"$f":"INDEX('Compile Data'!$AJ$121:$BG$202,$O90,'Report - ALL (DASHBOARD)'!$W$4)","v":3170.2932606958543}]
[1984,{"$f":"INDEX('Compile Data'!$J$12:$AG$93,$A91-1921,'Report - ALL (DASHBOARD)'!$W$4)","v":3775.0465204707803},{"$f":"INDEX('Compile Data'!$AJ$12:$BG$93,$A91-1921,'Report - ALL (DASHBOARD)'!$W$4)","v":3772.8807767350268},null,null,null,null,null,null,null,null,null,null,null,63,0.76543209876543206,{"$f":"INDEX('Compile Data'!$J$121:$AG$202,$O91,'Report - ALL (DASHBOARD)'!$W$4)","v":3141.8697506706108},{"$f":"INDEX('Compile Data'!$AJ$121:$BG$202,$O91,'Report - ALL (DASHBOARD)'!$W$4)","v":3127.3570869350019}]
[1985,{"$f":"INDEX('Compile Data'!$J$12:$AG$93,$A92-1921,'Report - ALL (DASHBOARD)'!$W$4)","v":3393.840281585417},{"$f":"INDEX('Compile Data'!$AJ$12:$BG$93,$A92-1921,'Report - ALL (DASHBOARD)'!$W$4)","v":3420.7573902808181},null,null,null,null,null,null,null,null,null,null,null,64,0.77777777777777779,{"$f":"INDEX('Compile Data'!$J$121:$AG$202,$O92,'Report - ALL (DASHBOARD)'!$W$4)","v":3126.1471160113142},{"$f":"INDEX('Compile Data'!$AJ$121:$BG$202,$O92,'Report - ALL (DASHBOARD)'!$W$4)","v":3125.9731144817993}]
[1986,{"$f":"INDEX('Compile Data'!$J$12:$AG$93,$A93-1921,'Report - ALL (DASHBOARD)'!$W$4)","v":3333.1482291695334},{"$f":"INDEX('Compile Data'!$AJ$12:$BG$93,$A93-1921,'Report - ALL (DASHBOARD)'!$W$4)","v":3342.3287935243911},null,null,null,null,null,null,null,null,null,null,null,65,{"$f":"(O93-1)/81","v":0.79012345679012341},{"$f":"INDEX('Compile Data'!$J$121:$AG$202,$O93,'Report - ALL (DASHBOARD)'!$W$4)","v":3124.942251018299},{"$f":"INDEX('Compile Data'!$AJ$121:$BG$202,$O93,'Report - ALL (DASHBOARD)'!$W$4)","v":3092.504379582499}]
[1987,{"$f":"INDEX('Compile Data'!$J$12:$AG$93,$A94-1921,'Report - ALL (DASHBOARD)'!$W$4)","v":3195.9988311898633},{"$f":"INDEX('Compile Data'!$AJ$12:$BG$93,$A94-1921,'Report - ALL (DASHBOARD)'!$W$4)","v":3170.2932606958543},null,null,null,null,null,null,null,null,null,null,null,66,0.80246913580246915,{"$f":"INDEX('Compile Data'!$J$121:$AG$202,$O94,'Report - ALL (DASHBOARD)'!$W$4)","v":3062.8042040315922},{"$f":"INDEX('Compile Data'!$AJ$121:$BG$202,$O94,'Report - ALL (DASHBOARD)'!$W$4)","v":3071.6174254029229}]
[{"$f":"A94+1","v":1988},{"$f":"INDEX('Compile Data'!$J$12:$AG$93,$A95-1921,'Report - ALL (DASHBOARD)'!$W$4)","v":2799.5949050025779},{"$f":"INDEX('Compile Data'!$AJ$12:$BG$93,$A95-1921,'Report - ALL (DASHBOARD)'!$W$4)","v":2798.8185915940267},null,null,null,null,null,null,null,null,null,null,null,67,0.81481481481481477,{"$f":"INDEX('Compile Data'!$J$121:$AG$202,$O95,'Report - ALL (DASHBOARD)'!$W$4)","v":3011.4780123519922},{"$f":"INDEX('Compile Data'!$AJ$121:$BG$202,$O95,'Report - ALL (DASHBOARD)'!$W$4)","v":2989.5711754976819}]
[1989,{"$f":"INDEX('Compile Data'!$J$12:$AG$93,$A96-1921,'Report - ALL (DASHBOARD)'!$W$4)","v":2996.5452794679659},{"$f":"INDEX('Compile Data'!$AJ$12:$BG$93,$A96-1921,'Report - ALL (DASHBOARD)'!$W$4)","v":2989.5711754976819},null,null,null,null,null,null,null,null,null,null,null,68,0.8271604938271605,{"$f":"INDEX('Compile Data'!$J$121:$AG$202,$O96,'Report - ALL (DASHBOARD)'!$W$4)","v":2996.5452794679659},{"$f":"INDEX('Compile Data'!$AJ$121:$BG$202,$O96,'Report - ALL (DASHBOARD)'!$W$4)","v":2987.3735815734744}]
[1990,{"$f":"INDEX('Compile Data'!$J$12:$AG$93,$A97-1921,'Report - ALL (DASHBOARD)'!$W$4)","v":3011.4780123519922},{"$f":"INDEX('Compile Data'!$AJ$12:$BG$93,$A97-1921,'Report - ALL (DASHBOARD)'!$W$4)","v":2987.3735815734744},null,null,null,null,null,null,null,null,null,null,null,69,0.83950617283950613,{"$f":"INDEX('Compile Data'!$J$121:$AG$202,$O97,'Report - ALL (DASHBOARD)'!$W$4)","v":2962.9676375938907},{"$f":"INDEX('Compile Data'!$AJ$121:$BG$202,$O97,'Report - ALL (DASHBOARD)'!$W$4)","v":2972.15976398674}]
[1991,{"$f":"INDEX('Compile Data'!$J$12:$AG$93,$A98-1921,'Report - ALL (DASHBOARD)'!$W$4)","v":2128.2431620340112},{"$f":"INDEX('Compile Data'!$AJ$12:$BG$93,$A98-1921,'Report - ALL (DASHBOARD)'!$W$4)","v":2076.3103673898581},null,null,null,null,null,null,null,null,null,null,null,70,0.85185185185185186,{"$f":"INDEX('Compile Data'!$J$121:$AG$202,$O98,'Report - ALL (DASHBOARD)'!$W$4)","v":2799.5949050025779},{"$f":"INDEX('Compile Data'!$AJ$121:$BG$202,$O98,'Report - ALL (DASHBOARD)'!$W$4)","v":2798.8185915940267}]
[1992,{"$f":"INDEX('Compile Data'!$J$12:$AG$93,$A99-1921,'Report - ALL (DASHBOARD)'!$W$4)","v":1808.2967156143911},{"$f":"INDEX('Compile Data'!$AJ$12:$BG$93,$A99-1921,'Report - ALL (DASHBOARD)'!$W$4)","v":1765.9483564167301},null,null,null,null,null,null,null,null,null,null,null,71,0.86419753086419748,{"$f":"INDEX('Compile Data'!$J$121:$AG$202,$O99,'Report - ALL (DASHBOARD)'!$W$4)","v":2782.5295028837427},{"$f":"INDEX('Compile Data'!$AJ$121:$BG$202,$O99,'Report - ALL (DASHBOARD)'!$W$4)","v":2777.9059524246691}]
[1993,{"$f":"INDEX('Compile Data'!$J$12:$AG$93,$A100-1921,'Report - ALL (DASHBOARD)'!$W$4)","v":2962.9676375938907},{"$f":"INDEX('Compile Data'!$AJ$12:$BG$93,$A100-1921,'Report - ALL (DASHBOARD)'!$W$4)","v":2972.15976398674},null,null,null,null,null,null,null,null,null,null,null,72,0.87654320987654322,{"$f":"INDEX('Compile Data'!$J$121:$AG$202,$O100,'Report - ALL (DASHBOARD)'!$W$4)","v":2509.1963992324122},{"$f":"INDEX('Compile Data'!$AJ$121:$BG$202,$O100,'Report - ALL (DASHBOARD)'!$W$4)","v":2583.1552131153235}]
[1994,{"$f":"INDEX('Compile Data'!$J$12:$AG$93,$A101-1921,'Report - ALL (DASHBOARD)'!$W$4)","v":3157.4598730599828},{"$f":"INDEX('Compile Data'!$AJ$12:$BG$93,$A101-1921,'Report - ALL (DASHBOARD)'!$W$4)","v":3125.9731144817993},null,null,null,null,null,null,null,null,null,null,null,73,0.88888888888888884,{"$f":"INDEX('Compile Data'!$J$121:$AG$202,$O101,'Report - ALL (DASHBOARD)'!$W$4)","v":2456.9783882248471},{"$f":"INDEX('Compile Data'!$AJ$121:$BG$202,$O101,'Report - ALL (DASHBOARD)'!$W$4)","v":2534.1086823059877}]
[1995,{"$f":"INDEX('Compile Data'!$J$12:$AG$93,$A102-1921,'Report - ALL (DASHBOARD)'!$W$4)","v":3473.1024366288379},{"$f":"INDEX('Compile Data'!$AJ$12:$BG$93,$A102-1921,'Report - ALL (DASHBOARD)'!$W$4)","v":3459.785669902963},null,null,null,null,null,null,null,null,null,null,null,74,0.90123456790123457,{"$f":"INDEX('Compile Data'!$J$121:$AG$202,$O102,'Report - ALL (DASHBOARD)'!$W$4)","v":2330.4459446833825},{"$f":"INDEX('Compile Data'!$AJ$121:$BG$202,$O102,'Report - ALL (DASHBOARD)'!$W$4)","v":2279.2157000843913}]
[1996,{"$f":"INDEX('Compile Data'!$J$12:$AG$93,$A103-1921,'Report - ALL (DASHBOARD)'!$W$4)","v":3779.2641506954628},{"$f":"INDEX('Compile Data'!$AJ$12:$BG$93,$A103-1921,'Report - ALL (DASHBOARD)'!$W$4)","v":3777.9071032701372},null,null,null,null,null,null,null,null,null,null,null,75,0.9135802469135802,{"$f":"INDEX('Compile Data'!$J$121:$AG$202,$O103,'Report - ALL (DASHBOARD)'!$W$4)","v":2128.2431620340112},{"$f":"INDEX('Compile Data'!$AJ$121:$BG$202,$O103,'Report - ALL (DASHBOARD)'!$W$4)","v":2076.3103673898581}]
[1997,{"$f":"INDEX('Compile Data'!$J$12:$AG$93,$A104-1921,'Report - ALL (DASHBOARD)'!$W$4)","v":3460.2150657141888},{"$f":"INDEX('Compile Data'!$AJ$12:$BG$93,$A104-1921,'Report - ALL (DASHBOARD)'!$W$4)","v":3450.7918532052968},null,null,null,null,null,null,null,null,null,null,null,76,0.92592592592592593,{"$f":"INDEX('Compile Data'!$J$121:$AG$202,$O104,'Report - ALL (DASHBOARD)'!$W$4)","v":1808.2967156143911},{"$f":"INDEX('Compile Data'!$AJ$121:$BG$202,$O104,'Report - ALL (DASHBOARD)'!$W$4)","v":1972.1111584360333}]
[1998,{"$f":"INDEX('Compile Data'!$J$12:$AG$93,$A105-1921,'Report - ALL (DASHBOARD)'!$W$4)","v":3616.0829088440646},{"$f":"INDEX('Compile Data'!$AJ$12:$BG$93,$A105-1921,'Report - ALL (DASHBOARD)'!$W$4)","v":3608.6627268213874},null,null,null,null,null,null,null,null,null,null,null,77,0.93827160493827155,{"$f":"INDEX('Compile Data'!$J$121:$AG$202,$O105,'Report - ALL (DASHBOARD)'!$W$4)","v":1808.0150160573987},{"$f":"INDEX('Compile Data'!$AJ$121:$BG$202,$O105,'Report - ALL (DASHBOARD)'!$W$4)","v":1785.5793951962271}]
[1999,{"$f":"INDEX('Compile Data'!$J$12:$AG$93,$A106-1921,'Report - ALL (DASHBOARD)'!$W$4)","v":3789.5277228122509},{"$f":"INDEX('Compile Data'!$AJ$12:$BG$93,$A106-1921,'Report - ALL (DASHBOARD)'!$W$4)","v":3786.3155164504192},null,null,null,null,null,null,null,null,null,null,null,78,0.95061728395061729,{"$f":"INDEX('Compile Data'!$J$121:$AG$202,$O106,'Report - ALL (DASHBOARD)'!$W$4)","v":1743.3346407661611},{"$f":"INDEX('Compile Data'!$AJ$121:$BG$202,$O106,'Report - ALL (DASHBOARD)'!$W$4)","v":1765.9483564167301}]
[2000,{"$f":"INDEX('Compile Data'!$J$12:$AG$93,$A107-1921,'Report - ALL (DASHBOARD)'!$W$4)","v":3628.9829562087775},{"$f":"INDEX('Compile Data'!$AJ$12:$BG$93,$A107-1921,'Report - ALL (DASHBOARD)'!$W$4)","v":3661.0263475590541},null,null,null,null,null,null,null,null,null,null,null,79,0.96296296296296291,{"$f":"INDEX('Compile Data'!$J$121:$AG$202,$O107,'Report - ALL (DASHBOARD)'!$W$4)","v":1644.1044689057362},{"$f":"INDEX('Compile Data'!$AJ$121:$BG$202,$O107,'Report - ALL (DASHBOARD)'!$W$4)","v":1743.8360888148206}]
[2001,{"$f":"INDEX('Compile Data'!$J$12:$AG$93,$A108-1921,'Report - ALL (DASHBOARD)'!$W$4)","v":3141.8697506706108},{"$f":"INDEX('Compile Data'!$AJ$12:$BG$93,$A108-1921,'Report - ALL (DASHBOARD)'!$W$4)","v":3281.0432140011903},null,null,null,null,null,null,null,null,null,null,null,80,0.97530864197530864,{"$f":"INDEX('Compile Data'!$J$121:$AG$202,$O108,'Report - ALL (DASHBOARD)'!$W$4)","v":1338.0685259702391},{"$f":"INDEX('Compile Data'!$AJ$121:$BG$202,$O108,'Report - ALL (DASHBOARD)'!$W$4)","v":1492.8546422230208}]
[2002,{"$f":"INDEX('Compile Data'!$J$12:$AG$93,$A109-1921,'Report - ALL (DASHBOARD)'!$W$4)","v":3596.036470813398},{"$f":"INDEX('Compile Data'!$AJ$12:$BG$93,$A109-1921,'Report - ALL (DASHBOARD)'!$W$4)","v":3608.8530506323773},null,null,null,null,null,null,null,null,null,null,null,81,0.98765432098765427,{"$f":"INDEX('Compile Data'!$J$121:$AG$202,$O109,'Report - ALL (DASHBOARD)'!$W$4)","v":1323.0674697627665},{"$f":"INDEX('Compile Data'!$AJ$121:$BG$202,$O109,'Report - ALL (DASHBOARD)'!$W$4)","v":1477.6537240417554}]
[2003,{"$f":"INDEX('Compile Data'!$J$12:$AG$93,$A110-1921,'Report - ALL (DASHBOARD)'!$W$4)","v":3692.6189154879708},{"$f":"INDEX('Compile Data'!$AJ$12:$BG$93,$A110-1921,'Report - ALL (DASHBOARD)'!$W$4)","v":3728.6636442915951},null,null,null,null,null,null,null,null,null,null,null,82,1,{"$f":"INDEX('Compile Data'!$J$121:$AG$202,$O110,'Report - ALL (DASHBOARD)'!$W$4)","v":1085.6491256461452},{"$f":"INDEX('Compile Data'!$AJ$121:$BG$202,$O110,'Report - ALL (DASHBOARD)'!$W$4)","v":1221.6871986795688}]

{"sheet":"Compile Data","index":4,"n_rows":996,"n_cols":60,"rows_kept":996,"cut":false,"hidden":false,"merged":[]}
[null,{"$f":"Control!$B$5","v":"NAA 091720"},{"$f":"Control!$B$6","v":"ALTA2 PEA"}," ",null,null,null,null,null,null,null,null,null,null,null,null,null,null,null,null,null,null,null,null,null,null,null,null,{"$f":"$B$8","v":"INST-VAL"},null,null,null,null,null,null,null,null,null,null,null,null,null,null,null,null,null,null,null,null,null,null,null,null,null,{"$f":"$C$8","v":"INST-VAL"}]
["Index:",{"$f":"'Report - ALL (DASHBOARD)'!W2","v":1},{"$f":"B2","v":1}," "]
["Convert?",{"$f":"IF('Report - ALL (DASHBOARD)'!W5,1,0)","v":0},0," "]
["Column:",{"$f":"TRIM(VLOOKUP(B$2+2,DSSPathnames!$H$7:$K$183,2))","v":"C"},"C"," "]
["Title:",{"$f":"TRIM(VLOOKUP(B$2+2,DSSPathnames!$H$7:$K$183,4))","v":"Shasta Storage"},{"$f":"TRIM(VLOOKUP(C$2+2,DSSPathnames!$H$7:$K$183,4))","v":"Shasta Storage"}," "]
["Parameter:",{"$f":"INDIRECT(CONCATENATE(\"'\",B$1,\"'!\",B$4,2))","v":"S4"},"S4"," "]
[" ",{"$f":"INDIRECT(CONCATENATE(\"'\",B$1,\"'!\",B$4,3))","v":"STORAGE"},"STORAGE"," "]
["Type:",{"$f":"TRIM(VLOOKUP(B$2+2,DSSPathnames!$H$7:$K$183,3))","v":"INST-VAL"},{"$f":"TRIM(VLOOKUP(C$2+2,DSSPathnames!$H$7:$K$183,3))","v":"INST-VAL"}," ",null,null,null,null,{"$f":"CONCATENATE(TRIM(B$1),\": \",TRIM(B$5),\" - \",TRIM(B$6),\" \",TRIM(B$7),\" (\",TRIM(B$10),\") \",TRIM(B$11))","v":"NAA 091720: Shasta Storage - S4 STORAGE (TAF) "},null,null,null,null,null,null,null,null,null,null,null,null,null,null,null,null,null,null,null,null,null,null,null,null,null,{"$f":"CONCATENATE(TRIM(C$1),\": \",TRIM(C$5),\" - \",TRIM(C$6),\" \",TRIM(C$7),\" (\",TRIM(C$10),\") \",TRIM(C$11))","v":"ALTA2 PEA: Shasta Storage - S4 STORAGE (TAF) "}]
["Units-native:",{"$f":"TRIM(INDIRECT(CONCATENATE(\"'\",B$1,\"'!\",B$4,11)))","v":"TAF"},"TAF"," "]
["Units-shown:",{"$f":"IF(AND(B$3>0,B$9=\"CFS\"),\"TAF\",B$9)","v":"TAF"},"TAF"," ",null,null,null,null," ",null,null,null,null,null,null,null,null,null,null,null,null,null,"Jan-Dec","Mar-Feb","Oct-Sep",null,"Nov-Mar","Aug-Oct","Oct-Jan","Dec-Feb","Mar-Jun","Jun-Sep","Sep-Nov",null," ",null,null,null,null,null,null,null,null,null,null,null,null,null,"Jan-Dec","Mar-Feb","Oct-Sep",null,"Nov-Mar","Aug-Oct","Oct-Jan","Dec-Feb","Mar-Jun","Jun-Sep","Sep-Nov"]
["Date",{"$f":"IF(ISNUMBER(FIND(\"PRV\",B$6)),\"SHIFTED\",\"\")","v":""},""," ",null,null,null,null,"YEAR","OCT","NOV","DEC","JAN","FEB","MAR","APR","MAY","JUN","JUL","AUG","SEP",null,{"$f":"IF(AND($B$10=\"TAF\",$B$8=\"PER-AVER\"),\"TOT\",\"AVG\")","v":"AVG"},{"$f":"IF(AND($B$10=\"TAF\",$B$8=\"PER-AVER\"),\"TOT\",\"AVG\")","v":"AVG"},{"$f":"IF(AND($B$10=\"TAF\",$B$8=\"PER-AVER\"),\"TOT\",\"AVG\")","v":"AVG"},null,{"$f":"IF(AND($B$10=\"TAF\",$B$8=\"PER-AVER\"),\"TOT\",\"AVG\")","v":"AVG"},"AVG",{"$f":"IF(AND($B$10=\"TAF\",$B$8=\"PER-AVER\"),\"TOT\",\"AVG\")","v":"AVG"},{"$f":"IF(AND($B$10=\"TAF\",$B$8=\"PER-AVER\"),\"TOT\",\"AVG\")","v":"AVG"},{"$f":"IF(AND($B$10=\"TAF\",$B$8=\"PER-AVER\"),\"TOT\",\"AVG\")","v":"AVG"},{"$f":"IF(AND($B$10=\"TAF\",$B$8=\"PER-AVER\"),\"TOT\",\"AVG\")","v":"AVG"},{"$f":"IF(AND($B$10=\"TAF\",$B$8=\"PER-AVER\"),\"TOT\",\"AVG\")","v":"AVG"},null,"YEAR","OCT","NOV","DEC","JAN","FEB","MAR","APR","MAY","JUN","JUL","AUG","SEP",null,{"$f":"IF(AND($C$10=\"TAF\",$C$8=\"PER-AVER\"),\"TOT\",\"AVG\")","v":"AVG"},{"$f":"IF(AND($C$10=\"TAF\",$C$8=\"PER-AVER\"),\"TOT\",\"AVG\")","v":"AVG"},{"$f":"IF(AND($C$10=\"TAF\",$C$8=\"PER-AVER\"),\"TOT\",\"AVG\")","v":"AVG"},null,{"$f":"IF(AND($B$10=\"TAF\",$B$8=\"PER-AVER\"),\"TOT\",\"AVG\")","v":"AVG"},"AVG",{"$f":"IF(AND($C$10=\"TAF\",$C$8=\"PER-AVER\"),\"TOT\",\"AVG\")","v":"AVG"},{"$f":"IF(AND($C$10=\"TAF\",$C$8=\"PER-AVER\"),\"TOT\",\"AVG\")","v":"AVG"},{"$f":"IF(AND($C$10=\"TAF\",$C$8=\"PER-AVER\"),\"TOT\",\"AVG\")","v":"AVG"},{"$f":"IF(AND($C$10=\"TAF\",$C$8=\"PER-AVER\"),\"TOT\",\"AVG\")","v":"AVG"},{"$f":"IF(AND($C$10=\"TAF\",$C$8=\"PER-AVER\"),\"TOT\",\"AVG\")","v":"AVG"}]
["1921-09-30",null,null,null,null,null,null,null,1922,{"$f":"B13","v":2738.2456759338857},{"$f":"B14","v":2695.0934394984006},{"$f":"B15","v":2865.8538683484285},{"$f":"B16","v":3007.9029743547908},{"$f":"B17","v":3434.5404551091883},{"$f":"B18","v":3955.2092562325197},{"$f":"B19","v":4493.2735858628657},{"$f":"B20","v":4552},{"$f":"B21","v":4291.8069189275839},{"$f":"B22","v":3879.682072680293},{"$f":"B23","v":3523.3833015908849},{"$f":"B24","v":3400.0000000000005},null,{"$f":"IF(W$11=\"AVG\",AVERAGE(M12:U12,J13:L13),SUM(M12:U12,J13:L13))","v":3700.733213729844},{"$f":"IF(X$11=\"AVG\",AVERAGE(O12:U12,J13:N13),SUM(O12:U12,J13:N13))","v":3768.6153976523874},{"$f":"IF(Y$11=\"AVG\",AVERAGE(J12:U12),SUM(J12:U12))","v":3569.7492957115701},null,{"$f":"IF(AA$11=\"AVG\",IF(AC$1=\"INST-VAL\",AVERAGE(J12:N12,K12:O12),AVERAGE(K12:O12)),SUM(K12:O12))","v":3070.0236406788022},{"$f":"IF(AB$11=\"AVG\",IF(AC$1=\"INST-VAL\",AVERAGE(S12:U12,T12:U12,J13),AVERAGE(T12:U12,J13)),SUM(T12:U12,J13))","v":3496.0747793103437},{"$f":"IF(AC$11=\"AVG\",IF(AC$1=\"INST-VAL\",AVERAGE(U11,J12:L12,J12:M12),AVERAGE(J12:M12)),SUM(J12:M12))","v":2800.8984202737456},{"$f":"IF(AD$11=\"AVG\",IF(AC$1=\"INST-VAL\",AVERAGE(K12:M12,L12:N12),AVERAGE(L12:N12)),SUM(L12:N12))","v":2979.5245966690049},{"$f":"IF(AE$11=\"AVG\",IF(AC$1=\"INST-VAL\",AVERAGE(N12:Q12,O12:R12),AVERAGE(O12:R12)),SUM(O12:R12))","v":4215.9141322784426},{"$f":"IF(AF$11=\"AVG\",IF(AC$1=\"INST-VAL\",AVERAGE(Q12:T12,R12:U12),AVERAGE(R12:U12)),SUM(R12:U12))","v":3917.7180732996908},{"$f":"IF(AG$11=\"AVG\",IF(AC$1=\"INST-VAL\",AVERAGE(T12:U12,J13,U12,J13:K13),AVERAGE(U12,J13:K13)),SUM(U12,J13:K13))","v":3345.8972169318145},null,1922,{"$f":"'Compile Data'!C13","v":2750.7296958034658},{"$f":"'Compile Data'!C14","v":2725.8433373406097},{"$f":"'Compile Data'!C15","v":2896.581186912817},{"$f":"'Compile Data'!C16","v":3038.6115578749614},{"$f":"'Compile Data'!C17","v":3465.2289487673206},{"$f":"'Compile Data'!C18","v":3910.9058415634713},{"$f":"'Compile Data'!C19","v":4523.9804038846278},{"$f":"'Compile Data'!C20","v":4552},{"$f":"'Compile Data'!C21","v":4281.3116003564601},{"$f":"'Compile Data'!C22","v":3910.5996992906403},{"$f":"'Compile Data'!C23","v":3554.0297370693802},{"$f":"'Compile Data'!C24","v":3399.9999999999995},null,{"$f":"IF(AW$11=\"AVG\",AVERAGE(AM12:AU12,AJ13:AL13),SUM(AM12:AU12,AJ13:AL13))","v":3708.9723157339049},{"$f":"IF(AX$11=\"AVG\",AVERAGE(AO12:AU12,AJ13:AN13),SUM(AO12:AU12,AJ13:AN13))","v":3772.3691953443486},{"$f":"IF(AY$11=\"AVG\",AVERAGE(AJ12:AU12),SUM(AJ12:AU12))","v":3584.1518340719795},null,{"$f":"IF(BA$11=\"AVG\",IF(BC$1=\"INST-VAL\",AVERAGE(AJ12:AN12,AK12:AO12),AVERAGE(AK12:AO12)),SUM(AK12:AO12))","v":3091.4165599158355},{"$f":"IF(BB$11=\"AVG\",IF(BC$1=\"INST-VAL\",AVERAGE(AS12:AU12,AT12:AU12,AJ13),AVERAGE(AT12:AU12,AJ13)),SUM(AT12:AU12,AJ13))","v":3511.4431955715668},{"$f":"IF(BC$11=\"AVG\",IF(BC$1=\"INST-VAL\",AVERAGE(AU11,AJ12:AL12,AJ12:AM12),AVERAGE(AJ12:AM12)),SUM(AJ12:AM12))","v":2826.4171425698214},{"$f":"IF(BD$11=\"AVG\",IF(BC$1=\"INST-VAL\",AVERAGE(AK12:AM12,AL12:AN12),AVERAGE(AL12:AN12)),SUM(AL12:AN12))","v":3010.2429626139146},{"$f":"IF(BE$11=\"AVG\",IF(BC$1=\"INST-VAL\",AVERAGE(AN12:AQ12,AO12:AR12),AVERAGE(AO12:AR12)),SUM(AO12:AR12))","v":4215.0391300024976},{"$f":"IF(BF$11=\"AVG\",IF(BC$1=\"INST-VAL\",AVERAGE(AQ12:AT12,AR12:AU12),AVERAGE(AR12:AU12)),SUM(AR12:AU12))","v":3930.4852591791205},{"$f":"IF(BG$11=\"AVG\",IF(BC$1=\"INST-VAL\",AVERAGE(AT12:AU12,AJ13,AU12,AJ13:AK13),AVERAGE(AU12,AJ13:AK13)),SUM(AU12,AJ13:AK13))","v":3351.0049561782303}]
["1921-10-31",{"$f":"IF(B$7=\"TEMP\",NA(),INDIRECT(CONCATENATE(\"'\",B$1,\"'!\",B$4,(YEAR($A13)-1921)*12+MONTH($A13)+3+IF(ISNUMBER(FIND(\"PRV\",B$6)),1,0)))*IF(AND(B$3>0,TRIM(B$9)=\"CFS\"),Conv_Flags!$C13,1))","v":2738.2456759338857},{"$f":"IF(C$7=\"TEMP\",NA(),INDIRECT(CONCATENATE(\"'\",C$1,\"'!\",C$4,(YEAR($A13)-1921)*12+MONTH($A13)+3+IF(ISNUMBER(FIND(\"PRV\",C$6)),1,0)))*IF(AND(C$3>0,TRIM(C$9)=\"CFS\"),Conv_Flags!$C13,1))","v":2750.7296958034658},null,null,null,null,null,1923,{"$f":"B25","v":3250},{"$f":"B26","v":3252},{"$f":"B27","v":3369},{"$f":"B28","v":3589.9597657034074},{"$f":"B29","v":3667.0698708310879},{"$f":"B30","v":3803.03818600964},{"$f":"B31","v":4254.4890807170059},{"$f":"B32","v":4000.3368294868028},{"$f":"B33","v":3677.7176861326693},{"$f":"B34","v":3315.2169893758073},{"$f":"B35","v":3002.7616808010503},{"$f":"B36","v":2974.9484059074935},null,3401.5214234082646,3289.9415884121031,3513.0448745804138,null,{"$f":"IF(AA$11=\"AVG\",IF(AC$1=\"INST-VAL\",AVERAGE(J13:N13,K13:O13),AVERAGE(K13:O13)),SUM(K13:O13))","v":3480.909745907863},{"$f":"IF(AB$11=\"AVG\",IF(AC$1=\"INST-VAL\",AVERAGE(S13:U13,T13:U13,J14),AVERAGE(T13:U13,J14)),SUM(T13:U13,J14))","v":3033.5825593850709},{"$f":"IF(AC$11=\"AVG\",IF(AC$1=\"INST-VAL\",AVERAGE(U12,J13:L13,J13:M13),AVERAGE(J13:M13)),SUM(J13:M13))","v":3341.4949707129258},3472.8315670396501,3932.5644686738315,3370.8347435016685,2941.9506538897422,null,1923,{"$f":"'Compile Data'!C25","v":3250},{"$f":"'Compile Data'!C26","v":3252.0000000000005},{"$f":"'Compile Data'!C27","v":3369},{"$f":"'Compile Data'!C28","v":3589.9597657034074},{"$f":"'Compile Data'!C29","v":3674.6432962641884},{"$f":"'Compile Data'!C30","v":3810.6007407233906},{"$f":"'Compile Data'!C31","v":4262.0412948910143},{"$f":"'Compile Data'!C32","v":4008.7458092995516},{"$f":"'Compile Data'!C33","v":3631.5541908781693},{"$f":"'Compile Data'!C34","v":3265.7346751064924},{"$f":"'Compile Data'!C35","v":2950.0237001882892},{"$f":"'Compile Data'!C36","v":2938.3081118737146},null,3369.342179226232,3237.3478884342799,3500.2176320773519,null,{"$f":"IF(BA$11=\"AVG\",IF(BC$1=\"INST-VAL\",AVERAGE(AJ13:AN13,AK13:AO13),AVERAGE(AK13:AO13)),SUM(AK13:AO13))","v":3483.1806864658583},{"$f":"IF(BB$11=\"AVG\",IF(BC$1=\"INST-VAL\",AVERAGE(AS13:AU13,AT13:AU13,AJ14),AVERAGE(AT13:AU13,AJ14)),SUM(AT13:AU13,AJ14))","v":2985.9246011739792},3341.4949707129258,3474.0938046118335,3933.6216471212842,3330.2098816898961,2892.5189272726425]
["1921-11-30",{"$f":"IF(B$7=\"TEMP\",NA(),INDIRECT(CONCATENATE(\"'\",B$1,\"'!\",B$4,(YEAR($A14)-1921)*12+MONTH($A14)+3+IF(ISNUMBER(FIND(\"PRV\",B$6)),1,0)))*IF(AND(B$3>0,TRIM(B$9)=\"CFS\"),Conv_Flags!$C14,1))","v":2695.0934394984006},{"$f":"IF(C$7=\"TEMP\",NA(),INDIRECT(CONCATENATE(\"'\",C$1,\"'!\",C$4,(YEAR($A14)-1921)*12+MONTH($A14)+3+IF(ISNUMBER(FIND(\"PRV\",C$6)),1,0)))*IF(AND(C$3>0,TRIM(C$9)=\"CFS\"),Conv_Flags!$C14,1))","v":2725.8433373406097},null,null,null,null,null,1924,{"$f":"B37","v":2930.8581935175321},{"$f":"B38","v":2837.3290436873517},{"$f":"B39","v":2764.5313487293206},{"$f":"B40","v":2855.5365278081076},{"$f":"B41","v":3062.5350887724599},{"$f":"B42","v":2795.9487017991391},{"$f":"B43","v":2689.6629173790507},{"$f":"B44","v":2339.7659898418215},{"$f":"B45","v":1867.0392170995694},{"$f":"B46","v":1485.9674312965633},{"$f":"B47","v":1218.2756268434694},{"$f":"B48","v":1117.9012494262086},null,1941.1205236204635,1837.8126324704253,2330.4459446833825,null,{"$f":"IF(AA$11=\"AVG\",IF(AC$1=\"INST-VAL\",AVERAGE(J14:N14,K14:O14),AVERAGE(K14:O14)),SUM(K14:O14))","v":2876.667091331115},{"$f":"IF(AB$11=\"AVG\",IF(AC$1=\"INST-VAL\",AVERAGE(S14:U14,T14:U14,J15),AVERAGE(T14:U14,J15)),SUM(T14:U14,J15))","v":1216.6464837656235},{"$f":"IF(AC$11=\"AVG\",IF(AC$1=\"INST-VAL\",AVERAGE(U13,J14:L14,J14:M14),AVERAGE(J14:M14)),SUM(J14:M14))","v":2861.9902631980012},2856.666647589112,2572.5411904890066,1575.0289737184044,1173.2837547414792,null,1924,{"$f":"'Compile Data'!C37","v":2873.1493078133749},{"$f":"'Compile Data'!C38","v":2782.1750240733841},{"$f":"'Compile Data'!C39","v":2645.1702338998043},{"$f":"'Compile Data'!C40","v":2736.7759997853032},{"$f":"'Compile Data'!C41","v":2943.895572678864},{"$f":"'Compile Data'!C42","v":2759.6289597871182},{"$f":"'Compile Data'!C43","v":2657.3165642037388},{"$f":"'Compile Data'!C44","v":2307.2185331952796},{"$f":"'Compile Data'!C45","v":1842.8512850236625},{"$f":"'Compile Data'!C46","v":1462.3854584232931},{"$f":"'Compile Data'!C47","v":1219.4536279222286},{"$f":"'Compile Data'!C48","v":1120.5678342066424},null,1907.2967451202624,1823.8516058243188,2279.2157000843913,null,{"$f":"IF(BA$11=\"AVG\",IF(BC$1=\"INST-VAL\",AVERAGE(AJ14:AN14,AK14:AO14),AVERAGE(AK14:AO14)),SUM(AK14:AO14))","v":2784.8811928475202},1213.4550889246934,2784.5091554040177,2748.3271773537435,2529.3843715093499,1559.6458887675365,1171.6089707588055]
["1921-12-31",{"$f":"IF(B$7=\"TEMP\",NA(),INDIRECT(CONCATENATE(\"'\",B$1,\"'!\",B$4,(YEAR($A15)-1921)*12+MONTH($A15)+3+IF(ISNUMBER(FIND(\"PRV\",B$6)),1,0)))*IF(AND(B$3>0,TRIM(B$9)=\"CFS\"),Conv_Flags!$C15,1))","v":2865.8538683484285},{"$f":"IF(C$7=\"TEMP\",NA(),INDIRECT(CONCATENATE(\"'\",C$1,\"'!\",C$4,(YEAR($A15)-1921)*12+MONTH($A15)+3+IF(ISNUMBER(FIND(\"PRV\",C$6)),1,0)))*IF(AND(C$3>0,TRIM(C$9)=\"CFS\"),Conv_Flags!$C15,1))","v":2896.581186912817},null,null,null,null,null,1925,{"$f":"B49","v":1141.5577187578222},{"$f":"B50","v":1302.5089652373445},{"$f":"B51","v":1416.7468491840048},{"$f":"B52","v":1732.9275914547659},{"$f":"B53","v":2945.4493313253447},{"$f":"B54","v":3319.8494092815731},{"$f":"B55","v":4024.1176380790671},{"$f":"B56","v":4165.9554706918734},{"$f":"B57","v":3931.6653012556335},{"$f":"B58","v":3390.6889158039617},{"$f":"B59","v":3070.1845256235511},{"$f":"B60","v":2948.7023179099683},null,3166.1463244738547,3315.5516395310424,2782.5295028837427,null,{"$f":"IF(AA$11=\"AVG\",IF(AC$1=\"INST-VAL\",AVERAGE(J15:N15,K15:O15),AVERAGE(K15:O15)),SUM(K15:O15))","v":1925.6672602442316},3046.0564109510346,1321.5569884049146,1757.8845296400384,3737.1199585857512,3487.4669092460167,2908.7816749184531,null,1925,{"$f":"'Compile Data'!C49","v":1138.3021508671263},{"$f":"'Compile Data'!C50","v":1292.4602264830664},{"$f":"'Compile Data'!C51","v":1406.7047288668209},{"$f":"'Compile Data'!C52","v":1739.5893823099368},{"$f":"'Compile Data'!C53","v":2939.7405186029127},{"$f":"'Compile Data'!C54","v":3314.1485204917872},{"$f":"'Compile Data'!C55","v":4018.4284879384854},{"$f":"'Compile Data'!C56","v":4160.1106341692575},{"$f":"'Compile Data'!C57","v":3936.1696733202625},{"$f":"'Compile Data'!C58","v":3384.3477271230154},{"$f":"'Compile Data'!C59","v":3063.3932939325487},{"$f":"'Compile Data'!C60","v":2941.4760849908089},null,3159.0267458697217,3303.7412340271972,2777.9059524246691,null,{"$f":"IF(BA$11=\"AVG\",IF(BC$1=\"INST-VAL\",AVERAGE(AJ15:AN15,AK15:AO15),AVERAGE(AK15:AO15)),SUM(AK15:AO15))","v":1920.9440383884387},{"$f":"IF(BB$11=\"AVG\",IF(BC$1=\"INST-VAL\",AVERAGE(AS15:AU15,AT15:AU15,AJ16),AVERAGE(AT15:AU15,AJ16)),SUM(AT15:AU15,AJ16))","v":3038.463489551747},1316.8864286188259,1754.131494573249,3732.6606846402797,3483.6760134889651,2899.1108376230845]
["1922-01-31",{"$f":"INDIRECT(CONCATENATE(\"'\",B$1,\"'!\",B$4,(YEAR($A16)-1921)*12+MONTH($A16)+3+IF(ISNUMBER(FIND(\"PRV\",B$6)),1,0)))*IF(AND(B$3>0,TRIM(B$9)=\"CFS\"),Conv_Flags!$C16,1)","v":3007.9029743547908},{"$f":"INDIRECT(CONCATENATE(\"'\",C$1,\"'!\",C$4,(YEAR($A16)-1921)*12+MONTH($A16)+3+IF(ISNUMBER(FIND(\"PRV\",C$6)),1,0)))*IF(AND(C$3>0,TRIM(C$9)=\"CFS\"),Conv_Flags!$C16,1)","v":3038.6115578749614},null,null,null,null,null,1926,{"$f":"B61","v":2847.8758628352057},{"$f":"B62","v":2789.349162396818},{"$f":"B63","v":2826.9903670284993},{"$f":"B64","v":2864.3121111577639},{"$f":"B65","v":3606.9285923085886},{"$f":"B66","v":3674.5086693416038},{"$f":"B67","v":3994.5818071189879},{"$f":"B68","v":3722.8117264016328},{"$f":"B69","v":3302.5000867308722},{"$f":"B70","v":2822.4275377563113},{"$f":"B71","v":2561.4659640549562},{"$f":"B72","v":2485.5551250883532},null,3136.1302590484961,3191.0268670929672,3124.942251018299,null,3069.7544997960149,2551.6860144852917,2842.6806516985971,2963.1471185129885,3711.6541355954892,2947.6442535717829,2529.615678953895,null,1926,{"$f":"'Compile Data'!C61","v":2836.694452340751},{"$f":"'Compile Data'!C62","v":2774.9306571428383},{"$f":"'Compile Data'!C63","v":2799.2915180740538},{"$f":"'Compile Data'!C64","v":2836.6307669049279},{"$f":"'Compile Data'!C65","v":3579.2729918976224},{"$f":"'Compile Data'!C66","v":3625.2852698394213},{"$f":"'Compile Data'!C67","v":3945.4732038777897},{"$f":"'Compile Data'!C68","v":3676.2265129133139},{"$f":"'Compile Data'!C69","v":3228.9711092128205},{"$f":"'Compile Data'!C70","v":2793.6100929654681},{"$f":"'Compile Data'!C71","v":2541.9892147951418},{"$f":"'Compile Data'!C72","v":2471.6767650258375},null,3104.8810928432977,3164.3891129430849,3092.504379582499,null,3044.2231590219053,2532.9181033836612,2824.9925133763777,2937.6747031664036,3662.7767592964365,2909.6305139857513,2513.2075540595233]
["1922-02-28",{"$f":"INDIRECT(CONCATENATE(\"'\",B$1,\"'!\",B$4,(YEAR($A17)-1921)*12+MONTH($A17)+3+IF(ISNUMBER(FIND(\"PRV\",B$6)),1,0)))*IF(AND(B$3>0,TRIM(B$9)=\"CFS\"),Conv_Flags!$C17,1)","v":3434.5404551091883},{"$f":"INDIRECT(CONCATENATE(\"'\",C$1,\"'!\",C$4,(YEAR($A17)-1921)*12+MONTH($A17)+3+IF(ISNUMBER(FIND(\"PRV\",C$6)),1,0)))*IF(AND(C$3>0,TRIM(C$9)=\"CFS\"),Conv_Flags!$C17,1)","v":3465.2289487673206},null,null,null,null,null,1927,{"$f":"B73","v":2393.6463708688207},{"$f":"B74","v":2857.8251177540669},{"$f":"B75","v":3347},{"$f":"B76","v":3668},{"$f":"B77","v":3462},{"$f":"B78","v":4085.3751557241858},{"$f":"B79","v":4552},{"$f":"B80","v":4552},{"$f":"B81","v":4346.3431123517239},{"$f":"B82","v":3826.5053208779041},{"$f":"B83","v":3432.3080287656412},{"$f":"B84","v":3118.2020711507712},null,3721.009268275729,3773.040214227231,3636.7670981244264,null,3314.8671762101139,3320.3171751915429,2918.812262791766,3391.6375196256777,4273.3866779750115,3860.0643743926635,3151.5778719907062,null,1927,{"$f":"'Compile Data'!C73","v":2376.5665676945414},{"$f":"'Compile Data'!C74","v":2840.7694441212411},{"$f":"'Compile Data'!C75","v":3342.1011748714436},{"$f":"'Compile Data'!C76","v":3668},{"$f":"'Compile Data'!C77","v":3462},{"$f":"'Compile Data'!C78","v":4085.3751557241858},{"$f":"'Compile Data'!C79","v":4552},{"$f":"'Compile Data'!C80","v":4552},{"$f":"'Compile Data'!C81","v":4343.8061678890563},{"$f":"'Compile Data'!C82","v":3818.6401969552794},{"$f":"'Compile Data'!C83","v":3424.6048310786932},{"$f":"'Compile Data'!C84","v":3110.3316777392761},null,3718.1452280616136,3770.1761740131155,3631.3496013394765,null,3308.7682961404098,3312.4163203240155,2907.3188923000362,3387.1619656440216,4273.0695599171786,3854.5542586981664,3144.8729335438329]
["1922-03-31",{"$f":"INDIRECT(CONCATENATE(\"'\",B$1,\"'!\",B$4,(YEAR($A18)-1921)*12+MONTH($A18)+3+IF(ISNUMBER(FIND(\"PRV\",B$6)),1,0)))*IF(AND(B$3>0,TRIM(B$9)=\"CFS\"),Conv_Flags!$C18,1)","v":3955.2092562325197},{"$f":"INDIRECT(CONCATENATE(\"'\",C$1,\"'!\",C$4,(YEAR($A18)-1921)*12+MONTH($A18)+3+IF(ISNUMBER(FIND(\"PRV\",C$6)),1,0)))*IF(AND(C$3>0,TRIM(C$9)=\"CFS\"),Conv_Flags!$C18,1)","v":3910.9058415634713},null,null,null,null,null,1928,{"$f":"B85","v":2994.3775304385263},{"$f":"B86","v":3252},{"$f":"B87","v":3363},{"$f":"B88","v":3655.3713514180281},{"$f":"B89","v":4099},{"$f":"B90","v":3965},{"$f":"B91","v":4552},{"$f":"B92","v":4419.4667492081117},{"$f":"B93","v":3880.9255858484748},{"$f":"B94","v":3176.4583077570101},{"$f":"B95","v":2747.359088366873},{"$f":"B96","v":2500},null,3313.5611554122861,3106.2130211829917,3550.413217753086,null,3569.8120233274581,2657.3987543916151,3249.0410604307312,3564.6237838060092,4231.6073855330878,3316.1190891441033,2418.5905854157204,null,1928,{"$f":"'Compile Data'!C85","v":2985.9847073528758},{"$f":"'Compile Data'!C86","v":3251.9999999999995},{"$f":"'Compile Data'!C87","v":3363},{"$f":"'Compile Data'!C88","v":3655.3713514180281},{"$f":"'Compile Data'!C89","v":4099},{"$f":"'Compile Data'!C90","v":3965},{"$f":"'Compile Data'!C91","v":4552},{"$f":"'Compile Data'!C92","v":4483.2777842077239},{"$f":"'Compile Data'!C93","v":3930.5416382096155},{"$f":"'Compile Data'!C94","v":3225.8538377066989},{"$f":"'Compile Data'!C95","v":2795.3953787252535},{"$f":"'Compile Data'!C96","v":2566.5104350087381},null,3355.9787822512358,3159.8397638834335,3572.8279277190777,null,3568.9727410188934,2719.1757334503982,3245.9590554828819,3564.6237838060092,4253.7621508281327,3369.1712410624496,2491.5154680114592]
["1922-04-30",{"$f":"INDIRECT(CONCATENATE(\"'\",B$1,\"'!\",B$4,(YEAR($A19)-1921)*12+MONTH($A19)+3+IF(ISNUMBER(FIND(\"PRV\",B$6)),1,0)))*IF(AND(B$3>0,TRIM(B$9)=\"CFS\"),Conv_Flags!$C19,1)","v":4493.2735858628657},{"$f":"INDIRECT(CONCATENATE(\"'\",C$1,\"'!\",C$4,(YEAR($A19)-1921)*12+MONTH($A19)+3+IF(ISNUMBER(FIND(\"PRV\",C$6)),1,0)))*IF(AND(C$3>0,TRIM(C$9)=\"CFS\"),Conv_Flags!$C19,1)","v":4523.9804038846278},null,null,null,null,null,1929,{"$f":"B97","v":2273.216041858936},{"$f":"B98","v":2217.7523404095778},{"$f":"B99","v":2276.1844000804281},{"$f":"B100","v":2540.517783263128},{"$f":"B101","v":2725.6759574033663},{"$f":"B102","v":2896.6799349687722},{"$f":"B103","v":3074.7996947920692},{"$f":"B104","v":2842.6992809523636},{"$f":"B105","v":2608.0037067294634},{"$f":"B106","v":2305.6360119736401},{"$f":"B107","v":1911.3060567267712},{"$f":"B108","v":1811.2694495396497},null,2325.3518975205639,2292.7446863666296,2456.9783882248471,null,2469.0156939140707,1900.8559160006041,2321.8529184951262,2429.4721107500091,2870.2546856949048,2287.9825351689706,1723.0657494158006,null,1929,{"$f":"'Compile Data'!C97","v":2365.3889355277051},{"$f":"'Compile Data'!C98","v":2289.8986882706149},{"$f":"'Compile Data'!C99","v":2343.5073379404535},{"$f":"'Compile Data'!C100","v":2607.7955797688569},{"$f":"'Compile Data'!C101","v":2792.9075512355439},{"$f":"'Compile Data'!C102","v":2963.8238894903575},{"$f":"'Compile Data'!C103","v":3141.0941582917235},{"$f":"'Compile Data'!C104","v":2907.7783437339831},{"$f":"'Compile Data'!C105","v":2658.1984438969839},{"$f":"'Compile Data'!C106","v":2414.8205626911326},{"$f":"'Compile Data'!C107","v":2016.3660175882205},{"$f":"'Compile Data'!C108","v":1907.7246792362739},null,2400.7037421894352,2367.2610718134724,2534.1086823059877,null,2539.7431139449004,2000.4927733761572,2396.4869922818925,2497.5686791541302,2934.562347270582,2374.284133915367,1811.6588924819225]
["1922-05-31",{"$f":"INDIRECT(CONCATENATE(\"'\",B$1,\"'!\",B$4,(YEAR($A20)-1921)*12+MONTH($A20)+3+IF(ISNUMBER(FIND(\"PRV\",B$6)),1,0)))*IF(AND(B$3>0,TRIM(B$9)=\"CFS\"),Conv_Flags!$C20,1)","v":4552},{"$f":"INDIRECT(CONCATENATE(\"'\",C$1,\"'!\",C$4,(YEAR($A20)-1921)*12+MONTH($A20)+3+IF(ISNUMBER(FIND(\"PRV\",C$6)),1,0)))*IF(AND(C$3>0,TRIM(C$9)=\"CFS\"),Conv_Flags!$C20,1)","v":4552},null,null,null,null,null,1930,{"$f":"B109","v":1654.3484714971426},{"$f":"B110","v":1495.8525976944479},{"$f":"B111","v":2037.4338247059516},{"$f":"B112","v":2237.6099634364546},{"$f":"B113","v":2637.297243382834},{"$f":"B114","v":3130.8081842416045},{"$f":"B115","v":3363.7971441256441},{"$f":"B116","v":3337.0460280845068},{"$f":"B117","v":3001.4461222804798},{"$f":"B118","v":2642.1481157913126},{"$f":"B119","v":2302.3156781213029},{"$f":"B120","v":2270.2534174272696},null,2595.1342134498796,2543.1281670521025,2509.1963992324122,null,2160.1543914178119,2322.9809775317012,1803.0186500963985,2113.8729028936823,3162.7557598208532,2687.3899097372459,2201.09867442525,null,1930,{"$f":"'Compile Data'!C109","v":1739.9546839168206},{"$f":"'Compile Data'!C110","v":1558.2286109971249},{"$f":"'Compile Data'!C111","v":2099.7523854261981},{"$f":"'Compile Data'!C112","v":2299.8846384802309},{"$f":"'Compile Data'!C113","v":2699.5064480126175},{"$f":"'Compile Data'!C114","v":3192.9304437447508},{"$f":"'Compile Data'!C115","v":3425.7928689643245},{"$f":"'Compile Data'!C116","v":3400.8266882003968},{"$f":"'Compile Data'!C117","v":3064.5423780984679},{"$f":"'Compile Data'!C118","v":2703.9635804589761},{"$f":"'Compile Data'!C119","v":2420.236405169243},{"$f":"'Compile Data'!C120","v":2392.2434259147335},null,2690.0882337287762,2653.2641660528097,2583.1552131153235,null,2224.762929349391,2438.9617460122149,1875.4350847995991,2176.1681844704331,3225.3936034912535,2771.319355196063,2338.5740830733575]
["1922-06-30",{"$f":"INDIRECT(CONCATENATE(\"'\",B$1,\"'!\",B$4,(YEAR($A21)-1921)*12+MONTH($A21)+3+IF(ISNUMBER(FIND(\"PRV\",B$6)),1,0)))*IF(AND(B$3>0,TRIM(B$9)=\"CFS\"),Conv_Flags!$C21,1)","v":4291.8069189275839},{"$f":"INDIRECT(CONCATENATE(\"'\",C$1,\"'!\",C$4,(YEAR($A21)-1921)*12+MONTH($A21)+3+IF(ISNUMBER(FIND(\"PRV\",C$6)),1,0)))*IF(AND(C$3>0,TRIM(C$9)=\"CFS\"),Conv_Flags!$C21,1)","v":4281.3116003564601},null,null,null,null,null,1931,{"$f":"B121","v":2150.5995583017507},{"$f":"B122","v":2062.5704169721575},{"$f":"B123","v":2005.7186892332386},{"$f":"B124","v":2083.3691602558251},{"$f":"B125","v":2167.4654897901351},{"$f":"B126","v":2330.6270216294351},{"$f":"B127","v":2254.455135551314},{"$f":"B128","v":1951.1996702482818},{"$f":"B129","v":1623.8647869933829},{"$f":"B130","v":1279.8539515610676},{"$f":"B131","v":983.25498469579941},{"$f":"B132","v":803.20132745639512},null,1466.28917010843,1301.4390044543522,1808.0150160573987,null,2111.9474092433898,917.12776264424281,2098.9249883371735,2068.0352676234033,2107.9867414551973,1316.0435555256472,754.88961390629663,null,1931,{"$f":"'Compile Data'!C121","v":2304.8472334463581},{"$f":"'Compile Data'!C122","v":2217.0267745487185},{"$f":"'Compile Data'!C123","v":2159.2579197064979},{"$f":"'Compile Data'!C124","v":2236.7950836885498},{"$f":"'Compile Data'!C125","v":2320.7071906926976},{"$f":"'Compile Data'!C126","v":2483.6167926536982},{"$f":"'Compile Data'!C127","v":2422.3332167024128},{"$f":"'Compile Data'!C128","v":2119.2040799373644},{"$f":"'Compile Data'!C129","v":1790.6427338355836},{"$f":"'Compile Data'!C130","v":1458.5094008675667},{"$f":"'Compile Data'!C131","v":1166.8724872368812},{"$f":"'Compile Data'!C132","v":985.52098791607591},null,1638.3522230997771,1475.4214593156166,1972.1111584360333,null,2265.6037963372983,1103.1239720624378,2248.9127956258044,2221.6399953385858,2270.2072628894039,1492.0967889666877,944.12988145684642]
["1922-07-31",{"$f":"INDIRECT(CONCATENATE(\"'\",B$1,\"'!\",B$4,(YEAR($A22)-1921)*12+MONTH($A22)+3+IF(ISNUMBER(FIND(\"PRV\",B$6)),1,0)))*IF(AND(B$3>0,TRIM(B$9)=\"CFS\"),Conv_Flags!$C22,1)","v":3879.682072680293},{"$f":"INDIRECT(CONCATENATE(\"'\",C$1,\"'!\",C$4,(YEAR($A22)-1921)*12+MONTH($A22)+3+IF(ISNUMBER(FIND(\"PRV\",C$6)),1,0)))*IF(AND(C$3>0,TRIM(C$9)=\"CFS\"),Conv_Flags!$C22,1)","v":3910.5996992906403},null,null,null,null,null,1932,{"$f":"B133","v":649.99999999999989},{"$f":"B134","v":639.68004382918946},{"$f":"B135","v":828.49846929033538},{"$f":"B136","v":1078.1963111859718},{"$f":"B137","v":1194.4363510110543},{"$f":"B138","v":1646.3587095413629},{"$f":"B139","v":1888.1353460388052},{"$f":"B140","v":2040.4023325435758},{"$f":"B141","v":1838.4789317237203},{"$f":"B142","v":1554.1924633120038},{"$f":"B143","v":1316.502327325431},{"$f":"B144","v":1201.9283513517476},null,1415.3279773767117,1406.4415861070684,1323.0674697627665,null,977.79810601744634,1283.4404403245419,764.7193331101771,941.25099263214304,1772.8385073727829,1582.5847660772042,1167.8333830557706,null,1932,{"$f":"'Compile Data'!C133","v":855.44748120114537},{"$f":"'Compile Data'!C134","v":815.96986326975548},{"$f":"'Compile Data'!C135","v":1004.6073591955935},{"$f":"'Compile Data'!C136","v":1236.4306478001645},{"$f":"'Compile Data'!C137","v":1365.9024611711577},{"$f":"'Compile Data'!C138","v":1837.6014213003823},{"$f":"'Compile Data'!C139","v":2078.9913180676654},{"$f":"'Compile Data'!C140","v":2234.979945779116},{"$f":"'Compile Data'!C141","v":2028.5034154732832},{"$f":"'Compile Data'!C142","v":1710.4766291224234},{"$f":"'Compile Data'!C143","v":1423.539655741577},{"$f":"'Compile Data'!C144","v":1321.8055085539861},null,1570.6473131693849,1556.2830211623379,1492.8546422230208,null,1153.8869565374869,1406.0815400199606,946.75013038115367,1110.658056405405,1962.1939058673461,1735.2281068759587,1288.599236070793]
["1922-08-31",{"$f":"INDIRECT(CONCATENATE(\"'\",B$1,\"'!\",B$4,(YEAR($A23)-1921)*12+MONTH($A23)+3+IF(ISNUMBER(FIND(\"PRV\",B$6)),1,0)))*IF(AND(B$3>0,TRIM(B$9)=\"CFS\"),Conv_Flags!$C23,1)","v":3523.3833015908849},{"$f":"INDIRECT(CONCATENATE(\"'\",C$1,\"'!\",C$4,(YEAR($A23)-1921)*12+MONTH($A23)+3+IF(ISNUMBER(FIND(\"PRV\",C$6)),1,0)))*IF(AND(C$3>0,TRIM(C$9)=\"CFS\"),Conv_Flags!$C23,1)","v":3554.0297370693802},null,null,null,null,null,1933,{"$f":"B145","v":1109.5888212808916},{"$f":"B146","v":1067.4636257439142},{"$f":"B147","v":1048.2521574620607},{"$f":"B148","v":1064.6045751330223},{"$f":"B149","v":1101.3913918282844},{"$f":"B150","v":1698.827522700539},{"$f":"B151","v":1908.0097424080302},{"$f":"B152","v":1872.8827452560038},{"$f":"B153","v":1720.2093737818325},{"$f":"B154","v":1432.5319728951663},{"$f":"B155","v":1079.3907230754264},{"$f":"B156","v":953.66966007769781},null,1259.7077680571385,1287.287545210499,1338.0685259702391,null,1137.1839844315996,1049.449931361713,1089.6427669323127,1065.7614137937273,1722.6300982924079,1411.3520681048192,877.38101285314895,null,1933,{"$f":"'Compile Data'!C145","v":1235.3222824062129},{"$f":"'Compile Data'!C146","v":1193.8001787627827},{"$f":"'Compile Data'!C147","v":1180.4142938538682},{"$f":"'Compile Data'!C148","v":1196.647240255146},{"$f":"'Compile Data'!C149","v":1233.3143646316153},{"$f":"'Compile Data'!C150","v":1856.5732135077344},{"$f":"'Compile Data'!C151","v":2067.6130144704362},{"$f":"'Compile Data'!C152","v":2025.1796101759614},{"$f":"'Compile Data'!C153","v":1866.704085144589},{"$f":"'Compile Data'!C154","v":1573.4520986612956},{"$f":"'Compile Data'!C155","v":1215.5716659022762},{"$f":"'Compile Data'!C156","v":1087.2526407291489},null,1406.060133022014,1436.4878044418263,1477.6537240417554,null,1270.0247650920771,1184.4463966724443,1217.1907823568577,1196.8729352687378,1874.8437657605584,1552.9859937901788,1016.7984890650945]
["1922-09-30",{"$f":"INDIRECT(CONCATENATE(\"'\",B$1,\"'!\",B$4,(YEAR($A24)-1921)*12+MONTH($A24)+3+IF(ISNUMBER(FIND(\"PRV\",B$6)),1,0)))*IF(AND(B$3>0,TRIM(B$9)=\"CFS\"),Conv_Flags!$C24,1)","v":3400.0000000000005},{"$f":"INDIRECT(CONCATENATE(\"'\",C$1,\"'!\",C$4,(YEAR($A24)-1921)*12+MONTH($A24)+3+IF(ISNUMBER(FIND(\"PRV\",C$6)),1,0)))*IF(AND(C$3>0,TRIM(C$9)=\"CFS\"),Conv_Flags!$C24,1)","v":3399.9999999999995},null,null,null,null,null,1934,{"$f":"B157","v":798.04684896886306},{"$f":"B158","v":681.46233595034562},{"$f":"B159","v":805.46632461044908},{"$f":"B160","v":1090.8282399250522},{"$f":"B161","v":1406.125052876584},{"$f":"B162","v":1660.0849926502053},{"$f":"B163","v":1785.9566302190353},{"$f":"B164","v":1594.3202907707291},{"$f":"B165","v":1177.3290069034133},{"$f":"B166","v":833.60318679002921},{"$f":"B167","v":609.69787328991561},{"$f":"B168","v":584.86872479911972},null,1048.8094103309038,1023.2158657276691,1085.6491256461452,null,1042.589574834393,628.78939716135017,826.80611488275827,980.02941964965532,1583.0222358824922,927.55614369207069,584.73328125883222,null,1934,{"$f":"'Compile Data'!C157","v":927.57766811051988},{"$f":"'Compile Data'!C158","v":855.55865080895228},{"$f":"'Compile Data'!C159","v":967.27734386649297},{"$f":"'Compile Data'!C160","v":1239.9696417040884},{"$f":"'Compile Data'!C161","v":1555.1240202204192},{"$f":"'Compile Data'!C162","v":1808.7858769942216},{"$f":"'Compile Data'!C163","v":1934.2370091609214},{"$f":"'Compile Data'!C164","v":1719.9846838249832},{"$f":"'Compile Data'!C165","v":1287.0606104794037},{"$f":"'Compile Data'!C166","v":949.91640532507745},{"$f":"'Compile Data'!C167","v":753.2879508049898},{"$f":"'Compile Data'!C168","v":661.466522854755},null,1151.4928823007906,1107.3069683859364,1221.6871986795688,null,1197.2222858304644,721.57089210742777,978.506201000646,1137.5294403617556,1721.0249713325095,1045.247642487335,637.79537903066898]
["1922-10-31",{"$f":"INDIRECT(CONCATENATE(\"'\",B$1,\"'!\",B$4,(YEAR($A25)-1921)*12+MONTH($A25)+3+IF(ISNUMBER(FIND(\"PRV\",B$6)),1,0)))*IF(AND(B$3>0,TRIM(B$9)=\"CFS\"),Conv_Flags!$C25,1)","v":3250},{"$f":"INDIRECT(CONCATENATE(\"'\",C$1,\"'!\",C$4,(YEAR($A25)-1921)*12+MONTH($A25)+3+IF(ISNUMBER(FIND(\"PRV\",C$6)),1,0)))*IF(AND(C$3>0,TRIM(C$9)=\"CFS\"),Conv_Flags!$C25,1)","v":3250},null,null,null,null,null,1935,{"$f":"B169","v":550.00000000000091},{"$f":"B170","v":628.96436466483647},{"$f":"B171","v":663.93456108192629},{"$f":"B172","v":935.81759352240192},{"$f":"B173","v":1254.0131640404161},{"$f":"B174","v":1642.8664835452012},{"$f":"B175","v":2680.0169144934284},{"$f":"B176","v":3026.28436914963},{"$f":"B177","v":2807.7243572458692},{"$f":"B178","v":2466.752260108774},{"$f":"B179","v":2180.3592742053966},{"$f":"B180","v":2083.2823471360589},null,2091.8898304392819,2427.272869128305,1743.3346407661611,null,915.83258501643627,2172.364550854662,650.81052122688106,847.08030631898475,2345.0091319578505,2502.4048124257206,2069.3444029242492,null,1935,{"$f":"'Compile Data'!C169","v":550},{"$f":"'Compile Data'!C170","v":650.55127766951421},{"$f":"'Compile Data'!C171","v":707.53058857111284},{"$f":"'Compile Data'!C172","v":971.88178228470724},{"$f":"'Compile Data'!C173","v":1292.980912661553},{"$f":"'Compile Data'!C174","v":1684.2018664329989},{"$f":"'Compile Data'!C175","v":2721.380358563094},{"$f":"'Compile Data'!C176","v":3068.8016643578376},{"$f":"'Compile Data'!C177","v":2870.1660005618191},{"$f":"'Compile Data'!C178","v":2525.7622254924258},{"$f":"'Compile Data'!C179","v":2237.9803498653309},{"$f":"'Compile Data'!C180","v":2145.7157158943323},null,2145.3225363581423,2481.531064062267,1785.5793951962271,null,948.00909888067724,2233.1956530958601,681.1890047025895,883.7261553404511,2388.9893364914042,2560.2918165114156,2133.2748069878685]
["1922-11-30",{"$f":"INDIRECT(CONCATENATE(\"'\",B$1,\"'!\",B$4,(YEAR($A26)-1921)*12+MONTH($A26)+3+IF(ISNUMBER(FIND(\"PRV\",B$6)),1,0)))*IF(AND(B$3>0,TRIM(B$9)=\"CFS\"),Conv_Flags!$C26,1)","v":3252},{"$f":"INDIRECT(CONCATENATE(\"'\",C$1,\"'!\",C$4,(YEAR($A26)-1921)*12+MONTH($A26)+3+IF(ISNUMBER(FIND(\"PRV\",C$6)),1,0)))*IF(AND(C$3>0,TRIM(C$9)=\"CFS\"),Conv_Flags!$C26,1)","v":3252.0000000000005},null,null,null,null,null,1936,{"$f":"B181","v":2040.1518023362876},{"$f":"B182","v":1988.8388443954054},{"$f":"B183","v":1996.5705550925197},{"$f":"B184","v":2647.2021453321117},{"$f":"B185","v":3567.2250764989794},{"$f":"B186","v":3936.1220566509019},{"$f":"B187","v":4229.6331930462993},{"$f":"B188","v":4157.5697848644204},{"$f":"B189","v":3969.6734914214076},{"$f":"B190","v":3492.4674038274784},{"$f":"B191","v":3070.5984796511002},{"$f":"B192","v":2925.1958322494588},null,3323.8347292815251,3227.2993197938208,3168.4373887805309,null,2637.594710162522,3042.5959624419143,2097.7008620145743,2473.9348869572746,4022.9435796304538,3518.5305458642315,2844.9214047294881,null,1936,{"$f":"'Compile Data'!C181","v":2106.0195615634098},{"$f":"'Compile Data'!C182","v":2058.1979371463981},{"$f":"'Compile Data'!C183","v":2060.7820614737975},{"$f":"'Compile Data'!C184","v":2711.365027395756},{"$f":"'Compile Data'!C185","v":3588},{"$f":"'Compile Data'!C186","v":3956.8692814137421},{"$f":"'Compile Data'!C187","v":4250.3434366225965},{"$f":"'Compile Data'!C188","v":4176.7829558819494},{"$f":"'Compile Data'!C189","v":3987.6457064937622},{"$f":"'Compile Data'!C190","v":3526.0974581540731},{"$f":"'Compile Data'!C191","v":3099.6656656029327},{"$f":"'Compile Data'!C192","v":2954.7954157137729},null,3354.5560479612918,3257.4589159979146,3206.380375621849,null,2689.9578895009058,3073.8518278287806,2163.3849829571623,2531.7486858142506,4042.9546317912927,3544.7995040121573,2878.0013490132092]
["1922-12-31",{"$f":"INDIRECT(CONCATENATE(\"'\",B$1,\"'!\",B$4,(YEAR($A27)-1921)*12+MONTH($A27)+3+IF(ISNUMBER(FIND(\"PRV\",B$6)),1,0)))*IF(AND(B$3>0,TRIM(B$9)=\"CFS\"),Conv_Flags!$C27,1)","v":3369},{"$f":"INDIRECT(CONCATENATE(\"'\",C$1,\"'!\",C$4,(YEAR($A27)-1921)*12+MONTH($A27)+3+IF(ISNUMBER(FIND(\"PRV\",C$6)),1,0)))*IF(AND(C$3>0,TRIM(C$9)=\"CFS\"),Conv_Flags!$C27,1)","v":3369},null,null,null,null,null,1937,{"$f":"B193","v":2771.5197470228868},{"$f":"B194","v":2605.4987901811364},{"$f":"B195","v":2513.3107506321194},{"$f":"B196","v":2488.440251540731},{"$f":"B197","v":2567.5620564379074},{"$f":"B198","v":3213.9328467439104},{"$f":"B199","v":3933.67757042839},{"$f":"B200","v":4158.1516964796947},{"$f":"B201","v":4023.6189495867775},{"$f":"B202","v":3608.3552098173327},{"$f":"B203","v":3184.9438744367508},{"$f":"B204","v":3034.2300414992033},null,3309.7878161772824,3490.7876238457288,3175.2701487339036,null,2633.5076291350588,3164.8740564743221,2649.2868324328097,2529.4271418274575,3650.3381541660842,3603.2772257075771,3065.0810919580904,null,1937,{"$f":"'Compile Data'!C193","v":2808.0913461852001},{"$f":"'Compile Data'!C194","v":2642.5689046783791},{"$f":"'Compile Data'!C195","v":2552.4473773933314},{"$f":"'Compile Data'!C196","v":2527.5535341377768},{"$f":"'Compile Data'!C197","v":2606.6459096974586},{"$f":"'Compile Data'!C198","v":3252.9670384283204},{"$f":"'Compile Data'!C199","v":3972.7480280149989},{"$f":"'Compile Data'!C200","v":4195.3562069214049},{"$f":"'Compile Data'!C201","v":4074.9338858691135},{"$f":"'Compile Data'!C202","v":3602.6211184459412},{"$f":"'Compile Data'!C203","v":3174.0325784921806},{"$f":"'Compile Data'!C204","v":3024.7934376561375},null,3327.352182675922,3501.8355623563184,3202.8966138266874,null,2671.948983642741,3155.807934198383,2686.0705257956711,2568.2027729063425,3690.4652927870029,3615.4156012740018,3057.4613937833169]
["1923-01-31",{"$f":"INDIRECT(CONCATENATE(\"'\",B$1,\"'!\",B$4,(YEAR($A28)-1921)*12+MONTH($A28)+3+IF(ISNUMBER(FIND(\"PRV\",B$6)),1,0)))*IF(AND(B$3>0,TRIM(B$9)=\"CFS\"),Conv_Flags!$C28,1)","v":3589.9597657034074},{"$f":"INDIRECT(CONCATENATE(\"'\",C$1,\"'!\",C$4,(YEAR($A28)-1921)*12+MONTH($A28)+3+IF(ISNUMBER(FIND(\"PRV\",C$6)),1,0)))*IF(AND(C$3>0,TRIM(C$9)=\"CFS\"),Conv_Flags!$C28,1)","v":3589.9597657034074},null,null,null,null,null,1938,{"$f":"B205","v":2942.5412971566921},{"$f":"B206","v":3252},{"$f":"B207","v":3310},{"$f":"B208","v":3668},{"$f":"B209","v":3560},{"$f":"B210","v":3416},{"$f":"B211","v":4058},{"$f":"B212","v":4552},{"$f":"B213","v":4500},{"$f":"B214","v":4121.0081616624129},{"$f":"B215","v":3699.9999999999995},{"$f":"B216","v":3400},null,3718.7384773907056,3686.4016902478229,3706.6291215682591,null,3393.8541297156689,3595.1680269437352,3213.9140794765735,3461.3333333333335,4014,4074.252040415603,3364.2172876438058,null,1938,{"$f":"'Compile Data'!C205","v":2934.5744544477238},{"$f":"'Compile Data'!C206","v":3252},{"$f":"'Compile Data'!C207","v":3310},{"$f":"'Compile Data'!C208","v":3668},{"$f":"'Compile Data'!C209","v":3560},{"$f":"'Compile Data'!C210","v":3416},{"$f":"'Compile Data'!C211","v":4058},{"$f":"'Compile Data'!C212","v":4552},{"$f":"'Compile Data'!C213","v":4499.9999999999991},{"$f":"'Compile Data'!C214","v":4122.0974120571145},{"$f":"'Compile Data'!C215","v":3700},{"$f":"'Compile Data'!C216","v":3400},null,3723.0228405383982,3695.1149335052728,3706.0559888754028,null,3393.0574454447719,3595.3495686761858,3210.7427933189483,3461.3333333333335,4014,4074.5243530142789,3366.5757770000528]
["1923-02-28",{"$f":"INDIRECT(CONCATENATE(\"'\",B$1,\"'!\",B$4,(YEAR($A29)-1921)*12+MONTH($A29)+3+IF(ISNUMBER(FIND(\"PRV\",B$6)),1,0)))*IF(AND(B$3>0,TRIM(B$9)=\"CFS\"),Conv_Flags!$C29,1)","v":3667.0698708310879},{"$f":"INDIRECT(CONCATENATE(\"'\",C$1,\"'!\",C$4,(YEAR($A29)-1921)*12+MONTH($A29)+3+IF(ISNUMBER(FIND(\"PRV\",C$6)),1,0)))*IF(AND(C$3>0,TRIM(C$9)=\"CFS\"),Conv_Flags!$C29,1)","v":3674.6432962641884},null,null,null,null,null,1939,{"$f":"B217","v":3250},{"$f":"B218","v":3185.3037258628369},{"$f":"B219","v":3214.5498411632229},{"$f":"B220","v":3357.6485348020451},{"$f":"B221","v":3482.3100194833596},{"$f":"B222","v":3898.8604415600062},{"$f":"B223","v":3851.1558327831372},{"$f":"B224","v":3634.1749227818464},{"$f":"B225","v":3198.5065939077872},{"$f":"B226","v":2671.4986820454224},{"$f":"B227","v":2353.4055115178285},{"$f":"B228","v":2304.3205955388407},null,2932.4721295983641,2888.8832199562275,3200.144558453861,null,3362.8484684182936,2364.2635693525049,3257.1694586067706,3302.001749546122,3681.1498759551409,2798.1646366578452,2237.8526236645898,null,1939,{"$f":"'Compile Data'!C217","v":3250},{"$f":"'Compile Data'!C218","v":3199.4546620003184},{"$f":"'Compile Data'!C219","v":3250.7220124033438},{"$f":"'Compile Data'!C220","v":3384.2311612111935},{"$f":"'Compile Data'!C221","v":3508.8739543913034},{"$f":"'Compile Data'!C222","v":3925.3897491548551},{"$f":"'Compile Data'!C223","v":3890.9172547391313},{"$f":"'Compile Data'!C224","v":3659.385589406997},{"$f":"'Compile Data'!C225","v":3200.9648566256351},{"$f":"'Compile Data'!C226","v":2665.6598619746424},{"$f":"'Compile Data'!C227","v":2337.0714278084247},{"$f":"'Compile Data'!C228","v":2308.164143905874},null,2943.8165881857954,2895.606102084284,3215.0695561351436,null,3386.1953329167168,2359.6824550981332,3273.0730637523147,3329.7058272701165,3707.6529997023631,2796.8677532662841,2238.5787845087602]
["1923-03-31",{"$f":"INDIRECT(CONCATENATE(\"'\",B$1,\"'!\",B$4,(YEAR($A30)-1921)*12+MONTH($A30)+3+IF(ISNUMBER(FIND(\"PRV\",B$6)),1,0)))*IF(AND(B$3>0,TRIM(B$9)=\"CFS\"),Conv_Flags!$C30,1)","v":3803.03818600964},{"$f":"INDIRECT(CONCATENATE(\"'\",C$1,\"'!\",C$4,(YEAR($A30)-1921)*12+MONTH($A30)+3+IF(ISNUMBER(FIND(\"PRV\",C$6)),1,0)))*IF(AND(C$3>0,TRIM(C$9)=\"CFS\"),Conv_Flags!$C30,1)","v":3810.6007407233906},null,null,null,null,null,1940,{"$f":"B229","v":2198.630519956268},{"$f":"B230","v":2067.8079994794925},{"$f":"B231","v":2171.3459013243382},{"$f":"B232","v":3064.8916385797665},{"$f":"B233","v":3252},{"$f":"B234","v":3435},{"$f":"B235","v":4205.4718943453963},{"$f":"B236","v":4255.8235823708183},{"$f":"B237","v":3957.644929788712},{"$f":"B238","v":3266.4759371715518},{"$f":"B239","v":2913.5706274264276},{"$f":"B240","v":2725.1023616929929},null,3284.8322766319693,3320.091306750322,3126.1471160113142,null,2674.5721598723462,2856.7303374025864,2280.5976344548508,2632.0471798812837,3875.2794854026429,3407.0386166046492,2668.2236346709183,null,1940,{"$f":"'Compile Data'!C229","v":2201.9637251855606},{"$f":"'Compile Data'!C230","v":2074.1455410612675},{"$f":"'Compile Data'!C231","v":2169.0317927646583},{"$f":"'Compile Data'!C232","v":3062.5792823843585},{"$f":"'Compile Data'!C233","v":3252},{"$f":"'Compile Data'!C234","v":3435},{"$f":"'Compile Data'!C235","v":4205.4718943453963},{"$f":"'Compile Data'!C236","v":4257.9071506616692},{"$f":"'Compile Data'!C237","v":3987.0667760218544},{"$f":"'Compile Data'!C238","v":3254.0970631733908},{"$f":"'Compile Data'!C239","v":2905.0392377855615},{"$f":"'Compile Data'!C240","v":2723.9825798363072},null,3288.3449950782738,3323.7967215462436,3127.3570869350019,null,2675.2476957606132,2853.9490160057776,2282.6281930391506,2631.5612818932168,3879.4781082544982,3409.2869855574481,2674.7589586344106]
["1923-04-30",{"$f":"INDIRECT(CONCATENATE(\"'\",B$1,\"'!\",B$4,(YEAR($A31)-1921)*12+MONTH($A31)+3+IF(ISNUMBER(FIND(\"PRV\",B$6)),1,0)))*IF(AND(B$3>0,TRIM(B$9)=\"CFS\"),Conv_Flags!$C31,1)","v":4254.4890807170059},{"$f":"INDIRECT(CONCATENATE(\"'\",C$1,\"'!\",C$4,(YEAR($A31)-1921)*12+MONTH($A31)+3+IF(ISNUMBER(FIND(\"PRV\",C$6)),1,0)))*IF(AND(C$3>0,TRIM(C$9)=\"CFS\"),Conv_Flags!$C31,1)","v":4262.0412948910143},null,null,null,null,null,1941,{"$f":"B241","v":2596.5601090051255},{"$f":"B242","v":2452.4462392028431},{"$f":"B243","v":3293},{"$f":"B244","v":3317},{"$f":"B245","v":3423},{"$f":"B246","v":3940},{"$f":"B247","v":4456},{"$f":"B248","v":4552},{"$f":"B249","v":4500},{"$f":"B250","v":4150.0000000000009},{"$f":"B251","v":3699.9999999999995},{"$f":"B252","v":3399.9999999999995},null,3771.3333333333335,3785.0833333333335,3648.3338623506643,null,3150.7452587410812,3600,2840.7643822636164,3182.5743732004739,4227.375,4081.5,3375.3333333333326,null,1941,{"$f":"'Compile Data'!C241","v":2611.5533976175388},{"$f":"'Compile Data'!C242","v":2472.442559113209},{"$f":"'Compile Data'!C243","v":3293},{"$f":"'Compile Data'!C244","v":3317},{"$f":"'Compile Data'!C245","v":3423},{"$f":"'Compile Data'!C246","v":3940},{"$f":"'Compile Data'!C247","v":4456},{"$f":"'Compile Data'!C248","v":4552},{"$f":"'Compile Data'!C249","v":4500},{"$f":"'Compile Data'!C250","v":4150.0000000000009},{"$f":"'Compile Data'!C251","v":3700},{"$f":"'Compile Data'!C252","v":3399.9999999999995},null,3771.3333333333335,3785.0833333333335,3651.2496630608962,null,3156.243851584396,3600,2849.3718116622258,3185.9070931855349,4227.375,4081.5,3375.3333333333335]
["1923-05-31",{"$f":"INDIRECT(CONCATENATE(\"'\",B$1,\"'!\",B$4,(YEAR($A32)-1921)*12+MONTH($A32)+3+IF(ISNUMBER(FIND(\"PRV\",B$6)),1,0)))*IF(AND(B$3>0,TRIM(B$9)=\"CFS\"),Conv_Flags!$C32,1)","v":4000.3368294868028},{"$f":"INDIRECT(CONCATENATE(\"'\",C$1,\"'!\",C$4,(YEAR($A32)-1921)*12+MONTH($A32)+3+IF(ISNUMBER(FIND(\"PRV\",C$6)),1,0)))*IF(AND(C$3>0,TRIM(C$9)=\"CFS\"),Conv_Flags!$C32,1)","v":4008.7458092995516},null,null,null,null,null,1942,{"$f":"B253","v":3249.9999999999995},{"$f":"B254","v":3252.0000000000005},{"$f":"B255","v":3316},{"$f":"B256","v":3389},{"$f":"B257","v":3516},{"$f":"B258","v":3796.8800946642991},{"$f":"B259","v":4447.898207255228},{"$f":"B260","v":4552},{"$f":"B261","v":4500},{"$f":"B262","v":4150},{"$f":"B263","v":3700},{"$f":"B264","v":3399.9999999999995},null,3775.8148584932937,3816.1481918266272,3772.4815251599607,null,3399.2880094664301,3600,3303.125,3363,4201.1945754798817,4081.5,3375.3333333333335,null,1942,{"$f":"'Compile Data'!C253","v":3249.9999999999995},{"$f":"'Compile Data'!C254","v":3252.0000000000005},{"$f":"'Compile Data'!C255","v":3316},{"$f":"'Compile Data'!C256","v":3389},{"$f":"'Compile Data'!C257","v":3516},{"$f":"'Compile Data'!C258","v":3796.8800946642991},{"$f":"'Compile Data'!C259","v":4447.898207255228},{"$f":"'Compile Data'!C260","v":4552},{"$f":"'Compile Data'!C261","v":4500},{"$f":"'Compile Data'!C262","v":4150},{"$f":"'Compile Data'!C263","v":3700},{"$f":"'Compile Data'!C264","v":3399.9999999999995},null,3775.8148584932937,3816.1481918266272,3772.4815251599607,null,3399.2880094664301,3600,3303.125,3363,4201.1945754798817,4081.5,3375.3333333333335]
["1923-06-30",{"$f":"INDIRECT(CONCATENATE(\"'\",B$1,\"'!\",B$4,(YEAR($A33)-1921)*12+MONTH($A33)+3+IF(ISNUMBER(FIND(\"PRV\",B$6)),1,0)))*IF(AND(B$3>0,TRIM(B$9)=\"CFS\"),Conv_Flags!$C33,1)","v":3677.7176861326693},{"$f":"INDIRECT(CONCATENATE(\"'\",C$1,\"'!\",C$4,(YEAR($A33)-1921)*12+MONTH($A33)+3+IF(ISNUMBER(FIND(\"PRV\",C$6)),1,0)))*IF(AND(C$3>0,TRIM(C$9)=\"CFS\"),Conv_Flags!$C33,1)","v":3631.5541908781693},null,null,null,null,null,1943,{"$f":"B265","v":3250},{"$f":"B266","v":3252},{"$f":"B267","v":3356},{"$f":"B268","v":3541},{"$f":"B269","v":3848},{"$f":"B270","v":4118},{"$f":"B271","v":4552},{"$f":"B272","v":4552},{"$f":"B273","v":4386.8810535712173},{"$f":"B274","v":3723.8337566251971},{"$f":"B275","v":3359.3708468366412},{"$f":"B276","v":3145.2619710767381},null,3666.9073643417942,3563.292469671087,3757.028969009149,null,3536.2,3300.7190142882059,3332.125,3482.3333333333335,4334.8601316964023,3829.6791606428569,3111.6230061462388,null,1943,{"$f":"'Compile Data'!C265","v":3250},{"$f":"'Compile Data'!C266","v":3252},{"$f":"'Compile Data'!C267","v":3356},{"$f":"'Compile Data'!C268","v":3541},{"$f":"'Compile Data'!C269","v":3848},{"$f":"'Compile Data'!C270","v":4118},{"$f":"'Compile Data'!C271","v":4552},{"$f":"'Compile Data'!C272","v":4552},{"$f":"'Compile Data'!C273","v":4361.3177762238538},{"$f":"'Compile Data'!C274","v":3698.3945156238406},{"$f":"'Compile Data'!C275","v":3333.6816683259744},{"$f":"'Compile Data'!C276","v":3130.9540429888948},null,3658.583953954676,3554.7639996128855,3749.445666930214,null,3536.2,3281.0260171232981,3332.125,3482.3333333333335,4331.664722027982,3808.7177454170292,3099.1764712868721]
["1923-07-31",{"$f":"INDIRECT(CONCATENATE(\"'\",B$1,\"'!\",B$4,(YEAR($A34)-1921)*12+MONTH($A34)+3+IF(ISNUMBER(FIND(\"PRV\",B$6)),1,0)))*IF(AND(B$3>0,TRIM(B$9)=\"CFS\"),Conv_Flags!$C34,1)","v":3315.2169893758073},{"$f":"INDIRECT(CONCATENATE(\"'\",C$1,\"'!\",C$4,(YEAR($A34)-1921)*12+MONTH($A34)+3+IF(ISNUMBER(FIND(\"PRV\",C$6)),1,0)))*IF(AND(C$3>0,TRIM(C$9)=\"CFS\"),Conv_Flags!$C34,1)","v":3265.7346751064924},null,null,null,null,null,1944,{"$f":"B277","v":3071.2146932772762},{"$f":"B278","v":2877.4138613327632},{"$f":"B279","v":2827.9121893816937},{"$f":"B280","v":2917.3855683074053},{"$f":"B281","v":3228.2356956441076},{"$f":"B282","v":3544.0791392596952},{"$f":"B283","v":3747.0290194788195},{"$f":"B284","v":3713.6559659057029},{"$f":"B285","v":3446.7731578756006},{"$f":"B286","v":3015.763565033139},{"$f":"B287","v":2754.5076770427195},{"$f":"B288","v":2702.0923582392597},null,3134.9293779792192,3229.0422529415141,3153.8385742315149,null,3031.7188461868909,2758.5915174158995,2951.9661284209515,2932.707512059178,3585.5671378510178,3106.2296405059851,2702.3930228269769,null,1944,{"$f":"'Compile Data'!C277","v":3058.4901644862084},{"$f":"'Compile Data'!C278","v":2882.4887444450542},{"$f":"'Compile Data'!C279","v":2826.6805353622799},{"$f":"'Compile Data'!C280","v":2916.1547364869366},{"$f":"'Compile Data'!C281","v":3227.0058114115786},{"$f":"'Compile Data'!C282","v":3542.8509074501826},{"$f":"'Compile Data'!C283","v":3745.8027770152917},{"$f":"'Compile Data'!C284","v":3715.8384479874635},{"$f":"'Compile Data'!C285","v":3507.8374225551329},{"$f":"'Compile Data'!C286","v":3092.9338233512767},{"$f":"'Compile Data'!C287","v":2824.8090630387414},{"$f":"'Compile Data'!C288","v":2786.9997894282087},null,3171.0928439631339,3268.6222146324963,3177.3243519181956,null,3030.6000727348087,2834.0209510174209,2947.8034585078644,2932.5275165925109,3592.9784373590733,3169.2498569132467,2770.6919322911522]
["1923-08-31",{"$f":"INDIRECT(CONCATENATE(\"'\",B$1,\"'!\",B$4,(YEAR($A35)-1921)*12+MONTH($A35)+3+IF(ISNUMBER(FIND(\"PRV\",B$6)),1,0)))*IF(AND(B$3>0,TRIM(B$9)=\"CFS\"),Conv_Flags!$C35,1)","v":3002.7616808010503},{"$f":"INDIRECT(CONCATENATE(\"'\",C$1,\"'!\",C$4,(YEAR($A35)-1921)*12+MONTH($A35)+3+IF(ISNUMBER(FIND(\"PRV\",C$6)),1,0)))*IF(AND(C$3>0,TRIM(C$9)=\"CFS\"),Conv_Flags!$C35,1)","v":2950.0237001882892},null,null,null,null,null,1945,{"$f":"B289","v":2622.5854688982986},{"$f":"B290","v":2810.4948056440267},{"$f":"B291","v":3116.5501144218615},{"$f":"B292","v":3326.9757634990506},{"$f":"B293","v":3948},{"$f":"B294","v":4266.6979834966178},{"$f":"B295","v":4530.8021073409345},{"$f":"B296","v":4552},{"$f":"B297","v":4286.5662522602761},{"$f":"B298","v":3755.7748812681898},{"$f":"B299","v":3358.3157900443134},{"$f":"B300","v":3242.5116318302075},null,3748.7203674782995,3764.6551990099069,3651.4395665586485,null,3329.3324819524796,3359.5716208362051,2891.0411124583352,3274.2577602476417,4366.6958042419228,3824.4781848719704,3249.2231756174551,null,1945,{"$f":"'Compile Data'!C289","v":2687.574177819346},{"$f":"'Compile Data'!C290","v":2850.1945962130612},{"$f":"'Compile Data'!C291","v":3155.1125748003874},{"$f":"'Compile Data'!C292","v":3365.512995930857},{"$f":"'Compile Data'!C293","v":3948},{"$f":"'Compile Data'!C294","v":4266.6979834966178},{"$f":"'Compile Data'!C295","v":4530.8021073409345},{"$f":"'Compile Data'!C296","v":4552},{"$f":"'Compile Data'!C297","v":4299.843563282353},{"$f":"'Compile Data'!C298","v":3758.7683391946953},{"$f":"'Compile Data'!C299","v":3358.3268306074588},{"$f":"'Compile Data'!C300","v":3245.7576096194925},null,3754.128893988413,3767.5857822930734,3668.2158981921002,null,3359.1912495204574,3362.2957530061917,2942.284435378082,3306.5742896125917,4368.355468119682,3828.9543844735631,3252.5861077705908]
["1923-09-30",{"$f":"INDIRECT(CONCATENATE(\"'\",B$1,\"'!\",B$4,(YEAR($A36)-1921)*12+MONTH($A36)+3+IF(ISNUMBER(FIND(\"PRV\",B$6)),1,0)))*IF(AND(B$3>0,TRIM(B$9)=\"CFS\"),Conv_Flags!$C36,1)","v":2974.9484059074935},{"$f":"INDIRECT(CONCATENATE(\"'\",C$1,\"'!\",C$4,(YEAR($A36)-1921)*12+MONTH($A36)+3+IF(ISNUMBER(FIND(\"PRV\",C$6)),1,0)))*IF(AND(C$3>0,TRIM(C$9)=\"CFS\"),Conv_Flags!$C36,1)","v":2938.3081118737146},null,null,null,null,null,1946,{"$f":"B301","v":3200},{"$f":"B302","v":3252},{"$f":"B303","v":3265},{"$f":"B304","v":3622},{"$f":"B305","v":3844.1937418783514},{"$f":"B306","v":4239.5428898487689},{"$f":"B307","v":4552},{"$f":"B308","v":4503.166123555503},{"$f":"B309","v":4114.155363564736},{"$f":"B310","v":3562.5489147910944},{"$f":"B311","v":3247.251039377526},{"$f":"B312","v":3200},null,3673.5670337313422,3602.2522714560619,3716.8215060846646,null,3540.593037360547,3246.3405124463202,3287.3139539787762,3478.3656236463921,4318.4708915314541,3693.8845948777771,3120.7042387714464,null,1946,{"$f":"'Compile Data'!C301","v":3206.8372983885515},{"$f":"'Compile Data'!C302","v":3252},{"$f":"'Compile Data'!C303","v":3265},{"$f":"'Compile Data'!C304","v":3622},{"$f":"'Compile Data'!C305","v":3852.9956555867784},{"$f":"'Compile Data'!C306","v":4248.3368458312125},{"$f":"'Compile Data'!C307","v":4552},{"$f":"'Compile Data'!C308","v":4509.2492448931434},{"$f":"'Compile Data'!C309","v":4113.1820409953252},{"$f":"'Compile Data'!C310","v":3555.7343213962176},{"$f":"'Compile Data'!C311","v":3241.3210949115751},{"$f":"'Compile Data'!C312","v":3206.7857373557504},null,3672.1446308784125,3596.5785845031928,3718.7868532798798,null,3543.9165455393318,3245.3786083494001,3289.4290257995744,3479.8326092644634,4323.1687347538518,3692.0637371068906,3119.7519706829203]
["1923-10-31",{"$f":"INDIRECT(CONCATENATE(\"'\",B$1,\"'!\",B$4,(YEAR($A37)-1921)*12+MONTH($A37)+3+IF(ISNUMBER(FIND(\"PRV\",B$6)),1,0)))*IF(AND(B$3>0,TRIM(B$9)=\"CFS\"),Conv_Flags!$C37,1)","v":2930.8581935175321},{"$f":"INDIRECT(CONCATENATE(\"'\",C$1,\"'!\",C$4,(YEAR($A37)-1921)*12+MONTH($A37)+3+IF(ISNUMBER(FIND(\"PRV\",C$6)),1,0)))*IF(AND(C$3>0,TRIM(C$9)=\"CFS\"),Conv_Flags!$C37,1)","v":2873.1493078133749},null,null,null,null,null,1947,{"$f":"B313","v":3020.9920811317766},{"$f":"B314","v":3034.9902309875993},{"$f":"B315","v":3141.9640196407508},{"$f":"B316","v":3172.4370835838163},{"$f":"B317","v":3437.9795109911643},{"$f":"B318","v":3962.5023576252056},{"$f":"B319","v":4202.5244017783098},{"$f":"B320","v":3864.6982732290317},{"$f":"B321","v":3510.1027009622858},{"$f":"B322","v":2981.5592787422747},{"$f":"B323","v":2685.5215183130645},{"$f":"B324","v":2618.7990690369811},null,3201.1764064206891,3185.8761960067477,3302.8392105018552,null,3255.8236129163643,2709.0148774187301,3096.0412183880085,3183.6286580713163,3875.9415346523178,3104.7330422876576,2653.0520209867341,null,1947,{"$f":"'Compile Data'!C313","v":3020.3236641655353},{"$f":"'Compile Data'!C314","v":3022.9719261433747},{"$f":"'Compile Data'!C315","v":3120.8350392620387},{"$f":"'Compile Data'!C316","v":3151.3213622407338},{"$f":"'Compile Data'!C317","v":3416.8817368434025},{"$f":"'Compile Data'!C318","v":3941.4358371441986},{"$f":"'Compile Data'!C319","v":4181.5005438725657},{"$f":"'Compile Data'!C320","v":3843.3318254668848},{"$f":"'Compile Data'!C321","v":3505.4041886358236},{"$f":"'Compile Data'!C322","v":2978.3239911480282},{"$f":"'Compile Data'!C323","v":2639.7792071802614},{"$f":"'Compile Data'!C324","v":2583.4773816546108},null,3177.4867768806453,3161.0989250318639,3283.7988919797881,null,3238.5779630288835,2676.345177379932,3085.7960448422978,3164.0277443320538,3856.8527923058155,3084.2279976312152,2618.3112475631747]
["1923-11-30",{"$f":"INDIRECT(CONCATENATE(\"'\",B$1,\"'!\",B$4,(YEAR($A38)-1921)*12+MONTH($A38)+3+IF(ISNUMBER(FIND(\"PRV\",B$6)),1,0)))*IF(AND(B$3>0,TRIM(B$9)=\"CFS\"),Conv_Flags!$C38,1)","v":2837.3290436873517},{"$f":"INDIRECT(CONCATENATE(\"'\",C$1,\"'!\",C$4,(YEAR($A38)-1921)*12+MONTH($A38)+3+IF(ISNUMBER(FIND(\"PRV\",C$6)),1,0)))*IF(AND(C$3>0,TRIM(C$9)=\"CFS\"),Conv_Flags!$C38,1)","v":2782.1750240733841},null,null,null,null,null,1948,{"$f":"B325","v":2663.8888110700154},{"$f":"B326","v":2667.4148473933483},{"$f":"B327","v":2646.6890243227781},{"$f":"B328","v":3211.941293401605},{"$f":"B329","v":3214.8727762060635},{"$f":"B330","v":3541.5903071339058},{"$f":"B331","v":4422},{"$f":"B332","v":4552.0000000000109},{"$f":"B333","v":4500},{"$f":"B334","v":4020.1612901486324},{"$f":"B335","v":3681.3628342646916},{"$f":"B336","v":3400},null,3683.5140353074917,3708.5341072538777,3543.4934319950876,null,2968.7315000851513,3568.151501813973,2723.3407160013585,2933.2580431746969,4093.2566738092373,4044.3810311033326,3352.9681008930297,null,1948,{"$f":"'Compile Data'!C325","v":2633.233895461819},{"$f":"'Compile Data'!C326","v":2636.6657239659244},{"$f":"'Compile Data'!C327","v":2618.4856289534855},{"$f":"'Compile Data'!C328","v":3183.7557944056362},{"$f":"'Compile Data'!C329","v":3187.7930824931259},{"$f":"'Compile Data'!C330","v":3514.540374148864},{"$f":"'Compile Data'!C331","v":4422.0000000000009},{"$f":"'Compile Data'!C332","v":4552},{"$f":"'Compile Data'!C333","v":4500},{"$f":"'Compile Data'!C334","v":4042.248492247144},{"$f":"'Compile Data'!C335","v":3697.1594524379366},{"$f":"'Compile Data'!C336","v":3400},null,3678.0478648291041,3705.8197706669066,3532.3235370094949,null,2940.1174729247023,3576.6035234345509,2693.0004591028378,2904.8236088628819,4083.1092288488567,4053.8519861712703,3353.4343532782864]
["1923-12-31",{"$f":"INDIRECT(CONCATENATE(\"'\",B$1,\"'!\",B$4,(YEAR($A39)-1921)*12+MONTH($A39)+3+IF(ISNUMBER(FIND(\"PRV\",B$6)),1,0)))*IF(AND(B$3>0,TRIM(B$9)=\"CFS\"),Conv_Flags!$C39,1)","v":2764.5313487293206},{"$f":"INDIRECT(CONCATENATE(\"'\",C$1,\"'!\",C$4,(YEAR($A39)-1921)*12+MONTH($A39)+3+IF(ISNUMBER(FIND(\"PRV\",C$6)),1,0)))*IF(AND(C$3>0,TRIM(C$9)=\"CFS\"),Conv_Flags!$C39,1)","v":2645.1702338998043},null,null,null,null,null,1949,{"$f":"B337","v":3226.022052205823},{"$f":"B338","v":3184.4016666818425},{"$f":"B339","v":3247.8162036473291},{"$f":"B340","v":3264.05848885163},{"$f":"B341","v":3462.9964441126663},{"$f":"B342","v":4071},{"$f":"B343","v":4503.4103933009328},{"$f":"B344","v":4422.4105749650353},{"$f":"B345","v":4028.0193221154691},{"$f":"B346","v":3423.873072757573},{"$f":"B347","v":3110.0897975934081},{"$f":"B348","v":3030.059518463891},null,3475.5588701594097,3442.3622981944704,3581.179794557966,null,3361.5567658792761,3102.3853232477491,3247.5672917402026,3278.5245826320711,4185.5822128450091,3572.0543097952286,2967.117394456975,null,1949,{"$f":"'Compile Data'!C337","v":3223.0537434842886},{"$f":"'Compile Data'!C338","v":3177.3391802632063},{"$f":"'Compile Data'!C339","v":3236.6842584690439},{"$f":"'Compile Data'!C340","v":3252.9331824590304},{"$f":"'Compile Data'!C341","v":3451.8785644933591},{"$f":"'Compile Data'!C342","v":4071},{"$f":"'Compile Data'!C343","v":4503.4103933009328},{"$f":"'Compile Data'!C344","v":4428.2707760290314},{"$f":"'Compile Data'!C345","v":4007.4674144625187},{"$f":"'Compile Data'!C346","v":3417.1388833056262},{"$f":"'Compile Data'!C347","v":3101.1036742215515},{"$f":"'Compile Data'!C348","v":3020.1615306115327},null,3475.4084197160628,3454.1275206843543,3574.2034667583434,null,3353.1724114853569,3093.2813419321405,3240.885943361513,3268.0754377687858,4183.0885397019756,3562.4815313274948,2960.2221867514677]
["1924-01-31",{"$f":"INDIRECT(CONCATENATE(\"'\",B$1,\"'!\",B$4,(YEAR($A40)-1921)*12+MONTH($A40)+3+IF(ISNUMBER(FIND(\"PRV\",B$6)),1,0)))*IF(AND(B$3>0,TRIM(B$9)=\"CFS\"),Conv_Flags!$C40,1)","v":2855.5365278081076},{"$f":"INDIRECT(CONCATENATE(\"'\",C$1,\"'!\",C$4,(YEAR($A40)-1921)*12+MONTH($A40)+3+IF(ISNUMBER(FIND(\"PRV\",C$6)),1,0)))*IF(AND(C$3>0,TRIM(C$9)=\"CFS\"),Conv_Flags!$C40,1)","v":2736.7759997853032},null,null,null,null,null,1950,{"$f":"B349","v":2910.1402346143241},{"$f":"B350","v":2812.2150629920134},{"$f":"B351","v":2668.4335321459744},{"$f":"B352","v":2960.2092161719447},{"$f":"B353","v":3368.4868532130795},{"$f":"B354","v":3820.6979342563554},{"$f":"B355","v":4232.9061392727917},{"$f":"B356","v":4224.1605909329419},{"$f":"B357","v":3991.0391085143738},{"$f":"B358","v":3642.1447402161866},{"$f":"B359","v":3271.5976648713986},{"$f":"B360","v":3199.2892102276437},null,3544.5442881397266,3635.3196156909748,3425.1100239524199,null,3034.9527497916702,3305.6530817357125,2846.4807992675574,2906.3312354734885,3989.3819113314544,3654.1266035455628,3237.029347554449,null,1950,{"$f":"'Compile Data'!C349","v":2900.0187586210491},{"$f":"'Compile Data'!C350","v":2819.8688678220947},{"$f":"'Compile Data'!C351","v":2731.6489912660272},{"$f":"'Compile Data'!C352","v":3023.3847253377317},{"$f":"'Compile Data'!C353","v":3426.0562332341478},{"$f":"'Compile Data'!C354","v":3878.1999491618244},{"$f":"'Compile Data'!C355","v":4285.4962997793727},{"$f":"'Compile Data'!C356","v":4294.7618204420623},{"$f":"'Compile Data'!C357","v":4060.1651969229215},{"$f":"'Compile Data'!C358","v":3604.3071814622335},{"$f":"'Compile Data'!C359","v":3228.0989057519173},{"$f":"'Compile Data'!C360","v":3167.5886711769481},null,3566.00491527243,3646.7181687247735,3451.6329667481937,null,3078.0136343102872,3274.280389219994,2868.327436420951,2959.3320890439604,4050.3921961154483,3655.9366324866446,3219.2127080176356]
["1924-02-29",{"$f":"INDIRECT(CONCATENATE(\"'\",B$1,\"'!\",B$4,(YEAR($A41)-1921)*12+MONTH($A41)+3+IF(ISNUMBER(FIND(\"PRV\",B$6)),1,0)))*IF(AND(B$3>0,TRIM(B$9)=\"CFS\"),Conv_Flags!$C41,1)","v":3062.5350887724599},{"$f":"INDIRECT(CONCATENATE(\"'\",C$1,\"'!\",C$4,(YEAR($A41)-1921)*12+MONTH($A41)+3+IF(ISNUMBER(FIND(\"PRV\",C$6)),1,0)))*IF(AND(C$3>0,TRIM(C$9)=\"CFS\"),Conv_Flags!$C41,1)","v":2943.895572678864},null,null,null,null,null,1951,{"$f":"B361","v":3250.0000000000032},{"$f":"B362","v":3252},{"$f":"B363","v":3322},{"$f":"B364","v":3624},{"$f":"B365","v":3794},{"$f":"B366","v":4196.0563624340857},{"$f":"B367","v":4423.606449375764},{"$f":"B368","v":4552},{"$f":"B369","v":4187.9566892001221},{"$f":"B370","v":3473.3658047333333},{"$f":"B371","v":3053.8419152787724},{"$f":"B372","v":2845.8093992037916},null,3598.9641671130407,3592.7141671130407,3664.5530516854892,null,3543.0056362434088,3014.3878240719682,3308.9111512784566,3489.6666666666665,4290.6602891024777,3603.5172772035307,2881.6754349250546,null,1951,{"$f":"'Compile Data'!C361","v":3250},{"$f":"'Compile Data'!C362","v":3252},{"$f":"'Compile Data'!C363","v":3322},{"$f":"'Compile Data'!C364","v":3624},{"$f":"'Compile Data'!C365","v":3794},{"$f":"'Compile Data'!C366","v":4196.056362224992},{"$f":"'Compile Data'!C367","v":4423.6064488761949},{"$f":"'Compile Data'!C368","v":4552},{"$f":"'Compile Data'!C369","v":4233.3971507499882},{"$f":"'Compile Data'!C370","v":3518.6277476036453},{"$f":"'Compile Data'!C371","v":3094.9076072806556},{"$f":"'Compile Data'!C372","v":2914.9296370912634},null,3629.9187652284959,3623.6687652284959,3681.2937461522288,null,3543.0056362224991,3072.8523050545045,3304.9485838971186,3489.6666666666665,4296.3403466190448,3645.0993310449803,2954.1797840596555]
["1924-03-31",{"$f":"INDIRECT(CONCATENATE(\"'\",B$1,\"'!\",B$4,(YEAR($A42)-1921)*12+MONTH($A42)+3+IF(ISNUMBER(FIND(\"PRV\",B$6)),1,0)))*IF(AND(B$3>0,TRIM(B$9)=\"CFS\"),Conv_Flags!$C42,1)","v":2795.9487017991391},{"$f":"INDIRECT(CONCATENATE(\"'\",C$1,\"'!\",C$4,(YEAR($A42)-1921)*12+MONTH($A42)+3+IF(ISNUMBER(FIND(\"PRV\",C$6)),1,0)))*IF(AND(C$3>0,TRIM(C$9)=\"CFS\"),Conv_Flags!$C42,1)","v":2759.6289597871182},null,null,null,null,null,1952,{"$f":"B373","v":2813.6585107333485},{"$f":"B374","v":2917.2748743972729},{"$f":"B375","v":3306},{"$f":"B376","v":3604},{"$f":"B377","v":3739},{"$f":"B378","v":4022},{"$f":"B379","v":4290},{"$f":"B380","v":4552},{"$f":"B381","v":4500},{"$f":"B382","v":4150},{"$f":"B383","v":3700},{"$f":"B384","v":3399.9999999999995},null,3810.5118566933784,3788.541744738648,3749.494448760885,null,3396.8208259527892,3600,3065.4595211831293,3412.7124790662124,4245.875,4081.5,3362.3570467200902,null,1952,{"$f":"'Compile Data'!C373","v":2898.8115939795439},{"$f":"'Compile Data'!C374","v":3002.6886349356614},{"$f":"'Compile Data'!C375","v":3306},{"$f":"'Compile Data'!C376","v":3604},{"$f":"'Compile Data'!C377","v":3739},{"$f":"'Compile Data'!C378","v":4022},{"$f":"'Compile Data'!C379","v":4290},{"$f":"'Compile Data'!C380","v":4552},{"$f":"'Compile Data'!C381","v":4500},{"$f":"'Compile Data'!C382","v":4150},{"$f":"'Compile Data'!C383","v":3700},{"$f":"'Compile Data'!C384","v":3399.9999999999995},null,3811.7049517929354,3789.7348399057742,3763.7083524096001,null,3422.4188863850868,3600,3116.7412618652093,3426.9481058226102,4245.875,4081.5,3364.7432369192043]
["1924-04-30",{"$f":"INDIRECT(CONCATENATE(\"'\",B$1,\"'!\",B$4,(YEAR($A43)-1921)*12+MONTH($A43)+3+IF(ISNUMBER(FIND(\"PRV\",B$6)),1,0)))*IF(AND(B$3>0,TRIM(B$9)=\"CFS\"),Conv_Flags!$C43,1)","v":2689.6629173790507},{"$f":"INDIRECT(CONCATENATE(\"'\",C$1,\"'!\",C$4,(YEAR($A43)-1921)*12+MONTH($A43)+3+IF(ISNUMBER(FIND(\"PRV\",C$6)),1,0)))*IF(AND(C$3>0,TRIM(C$9)=\"CFS\"),Conv_Flags!$C43,1)","v":2657.3165642037388},null,null,null,null,null,1953,{"$f":"B385","v":3250},{"$f":"B386","v":3174.1422803205442},{"$f":"B387","v":3345},{"$f":"B388","v":3366},{"$f":"B389","v":3713.3586565432374},{"$f":"B390","v":4147.3133950118427},{"$f":"B391","v":4512.312480886163},{"$f":"B392","v":4552},{"$f":"B393","v":4500},{"$f":"B394","v":4058.9786407655679},{"$f":"B395","v":3700},{"$f":"B396","v":3399.9999999999991},null,3813.6644801845887,3824.801258805986,3809.9254544606133,null,3459.4315268739401,3584.8297734609278,3288.0355700801356,3384.91682281063,4329.5763010424062,4058.7446601913921,3375.3333333333335,null,1953,{"$f":"'Compile Data'!C385","v":3250.0000000000005},{"$f":"'Compile Data'!C386","v":3188.4594215152247},{"$f":"'Compile Data'!C387","v":3345},{"$f":"'Compile Data'!C388","v":3366},{"$f":"'Compile Data'!C389","v":3713.3586573540638},{"$f":"'Compile Data'!C390","v":4147.3133949202756},{"$f":"'Compile Data'!C391","v":4512.3124807488766},{"$f":"'Compile Data'!C392","v":4552},{"$f":"'Compile Data'!C393","v":4500},{"$f":"'Compile Data'!C394","v":4053.9823458114593},{"$f":"'Compile Data'!C395","v":3700},{"$f":"'Compile Data'!C396","v":3399.9999999999991},null,3813.5465260767123,3824.6833046305405,3810.7021916958251,null,3462.2949552658852,3583.997057635243,3291.6148553788062,3387.3030131448813,4329.5763010865458,4057.4955864528647,3375.3333333333335]
["1924-05-31",{"$f":"INDIRECT(CONCATENATE(\"'\",B$1,\"'!\",B$4,(YEAR($A44)-1921)*12+MONTH($A44)+3+IF(ISNUMBER(FIND(\"PRV\",B$6)),1,0)))*IF(AND(B$3>0,TRIM(B$9)=\"CFS\"),Conv_Flags!$C44,1)","v":2339.7659898418215},{"$f":"INDIRECT(CONCATENATE(\"'\",C$1,\"'!\",C$4,(YEAR($A44)-1921)*12+MONTH($A44)+3+IF(ISNUMBER(FIND(\"PRV\",C$6)),1,0)))*IF(AND(C$3>0,TRIM(C$9)=\"CFS\"),Conv_Flags!$C44,1)","v":2307.2185331952796},null,null,null,null,null,1954,{"$f":"B397","v":3250.0000000000005},{"$f":"B398","v":3252},{"$f":"B399","v":3312.0105890082564},{"$f":"B400","v":3552},{"$f":"B401","v":3661},{"$f":"B402","v":4106},{"$f":"B403","v":4546},{"$f":"B404","v":4506.4877496101117},{"$f":"B405","v":4162.4166991057373},{"$f":"B406","v":3494.096049553888},{"$f":"B407","v":3181.6663826748118},{"$f":"B408","v":3050.7155104505387},null,3641.2508929702758,3637.3089011867191,3672.8660817002783,null,3491.0021178016514,3155.8498574872883,{"$f":"IF(AC$11=\"AVG\",IF(AC$1=\"INST-VAL\",AVERAGE(U43,J44:L44,J44:M44),AVERAGE(J44:M44)),SUM(J44:M44))","v":3322.502647252064},3440.1701963360852,4267.5490247907446,3654.1951903411909,3055.6608394905438,null,1954,{"$f":"'Compile Data'!C397","v":3250.0000000000005},{"$f":"'Compile Data'!C398","v":3252},{"$f":"'Compile Data'!C399","v":3315.5914340858808},{"$f":"'Compile Data'!C400","v":3552},{"$f":"'Compile Data'!C401","v":3661},{"$f":"'Compile Data'!C402","v":4106},{"$f":"'Compile Data'!C403","v":4546},{"$f":"'Compile Data'!C404","v":4552},{"$f":"'Compile Data'!C405","v":4255.8441465939868},{"$f":"'Compile Data'!C406","v":3587.125850451122},{"$f":"'Compile Data'!C407","v":3277.8387355152217},{"$f":"'Compile Data'!C408","v":3158.0062561747077},null,3698.0114028824441,3694.0694110988861,3709.450535235077,null,3491.7182868171758,3259.6667723449323,3323.39785852147,3441.36381136196,4290.6055183242479,3743.9529651619209,3168.8929823262556]
["1924-06-30",{"$f":"INDIRECT(CONCATENATE(\"'\",B$1,\"'!\",B$4,(YEAR($A45)-1921)*12+MONTH($A45)+3+IF(ISNUMBER(FIND(\"PRV\",B$6)),1,0)))*IF(AND(B$3>0,TRIM(B$9)=\"CFS\"),Conv_Flags!$C45,1)","v":1867.0392170995694},{"$f":"INDIRECT(CONCATENATE(\"'\",C$1,\"'!\",C$4,(YEAR($A45)-1921)*12+MONTH($A45)+3+IF(ISNUMBER(FIND(\"PRV\",C$6)),1,0)))*IF(AND(C$3>0,TRIM(C$9)=\"CFS\"),Conv_Flags!$C45,1)","v":1842.8512850236625},null,null,null,null,null,1955,{"$f":"B409","v":2976.2393091191439},{"$f":"B410","v":3098.3890151290871},{"$f":"B411","v":3360},{"$f":"B412","v":3506.5732605657431},{"$f":"B413","v":3659.1228380315656},{"$f":"B414","v":3827.5649433029998},{"$f":"B415","v":4199.7216108621969},{"$f":"B416","v":4308.1468141776249},{"$f":"B417","v":3823.1026904186019},{"$f":"B418","v":3319.6478290586861},{"$f":"B419","v":3069.7133206155127},{"$f":"B420","v":3051.8647740473402},null,3495.0769595639072,3442.9356180141317,3516.6738671107087,null,3405.1974479874939,3085.2382257424265,3178.3181774390928,3415.10972904869,4019.1365331419765,3473.1174085513208,3007.5889397444967,null,1955,{"$f":"'Compile Data'!C409","v":3099.184800238615},{"$f":"'Compile Data'!C410","v":3221.1370456156696},{"$f":"'Compile Data'!C411","v":3360},{"$f":"'Compile Data'!C412","v":3506.5732605657431},{"$f":"'Compile Data'!C413","v":3659.1228380315656},{"$f":"'Compile Data'!C414","v":3827.5649433707667},{"$f":"'Compile Data'!C415","v":4199.7216112591932},{"$f":"'Compile Data'!C416","v":4324.6970258737301},{"$f":"'Compile Data'!C417","v":3859.4897502304802},{"$f":"'Compile Data'!C418","v":3345.3601817831013},{"$f":"'Compile Data'!C419","v":3075.3492884970401},{"$f":"'Compile Data'!C420","v":3054.5733231976137},null,3500.8110028030183,3448.6696612532428,3544.3978390552929,null,3442.0416032035341,3090.9546029127487,3253.1529010561276,3435.5677341297869,4027.8224686586782,3492.4585987615737,3005.0496596705557]
["1924-07-31",{"$f":"INDIRECT(CONCATENATE(\"'\",B$1,\"'!\",B$4,(YEAR($A46)-1921)*12+MONTH($A46)+3+IF(ISNUMBER(FIND(\"PRV\",B$6)),1,0)))*IF(AND(B$3>0,TRIM(B$9)=\"CFS\"),Conv_Flags!$C46,1)","v":1485.9674312965633},{"$f":"INDIRECT(CONCATENATE(\"'\",C$1,\"'!\",C$4,(YEAR($A46)-1921)*12+MONTH($A46)+3+IF(ISNUMBER(FIND(\"PRV\",C$6)),1,0)))*IF(AND(C$3>0,TRIM(C$9)=\"CFS\"),Conv_Flags!$C46,1)","v":1462.3854584232931},null,null,null,null,null,1956,{"$f":"B421","v":2948.6253360701648},{"$f":"B422","v":2974.8400976164558},{"$f":"B423","v":3252},{"$f":"B424","v":3252},{"$f":"B425","v":3288},{"$f":"B426","v":3971.4022266969519},{"$f":"B427","v":4487.0189046219884},{"$f":"B428","v":4552},{"$f":"B429","v":4461.9995723362354},{"$f":"B430","v":4115.1220977205166},{"$f":"B431","v":3700.0000000000005},{"$f":"B432","v":3399.9999999999995},null,3729.6991630392945,3761.7705891936348,3700.2506862551927,null,3245.3707758000028,3594.1870162867526,3081.849455177573,3211.806682936076,4221.3552293717648,4063.2804175141882,3357.4315455590645,null,1956,{"$f":"'Compile Data'!C421","v":2940.522212304083},{"$f":"'Compile Data'!C422","v":2964.7575985229023},{"$f":"'Compile Data'!C423","v":3252},{"$f":"'Compile Data'!C424","v":3252},{"$f":"'Compile Data'!C425","v":3288},{"$f":"'Compile Data'!C426","v":3971.4022272897364},{"$f":"'Compile Data'!C427","v":4487.0189016080731},{"$f":"'Compile Data'!C428","v":4552},{"$f":"'Compile Data'!C429","v":4464.4480845144608},{"$f":"'Compile Data'!C430","v":4115.6650734755358},{"$f":"'Compile Data'!C431","v":3700.0000000000005},{"$f":"'Compile Data'!C432","v":3399.9999999999995},null,3732.3451484994989,3765.6534839840533,3698.9845081428994,null,3242.5439636639626,3594.2775122459225,3077.6416181064478,3210.1262664204837,4221.66129278876,4064.0282894974989,3359.7495084643019]
["1924-08-31",{"$f":"INDIRECT(CONCATENATE(\"'\",B$1,\"'!\",B$4,(YEAR($A47)-1921)*12+MONTH($A47)+3+IF(ISNUMBER(FIND(\"PRV\",B$6)),1,0)))*IF(AND(B$3>0,TRIM(B$9)=\"CFS\"),Conv_Flags!$C47,1)","v":1218.2756268434694},{"$f":"INDIRECT(CONCATENATE(\"'\",C$1,\"'!\",C$4,(YEAR($A47)-1921)*12+MONTH($A47)+3+IF(ISNUMBER(FIND(\"PRV\",C$6)),1,0)))*IF(AND(C$3>0,TRIM(C$9)=\"CFS\"),Conv_Flags!$C47,1)","v":1219.4536279222286},null,null,null,null,null,1957,{"$f":"B433","v":3249.9999999999995},{"$f":"B434","v":3144.5892733543883},{"$f":"B435","v":3134.2578817414537},{"$f":"B436","v":3249.8571138520829},{"$f":"B437","v":3675},{"$f":"B438","v":4129},{"$f":"B439","v":4538.9204290728067},{"$f":"B440","v":4552},{"$f":"B441","v":4318.3930290624739},{"$f":"B442","v":3650.4460168247419},{"$f":"B443","v":3274.7733208007239},{"$f":"B444","v":3189.6856180594659},null,3701.5062939726909,3689.684867818351,3675.5768902306786,null,3378.640853789585,3304.8939824241866,3213.4439280054708,3264.6365440902432,4304.1542359010109,3778.6137939294181,3234.3574261532758,null,1957,{"$f":"'Compile Data'!C433","v":3249.9999999999995},{"$f":"'Compile Data'!C434","v":3158.497050785812},{"$f":"'Compile Data'!C435","v":3149.1104443203722},{"$f":"'Compile Data'!C436","v":3264.7000258146491},{"$f":"'Compile Data'!C437","v":3675},{"$f":"'Compile Data'!C438","v":4129},{"$f":"'Compile Data'!C439","v":4538.9204292656013},{"$f":"'Compile Data'!C440","v":4552},{"$f":"'Compile Data'!C441","v":4379.3072950906962},{"$f":"'Compile Data'!C442","v":3711.075772566915},{"$f":"'Compile Data'!C443","v":3343.2174389044376},{"$f":"'Compile Data'!C444","v":3279.9043539889403},null,3726.0937763026031,3713.0354408180488,3702.5610675614516,null,3387.3615041841667,3367.8865597256117,3222.4893770033768,3276.8529985093096,4311.7685192027366,3837.3881708891295,3275.8376911470532]
["1924-09-30",{"$f":"INDIRECT(CONCATENATE(\"'\",B$1,\"'!\",B$4,(YEAR($A48)-1921)*12+MONTH($A48)+3+IF(ISNUMBER(FIND(\"PRV\",B$6)),1,0)))*IF(AND(B$3>0,TRIM(B$9)=\"CFS\"),Conv_Flags!$C48,1)","v":1117.9012494262086},{"$f":"INDIRECT(CONCATENATE(\"'\",C$1,\"'!\",C$4,(YEAR($A48)-1921)*12+MONTH($A48)+3+IF(ISNUMBER(FIND(\"PRV\",C$6)),1,0)))*IF(AND(C$3>0,TRIM(C$9)=\"CFS\"),Conv_Flags!$C48,1)","v":1120.5678342066424},null,null,null,null,null,1958,{"$f":"B445","v":3249.9999999999995},{"$f":"B446","v":3252},{"$f":"B447","v":3338},{"$f":"B448","v":3531},{"$f":"B449","v":3252},{"$f":"B450","v":3416},{"$f":"B451","v":4173},{"$f":"B452","v":4552},{"$f":"B453","v":4500},{"$f":"B454","v":4150},{"$f":"B455","v":3700},{"$f":"B456","v":3399.9999999999995},null,3693.3119219610876,3746.8119219610876,3709.5,null,3341.2,3600,3300.0857022574332,3373.6666666666665,4004.25,4081.5,3359.3757577673532,null,1958,{"$f":"'Compile Data'!C445","v":3249.9999999999995},{"$f":"'Compile Data'!C446","v":3252},{"$f":"'Compile Data'!C447","v":3338},{"$f":"'Compile Data'!C448","v":3531},{"$f":"'Compile Data'!C449","v":3252},{"$f":"'Compile Data'!C450","v":3416},{"$f":"'Compile Data'!C451","v":4173},{"$f":"'Compile Data'!C452","v":4552},{"$f":"'Compile Data'!C453","v":4500},{"$f":"'Compile Data'!C454","v":4150},{"$f":"'Compile Data'!C455","v":3700},{"$f":"'Compile Data'!C456","v":3399.9999999999995},null,3695.6804262970086,3749.1804262970086,3709.5,null,3341.2,3600,3311.3630442486174,3373.6666666666665,4004.25,4081.5,3361.7740059874668]
["1924-10-31",{"$f":"INDIRECT(CONCATENATE(\"'\",B$1,\"'!\",B$4,(YEAR($A49)-1921)*12+MONTH($A49)+3+IF(ISNUMBER(FIND(\"PRV\",B$6)),1,0)))*IF(AND(B$3>0,TRIM(B$9)=\"CFS\"),Conv_Flags!$C49,1)","v":1141.5577187578222},{"$f":"INDIRECT(CONCATENATE(\"'\",C$1,\"'!\",C$4,(YEAR($A49)-1921)*12+MONTH($A49)+3+IF(ISNUMBER(FIND(\"PRV\",C$6)),1,0)))*IF(AND(C$3>0,TRIM(C$9)=\"CFS\"),Conv_Flags!$C49,1)","v":1138.3021508671263},null,null,null,null,null,1959,{"$f":"B457","v":3249.9999999999995},{"$f":"B458","v":3156.2545466041192},{"$f":"B459","v":3239.488516928936},{"$f":"B460","v":3648},{"$f":"B461","v":3777},{"$f":"B462","v":4221.0812314040368},{"$f":"B463","v":4513.1061213962212},{"$f":"B464","v":4322.1117344385912},{"$f":"B465","v":3759.76157603504},{"$f":"B466","v":3145.0546419631942},{"$f":"B467","v":2727.8834327964064},{"$f":"B468","v":2864.7475087002013},null,3393.7443834106216,3285.7072414533218,3552.0407758555616,null,3511.2567358470142,2843.238382889926,3292.4357658832637,3451.3719300769985,4206.1699688140916,3306.5323180910091,2742.4094797866201,null,1959,{"$f":"'Compile Data'!C457","v":3249.9999999999995},{"$f":"'Compile Data'!C458","v":3170.6440359248004},{"$f":"'Compile Data'!C459","v":3253.5210796392985},{"$f":"'Compile Data'!C460","v":3648},{"$f":"'Compile Data'!C461","v":3777},{"$f":"'Compile Data'!C462","v":4221.0812319328188},{"$f":"'Compile Data'!C463","v":4523.5519737614622},{"$f":"'Compile Data'!C464","v":4413.2909090230478},{"$f":"'Compile Data'!C465","v":3847.0213660574536},{"$f":"'Compile Data'!C466","v":3230.2012936121318},{"$f":"'Compile Data'!C467","v":2888.3440248796542},{"$f":"'Compile Data'!C468","v":2896.5736425824757},null,3428.4415751560568,3314.3491187606492,3593.2691297844281,null,3516.9411463061015,2920.5043097607668,3299.5412788910244,3458.4476992005661,4242.4836994365141,3405.1247400880006,2776.4779109308547]
["1924-11-30",{"$f":"INDIRECT(CONCATENATE(\"'\",B$1,\"'!\",B$4,(YEAR($A50)-1921)*12+MONTH($A50)+3+IF(ISNUMBER(FIND(\"PRV\",B$6)),1,0)))*IF(AND(B$3>0,TRIM(B$9)=\"CFS\"),Conv_Flags!$C50,1)","v":1302.5089652373445},{"$f":"INDIRECT(CONCATENATE(\"'\",C$1,\"'!\",C$4,(YEAR($A50)-1921)*12+MONTH($A50)+3+IF(ISNUMBER(FIND(\"PRV\",C$6)),1,0)))*IF(AND(C$3>0,TRIM(C$9)=\"CFS\"),Conv_Flags!$C50,1)","v":1292.4602264830664},null,null,null,null,null,1960,{"$f":"B469","v":2729.1137723831444},{"$f":"B470","v":2538.8508837566224},{"$f":"B471","v":2478.2216980540015},{"$f":"B472","v":2702.714336438326},{"$f":"B473","v":3425.8399600740822},{"$f":"B474","v":4119.2249259285991},{"$f":"B475","v":4199.5298883425667},{"$f":"B476","v":4313.710151423712},{"$f":"B477","v":3804.9987039329908},{"$f":"B478","v":3293.2383680334442},{"$f":"B479","v":3030.4185576409122},{"$f":"B480","v":2965.4085768069745},null,3420.1988132663059,3531.4489998282984,3300.1058185679481,null,2913.9592454957806,3019.8836996018049,2632.4793191907579,2721.0938188025598,4061.9710744246036,3442.0537484306724,2938.8245937517563,null,1960,{"$f":"'Compile Data'!C469","v":2722.9892300282072},{"$f":"'Compile Data'!C470","v":2531.3976954841073},{"$f":"'Compile Data'!C471","v":2441.8475345113261},{"$f":"'Compile Data'!C472","v":2666.3657092414178},{"$f":"'Compile Data'!C473","v":3389.5248140136887},{"$f":"'Compile Data'!C474","v":4082.9661589349275},{"$f":"'Compile Data'!C475","v":4168.1577003501516},{"$f":"'Compile Data'!C476","v":4282.5579801744698},{"$f":"'Compile Data'!C477","v":3788.1076691973776},{"$f":"'Compile Data'!C478","v":3269.3424004985386},{"$f":"'Compile Data'!C479","v":2990.1714385688215},{"$f":"'Compile Data'!C480","v":2915.1499372944754},null,3373.6093730310822,3486.824953359388,3270.7148556914594,null,2886.4226895464217,2973.8965921619297,2619.426033983897,2689.5581661672136,4030.6245202662712,3411.6188667498027,2868.9907807580298]
["1924-12-31",{"$f":"INDIRECT(CONCATENATE(\"'\",B$1,\"'!\",B$4,(YEAR($A51)-1921)*12+MONTH($A51)+3+IF(ISNUMBER(FIND(\"PRV\",B$6)),1,0)))*IF(AND(B$3>0,TRIM(B$9)=\"CFS\"),Conv_Flags!$C51,1)","v":1416.7468491840048},{"$f":"INDIRECT(CONCATENATE(\"'\",C$1,\"'!\",C$4,(YEAR($A51)-1921)*12+MONTH($A51)+3+IF(ISNUMBER(FIND(\"PRV\",C$6)),1,0)))*IF(AND(C$3>0,TRIM(C$9)=\"CFS\"),Conv_Flags!$C51,1)","v":1406.7047288668209},null,null,null,null,null,1961,{"$f":"B481","v":2834.4095606816081},{"$f":"B482","v":3002.8927298924586},{"$f":"B483","v":3350},{"$f":"B484","v":3549.556535256314},{"$f":"B485","v":3914},{"$f":"B486","v":4280},{"$f":"B487","v":4551.9999999999991},{"$f":"B488","v":4502.1341317810411},{"$f":"B489","v":4044.5084626516691},{"$f":"B490","v":3432.2512482295588},{"$f":"B491","v":3142.9376120397546},{"$f":"B492","v":3084.113827364718},null,3619.9250433895922,3577.7967769803249,3640.733675658093,null,3474.7308090979145,3124.3370414513452,3111.1962116514278,3452.667633400848,4328.3470907767187,3603.2053256234658,2983.2651778442832,null,1961,{"$f":"'Compile Data'!C481","v":2763.3944007464506},{"$f":"'Compile Data'!C482","v":2866.6845698975048},{"$f":"'Compile Data'!C483","v":3300.8896974551612},{"$f":"'Compile Data'!C484","v":3500.4774871947729},{"$f":"'Compile Data'!C485","v":3914},{"$f":"'Compile Data'!C486","v":4280},{"$f":"'Compile Data'!C487","v":4552},{"$f":"'Compile Data'!C488","v":4505.8331884519348},{"$f":"'Compile Data'!C489","v":4041.412076142421},{"$f":"'Compile Data'!C490","v":3431.3363562650802},{"$f":"'Compile Data'!C491","v":3117.9703782757133},{"$f":"'Compile Data'!C492","v":3086.4181128032546},null,3609.0010452797374,3567.798433454333,3613.3680222693579,null,3420.7497909841331,3117.4570035037582,3034.6955950859356,3397.236489866229,4328.8848066307864,3596.7111153277024,2977.8231429444586]
["1925-01-31",{"$f":"INDIRECT(CONCATENATE(\"'\",B$1,\"'!\",B$4,(YEAR($A52)-1921)*12+MONTH($A52)+3+IF(ISNUMBER(FIND(\"PRV\",B$6)),1,0)))*IF(AND(B$3>0,TRIM(B$9)=\"CFS\"),Conv_Flags!$C52,1)","v":1732.9275914547659},{"$f":"INDIRECT(CONCATENATE(\"'\",C$1,\"'!\",C$4,(YEAR($A52)-1921)*12+MONTH($A52)+3+IF(ISNUMBER(FIND(\"PRV\",C$6)),1,0)))*IF(AND(C$3>0,TRIM(C$9)=\"CFS\"),Conv_Flags!$C52,1)","v":1739.5893823099368},null,null,null,null,null,1962,{"$f":"B493","v":2859.6681216695661},{"$f":"B494","v":2869.0895569573759},{"$f":"B495","v":3208.8410247251063},{"$f":"B496","v":3283.0173383451024},{"$f":"B497","v":3675},{"$f":"B498","v":4209.3343553099467},{"$f":"B499","v":4552},{"$f":"B500","v":4448.1338405761499},{"$f":"B501","v":4125.6097518409615},{"$f":"B502","v":3509.8179403532899},{"$f":"B503","v":3149.4679241562812},{"$f":"B504","v":3102.6034747700287},null,3658.8320521126466,3702.5164632995043,3582.7152773919843,null,3314.0898317034685,3210.6601230343185,3030.2910715517401,3254.6343805162992,4277.443267951644,3640.0660685059052,3184.4458122827232,null,1962,{"$f":"'Compile Data'!C493","v":2864.6286825995344},{"$f":"'Compile Data'!C494","v":2846.8748885854616},{"$f":"'Compile Data'!C495","v":3167.0613730386731},{"$f":"'Compile Data'!C496","v":3245.046145289924},{"$f":"'Compile Data'!C497","v":3675},{"$f":"'Compile Data'!C498","v":4209.3343553099467},{"$f":"'Compile Data'!C499","v":4552},{"$f":"'Compile Data'!C500","v":4464.8899088359858},{"$f":"'Compile Data'!C501","v":4111.2263040986909},{"$f":"'Compile Data'!C502","v":3508.2549309341525},{"$f":"'Compile Data'!C503","v":3133.2225914088649},{"$f":"'Compile Data'!C504","v":3082.2084199929295},null,3652.6818879892076,3699.5305652639977,3571.6456333411802,null,3294.1927851737591,3198.18615895629,3011.0742683175645,3224.3483208737757,4279.8343540488204,3631.5632477140416,3174.9399052324538]
["1925-02-28",{"$f":"INDIRECT(CONCATENATE(\"'\",B$1,\"'!\",B$4,(YEAR($A53)-1921)*12+MONTH($A53)+3+IF(ISNUMBER(FIND(\"PRV\",B$6)),1,0)))*IF(AND(B$3>0,TRIM(B$9)=\"CFS\"),Conv_Flags!$C53,1)","v":2945.4493313253447},{"$f":"INDIRECT(CONCATENATE(\"'\",C$1,\"'!\",C$4,(YEAR($A53)-1921)*12+MONTH($A53)+3+IF(ISNUMBER(FIND(\"PRV\",C$6)),1,0)))*IF(AND(C$3>0,TRIM(C$9)=\"CFS\"),Conv_Flags!$C53,1)","v":2939.7405186029127},null,null,null,null,null,1963,{"$f":"B505","v":3250},{"$f":"B506","v":3252},{"$f":"B507","v":3349},{"$f":"B508","v":3538.2302725873933},{"$f":"B509","v":3944},{"$f":"B510","v":4226},{"$f":"B511","v":4137},{"$f":"B512","v":4552},{"$f":"B513","v":4386.2046865251195},{"$f":"B514","v":3782.1218604752967},{"$f":"B515","v":3463.7728776722975},{"$f":"B516","v":3244.4129816523596},null,3750.750414931817,3761.1675253999133,3760.395223242705,null,3564.2460545174786,3406.7231346047724,3292.8542184196776,3495.0767575291306,4270.0255858156397,3882.5764788747233,3281.3815496641778,null,1963,{"$f":"'Compile Data'!C505","v":3250},{"$f":"'Compile Data'!C506","v":3252},{"$f":"'Compile Data'!C507","v":3349},{"$f":"'Compile Data'!C508","v":3538.2302725873933},{"$f":"'Compile Data'!C509","v":3944},{"$f":"'Compile Data'!C510","v":4226},{"$f":"'Compile Data'!C511","v":4137},{"$f":"'Compile Data'!C512","v":4552},{"$f":"'Compile Data'!C513","v":4383.5907749643466},{"$f":"'Compile Data'!C514","v":3770.0991742003307},{"$f":"'Compile Data'!C515","v":3453.5082304066941},{"$f":"'Compile Data'!C516","v":3236.5985663925303},null,3748.7667176711898,3760.663238155164,3757.6689182126083,null,3564.2460545174786,3397.3930934346977,3290.3048365725404,3495.0767575291306,4269.6988468705431,3875.3743656919091,3274.4661581350952]
["1925-03-31",{"$f":"INDIRECT(CONCATENATE(\"'\",B$1,\"'!\",B$4,(YEAR($A54)-1921)*12+MONTH($A54)+3+IF(ISNUMBER(FIND(\"PRV\",B$6)),1,0)))*IF(AND(B$3>0,TRIM(B$9)=\"CFS\"),Conv_Flags!$C54,1)","v":3319.8494092815731},{"$f":"INDIRECT(CONCATENATE(\"'\",C$1,\"'!\",C$4,(YEAR($A54)-1921)*12+MONTH($A54)+3+IF(ISNUMBER(FIND(\"PRV\",C$6)),1,0)))*IF(AND(C$3>0,TRIM(C$9)=\"CFS\"),Conv_Flags!$C54,1)","v":3314.1485204917872},null,null,null,null,null,1964,{"$f":"B517","v":3241.8452285040253},{"$f":"B518","v":3252},{"$f":"B519","v":3241.417071765311},{"$f":"B520","v":3688.2825157828447},{"$f":"B521","v":3918.9530824217172},{"$f":"B522","v":4067.1046791373683},{"$f":"B523","v":4023.8923042700189},{"$f":"B524","v":3878.1724984794237},{"$f":"B525","v":3578.6352140076251},{"$f":"B526","v":3196.6396276887285},{"$f":"B527","v":2902.2629920511117},{"$f":"B528","v":2858.8194245961022},null,3424.2975185651771,3385.397346570006,3487.3353865586892,null,3551.025524758114,2917.5230205590901,3300.4025122467347,3505.058709586338,3929.4909075253699,3261.5084488213074,2855.5072313269798,null,1964,{"$f":"'Compile Data'!C517","v":3234.0457928094088},{"$f":"'Compile Data'!C518","v":3252},{"$f":"'Compile Data'!C519","v":3258.1278006935777},{"$f":"'Compile Data'!C520","v":3696.6603438112706},{"$f":"'Compile Data'!C521","v":3928.3281745838103},{"$f":"'Compile Data'!C522","v":4076.4704913022097},{"$f":"'Compile Data'!C523","v":4045.8427365877264},{"$f":"'Compile Data'!C524","v":3896.5504164649042},{"$f":"'Compile Data'!C525","v":3600.8684686539241},{"$f":"'Compile Data'!C526","v":3200.238625364912},{"$f":"'Compile Data'!C527","v":2879.8722217492709},{"$f":"'Compile Data'!C528","v":2852.5216453764165},null,3428.8722056631104,3388.4926236520637,3493.4605597831192,null,3558.0748922288935,2908.390101993582,3302.7007621512221,3514.9840772655843,3945.8654914934264,3263.8788366721919,2847.8905181516989]
["1925-04-30",{"$f":"INDIRECT(CONCATENATE(\"'\",B$1,\"'!\",B$4,(YEAR($A55)-1921)*12+MONTH($A55)+3+IF(ISNUMBER(FIND(\"PRV\",B$6)),1,0)))*IF(AND(B$3>0,TRIM(B$9)=\"CFS\"),Conv_Flags!$C55,1)","v":4024.1176380790671},{"$f":"INDIRECT(CONCATENATE(\"'\",C$1,\"'!\",C$4,(YEAR($A55)-1921)*12+MONTH($A55)+3+IF(ISNUMBER(FIND(\"PRV\",C$6)),1,0)))*IF(AND(C$3>0,TRIM(C$9)=\"CFS\"),Conv_Flags!$C55,1)","v":4018.4284879384854},null,null,null,null,null,1965,{"$f":"B529","v":2786.333662371384},{"$f":"B530","v":2940.4742219757959},{"$f":"B531","v":3252},{"$f":"B532","v":3368},{"$f":"B533","v":3772.4335342625091},{"$f":"B534","v":4010.5754010548076},{"$f":"B535","v":4500},{"$f":"B536","v":4539.5838566371058},{"$f":"B537","v":4308.8549002805466},{"$f":"B538","v":3856.6604356530133},{"$f":"B539","v":3590.4062239720647},{"$f":"B540","v":3400},null,3767.2928626550042,3819.0900681331282,3693.7768530172689,null,3346.2724575902803,3514.5788139328565,3023.0543991613076,3325.4846260397171,4272.7008687408606,3931.4283720560443,3357.0677039953443,null,1965,{"$f":"'Compile Data'!C529","v":2785.3142523452038},{"$f":"'Compile Data'!C530","v":2931.7990917176817},{"$f":"'Compile Data'!C531","v":3252},{"$f":"'Compile Data'!C532","v":3368},{"$f":"'Compile Data'!C533","v":3772.4335342625091},{"$f":"'Compile Data'!C534","v":4010.5754014661698},{"$f":"'Compile Data'!C535","v":4500},{"$f":"'Compile Data'!C536","v":4540.8383364680058},{"$f":"'Compile Data'!C537","v":4307.8768167344588},{"$f":"'Compile Data'!C538","v":3850.405061342145},{"$f":"'Compile Data'!C539","v":3583.7786400876034},{"$f":"'Compile Data'!C540","v":3399.9999999999995},null,3766.2423158634078,3818.0395213415318,3691.918427868648,null,3344.4354905771752,3511.3270569195588,3019.8435416877737,3324.0387709966985,4272.8922283581642,3928.119921599553,3355.9631066812672]
["1925-05-31",{"$f":"INDIRECT(CONCATENATE(\"'\",B$1,\"'!\",B$4,(YEAR($A56)-1921)*12+MONTH($A56)+3+IF(ISNUMBER(FIND(\"PRV\",B$6)),1,0)))*IF(AND(B$3>0,TRIM(B$9)=\"CFS\"),Conv_Flags!$C56,1)","v":4165.9554706918734},{"$f":"INDIRECT(CONCATENATE(\"'\",C$1,\"'!\",C$4,(YEAR($A56)-1921)*12+MONTH($A56)+3+IF(ISNUMBER(FIND(\"PRV\",C$6)),1,0)))*IF(AND(C$3>0,TRIM(C$9)=\"CFS\"),Conv_Flags!$C56,1)","v":4160.1106341692575},null,null,null,null,null,1966,{"$f":"B541","v":3250},{"$f":"B542","v":3252},{"$f":"B543","v":3359},{"$f":"B544","v":3725},{"$f":"B545","v":4037},{"$f":"B546","v":4229},{"$f":"B547","v":4552},{"$f":"B548","v":4410.215737658199},{"$f":"B549","v":3786.7032040132863},{"$f":"B550","v":3243.9796388128148},{"$f":"B551","v":3016.0097129662645},{"$f":"B552","v":2946.0294380606024},null,3608.4655274854017,3584.2155274854017,3650.5781442925977,null,3622.5,2996.8294359295583,3355.875,3576.1666666666665,4275.7668349162104,3431.2037859129418,2956.9393103519874,null,1966,{"$f":"'Compile Data'!C541","v":3250},{"$f":"'Compile Data'!C542","v":3252},{"$f":"'Compile Data'!C543","v":3359},{"$f":"'Compile Data'!C544","v":3725},{"$f":"'Compile Data'!C545","v":4037},{"$f":"'Compile Data'!C546","v":4229},{"$f":"'Compile Data'!C547","v":4552},{"$f":"'Compile Data'!C548","v":4450.6019177659191},{"$f":"'Compile Data'!C549","v":3813.93909797776},{"$f":"'Compile Data'!C550","v":3197.8909456588185},{"$f":"'Compile Data'!C551","v":2948.8156161751331},{"$f":"'Compile Data'!C552","v":2849.8082047741595},null,3584.2622440606756,3560.0122440606756,3638.7546485293155,null,3622.5,2922.2898366968216,3355.875,3576.1666666666665,4289.2678666886995,3402.7126802704374,2876.5206007872166]
["1925-06-30",{"$f":"INDIRECT(CONCATENATE(\"'\",B$1,\"'!\",B$4,(YEAR($A57)-1921)*12+MONTH($A57)+3+IF(ISNUMBER(FIND(\"PRV\",B$6)),1,0)))*IF(AND(B$3>0,TRIM(B$9)=\"CFS\"),Conv_Flags!$C57,1)","v":3931.6653012556335},{"$f":"INDIRECT(CONCATENATE(\"'\",C$1,\"'!\",C$4,(YEAR($A57)-1921)*12+MONTH($A57)+3+IF(ISNUMBER(FIND(\"PRV\",C$6)),1,0)))*IF(AND(C$3>0,TRIM(C$9)=\"CFS\"),Conv_Flags!$C57,1)","v":3936.1696733202625},null,null,null,null,null,1967,{"$f":"B553","v":2812.9186747108029},{"$f":"B554","v":3207.7299236028475},{"$f":"B555","v":3335},{"$f":"B556","v":3551},{"$f":"B557","v":3920},{"$f":"B558","v":4033},{"$f":"B559","v":4479},{"$f":"B560","v":4552},{"$f":"B561","v":4500},{"$f":"B562","v":4150},{"$f":"B563","v":3699.9999999999995},{"$f":"B564","v":3399.9999999999991},null,3832.0687161280348,3805.1219650279982,3803.3873831928045,null,3487.3378521916502,3600,3151.0408293359878,3483.2883206004749,4318.5,4081.5,3368.2975333199197,null,1967,{"$f":"'Compile Data'!C553","v":2738.6004326235279},{"$f":"'Compile Data'!C554","v":3133.490713752793},{"$f":"'Compile Data'!C555","v":3335},{"$f":"'Compile Data'!C556","v":3551},{"$f":"'Compile Data'!C557","v":3920},{"$f":"'Compile Data'!C558","v":4033},{"$f":"'Compile Data'!C559","v":4479},{"$f":"'Compile Data'!C560","v":4552},{"$f":"'Compile Data'!C561","v":4500},{"$f":"'Compile Data'!C562","v":4150},{"$f":"'Compile Data'!C563","v":3699.9999999999995},{"$f":"'Compile Data'!C564","v":3399.9999999999991},null,3831.0632496530538,3803.722531916299,3791.00759553136,null,3465.0581860129109,3600,3101.87381219085,3470.9151189587988,4318.5,4081.5,3367.0750386726522]
["1925-07-31",{"$f":"INDIRECT(CONCATENATE(\"'\",B$1,\"'!\",B$4,(YEAR($A58)-1921)*12+MONTH($A58)+3+IF(ISNUMBER(FIND(\"PRV\",B$6)),1,0)))*IF(AND(B$3>0,TRIM(B$9)=\"CFS\"),Conv_Flags!$C58,1)","v":3390.6889158039617},{"$f":"INDIRECT(CONCATENATE(\"'\",C$1,\"'!\",C$4,(YEAR($A58)-1921)*12+MONTH($A58)+3+IF(ISNUMBER(FIND(\"PRV\",C$6)),1,0)))*IF(AND(C$3>0,TRIM(C$9)=\"CFS\"),Conv_Flags!$C58,1)","v":3384.3477271230154},null,null,null,null,null,1968,{"$f":"B565","v":3250},{"$f":"B566","v":3209.7851999195213},{"$f":"B567","v":3240.0393936169003},{"$f":"B568","v":3493.6389867995586},{"$f":"B569","v":3654},{"$f":"B570","v":4242.4410290080023},{"$f":"B571","v":4481.1532266702879},{"$f":"B572","v":4384.3690812540717},{"$f":"B573","v":3829.218778464141},{"$f":"B574","v":3139.9077501222669},{"$f":"B575","v":2987.8851300275724},{"$f":"B576","v":2882.6880020154736},null,3528.2524999667071,3502.4492510667442,3566.260548158149,null,3468.7368189679969,2966.4317347822921,3286.6610217340503,3388.523660125406,4212.3931815411088,3397.6350500621884,2928.8114212450073,null,1968,{"$f":"'Compile Data'!C565","v":3250},{"$f":"'Compile Data'!C566","v":3202.4502320359156},{"$f":"'Compile Data'!C567","v":3235.3087638007282},{"$f":"'Compile Data'!C568","v":3488.9113871589425},{"$f":"'Compile Data'!C569","v":3654},{"$f":"'Compile Data'!C570","v":4242.4410291618942},{"$f":"'Compile Data'!C571","v":4481.153227195563},{"$f":"'Compile Data'!C572","v":4384.2184333312025},{"$f":"'Compile Data'!C573","v":3920.9666125176295},{"$f":"'Compile Data'!C574","v":3231.2179458104215},{"$f":"'Compile Data'!C575","v":3080.8755504852365},{"$f":"'Compile Data'!C576","v":2978.8188281728426},null,3567.6502537842771,3542.2409715210324,3595.863500805865,null,3465.3781795153068,3056.9263417149141,3283.053672354029,3384.1484223258763,4223.8239989868689,3478.6446848913279,3004.110764261904]
["1925-08-31",{"$f":"INDIRECT(CONCATENATE(\"'\",B$1,\"'!\",B$4,(YEAR($A59)-1921)*12+MONTH($A59)+3+IF(ISNUMBER(FIND(\"PRV\",B$6)),1,0)))*IF(AND(B$3>0,TRIM(B$9)=\"CFS\"),Conv_Flags!$C59,1)","v":3070.1845256235511},{"$f":"INDIRECT(CONCATENATE(\"'\",C$1,\"'!\",C$4,(YEAR($A59)-1921)*12+MONTH($A59)+3+IF(ISNUMBER(FIND(\"PRV\",C$6)),1,0)))*IF(AND(C$3>0,TRIM(C$9)=\"CFS\"),Conv_Flags!$C59,1)","v":3063.3932939325487},null,null,null,null,null,1969,{"$f":"B577","v":2917.5363944853907},{"$f":"B578","v":2984.5346044407447},{"$f":"B579","v":3341.6570163129741},{"$f":"B580","v":3358},{"$f":"B581","v":3480},{"$f":"B582","v":4029.9999999999995},{"$f":"B583","v":4434},{"$f":"B584","v":4552},{"$f":"B585","v":4454.5612717101912},{"$f":"B586","v":4061.9534912867121},{"$f":"B587","v":3700.0000000000005},{"$f":"B588","v":3399.9999999999995},null,3768.3141847642855,3755.3975180976195,3726.186898186334,null,3327.5919635992823,3585.325581881119,3091.0180040617115,3310.6414395111155,4245.8201589637738,4048.1286907492258,3363.7092423624213,null,1969,{"$f":"'Compile Data'!C577","v":2990.951347162907},{"$f":"'Compile Data'!C578","v":3004.2486844146874},{"$f":"'Compile Data'!C579","v":3354},{"$f":"'Compile Data'!C580","v":3358},{"$f":"'Compile Data'!C581","v":3480},{"$f":"'Compile Data'!C582","v":4030},{"$f":"'Compile Data'!C583","v":4434},{"$f":"'Compile Data'!C584","v":4552},{"$f":"'Compile Data'!C585","v":4454.3173474874566},{"$f":"'Compile Data'!C586","v":4061.3330658704831},{"$f":"'Compile Data'!C587","v":3700},{"$f":"'Compile Data'!C588","v":3399.9999999999995},null,3768.2694846337886,3755.3528179671225,3734.9042037446275,null,3341.3448715992286,3585.2221776450806,3129.4023614160037,3318.0414474024478,4245.7896684359321,4047.912603339485,3363.7639003745876]
["1925-09-30",{"$f":"INDIRECT(CONCATENATE(\"'\",B$1,\"'!\",B$4,(YEAR($A60)-1921)*12+MONTH($A60)+3+IF(ISNUMBER(FIND(\"PRV\",B$6)),1,0)))*IF(AND(B$3>0,TRIM(B$9)=\"CFS\"),Conv_Flags!$C60,1)","v":2948.7023179099683},{"$f":"INDIRECT(CONCATENATE(\"'\",C$1,\"'!\",C$4,(YEAR($A60)-1921)*12+MONTH($A60)+3+IF(ISNUMBER(FIND(\"PRV\",C$6)),1,0)))*IF(AND(C$3>0,TRIM(C$9)=\"CFS\"),Conv_Flags!$C60,1)","v":2941.4760849908089},null,null,null,null,null,1970,{"$f":"B589","v":3249.9999999999995},{"$f":"B590","v":3182.2554541745271},{"$f":"B591","v":3317},{"$f":"B592","v":3252},{"$f":"B593","v":3431},{"$f":"B594","v":4098.2630271489743},{"$f":"B595","v":4185.3399588863795},{"$f":"B596","v":4112.1718834263738},{"$f":"B597","v":3759.8959935556077},{"$f":"B598","v":3119.0719588030083},{"$f":"B599","v":2761.3528439421079},{"$f":"B600","v":2623.2239654634745},null,3362.9770016406787,3424.5899246798767,3424.2979237833715,null,3371.277393549803,2746.680785778321,3268.8138635436317,3291.8759090290878,3997.805716559883,3252.0046801864119,2715.6773833978391,null,1970,{"$f":"'Compile Data'!C589","v":3249.9999999999995},{"$f":"'Compile Data'!C590","v":3182.5834022475256},{"$f":"'Compile Data'!C591","v":3317},{"$f":"'Compile Data'!C592","v":3252},{"$f":"'Compile Data'!C593","v":3431},{"$f":"'Compile Data'!C594","v":4098.2630258204526},{"$f":"'Compile Data'!C595","v":4185.3399575597696},{"$f":"'Compile Data'!C596","v":4112.0707900236102},{"$f":"'Compile Data'!C597","v":3754.1305679325401},{"$f":"'Compile Data'!C598","v":3113.3352457511733},{"$f":"'Compile Data'!C599","v":2754.0256244185457},{"$f":"'Compile Data'!C600","v":2599.9519494661813},null,3356.005808267962,3417.61873130716,3420.8083802683163,null,3371.3429830315499,2732.0688057751613,3268.8958505618812,3291.9305670412541,3997.0597643425258,3244.3757019617888,2696.3340837874193]
["1925-10-31",{"$f":"INDIRECT(CONCATENATE(\"'\",B$1,\"'!\",B$4,(YEAR($A61)-1921)*12+MONTH($A61)+3+IF(ISNUMBER(FIND(\"PRV\",B$6)),1,0)))*IF(AND(B$3>0,TRIM(B$9)=\"CFS\"),Conv_Flags!$C61,1)","v":2847.8758628352057},{"$f":"INDIRECT(CONCATENATE(\"'\",C$1,\"'!\",C$4,(YEAR($A61)-1921)*12+MONTH($A61)+3+IF(ISNUMBER(FIND(\"PRV\",C$6)),1,0)))*IF(AND(C$3>0,TRIM(C$9)=\"CFS\"),Conv_Flags!$C61,1)","v":2836.694452340751},null,null,null,null,null,1971,{"$f":"B601","v":2591.8591370557542},{"$f":"B602","v":3102.5452514064696},{"$f":"B603","v":3319},{"$f":"B604","v":3515},{"$f":"B605","v":3907.3550764703737},{"$f":"B606","v":3873},{"$f":"B607","v":4518.1403881054102},{"$f":"B608","v":4552},{"$f":"B609","v":4500},{"$f":"B610","v":3994.6467605336215},{"$f":"B611","v":3700},{"$f":"B612","v":3399.9999999999995},null,3812.7177523994505,3835.27149602692,3747.7955511309688,null,3415.2659792809441,3574.1077934222703,3020.6290927984905,3446.3167213128067,4286.7044815851496,4042.6616901334055,3362.9118006140002,null,1971,{"$f":"'Compile Data'!C601","v":2571.1224411303388},{"$f":"'Compile Data'!C602","v":3081.8300971129288},{"$f":"'Compile Data'!C603","v":3319},{"$f":"'Compile Data'!C604","v":3515},{"$f":"'Compile Data'!C605","v":3907.3550764703737},{"$f":"'Compile Data'!C606","v":3873},{"$f":"'Compile Data'!C607","v":4518.1403881054102},{"$f":"'Compile Data'!C608","v":4552},{"$f":"'Compile Data'!C609","v":4500},{"$f":"'Compile Data'!C610","v":3989.6062799085025},{"$f":"'Compile Data'!C611","v":3694.0568163357957},{"$f":"'Compile Data'!C612","v":3399.9999999999995},null,3809.2777708620288,3831.8315144894982,3743.4259249219463,null,3409.0492788296942,3571.2866520966822,3007.3571282440898,3442.8641955972166,4286.7044815851496,4039.9157740610744,3359.2289317333903]
["1925-11-30",{"$f":"INDIRECT(CONCATENATE(\"'\",B$1,\"'!\",B$4,(YEAR($A62)-1921)*12+MONTH($A62)+3+IF(ISNUMBER(FIND(\"PRV\",B$6)),1,0)))*IF(AND(B$3>0,TRIM(B$9)=\"CFS\"),Conv_Flags!$C62,1)","v":2789.349162396818},{"$f":"INDIRECT(CONCATENATE(\"'\",C$1,\"'!\",C$4,(YEAR($A62)-1921)*12+MONTH($A62)+3+IF(ISNUMBER(FIND(\"PRV\",C$6)),1,0)))*IF(AND(C$3>0,TRIM(C$9)=\"CFS\"),Conv_Flags!$C62,1)","v":2774.9306571428383},null,null,null,null,null,1972,{"$f":"B613","v":3250},{"$f":"B614","v":3177.4708036840034},{"$f":"B615","v":3365},{"$f":"B616","v":3714},{"$f":"B617","v":3979},{"$f":"B618","v":4249},{"$f":"B619","v":4552},{"$f":"B620","v":4461.5769541317495},{"$f":"B621","v":3915.1940922749559},{"$f":"B622","v":3235.9651446295916},{"$f":"B623","v":2915.2613340857097},{"$f":"B624","v":2896.0719087262919},null,3627.4385732341811,3585.3552399008477,3642.5450197943578,null,3596.9941607368005,2978.6375125359114,3337.3677009210005,3552.4118006140002,4302.4185000673069,3436.3112506048192,2997.6320069103399,null,1972,{"$f":"'Compile Data'!C613","v":3250},{"$f":"'Compile Data'!C614","v":3161.316774064544},{"$f":"'Compile Data'!C615","v":3350.8579154597273},{"$f":"'Compile Data'!C616","v":3714},{"$f":"'Compile Data'!C617","v":3979},{"$f":"'Compile Data'!C618","v":4249},{"$f":"'Compile Data'!C619","v":4551.5113874467024},{"$f":"'Compile Data'!C620","v":4455.0842093985457},{"$f":"'Compile Data'!C621","v":3990.4386781973817},{"$f":"'Compile Data'!C622","v":3310.9066199646259},{"$f":"'Compile Data'!C623","v":2971.5098519010348},{"$f":"'Compile Data'!C624","v":2980.4305778301036},null,3655.3401699125002,3613.2568365791667,3663.6713345218891,null,3590.9349379048545,3046.4980322730848,3329.7936723810681,3545.0054341640002,4310.0787339859844,3497.6531359193418,3052.1287393307416]
["1925-12-31",{"$f":"INDIRECT(CONCATENATE(\"'\",B$1,\"'!\",B$4,(YEAR($A63)-1921)*12+MONTH($A63)+3+IF(ISNUMBER(FIND(\"PRV\",B$6)),1,0)))*IF(AND(B$3>0,TRIM(B$9)=\"CFS\"),Conv_Flags!$C63,1)","v":2826.9903670284993},{"$f":"INDIRECT(CONCATENATE(\"'\",C$1,\"'!\",C$4,(YEAR($A63)-1921)*12+MONTH($A63)+3+IF(ISNUMBER(FIND(\"PRV\",C$6)),1,0)))*IF(AND(C$3>0,TRIM(C$9)=\"CFS\"),Conv_Flags!$C63,1)","v":2799.2915180740538},null,null,null,null,null,1973,{"$f":"B625","v":3013.193444961873},{"$f":"B626","v":3252},{"$f":"B627","v":3346},{"$f":"B628","v":3552},{"$f":"B629","v":3636},{"$f":"B630","v":4162},{"$f":"B631","v":4516.0051072040324},{"$f":"B632","v":4552},{"$f":"B633","v":4058.2133041803249},{"$f":"B634","v":3405.3744350321927},{"$f":"B635","v":3193.3692763572767},{"$f":"B636","v":3073.6548231923975},null,3650.065342674478,3629.8986760078114,3646.6508659106748,null,3474.7193444961872,3178.7649667098426,3208.8073498312547,3447.3333333333335,4269.2779398235489,3617.4461067914986,3143.1688758328492,null,1973,{"$f":"'Compile Data'!C625","v":3064.2007142116054},{"$f":"'Compile Data'!C626","v":3252},{"$f":"'Compile Data'!C627","v":3346},{"$f":"'Compile Data'!C628","v":3552},{"$f":"'Compile Data'!C629","v":3636},{"$f":"'Compile Data'!C630","v":4162},{"$f":"'Compile Data'!C631","v":4516.0051072040324},{"$f":"'Compile Data'!C632","v":4552},{"$f":"'Compile Data'!C633","v":4121.0110556584686},{"$f":"'Compile Data'!C634","v":3472.8203643399193},{"$f":"'Compile Data'!C635","v":3264.5723028747943},{"$f":"'Compile Data'!C636","v":3169.4170388458965},null,3682.5983422090208,3662.4316755423538,3675.6688819278929,null,3479.8200714211607,3261.1922142277394,3232.1040007816646,3447.3333333333335,4277.127658758317,3679.7780605740327,3218.0191426228098]
["1926-01-31",{"$f":"INDIRECT(CONCATENATE(\"'\",B$1,\"'!\",B$4,(YEAR($A64)-1921)*12+MONTH($A64)+3+IF(ISNUMBER(FIND(\"PRV\",B$6)),1,0)))*IF(AND(B$3>0,TRIM(B$9)=\"CFS\"),Conv_Flags!$C64,1)","v":2864.3121111577639},{"$f":"INDIRECT(CONCATENATE(\"'\",C$1,\"'!\",C$4,(YEAR($A64)-1921)*12+MONTH($A64)+3+IF(ISNUMBER(FIND(\"PRV\",C$6)),1,0)))*IF(AND(C$3>0,TRIM(C$9)=\"CFS\"),Conv_Flags!$C64,1)","v":2836.6307669049279},null,null,null,null,null,1974,{"$f":"B637","v":3133.1671661275122},{"$f":"B638","v":3252},{"$f":"B639","v":3267},{"$f":"B640","v":3252},{"$f":"B641","v":3694},{"$f":"B642","v":3416},{"$f":"B643","v":4289},{"$f":"B644","v":4552},{"$f":"B645","v":4473.8816391558394},{"$f":"B646","v":4150.0000000000009},{"$f":"B647","v":3700},{"$f":"B648","v":3399.9999999999995},null,3724.997245267261,3760.6589455533481,3714.9207337736129,null,3347.9167166127509,3600,3203.7486444309279,3330.6666666666665,4085.2352048944799,4074.9704097889598,3362.6169718770652,null,1974,{"$f":"'Compile Data'!C637","v":3226.3542375851334},{"$f":"'Compile Data'!C638","v":3252},{"$f":"'Compile Data'!C639","v":3267},{"$f":"'Compile Data'!C640","v":3252},{"$f":"'Compile Data'!C641","v":3694},{"$f":"'Compile Data'!C642","v":3416},{"$f":"'Compile Data'!C643","v":4289},{"$f":"'Compile Data'!C644","v":4552},{"$f":"'Compile Data'!C645","v":4473.8891501407834},{"$f":"'Compile Data'!C646","v":4150.0000000000009},{"$f":"'Compile Data'!C647","v":3700.0000000000005},{"$f":"'Compile Data'!C648","v":3399.9999999999995},null,3725.0626344883317,3761.3394406293392,3722.6869489771598,null,3357.2354237585132,3600,3239.0156892520208,3330.6666666666665,4085.2361437675982,4074.9722875351963,3362.6817576882136]
["1926-02-28",{"$f":"INDIRECT(CONCATENATE(\"'\",B$1,\"'!\",B$4,(YEAR($A65)-1921)*12+MONTH($A65)+3+IF(ISNUMBER(FIND(\"PRV\",B$6)),1,0)))*IF(AND(B$3>0,TRIM(B$9)=\"CFS\"),Conv_Flags!$C65,1)","v":3606.9285923085886},{"$f":"INDIRECT(CONCATENATE(\"'\",C$1,\"'!\",C$4,(YEAR($A65)-1921)*12+MONTH($A65)+3+IF(ISNUMBER(FIND(\"PRV\",C$6)),1,0)))*IF(AND(C$3>0,TRIM(C$9)=\"CFS\"),Conv_Flags!$C65,1)","v":3579.2729918976224},null,null,null,null,null,1975,{"$f":"B649","v":3250},{"$f":"B650","v":3175.7018312623923},{"$f":"B651","v":3347.3834727889034},{"$f":"B652","v":3437.9404034330373},{"$f":"B653","v":3936},{"$f":"B654","v":3756},{"$f":"B655","v":4415.8293137917199},{"$f":"B656","v":4552},{"$f":"B657","v":4469.7749699012438},{"$f":"B658","v":4150},{"$f":"B659","v":3699.9999999999995},{"$f":"B660","v":3400},null,3798.6107302167288,3783.0923975268029,3799.2191659314412,null,3480.0051414968666,3600,3298.0138764419535,3447.0582639510453,4231.6791996855854,4073.9437424753105,3375.3333333333335,null,1975,{"$f":"'Compile Data'!C649","v":3250},{"$f":"'Compile Data'!C650","v":3176.0905461292809},{"$f":"'Compile Data'!C651","v":3347.7719175899201},{"$f":"'Compile Data'!C652","v":3445.3216736920881},{"$f":"'Compile Data'!C653","v":3936},{"$f":"'Compile Data'!C654","v":3756},{"$f":"'Compile Data'!C655","v":4415.8293137917199},{"$f":"'Compile Data'!C656","v":4552},{"$f":"'Compile Data'!C657","v":4469.9058055746445},{"$f":"'Compile Data'!C658","v":4150},{"$f":"'Compile Data'!C659","v":3699.9999999999995},{"$f":"'Compile Data'!C660","v":3400},null,3799.6823830146732,3780.6330193807448,3799.9099380648045,null,3481.6368274822576,3600,3299.1308251413111,3449.7129547822165,4231.6955541447605,4073.9764513936607,3375.3333333333335]
["1926-03-31",{"$f":"INDIRECT(CONCATENATE(\"'\",B$1,\"'!\",B$4,(YEAR($A66)-1921)*12+MONTH($A66)+3+IF(ISNUMBER(FIND(\"PRV\",B$6)),1,0)))*IF(AND(B$3>0,TRIM(B$9)=\"CFS\"),Conv_Flags!$C66,1)","v":3674.5086693416038},{"$f":"INDIRECT(CONCATENATE(\"'\",C$1,\"'!\",C$4,(YEAR($A66)-1921)*12+MONTH($A66)+3+IF(ISNUMBER(FIND(\"PRV\",C$6)),1,0)))*IF(AND(C$3>0,TRIM(C$9)=\"CFS\"),Conv_Flags!$C66,1)","v":3625.2852698394213},null,null,null,null,null,1976,{"$f":"B661","v":3250},{"$f":"B662","v":3252},{"$f":"B663","v":3263.7840754747444},{"$f":"B664","v":3517.2366719482029},{"$f":"B665","v":3670.4837392057248},{"$f":"B666","v":3902.7167531076043},{"$f":"B667","v":4093.2760739027208},{"$f":"B668","v":3858.3364799238902},{"$f":"B669","v":3363.5750237877096},{"$f":"B670","v":3038.4825111005948},{"$f":"B671","v":2943.9643467466503},{"$f":"B672","v":2911.5899342072898},null,3250.0338161693076,2993.2225469603832,3422.1204674504279,null,3455.9725726364945,2909.8550924147253,3306.1006028622114,3414.0875390086035,3842.8396721077333,3182.7462721751363,2795.867984428141,null,1976,{"$f":"'Compile Data'!C661","v":3250},{"$f":"'Compile Data'!C662","v":3252},{"$f":"'Compile Data'!C663","v":3269.1318031176252},{"$f":"'Compile Data'!C664","v":3499.8881421043911},{"$f":"'Compile Data'!C665","v":3652.8411679805545},{"$f":"'Compile Data'!C666","v":3885.0959450978798},{"$f":"'Compile Data'!C667","v":4075.679659037643},{"$f":"'Compile Data'!C668","v":3857.6357972064775},{"$f":"'Compile Data'!C669","v":3419.490590002441},{"$f":"'Compile Data'!C670","v":3080.6947210077324},{"$f":"'Compile Data'!C671","v":2968.1436089354934},{"$f":"'Compile Data'!C672","v":2930.8682201796432},null,3261.2426931251739,3055.3220030884081,3428.4558045558229,null,3448.2818171503022,2939.5175798325595,3305.2689685424557,3407.1468430707646,3838.6443200833746,3215.6452321596817,2820.6575504700172]
["1926-04-30",{"$f":"INDIRECT(CONCATENATE(\"'\",B$1,\"'!\",B$4,(YEAR($A67)-1921)*12+MONTH($A67)+3+IF(ISNUMBER(FIND(\"PRV\",B$6)),1,0)))*IF(AND(B$3>0,TRIM(B$9)=\"CFS\"),Conv_Flags!$C67,1)","v":3994.5818071189879},{"$f":"INDIRECT(CONCATENATE(\"'\",C$1,\"'!\",C$4,(YEAR($A67)-1921)*12+MONTH($A67)+3+IF(ISNUMBER(FIND(\"PRV\",C$6)),1,0)))*IF(AND(C$3>0,TRIM(C$9)=\"CFS\"),Conv_Flags!$C67,1)","v":3945.4732038777897},null,null,null,null,null,1977,{"$f":"B673","v":2709.5394814798733},{"$f":"B674","v":2588.9847284478674},{"$f":"B675","v":2402.2200501735638},{"$f":"B676","v":2083.6888146090878},{"$f":"B677","v":2022.2963660377436},{"$f":"B678","v":1902.1196602988023},{"$f":"B679","v":1692.1584874328016},{"$f":"B680","v":1546.8862229232827},{"$f":"B681","v":1059.0408317339711},{"$f":"B682","v":622.31898373184322},{"$f":"B683","v":550},{"$f":"B684","v":550},null,1174.4189529675348,1369.0382651923967,1644.1044689057362,null,2280.6039060315202,562.05316395530724,2549.5959086273733,2263.8498040084855,1670.4582423851862,819.95073173186393,550,null,1977,{"$f":"'Compile Data'!C673","v":2758.3870997573467},{"$f":"'Compile Data'!C674","v":2577.2910540106277},{"$f":"'Compile Data'!C675","v":2428.8963121818629},{"$f":"'Compile Data'!C676","v":2408.4546769555282},{"$f":"'Compile Data'!C677","v":2273.2263526882252},{"$f":"'Compile Data'!C678","v":2081.3127958849223},{"$f":"'Compile Data'!C679","v":1822.2781340065349},{"$f":"'Compile Data'!C680","v":1674.8084207138941},{"$f":"'Compile Data'!C681","v":1151.3156912613506},{"$f":"'Compile Data'!C682","v":650.0625283175533},{"$f":"'Compile Data'!C683","v":550},{"$f":"'Compile Data'!C684","v":550},null,1269.6072355218475,1416.3406145363235,1743.8360888148206,null,2421.543668731475,566.67708805292557,2608.5589786293558,2420.8698974956055,1822.6675931450345,865.9456074839627,550]
["1926-05-31",{"$f":"INDIRECT(CONCATENATE(\"'\",B$1,\"'!\",B$4,(YEAR($A68)-1921)*12+MONTH($A68)+3+IF(ISNUMBER(FIND(\"PRV\",B$6)),1,0)))*IF(AND(B$3>0,TRIM(B$9)=\"CFS\"),Conv_Flags!$C68,1)","v":3722.8117264016328},{"$f":"INDIRECT(CONCATENATE(\"'\",C$1,\"'!\",C$4,(YEAR($A68)-1921)*12+MONTH($A68)+3+IF(ISNUMBER(FIND(\"PRV\",C$6)),1,0)))*IF(AND(C$3>0,TRIM(C$9)=\"CFS\"),Conv_Flags!$C68,1)","v":3676.2265129133139},null,null,null,null,null,1978,{"$f":"B685","v":550.00000000000011},{"$f":"B686","v":550},{"$f":"B687","v":964.51806884288408},{"$f":"B688","v":2874.4169273451766},{"$f":"B689","v":3567},{"$f":"B690","v":4000},{"$f":"B691","v":4552},{"$f":"B692","v":4552},{"$f":"B693","v":4288.7981397819294},{"$f":"B694","v":3884.5777781371507},{"$f":"B695","v":3570.3395342719691},{"$f":"B696","v":3400.0000000000005},null,3688.2197188119153,3727.4106126383799,3062.8042040315922,null,2046.1869992376123,3510.7780841687395,944.18163312886804,1965.8116653960203,4257.9747674727414,3929.9288630477627,3341.7567505192474,null,1978,{"$f":"'Compile Data'!C685","v":550},{"$f":"'Compile Data'!C686","v":550},{"$f":"'Compile Data'!C687","v":973.82822643416148},{"$f":"'Compile Data'!C688","v":2875.4815778174684},{"$f":"'Compile Data'!C689","v":3567},{"$f":"'Compile Data'!C690","v":4000},{"$f":"'Compile Data'!C691","v":4552},{"$f":"'Compile Data'!C692","v":4552},{"$f":"'Compile Data'!C693","v":4287.6756698662712},{"$f":"'Compile Data'!C694","v":3933.5247401505758},{"$f":"'Compile Data'!C695","v":3617.8988905665983},{"$f":"'Compile Data'!C696","v":3399.9999999999995},null,3699.7496506430798,3748.6919992197786,3071.6174254029229,null,2048.261960850326,3534.4843336134345,946.64225383572398,1969.2699347505434,4257.834458733284,3953.7748251458615,3346.5133401732905]
["1926-06-30",{"$f":"INDIRECT(CONCATENATE(\"'\",B$1,\"'!\",B$4,(YEAR($A69)-1921)*12+MONTH($A69)+3+IF(ISNUMBER(FIND(\"PRV\",B$6)),1,0)))*IF(AND(B$3>0,TRIM(B$9)=\"CFS\"),Conv_Flags!$C69,1)","v":3302.5000867308722},{"$f":"INDIRECT(CONCATENATE(\"'\",C$1,\"'!\",C$4,(YEAR($A69)-1921)*12+MONTH($A69)+3+IF(ISNUMBER(FIND(\"PRV\",C$6)),1,0)))*IF(AND(C$3>0,TRIM(C$9)=\"CFS\"),Conv_Flags!$C69,1)","v":3228.9711092128205},null,null,null,null,null,1979,{"$f":"B697","v":3239.4116583313471},{"$f":"B698","v":3201.3776521808213},{"$f":"B699","v":3128.7149356945824},{"$f":"B700","v":3285.235346223958},{"$f":"B701","v":3626.4723070388059},{"$f":"B702","v":4132.7877544813891},{"$f":"B703","v":4394.9463706209845},{"$f":"B704","v":4508.7451324563635},{"$f":"B705","v":3897.050699469135},{"$f":"B706","v":3304.0446877139657},{"$f":"B707","v":3083.9957067851842},{"$f":"B708","v":3050.150694958234},null,3586.6497254513401,3579.0074210127768,3571.0777454962313,null,3385.5799895089076,3118.2842494781453,3228.0304798296825,3275.9584205094511,4199.5601902031767,3516.1347519188957,3118.5055180062986,null,1979,{"$f":"'Compile Data'!C697","v":3237.5834803968355},{"$f":"'Compile Data'!C698","v":3186.014189679473},{"$f":"'Compile Data'!C699","v":3187.8172592397395},{"$f":"'Compile Data'!C700","v":3344.2990044387716},{"$f":"'Compile Data'!C701","v":3685.490756299087},{"$f":"'Compile Data'!C702","v":4191.7376600393163},{"$f":"'Compile Data'!C703","v":4453.8042456170579},{"$f":"'Compile Data'!C704","v":4552},{"$f":"'Compile Data'!C705","v":3943.1047804512336},{"$f":"'Compile Data'!C706","v":3335.4738777016846},{"$f":"'Compile Data'!C707","v":3118.0147622777217},{"$f":"'Compile Data'!C708","v":3083.8021481477981},null,3625.3780147033608,3607.8955346418729,3609.928513690727,null,3423.6563559750293,3152.8194400033972,3245.8911078838582,3322.6229122225973,4252.9599185078841,3553.6236236261348,3148.8728235847725]
["1926-07-31",{"$f":"INDIRECT(CONCATENATE(\"'\",B$1,\"'!\",B$4,(YEAR($A70)-1921)*12+MONTH($A70)+3+IF(ISNUMBER(FIND(\"PRV\",B$6)),1,0)))*IF(AND(B$3>0,TRIM(B$9)=\"CFS\"),Conv_Flags!$C70,1)","v":2822.4275377563113},{"$f":"INDIRECT(CONCATENATE(\"'\",C$1,\"'!\",C$4,(YEAR($A70)-1921)*12+MONTH($A70)+3+IF(ISNUMBER(FIND(\"PRV\",C$6)),1,0)))*IF(AND(C$3>0,TRIM(C$9)=\"CFS\"),Conv_Flags!$C70,1)","v":2793.6100929654681},null,null,null,null,null,1980,{"$f":"B709","v":3137.3680056680687},{"$f":"B710","v":3252},{"$f":"B711","v":3367},{"$f":"B712","v":3528},{"$f":"B713","v":3292},{"$f":"B714","v":4016.8630267426579},{"$f":"B715","v":4231.6965744630206},{"$f":"B716","v":4249.4166541457071},{"$f":"B717","v":4032.3296424360515},{"$f":"B718","v":3645.0917239997893},{"$f":"B719","v":3348.024605011768},{"$f":"B720","v":3380.4455670882503},null,3596.3546866907686,3643.9498920136907,3623.3529832962763,null,3403.2231032410723,3389.7634282713948,3261.3608382867965,3389,4040.0352691423532,3710.0942705161465,3267.4455393137137,null,1980,{"$f":"'Compile Data'!C709","v":3177.8089414676592},{"$f":"'Compile Data'!C710","v":3252},{"$f":"'Compile Data'!C711","v":3367},{"$f":"'Compile Data'!C712","v":3528},{"$f":"'Compile Data'!C713","v":3292},{"$f":"'Compile Data'!C714","v":4016.8630267426579},{"$f":"'Compile Data'!C715","v":4231.6965744630206},{"$f":"'Compile Data'!C716","v":4247.4519058473334},{"$f":"'Compile Data'!C717","v":4029.2907327060034},{"$f":"'Compile Data'!C718","v":3741.1110597168899},{"$f":"'Compile Data'!C719","v":3443.8583389649366},{"$f":"'Compile Data'!C720","v":3399.9999999999995},null,3619.6170768858178,3672.2549484743399,3643.9233816590418,null,3407.2671968210316,3446.471289607794,3275.6775038853893,3389,4039.1642183515037,3759.4965210778737,3299.2536575755407]
["1926-08-31",{"$f":"INDIRECT(CONCATENATE(\"'\",B$1,\"'!\",B$4,(YEAR($A71)-1921)*12+MONTH($A71)+3+IF(ISNUMBER(FIND(\"PRV\",B$6)),1,0)))*IF(AND(B$3>0,TRIM(B$9)=\"CFS\"),Conv_Flags!$C71,1)","v":2561.4659640549562},{"$f":"INDIRECT(CONCATENATE(\"'\",C$1,\"'!\",C$4,(YEAR($A71)-1921)*12+MONTH($A71)+3+IF(ISNUMBER(FIND(\"PRV\",C$6)),1,0)))*IF(AND(C$3>0,TRIM(C$9)=\"CFS\"),Conv_Flags!$C71,1)","v":2541.9892147951418},null,null,null,null,null,1981,{"$f":"B721","v":3236.5485014285441},{"$f":"B722","v":3022.6604938369251},{"$f":"B723","v":3173.1794511364992},{"$f":"B724","v":3491.9686318293498},{"$f":"B725","v":3899.1738320457312},{"$f":"B726","v":4256},{"$f":"B727","v":4492.3457842470852},{"$f":"B728","v":4286.1395711632576},{"$f":"B729","v":3625.9529714565128},{"$f":"B730","v":3155.8818815117716},{"$f":"B731","v":2873.4473937648163},{"$f":"B732","v":2856.7774492297785},null,3531.5597201843211,3511.1311815280646,3530.8396634708552,null,3466.6513319125552,2921.5601157440856,3217.1488864651924,3375.355081969059,4199.2621892903662,3306.6851892324044,2944.1767576919133,null,1981,{"$f":"'Compile Data'!C721","v":3250.0000000000005},{"$f":"'Compile Data'!C722","v":3051.6636064883101},{"$f":"'Compile Data'!C723","v":3203.4696777006639},{"$f":"'Compile Data'!C724","v":3522.2382336777123},{"$f":"'Compile Data'!C725","v":3929.4162253845507},{"$f":"'Compile Data'!C726","v":4256},{"$f":"'Compile Data'!C727","v":4492.3457846581932},{"$f":"'Compile Data'!C728","v":4285.2449722721494},{"$f":"'Compile Data'!C729","v":3715.5509333051523},{"$f":"'Compile Data'!C730","v":3235.5898857669795},{"$f":"'Compile Data'!C731","v":2944.3456766424933},{"$f":"'Compile Data'!C732","v":2916.3720160174889},null,3563.8886292571483,3538.4174243352932,3566.853084326141,null,3491.9575486502472,2983.0975157413341,3241.5631002569576,3405.4159424382688,4214.0185840687991,3374.0737474648608,2985.368225899932]
["1926-09-30",{"$f":"INDIRECT(CONCATENATE(\"'\",B$1,\"'!\",B$4,(YEAR($A72)-1921)*12+MONTH($A72)+3+IF(ISNUMBER(FIND(\"PRV\",B$6)),1,0)))*IF(AND(B$3>0,TRIM(B$9)=\"CFS\"),Conv_Flags!$C72,1)","v":2485.5551250883532},{"$f":"INDIRECT(CONCATENATE(\"'\",C$1,\"'!\",C$4,(YEAR($A72)-1921)*12+MONTH($A72)+3+IF(ISNUMBER(FIND(\"PRV\",C$6)),1,0)))*IF(AND(C$3>0,TRIM(C$9)=\"CFS\"),Conv_Flags!$C72,1)","v":2471.6767650258375},null,null,null,null,null,1982,{"$f":"B733","v":2913.0291269635532},{"$f":"B734","v":3252},{"$f":"B735","v":3276},{"$f":"B736","v":3616},{"$f":"B737","v":3530},{"$f":"B738","v":3953},{"$f":"B739","v":4094},{"$f":"B740","v":4541.6954884821535},{"$f":"B741","v":4500},{"$f":"B742","v":4150},{"$f":"B743","v":3700.0000000000005},{"$f":"B744","v":3400},null,3776.2246240401796,3732.6412907068461,3743.8103846204758,null,3421.4029126963551,3600,3169.3544628946106,3427.6666666666665,4150.9238721205384,4080.2119360602692,3375.3333333333335,null,1982,{"$f":"'Compile Data'!C733","v":2941.5598233610604},{"$f":"'Compile Data'!C734","v":3252},{"$f":"'Compile Data'!C735","v":3276},{"$f":"'Compile Data'!C736","v":3616},{"$f":"'Compile Data'!C737","v":3530},{"$f":"'Compile Data'!C738","v":3953},{"$f":"'Compile Data'!C739","v":4094},{"$f":"'Compile Data'!C740","v":4540.1693337718616},{"$f":"'Compile Data'!C741","v":4500},{"$f":"'Compile Data'!C742","v":4150},{"$f":"'Compile Data'!C743","v":3700.0000000000005},{"$f":"'Compile Data'!C744","v":3400},null,3776.0974444809885,3732.5141111476551,3746.06076309441,null,3424.2559823361057,3600,3183.9364578424511,3427.6666666666665,4150.5423334429652,4080.0211667214826,3375.3333333333335]
["1926-10-31",{"$f":"INDIRECT(CONCATENATE(\"'\",B$1,\"'!\",B$4,(YEAR($A73)-1921)*12+MONTH($A73)+3+IF(ISNUMBER(FIND(\"PRV\",B$6)),1,0)))*IF(AND(B$3>0,TRIM(B$9)=\"CFS\"),Conv_Flags!$C73,1)","v":2393.6463708688207},{"$f":"INDIRECT(CONCATENATE(\"'\",C$1,\"'!\",C$4,(YEAR($A73)-1921)*12+MONTH($A73)+3+IF(ISNUMBER(FIND(\"PRV\",C$6)),1,0)))*IF(AND(C$3>0,TRIM(C$9)=\"CFS\"),Conv_Flags!$C73,1)","v":2376.5665676945414},null,null,null,null,null,1983,{"$f":"B745","v":3250},{"$f":"B746","v":3252},{"$f":"B747","v":3328},{"$f":"B748","v":3371},{"$f":"B749","v":3252},{"$f":"B750","v":3417},{"$f":"B751","v":4074},{"$f":"B752","v":4552},{"$f":"B753","v":4500},{"$f":"B754","v":4150},{"$f":"B755","v":3700},{"$f":"B756","v":3400},null,3683.5833333333335,3769.5833333333335,3687.1666666666665,null,3307.3,3600,3303.875,3317,3979.75,4081.5,3375.3333333333335,null,1983,{"$f":"'Compile Data'!C745","v":3250},{"$f":"'Compile Data'!C746","v":3252},{"$f":"'Compile Data'!C747","v":3328},{"$f":"'Compile Data'!C748","v":3371},{"$f":"'Compile Data'!C749","v":3252},{"$f":"'Compile Data'!C750","v":3417},{"$f":"'Compile Data'!C751","v":4074},{"$f":"'Compile Data'!C752","v":4552},{"$f":"'Compile Data'!C753","v":4500},{"$f":"'Compile Data'!C754","v":4150},{"$f":"'Compile Data'!C755","v":3700},{"$f":"'Compile Data'!C756","v":3400},null,3683.5833333333335,3769.5833333333335,3687.1666666666665,null,3307.3,3600,3303.875,3317,3979.75,4081.5,3375.3333333333335]
["1926-11-30",{"$f":"INDIRECT(CONCATENATE(\"'\",B$1,\"'!\",B$4,(YEAR($A74)-1921)*12+MONTH($A74)+3+IF(ISNUMBER(FIND(\"PRV\",B$6)),1,0)))*IF(AND(B$3>0,TRIM(B$9)=\"CFS\"),Conv_Flags!$C74,1)","v":2857.8251177540669},{"$f":"INDIRECT(CONCATENATE(\"'\",C$1,\"'!\",C$4,(YEAR($A74)-1921)*12+MONTH($A74)+3+IF(ISNUMBER(FIND(\"PRV\",C$6)),1,0)))*IF(AND(C$3>0,TRIM(C$9)=\"CFS\"),Conv_Flags!$C74,1)","v":2840.7694441212411},null,null,null,null,null,1984,{"$f":"B757","v":3250},{"$f":"B758","v":3252},{"$f":"B759","v":3285},{"$f":"B760","v":3650},{"$f":"B761","v":4005},{"$f":"B762","v":4246},{"$f":"B763","v":4552},{"$f":"B764","v":4552},{"$f":"B765","v":4280.4342178834122},{"$f":"B766","v":3612.1672830229645},{"$f":"B767","v":3381.03204007563},{"$f":"B768","v":3234.9247046673531},null,3781.0540498237733,3747.7408627965747,3775.0465204707803,null,3588,3348.5285207908069,3328,3521.1666666666665,4373.1792772354265,3791.7739733289213,3266.1770256470277,null,1984,{"$f":"'Compile Data'!C757","v":3250},{"$f":"'Compile Data'!C758","v":3252},{"$f":"'Compile Data'!C759","v":3285},{"$f":"'Compile Data'!C760","v":3650},{"$f":"'Compile Data'!C761","v":4005},{"$f":"'Compile Data'!C762","v":4246},{"$f":"'Compile Data'!C763","v":4552},{"$f":"'Compile Data'!C764","v":4552},{"$f":"'Compile Data'!C765","v":4272.2476889088985},{"$f":"'Compile Data'!C766","v":3604.0158004264417},{"$f":"'Compile Data'!C767","v":3371.9872476505384},{"$f":"'Compile Data'!C768","v":3234.318583834437},null,3778.8378798232902,3745.5246922632682,3772.8807767350268,null,3588,3343.8521167425934,3328,3521.1666666666665,4372.1559611136126,3785.3525072257739,3264.2658149062904]
["1926-12-31",{"$f":"INDIRECT(CONCATENATE(\"'\",B$1,\"'!\",B$4,(YEAR($A75)-1921)*12+MONTH($A75)+3+IF(ISNUMBER(FIND(\"PRV\",B$6)),1,0)))*IF(AND(B$3>0,TRIM(B$9)=\"CFS\"),Conv_Flags!$C75,1)","v":3347},{"$f":"INDIRECT(CONCATENATE(\"'\",C$1,\"'!\",C$4,(YEAR($A75)-1921)*12+MONTH($A75)+3+IF(ISNUMBER(FIND(\"PRV\",C$6)),1,0)))*IF(AND(C$3>0,TRIM(C$9)=\"CFS\"),Conv_Flags!$C75,1)","v":3342.1011748714436},null,null,null,null,null,1985,{"$f":"B769","v":3247.0903522359131},{"$f":"B770","v":3252},{"$f":"B771","v":3360},{"$f":"B772","v":3541.5708774154605},{"$f":"B773","v":3713.6708782581632},{"$f":"B774","v":3925.3710421797186},{"$f":"B775","v":4151.7636401387035},{"$f":"B776","v":3833.7062948592838},{"$f":"B777","v":3316.7179061147713},{"$f":"B778","v":2983.155160214545},{"$f":"B779","v":2694.4871211371687},{"$f":"B780","v":2706.5501064712739},null,3262.6020072330557,3216.5085241301017,3393.840281585417,null,3490.694490576288,2751.2723963112658,3311.8345358193296,3461.4687721815139,3856.508842341043,3066.1220970329409,2706.516569665011,null,1985,{"$f":"'Compile Data'!C769","v":3246.4852370591661},{"$f":"'Compile Data'!C770","v":3252},{"$f":"'Compile Data'!C771","v":3360},{"$f":"'Compile Data'!C772","v":3541.570874217201},{"$f":"'Compile Data'!C773","v":3713.6708750625389},{"$f":"'Compile Data'!C774","v":3925.3710394011637},{"$f":"'Compile Data'!C775","v":4151.7636373661517},{"$f":"'Compile Data'!C776","v":3898.9430201245523},{"$f":"'Compile Data'!C777","v":3374.483493389218},{"$f":"'Compile Data'!C778","v":3054.2875953565112},{"$f":"'Compile Data'!C779","v":2756.6422886929372},{"$f":"'Compile Data'!C780","v":2773.8706227003759},null,3306.327252275285,3265.9284470491948,3420.7573902808181,null,3490.6339775019815,2817.0004989092045,3311.6074915212466,3461.4687705828237,3880.0387202794363,3130.4550497127825,2772.1480725211318]
["1927-01-31",{"$f":"INDIRECT(CONCATENATE(\"'\",B$1,\"'!\",B$4,(YEAR($A76)-1921)*12+MONTH($A76)+3+IF(ISNUMBER(FIND(\"PRV\",B$6)),1,0)))*IF(AND(B$3>0,TRIM(B$9)=\"CFS\"),Conv_Flags!$C76,1)","v":3668},{"$f":"INDIRECT(CONCATENATE(\"'\",C$1,\"'!\",C$4,(YEAR($A76)-1921)*12+MONTH($A76)+3+IF(ISNUMBER(FIND(\"PRV\",C$6)),1,0)))*IF(AND(C$3>0,TRIM(C$9)=\"CFS\"),Conv_Flags!$C76,1)","v":3668},null,null,null,null,null,1986,{"$f":"B781","v":2722.4047624361651},{"$f":"B782","v":2686.7025590380199},{"$f":"B783","v":2875.1237385333925},{"$f":"B784","v":3450.1199584381779},{"$f":"B785","v":3252},{"$f":"B786","v":3534},{"$f":"B787","v":4030.3765964253635},{"$f":"B788","v":4025.5847969345623},{"$f":"B789","v":3728.8317739120644},{"$f":"B790","v":3407.9092334891225},{"$f":"B791","v":3090.4335097995058},{"$f":"B792","v":3194.2918210280245},null,{"$f":"IF(W$11=\"AVG\",AVERAGE(M76:U76,J77:L77),SUM(M76:U76,J77:L77))","v":3409.4039639483981},{"$f":"IF(X$11=\"AVG\",AVERAGE(O76:U76,J77:N77),SUM(O76:U76,J77:N77))","v":3395.9385725371685},{"$f":"IF(Y$11=\"AVG\",AVERAGE(J76:U76),SUM(J76:U76))","v":3333.1482291695334},null,3078.4297274455344,3194.0400387026407,2840.6415231155761,{"$f":"IF(AD$11=\"AVG\",IF(AC$1=\"INST-VAL\",AVERAGE(K76:M76,L76:N76),AVERAGE(L76:N76)),SUM(L76:N76))","v":3098.1983254968604},{"$f":"IF(AE$11=\"AVG\",IF(AC$1=\"INST-VAL\",AVERAGE(N76:Q76,O76:R76),AVERAGE(O76:R76)),SUM(O76:R76))","v":3770.0943200789893},{"$f":"IF(AF$11=\"AVG\",IF(AC$1=\"INST-VAL\",AVERAGE(Q76:T76,R76:U76),AVERAGE(R76:U76)),SUM(R76:U76))","v":3459.2782065454967},{"$f":"IF(AG$11=\"AVG\",IF(AC$1=\"INST-VAL\",AVERAGE(T76:U76,J77,U76,J77:K77),AVERAGE(U76,J77:K77)),SUM(U76,J77:K77))","v":3149.1982941012079},null,1986,{"$f":"'Compile Data'!C781","v":2786.689575312088},{"$f":"'Compile Data'!C782","v":2755.1257504089258},{"$f":"'Compile Data'!C783","v":2943.5082552717572},{"$f":"'Compile Data'!C784","v":3518.4560865666585},{"$f":"'Compile Data'!C785","v":3252},{"$f":"'Compile Data'!C786","v":3534},{"$f":"'Compile Data'!C787","v":4030.3765931319599},{"$f":"'Compile Data'!C788","v":4023.9277153311828},{"$f":"'Compile Data'!C789","v":3726.8270915894241},{"$f":"'Compile Data'!C790","v":3339.1168913676333},{"$f":"'Compile Data'!C791","v":3046.042206772011},{"$f":"'Compile Data'!C792","v":3151.8753565410525},null,{"$f":"IF(AW$11=\"AVG\",AVERAGE(AM76:AU76,AJ77:AL77),SUM(AM76:AU76,AJ77:AL77))","v":3391.7824771125124},{"$f":"IF(AX$11=\"AVG\",AVERAGE(AO76:AU76,AJ77:AN77),SUM(AO76:AU76,AJ77:AN77))","v":3364.814262061238},{"$f":"IF(AY$11=\"AVG\",AVERAGE(AJ76:AU76),SUM(AJ76:AU76))","v":3342.3287935243911},null,3125.8869759806771,3145.4405668332874,{"$f":"IF(BC$11=\"AVG\",IF(BC$1=\"INST-VAL\",AVERAGE(AU75,AJ76:AL76,AJ76:AM76),AVERAGE(AJ76:AM76)),SUM(AJ76:AM76))","v":2907.871733906572},{"$f":"IF(BD$11=\"AVG\",IF(BC$1=\"INST-VAL\",AVERAGE(AK76:AM76,AL76:AN76),AVERAGE(AL76:AN76)),SUM(AL76:AN76))","v":3155.1757390142934},{"$f":"IF(BE$11=\"AVG\",IF(BC$1=\"INST-VAL\",AVERAGE(AN76:AQ76,AO76:AR76),AVERAGE(AO76:AR76)),SUM(AO76:AR76))","v":3769.4294635644637},{"$f":"IF(BF$11=\"AVG\",IF(BC$1=\"INST-VAL\",AVERAGE(AQ76:AT76,AR76:AU76),AVERAGE(AR76:AU76)),SUM(AR76:AU76))","v":3424.9719314162962},{"$f":"IF(BG$11=\"AVG\",IF(BC$1=\"INST-VAL\",AVERAGE(AT76:AU76,AJ77,AU76,AJ77:AK77),AVERAGE(AU76,AJ77:AK77)),SUM(AU76,AJ77:AK77))","v":3106.1655687027555}]
["1927-02-28",{"$f":"INDIRECT(CONCATENATE(\"'\",B$1,\"'!\",B$4,(YEAR($A77)-1921)*12+MONTH($A77)+3+IF(ISNUMBER(FIND(\"PRV\",B$6)),1,0)))*IF(AND(B$3>0,TRIM(B$9)=\"CFS\"),Conv_Flags!$C77,1)","v":3462},{"$f":"INDIRECT(CONCATENATE(\"'\",C$1,\"'!\",C$4,(YEAR($A77)-1921)*12+MONTH($A77)+3+IF(ISNUMBER(FIND(\"PRV\",C$6)),1,0)))*IF(AND(C$3>0,TRIM(C$9)=\"CFS\"),Conv_Flags!$C77,1)","v":3462},null,null,null,null,null,1987,{"$f":"B793","v":3186.8803370716619},{"$f":"B794","v":3042.4119386083676},{"$f":"B795","v":2970.0076016739263},{"$f":"B796","v":3104.4374810801933},{"$f":"B797","v":3436.0977804232248},{"$f":"B798","v":4161.6660405454677},{"$f":"B799","v":4121.3205893895156},{"$f":"B800","v":3764.4606877586871},{"$f":"B801","v":3155.9538606199467},{"$f":"B802","v":2701.545974845757},{"$f":"B803","v":2412.5639177606581},{"$f":"B804","v":2294.6397645009561},null,3002.1418104420554,2979.7643803644919,3195.9988311898633,null,3245.4455981188553,{"$f":"IF(AB$11=\"AVG\",IF(AC$1=\"INST-VAL\",AVERAGE(S77:U77,T77:U77,J78),AVERAGE(T77:U77,J78)),SUM(T77:U77,J78))","v":2377.7493213941066},3087.166132102016,3104.5666474233053,3835.8682845538142,2824.9034948390458,2234.8145639133622,null,1987,{"$f":"'Compile Data'!C793","v":3137.6913830059684},{"$f":"'Compile Data'!C794","v":3011.817726350479},{"$f":"'Compile Data'!C795","v":2929.2586746937786},{"$f":"'Compile Data'!C796","v":3057.5682682315119},{"$f":"'Compile Data'!C797","v":3389.2692377198514},{"$f":"'Compile Data'!C798","v":4114.8983328022377},{"$f":"'Compile Data'!C799","v":4080.8970221796699},{"$f":"'Compile Data'!C800","v":3780.9609910901017},{"$f":"'Compile Data'!C801","v":3155.9978141328847},{"$f":"'Compile Data'!C802","v":2695.5747307248125},{"$f":"'Compile Data'!C803","v":2402.4972773307918},{"$f":"'Compile Data'!C804","v":2287.087670088169},null,2984.6786015047469,2969.0378472105608,3170.2932606958543,null,3202.8417529799449,{"$f":"IF(BB$11=\"AVG\",IF(BC$1=\"INST-VAL\",AVERAGE(AS77:AU77,AT77:AU77,AJ78),AVERAGE(AT77:AU77,AJ78)),SUM(AT77:AU77,AJ78))","v":2369.423281277474},3045.8723991091269,3062.456808320152,3812.3474679995943,2822.0235381944058,2226.6301761227687]
["1927-03-31",{"$f":"INDIRECT(CONCATENATE(\"'\",B$1,\"'!\",B$4,(YEAR($A78)-1921)*12+MONTH($A78)+3+IF(ISNUMBER(FIND(\"PRV\",B$6)),1,0)))*IF(AND(B$3>0,TRIM(B$9)=\"CFS\"),Conv_Flags!$C78,1)","v":4085.3751557241858},{"$f":"INDIRECT(CONCATENATE(\"'\",C$1,\"'!\",C$4,(YEAR($A78)-1921)*12+MONTH($A78)+3+IF(ISNUMBER(FIND(\"PRV\",C$6)),1,0)))*IF(AND(C$3>0,TRIM(C$9)=\"CFS\"),Conv_Flags!$C78,1)","v":4085.3751557241858},null,null,null,null,null,1988,{"$f":"B805","v":2150.5425889956523},{"$f":"B806","v":2105.9587587263009},{"$f":"B807","v":2616.5142806583112},{"$f":"B808","v":3046.3269963238595},{"$f":"B809","v":3225.6791042487921},{"$f":"B810","v":3375.4579680582951},{"$f":"B811","v":3491.5268785796966},{"$f":"B812","v":3379.1607310166119},{"$f":"B813","v":3005.8582034201268},{"$f":"B814","v":2633.4912550835738},{"$f":"B815","v":2323.0959525137996},{"$f":"B816","v":2241.5261424059145},null,2784.5061732165846,2678.0982328047526,2799.5949050025779,null,{"$f":"IF(AA$11=\"AVG\",IF(AC$1=\"INST-VAL\",AVERAGE(J78:N78,K78:O78),AVERAGE(K78:O78)),SUM(K78:O78))","v":2751.4958836968476},2304.7904633899175,2385.8747521981682,2776.2200694899057,3340.4785578722658,2693.1972119321908,2199.7344577732765,null,1988,{"$f":"'Compile Data'!C805","v":2141.7950621021082},{"$f":"'Compile Data'!C806","v":2099.5183150252656},{"$f":"'Compile Data'!C807","v":2610.078496629555},{"$f":"'Compile Data'!C808","v":3039.8951967424805},{"$f":"'Compile Data'!C809","v":3219.2532576786571},{"$f":"'Compile Data'!C810","v":3369.0416691264172},{"$f":"'Compile Data'!C811","v":3485.1257579837315},{"$f":"'Compile Data'!C812","v":3377.3309161812722},{"$f":"'Compile Data'!C813","v":3005.3468020369583},{"$f":"'Compile Data'!C814","v":2632.1297574857776},{"$f":"'Compile Data'!C815","v":2341.2581770412198},{"$f":"'Compile Data'!C816","v":2265.0496910948723},null,2787.412125028166,2679.8031641439593,2798.8185915940267,null,{"$f":"IF(BA$11=\"AVG\",IF(BC$1=\"INST-VAL\",AVERAGE(AJ78:AN78,AK78:AO78),AVERAGE(AK78:AO78)),SUM(AK78:AO78))","v":2744.8327263380443},2325.3349916848069,2378.7208267930632,2769.7864932413322,3335.9495932873074,2699.9812600505065,2223.5143163396174]
["1927-04-30",{"$f":"INDIRECT(CONCATENATE(\"'\",B$1,\"'!\",B$4,(YEAR($A79)-1921)*12+MONTH($A79)+3+IF(ISNUMBER(FIND(\"PRV\",B$6)),1,0)))*IF(AND(B$3>0,TRIM(B$9)=\"CFS\"),Conv_Flags!$C79,1)","v":4552},{"$f":"INDIRECT(CONCATENATE(\"'\",C$1,\"'!\",C$4,(YEAR($A79)-1921)*12+MONTH($A79)+3+IF(ISNUMBER(FIND(\"PRV\",C$6)),1,0)))*IF(AND(C$3>0,TRIM(C$9)=\"CFS\"),Conv_Flags!$C79,1)","v":4552},null,null,null,null,null,1989,{"$f":"B817","v":2066.0073354165052},{"$f":"B818","v":2260.2438384810207},{"$f":"B819","v":2365.6996730508249},{"$f":"B820","v":2466.7865920152067},{"$f":"B821","v":2528.3242236154601},{"$f":"B822","v":3841},{"$f":"B823","v":4293.3984052304331},{"$f":"B824","v":3907.916715222339},{"$f":"B825","v":3550.108754287256},{"$f":"B826","v":3082.5226686824585},{"$f":"B827","v":2780.7487622224435},{"$f":"B828","v":2815.7863853916474},null,3155.8690286479505,3252.7863595293038,2996.5452794679659,null,2514.9115989741535,2869.2689884640895,2261.526803539728,2408.9234320380906,3770.3829023510325,3193.8079338747875,2860.4695141173565,null,1989,{"$f":"'Compile Data'!C817","v":2107.264456350882},{"$f":"'Compile Data'!C818","v":2255.1994261049763},{"$f":"'Compile Data'!C819","v":2352.0503925107505},{"$f":"'Compile Data'!C820","v":2453.1469235056879},{"$f":"'Compile Data'!C821","v":2514.6940003049658},{"$f":"'Compile Data'!C822","v":3841},{"$f":"'Compile Data'!C823","v":4293.3984052541537},{"$f":"'Compile Data'!C824","v":3874.7154360194186},{"$f":"'Compile Data'!C825","v":3553.0480187276557},{"$f":"'Compile Data'!C826","v":3076.2862303071943},{"$f":"'Compile Data'!C827","v":2759.0488729416697},{"$f":"'Compile Data'!C828","v":2795.0019439448315},null,3142.9340814381176,3234.531864685634,2989.5711754976819,null,2509.8445941203645,2852.0238104736382,2268.4031455667218,2396.7146764071367,3760.7462126974706,3180.8104529896609,2847.3188715766314]
["1927-05-31",{"$f":"INDIRECT(CONCATENATE(\"'\",B$1,\"'!\",B$4,(YEAR($A80)-1921)*12+MONTH($A80)+3+IF(ISNUMBER(FIND(\"PRV\",B$6)),1,0)))*IF(AND(B$3>0,TRIM(B$9)=\"CFS\"),Conv_Flags!$C80,1)","v":4552},{"$f":"INDIRECT(CONCATENATE(\"'\",C$1,\"'!\",C$4,(YEAR($A80)-1921)*12+MONTH($A80)+3+IF(ISNUMBER(FIND(\"PRV\",C$6)),1,0)))*IF(AND(C$3>0,TRIM(C$9)=\"CFS\"),Conv_Flags!$C80,1)","v":4552},null,null,null,null,null,1990,{"$f":"B829","v":2940.0209668738948},{"$f":"B830","v":2870.4536179506122},{"$f":"B831","v":2793.3612522836593},{"$f":"B832","v":3032.6303185555762},{"$f":"B833","v":3125.4884676513402},{"$f":"B834","v":3390.157316167014},{"$f":"B835","v":3376.510650907996},{"$f":"B836","v":3526.058997731282},{"$f":"B837","v":3261.6072312813799},{"$f":"B838","v":2863.1227164681595},{"$f":"B839","v":2502.994460755986},{"$f":"B840","v":2455.3301515970111},null,2841.0786478774935,2656.4046008044015,3011.4780123519922,null,2997.404559592328,2516.1240759343614,2882.0110472704446,2941.3208712134037,3371.5687035681631,2904.6047457924178,2370.6511043509759,null,1990,{"$f":"'Compile Data'!C829","v":2927.7549987616317},{"$f":"'Compile Data'!C830","v":2879.350471105191},{"$f":"'Compile Data'!C831","v":2747.7636763850173},{"$f":"'Compile Data'!C832","v":2987.0629787671714},{"$f":"'Compile Data'!C833","v":3079.9513440136739},{"$f":"'Compile Data'!C834","v":3344.6848159603633},{"$f":"'Compile Data'!C835","v":3346.4679426048151},{"$f":"'Compile Data'!C836","v":3496.7901481231393},{"$f":"'Compile Data'!C837","v":3246.2949461422754},{"$f":"'Compile Data'!C838","v":2856.3934791012366},{"$f":"'Compile Data'!C839","v":2492.3122683054416},{"$f":"'Compile Data'!C840","v":2443.655909611743},null,2819.1446783840797,2632.6764491716663,2987.3735815734744,null,2966.0696755264098,2505.4503686005287,2861.4754019019601,2904.8258542372073,3337.7665129415736,2891.3059306040986,2358.2493508411626]
["1927-06-30",{"$f":"INDIRECT(CONCATENATE(\"'\",B$1,\"'!\",B$4,(YEAR($A81)-1921)*12+MONTH($A81)+3+IF(ISNUMBER(FIND(\"PRV\",B$6)),1,0)))*IF(AND(B$3>0,TRIM(B$9)=\"CFS\"),Conv_Flags!$C81,1)","v":4346.3431123517239},{"$f":"INDIRECT(CONCATENATE(\"'\",C$1,\"'!\",C$4,(YEAR($A81)-1921)*12+MONTH($A81)+3+IF(ISNUMBER(FIND(\"PRV\",C$6)),1,0)))*IF(AND(C$3>0,TRIM(C$9)=\"CFS\"),Conv_Flags!$C81,1)","v":4343.8061678890563},null,null,null,null,null,1991,{"$f":"B841","v":2316.9725144320169},{"$f":"B842","v":2176.3068332918133},{"$f":"B843","v":2065.7641156903514},{"$f":"B844","v":1956.2695731959545},{"$f":"B845","v":1985.7606481338537},{"$f":"B846","v":2410.2607703737222},{"$f":"B847","v":2579.2259284652487},{"$f":"B848","v":2497.6054943953927},{"$f":"B849","v":2239.1945742574185},{"$f":"B850","v":1935.642270939577},{"$f":"B851","v":1720.4596813330895},{"$f":"B852","v":1655.4555398996997},null,1955.489494159862,1925.5996405499754,2128.2431620340112,null,2109.5435625429686,1716.587008689057,2191.2108314526663,2034.3558098663798,2399.8924511074997,1992.956760919408,1615.6862389603941,null,1991,{"$f":"'Compile Data'!C841","v":2304.3723766675653},{"$f":"'Compile Data'!C842","v":2161.1272641829187},{"$f":"'Compile Data'!C843","v":2070.6226671286081},{"$f":"'Compile Data'!C844","v":1920.0590101984731},{"$f":"'Compile Data'!C845","v":1909.3365620334148},{"$f":"'Compile Data'!C846","v":2333.9269750834374},{"$f":"'Compile Data'!C847","v":2503.0622507277872},{"$f":"'Compile Data'!C848","v":2424.6744717508486},{"$f":"'Compile Data'!C849","v":2172.7664999806902},{"$f":"'Compile Data'!C850","v":1863.6605782133427},{"$f":"'Compile Data'!C851","v":1658.3082137582944},{"$f":"'Compile Data'!C852","v":1593.8075389529133},null,1889.7074366510813,1859.0915597796422,2076.3103673898581,null,2076.0590358837835,1651.8862023031686,2179.4949419710497,2008.637863478416,2325.6788071422816,1925.9940743260522,1551.9481836441435]
["1927-07-31",{"$f":"INDIRECT(CONCATENATE(\"'\",B$1,\"'!\",B$4,(YEAR($A82)-1921)*12+MONTH($A82)+3+IF(ISNUMBER(FIND(\"PRV\",B$6)),1,0)))*IF(AND(B$3>0,TRIM(B$9)=\"CFS\"),Conv_Flags!$C82,1)","v":3826.5053208779041},{"$f":"INDIRECT(CONCATENATE(\"'\",C$1,\"'!\",C$4,(YEAR($A82)-1921)*12+MONTH($A82)+3+IF(ISNUMBER(FIND(\"PRV\",C$6)),1,0)))*IF(AND(C$3>0,TRIM(C$9)=\"CFS\"),Conv_Flags!$C82,1)","v":3818.6401969552794},null,null,null,null,null,1992,{"$f":"B853","v":1612.0493387291856},{"$f":"B854","v":1438.6479951715048},{"$f":"B855","v":1435.3021150236962},{"$f":"B856","v":1470.064786264647},{"$f":"B857","v":2113.2871917465195},{"$f":"B858","v":2556.4347646315114},{"$f":"B859","v":2806.1614887714995},{"$f":"B860","v":2485.8206062026843},{"$f":"B861","v":2023.9641929189033},{"$f":"B862","v":1595.2957641876797},{"$f":"B863","v":1086.9826882554469},{"$f":"B864","v":1075.5496554694173},null,1684.3448987985773,1738.0169225389725,1808.2967156143911,null,1708.3088279773433,1155.6125792098271,1512.18990300164,1560.444831582452,2479.2606379846015,1621.7319440495203,1023.8515516782335,null,1992,{"$f":"'Compile Data'!C853","v":1543.4251301832537},{"$f":"'Compile Data'!C854","v":1378.9155498342307},{"$f":"'Compile Data'!C855","v":1374.5464590962872},{"$f":"'Compile Data'!C856","v":1409.3544651659486},{"$f":"'Compile Data'!C857","v":2052.6505846086734},{"$f":"'Compile Data'!C858","v":2495.899888920113},{"$f":"'Compile Data'!C859","v":2745.7843677979158},{"$f":"'Compile Data'!C860","v":2447.161940430185},{"$f":"'Compile Data'!C861","v":1997.9370643676352},{"$f":"'Compile Data'!C862","v":1579.230974819269},{"$f":"'Compile Data'!C863","v":1083.4064533209823},{"$f":"'Compile Data'!C864","v":1083.0673984562668},null,1657.6477101802127,1720.9874048910679,1765.9483564167301,null,1647.0259136513646,1154.575804336642,1449.6170352933007,1499.894663827896,2428.5350054090918,1606.4222904877781,1026.3170769697583]
["1927-08-31",{"$f":"INDIRECT(CONCATENATE(\"'\",B$1,\"'!\",B$4,(YEAR($A83)-1921)*12+MONTH($A83)+3+IF(ISNUMBER(FIND(\"PRV\",B$6)),1,0)))*IF(AND(B$3>0,TRIM(B$9)=\"CFS\"),Conv_Flags!$C83,1)","v":3432.3080287656412},{"$f":"INDIRECT(CONCATENATE(\"'\",C$1,\"'!\",C$4,(YEAR($A83)-1921)*12+MONTH($A83)+3+IF(ISNUMBER(FIND(\"PRV\",C$6)),1,0)))*IF(AND(C$3>0,TRIM(C$9)=\"CFS\"),Conv_Flags!$C83,1)","v":3424.6048310786932},null,null,null,null,null,1993,{"$f":"B865","v":1013.3150236215539},{"$f":"B866","v":878.39726363201009},{"$f":"B867","v":1106.865359881052},{"$f":"B868","v":1756.0961448264825},{"$f":"B869","v":2471.3201180694291},{"$f":"B870","v":3928.5071081570641},{"$f":"B871","v":4477.0099627719137},{"$f":"B872","v":4552},{"$f":"B873","v":4500},{"$f":"B874","v":3897.0743911945306},{"$f":"B875","v":3610.2570534015808},{"$f":"B876","v":3364.7692255710717},null,3491.3939906895484,3702.1193599675457,2962.9676375938907,null,1736.7179904596567,3516.1878248566391,1103.6001368206414,1512.6067318527512,4110.7942824909223,3991.4290143454118,3309.0727086455513,null,1993,{"$f":"'Compile Data'!C865","v":1015.2761476460844},{"$f":"'Compile Data'!C866","v":877.80891629286566},{"$f":"'Compile Data'!C867","v":1104.1943203366095},{"$f":"'Compile Data'!C868","v":1753.4277391694893},{"$f":"'Compile Data'!C869","v":2468.6536471353979},{"$f":"'Compile Data'!C870","v":3925.8442391763133},{"$f":"'Compile Data'!C871","v":4480.2969569715042},{"$f":"'Compile Data'!C872","v":4552},{"$f":"'Compile Data'!C873","v":4500},{"$f":"'Compile Data'!C874","v":3935.9533272779131},{"$f":"'Compile Data'!C875","v":3652.4618738347108},{"$f":"'Compile Data'!C876","v":3399.9999999999995},null,3502.3270569094516,3704.4736296121864,2972.15976398674,null,1734.928963269112,3548.4795124912221,1103.8817382721093,1510.2844470734101,4110.6170049288794,4016.1038002781561,3331.5082024879243]
["1927-09-30",{"$f":"INDIRECT(CONCATENATE(\"'\",B$1,\"'!\",B$4,(YEAR($A84)-1921)*12+MONTH($A84)+3+IF(ISNUMBER(FIND(\"PRV\",B$6)),1,0)))*IF(AND(B$3>0,TRIM(B$9)=\"CFS\"),Conv_Flags!$C84,1)","v":3118.2020711507712},{"$f":"INDIRECT(CONCATENATE(\"'\",C$1,\"'!\",C$4,(YEAR($A84)-1921)*12+MONTH($A84)+3+IF(ISNUMBER(FIND(\"PRV\",C$6)),1,0)))*IF(AND(C$3>0,TRIM(C$9)=\"CFS\"),Conv_Flags!$C84,1)","v":3110.3316777392761},null,null,null,null,null,1994,{"$f":"B877","v":3250},{"$f":"B878","v":3014.640747329579},{"$f":"B879","v":3075.0531369529317},{"$f":"B880","v":3265.8939121949984},{"$f":"B881","v":3490.2267820368816},{"$f":"B882","v":3663.3009279166363},{"$f":"B883","v":3726.0186695523694},{"$f":"B884","v":3635.7031809894688},{"$f":"B885","v":3188.9003538359716},{"$f":"B886","v":2742.6995840697668},{"$f":"B887","v":2415.491948401364},{"$f":"B888","v":2421.5892334398227},null,2941.4294941366315,2961.3027777553289,3157.4598730599828,null,3260.4930084945418,2444.3981828223109,3163.7563632913866,3197.7936046103873,3591.1465865987257,2843.934523380437,2330.7367121647812,null,1994,{"$f":"'Compile Data'!C877","v":3250},{"$f":"'Compile Data'!C878","v":3036.5873410928334},{"$f":"'Compile Data'!C879","v":3072.6995582552631},{"$f":"'Compile Data'!C880","v":3211.7332073309926},{"$f":"'Compile Data'!C881","v":3436.1070514067105},{"$f":"'Compile Data'!C882","v":3609.2616093543602},{"$f":"'Compile Data'!C883","v":3673.0822688841226},{"$f":"'Compile Data'!C884","v":3585.3356371579353},{"$f":"'Compile Data'!C885","v":3166.4948956010917},{"$f":"'Compile Data'!C886","v":2700.9742739599515},{"$f":"'Compile Data'!C887","v":2373.5890052875429},{"$f":"'Compile Data'!C888","v":2395.812525450785},null,2894.9932175771087,2923.889870820321,3125.9731144817993,null,3237.3515925525958,2408.0614381665273,3166.2883757533978,3173.5933206120094,3542.2451222250802,2807.9080640382372,2292.8904862098348]
["1927-10-31",{"$f":"INDIRECT(CONCATENATE(\"'\",B$1,\"'!\",B$4,(YEAR($A85)-1921)*12+MONTH($A85)+3+IF(ISNUMBER(FIND(\"PRV\",B$6)),1,0)))*IF(AND(B$3>0,TRIM(B$9)=\"CFS\"),Conv_Flags!$C85,1)","v":2994.3775304385263},{"$f":"INDIRECT(CONCATENATE(\"'\",C$1,\"'!\",C$4,(YEAR($A85)-1921)*12+MONTH($A85)+3+IF(ISNUMBER(FIND(\"PRV\",C$6)),1,0)))*IF(AND(C$3>0,TRIM(C$9)=\"CFS\"),Conv_Flags!$C85,1)","v":2985.9847073528758},null,null,null,null,null,1995,{"$f":"B889","v":2249.5271491817234},{"$f":"B890","v":2226.6955593442303},{"$f":"B891","v":2271.1066286763489},{"$f":"B892","v":3252.10009765625},{"$f":"B893","v":3742.5},{"$f":"B894","v":3416.5},{"$f":"B895","v":4216.7998046875},{"$f":"B896","v":4552},{"$f":"B897","v":4500},{"$f":"B898","v":4150},{"$f":"B899","v":3700},{"$f":"B900","v":3400},null,3718.757432617158,3738.007432617158,3473.1024366288379,null,2865.083172053538,3600,2396.043500687585,2835.9348353349051,4076.637451171875,4081.5,3346.2648652343164,null,1995,{"$f":"'Compile Data'!C889","v":2208.5912935625556},{"$f":"'Compile Data'!C890","v":2174.9462739447858},{"$f":"'Compile Data'!C891","v":2203.9905689844672},{"$f":"'Compile Data'!C892","v":3252.10009765625},{"$f":"'Compile Data'!C893","v":3742.5},{"$f":"'Compile Data'!C894","v":3416.5},{"$f":"'Compile Data'!C895","v":4216.7998046875},{"$f":"'Compile Data'!C896","v":4552},{"$f":"'Compile Data'!C897","v":4500},{"$f":"'Compile Data'!C898","v":4150},{"$f":"'Compile Data'!C899","v":3700},{"$f":"'Compile Data'!C900","v":3400},null,3719.8288630965631,3739.0788630965631,3459.785669902963,null,2837.2165174733564,3600,2352.8711120113312,2804.9379345377033,4076.637451171875,4081.5,3348.4077261931257]
["1927-11-30",{"$f":"INDIRECT(CONCATENATE(\"'\",B$1,\"'!\",B$4,(YEAR($A86)-1921)*12+MONTH($A86)+3+IF(ISNUMBER(FIND(\"PRV\",B$6)),1,0)))*IF(AND(B$3>0,TRIM(B$9)=\"CFS\"),Conv_Flags!$C86,1)","v":3252},{"$f":"INDIRECT(CONCATENATE(\"'\",C$1,\"'!\",C$4,(YEAR($A86)-1921)*12+MONTH($A86)+3+IF(ISNUMBER(FIND(\"PRV\",C$6)),1,0)))*IF(AND(C$3>0,TRIM(C$9)=\"CFS\"),Conv_Flags!$C86,1)","v":3251.9999999999995},null,null,null,null,null,1996,{"$f":"B901","v":3249.9999999999995},{"$f":"B902","v":3077.589191405898},{"$f":"B903","v":3367.60009765625},{"$f":"B904","v":3722.5},{"$f":"B905","v":3503.10009765625},{"$f":"B906","v":4009.89990234375},{"$f":"B907","v":4487.2383984151757},{"$f":"B908","v":4481.0765655307796},{"$f":"B909","v":4396.2389066090373},{"$f":"B910","v":3955.9266487284208},{"$f":"B911","v":3700},{"$f":"B912","v":3400},null,3784.1733847449723,3768.781722147316,3779.2641506954628,null,3460.147867578054,3567.6544414547366,3314.1098222655369,3460.1482473957744,4231.9710921055876,3998.1759595257117,3375.3333333333335,null,1996,{"$f":"'Compile Data'!C901","v":3249.9999999999995},{"$f":"'Compile Data'!C902","v":3090.4463571587567},{"$f":"'Compile Data'!C903","v":3367.60009765625},{"$f":"'Compile Data'!C904","v":3722.5},{"$f":"'Compile Data'!C905","v":3503.10009765625},{"$f":"'Compile Data'!C906","v":4009.89990234375},{"$f":"'Compile Data'!C907","v":4487.238398034383},{"$f":"'Compile Data'!C908","v":4478.0452655227464},{"$f":"'Compile Data'!C909","v":4393.0354198071836},{"$f":"'Compile Data'!C910","v":3948.246712950543},{"$f":"'Compile Data'!C911","v":3684.7729881117771},{"$f":"'Compile Data'!C912","v":3400.0000000000005},null,3781.7449068402402,3766.353244242584,3777.9071032701372,null,3462.719300728626,3561.2987815290162,3317.3241137037517,3462.2911083545841,4230.8128311581495,3991.269438407719,3372.7954980186296]
["1927-12-31",{"$f":"INDIRECT(CONCATENATE(\"'\",B$1,\"'!\",B$4,(YEAR($A87)-1921)*12+MONTH($A87)+3+IF(ISNUMBER(FIND(\"PRV\",B$6)),1,0)))*IF(AND(B$3>0,TRIM(B$9)=\"CFS\"),Conv_Flags!$C87,1)","v":3363},{"$f":"INDIRECT(CONCATENATE(\"'\",C$1,\"'!\",C$4,(YEAR($A87)-1921)*12+MONTH($A87)+3+IF(ISNUMBER(FIND(\"PRV\",C$6)),1,0)))*IF(AND(C$3>0,TRIM(C$9)=\"CFS\"),Conv_Flags!$C87,1)","v":3363},null,null,null,null,null,1997,{"$f":"B913","v":3250},{"$f":"B914","v":3252},{"$f":"B915","v":3252.10009765625},{"$f":"B916","v":3252.10009765625},{"$f":"B917","v":3788.800048828125},{"$f":"B918","v":4009.5749176837785},{"$f":"B919","v":4183.5261852241483},{"$f":"B920","v":3978.0076325338005},{"$f":"B921","v":3726.3398979989897},{"$f":"B922","v":3114.2186157892352},{"$f":"B923","v":2936.3115834250425},{"$f":"B924","v":2779.6017117746419},null,3365.1634675320856,3327.6384634630754,3460.2150657141888,null,3434.9575405965029,2871.7617979990214,3270.0375366210938,3341.533406575521,3982.1696772138216,3288.918692341872,2783.9235150199493,null,1997,{"$f":"'Compile Data'!C913","v":3250},{"$f":"'Compile Data'!C914","v":3252},{"$f":"'Compile Data'!C915","v":3252.10009765625},{"$f":"'Compile Data'!C916","v":3252.10009765625},{"$f":"'Compile Data'!C917","v":3788.800048828125},{"$f":"'Compile Data'!C918","v":4009.5749176837776},{"$f":"'Compile Data'!C919","v":4183.5261857288815},{"$f":"'Compile Data'!C920","v":3977.7700242384713},{"$f":"'Compile Data'!C921","v":3666.2148035456507},{"$f":"'Compile Data'!C922","v":3102.0696307840876},{"$f":"'Compile Data'!C923","v":2925.0769506541792},{"$f":"'Compile Data'!C924","v":2750.2694816878852},null,3348.3200729886044,3310.7950689195932,3450.7918532052968,null,3434.9575405965029,2851.2095421844788,3270.0375366210938,3341.533406575521,3974.5946384595049,3264.3452844867743,2757.344048608325]
["1928-01-31",{"$f":"INDIRECT(CONCATENATE(\"'\",B$1,\"'!\",B$4,(YEAR($A88)-1921)*12+MONTH($A88)+3+IF(ISNUMBER(FIND(\"PRV\",B$6)),1,0)))*IF(AND(B$3>0,TRIM(B$9)=\"CFS\"),Conv_Flags!$C88,1)","v":3655.3713514180281},{"$f":"INDIRECT(CONCATENATE(\"'\",C$1,\"'!\",C$4,(YEAR($A88)-1921)*12+MONTH($A88)+3+IF(ISNUMBER(FIND(\"PRV\",C$6)),1,0)))*IF(AND(C$3>0,TRIM(C$9)=\"CFS\"),Conv_Flags!$C88,1)","v":3655.3713514180281},null,null,null,null,null,1998,{"$f":"B925","v":2684.5255818055252},{"$f":"B926","v":2838.9749195343179},{"$f":"B927","v":3089.9804181311697},{"$f":"B928","v":3338.5},{"$f":"B929","v":3252.1000976562505},{"$f":"B930","v":3503.89990234375},{"$f":"B931","v":4383.0139866577638},{"$f":"B932","v":4552},{"$f":"B933","v":4500},{"$f":"B934","v":4150},{"$f":"B935","v":3700},{"$f":"B936","v":3400},null,3719.2094988881472,3770.8011736928347,3616.0829088440646,null,3122.7536354792751,3600,2918.1329438395837,3158.0059755754846,4078.7409844574095,4081.5,3375.3333333333335,null,1998,{"$f":"'Compile Data'!C925","v":2654.4947576386567},{"$f":"'Compile Data'!C926","v":2809.4588623426862},{"$f":"'Compile Data'!C927","v":3060.4851150745917},{"$f":"'Compile Data'!C928","v":3338.5},{"$f":"'Compile Data'!C929","v":3252.1000976562505},{"$f":"'Compile Data'!C930","v":3503.89990234375},{"$f":"'Compile Data'!C931","v":4383.0139868007154},{"$f":"'Compile Data'!C932","v":4552},{"$f":"'Compile Data'!C933","v":4500},{"$f":"'Compile Data'!C934","v":4150},{"$f":"'Compile Data'!C935","v":3700},{"$f":"'Compile Data'!C936","v":3400},null,3719.2094989000598,3770.8011737047473,3608.6627268213874,null,3107.9482810129462,3600,2892.2058689749697,3143.2548650246868,4078.7409844931481,4081.5,3375.3333333333335]
["1928-02-29",{"$f":"INDIRECT(CONCATENATE(\"'\",B$1,\"'!\",B$4,(YEAR($A89)-1921)*12+MONTH($A89)+3+IF(ISNUMBER(FIND(\"PRV\",B$6)),1,0)))*IF(AND(B$3>0,TRIM(B$9)=\"CFS\"),Conv_Flags!$C89,1)","v":4099},{"$f":"INDIRECT(CONCATENATE(\"'\",C$1,\"'!\",C$4,(YEAR($A89)-1921)*12+MONTH($A89)+3+IF(ISNUMBER(FIND(\"PRV\",C$6)),1,0)))*IF(AND(C$3>0,TRIM(C$9)=\"CFS\"),Conv_Flags!$C89,1)","v":4099},null,null,null,null,null,1999,{"$f":"B937","v":3250},{"$f":"B938","v":3252},{"$f":"B939","v":3349},{"$f":"B940","v":3640.10009765625},{"$f":"B941","v":3569.60009765625},{"$f":"B942","v":3980},{"$f":"B943","v":4552.1000976562509},{"$f":"B944","v":4552},{"$f":"B945","v":4444.2264737132373},{"$f":"B946","v":3871.5778203223263},{"$f":"B947","v":3613.7280867427025},{"$f":"B948","v":3399.9999999999995},null,3768.1903077969582,3742.0486248542497,3789.5277228122509,null,3485.1400390624999,3524.8389989679549,3342.7625122070313,3466.6333821614585,4272.7533458352482,3976.383095194567,3350.1749829704881,null,1999,{"$f":"'Compile Data'!C937","v":3250},{"$f":"'Compile Data'!C938","v":3252},{"$f":"'Compile Data'!C939","v":3349},{"$f":"'Compile Data'!C940","v":3640.10009765625},{"$f":"'Compile Data'!C941","v":3569.60009765625},{"$f":"'Compile Data'!C942","v":3980},{"$f":"'Compile Data'!C943","v":4552.1000976562509},{"$f":"'Compile Data'!C944","v":4552},{"$f":"'Compile Data'!C945","v":4430.584109281087},{"$f":"'Compile Data'!C946","v":3858.7787681155583},{"$f":"'Compile Data'!C947","v":3601.6230270396313},{"$f":"'Compile Data'!C948","v":3399.9999999999995},null,3767.4620397842586,3741.3203568415502,3786.3155164504192,null,3485.1400390624999,3518.6708036991367,3342.7625122070313,3466.6333821614585,4271.0480502812297,3966.7464761090691,3350.5874152425454]
["1928-03-31",{"$f":"INDIRECT(CONCATENATE(\"'\",B$1,\"'!\",B$4,(YEAR($A90)-1921)*12+MONTH($A90)+3+IF(ISNUMBER(FIND(\"PRV\",B$6)),1,0)))*IF(AND(B$3>0,TRIM(B$9)=\"CFS\"),Conv_Flags!$C90,1)","v":3965},{"$f":"INDIRECT(CONCATENATE(\"'\",C$1,\"'!\",C$4,(YEAR($A90)-1921)*12+MONTH($A90)+3+IF(ISNUMBER(FIND(\"PRV\",C$6)),1,0)))*IF(AND(C$3>0,TRIM(C$9)=\"CFS\"),Conv_Flags!$C90,1)","v":3965},null,null,null,null,null,2000,{"$f":"B949","v":3250},{"$f":"B950","v":3187.3218110802254},{"$f":"B951","v":3157.629208736259},{"$f":"B952","v":3614.5},{"$f":"B953","v":3281.5},{"$f":"B954","v":3975.60009765625},{"$f":"B955","v":4552.10009765625},{"$f":"B956","v":4552},{"$f":"B957","v":4144.404438574943},{"$f":"B958","v":3506.1756022425443},{"$f":"B959","v":3206.4716208099235},{"$f":"B960","v":3120.0925977489251},null,3541.1909509924221,3475.1078456443006,3628.9829562087775,null,3370.7502137289221,3199.0163777913672,3275.5502549541216,3335.5133714254571,4198.163103649993,3673.2744901254682,3057.3820866460569,null,2000,{"$f":"'Compile Data'!C949","v":3250},{"$f":"'Compile Data'!C950","v":3201.9014644156418},{"$f":"'Compile Data'!C951","v":3172.856815590435},{"$f":"'Compile Data'!C952","v":3614.5},{"$f":"'Compile Data'!C953","v":3281.5},{"$f":"'Compile Data'!C954","v":3975.60009765625},{"$f":"'Compile Data'!C955","v":4552.10009765625},{"$f":"'Compile Data'!C956","v":4552},{"$f":"'Compile Data'!C957","v":4218.1496685636193},{"$f":"'Compile Data'!C958","v":3579.6345288275074},{"$f":"'Compile Data'!C959","v":3288.1760442583859},{"$f":"'Compile Data'!C960","v":3245.897453740562},null,3606.6451451662974,3565.5068776294497,3661.0263475590541,null,3376.7116657668403,3303.2083570210357,3283.0020700015193,3343.0191825994189,4207.3812573985779,3746.227242129949,3182.5309319108037]
["1928-04-30",{"$f":"INDIRECT(CONCATENATE(\"'\",B$1,\"'!\",B$4,(YEAR($A91)-1921)*12+MONTH($A91)+3+IF(ISNUMBER(FIND(\"PRV\",B$6)),1,0)))*IF(AND(B$3>0,TRIM(B$9)=\"CFS\"),Conv_Flags!$C91,1)","v":4552},{"$f":"INDIRECT(CONCATENATE(\"'\",C$1,\"'!\",C$4,(YEAR($A91)-1921)*12+MONTH($A91)+3+IF(ISNUMBER(FIND(\"PRV\",C$6)),1,0)))*IF(AND(C$3>0,TRIM(C$9)=\"CFS\"),Conv_Flags!$C91,1)","v":4552},null,null,null,null,null,2001,{"$f":"B961","v":3034.7942273879607},{"$f":"B962","v":2828.0472487926468},{"$f":"B963","v":2678.6054810396231},{"$f":"B964","v":2834.5037018425055},{"$f":"B965","v":3268.4990339800315},{"$f":"B966","v":3763.4113963836348},{"$f":"B967","v":3985.5452013838667},{"$f":"B968","v":3729.1096651659109},{"$f":"B969","v":3200},{"$f":"B970","v":2903.7544447694991},{"$f":"B971","v":2763.0397782377063},{"$f":"B972","v":2713.1268290639487},null,3132.2486568443583,3265.3650873877928,3141.8697506706108,null,3001.7516555081211,2714.300496642119,2879.6862767539865,2853.7941080894893,3678.0789449808567,3021.9781175305338,2618.5337565537634,null,2001,{"$f":"'Compile Data'!C961","v":3171.4686173008126},{"$f":"'Compile Data'!C962","v":2972.2774051236893},{"$f":"'Compile Data'!C963","v":2828.437828868482},{"$f":"'Compile Data'!C964","v":2984.2353614914127},{"$f":"'Compile Data'!C965","v":3418.1054280664243},{"$f":"'Compile Data'!C966","v":3912.7675736051938},{"$f":"'Compile Data'!C967","v":4134.6748145871225},{"$f":"'Compile Data'!C968","v":3910.3215289595396},{"$f":"'Compile Data'!C969","v":3331.8634401082345},{"$f":"'Compile Data'!C970","v":3021.9421017570839},{"$f":"'Compile Data'!C971","v":2882.1830430527571},{"$f":"'Compile Data'!C972","v":2804.2414250935312},null,3243.2334938799809,3351.4050866121411,3281.0432140011903,null,3149.0348238006022,2816.0644478067406,3021.8125647272427,3002.6215356516509,3833.1870878097966,3148.3175154861528,2696.1547838401584]
["1928-05-31",{"$f":"INDIRECT(CONCATENATE(\"'\",B$1,\"'!\",B$4,(YEAR($A92)-1921)*12+MONTH($A92)+3+IF(ISNUMBER(FIND(\"PRV\",B$6)),1,0)))*IF(AND(B$3>0,TRIM(B$9)=\"CFS\"),Conv_Flags!$C92,1)","v":4419.4667492081117},{"$f":"INDIRECT(CONCATENATE(\"'\",C$1,\"'!\",C$4,(YEAR($A92)-1921)*12+MONTH($A92)+3+IF(ISNUMBER(FIND(\"PRV\",C$6)),1,0)))*IF(AND(C$3>0,TRIM(C$9)=\"CFS\"),Conv_Flags!$C92,1)","v":4483.2777842077239},null,null,null,null,null,2002,{"$f":"B973","v":2429.7153204799042},{"$f":"B974","v":2662.4784619971679},{"$f":"B975","v":3333.800048828125},{"$f":"B976","v":3678.39990234375},{"$f":"B977","v":4022},{"$f":"B978","v":4410.8515912324219},{"$f":"B979","v":4552.10009765625},{"$f":"B980","v":4365.634615045371},{"$f":"B981","v":3939.7078834827903},{"$f":"B982","v":3420.749743736716},{"$f":"B983","v":3199.6582893301825},{"$f":"B984","v":3137.3416956281017},null,3655.1207937337181,3625.6030559817341,3596.036470813398,null,3423.3923738050412,3174.7416153999243,2905.4392992522617,3451.4797273901531,4327.3600614188599,3577.9010179716061,3045.2912194755932,null,2002,{"$f":"'Compile Data'!C973","v":2501.5956487907852},{"$f":"'Compile Data'!C974","v":2683.0715122195611},{"$f":"'Compile Data'!C975","v":3333.800048828125},{"$f":"'Compile Data'!C976","v":3678.39990234375},{"$f":"'Compile Data'!C977","v":4022.0000000000005},{"$f":"'Compile Data'!C978","v":4410.8515912324228},{"$f":"'Compile Data'!C979","v":4552.10009765625},{"$f":"'Compile Data'!C980","v":4365.4238313067017},{"$f":"'Compile Data'!C981","v":3962.5201704741025},{"$f":"'Compile Data'!C982","v":3435.7221949852837},{"$f":"'Compile Data'!C983","v":3213.9858505090097},{"$f":"'Compile Data'!C984","v":3146.7657592425367},null,3659.8450922312768,3630.3273544792933,3608.8530506323773,null,3434.6990166806077,3185.2186701602586,2939.946968389278,3454.9119024272186,4330.158901358107,3592.0807528107534,3050.1126059440667]
["1928-06-30",{"$f":"INDIRECT(CONCATENATE(\"'\",B$1,\"'!\",B$4,(YEAR($A93)-1921)*12+MONTH($A93)+3+IF(ISNUMBER(FIND(\"PRV\",B$6)),1,0)))*IF(AND(B$3>0,TRIM(B$9)=\"CFS\"),Conv_Flags!$C93,1)","v":3880.9255858484748},{"$f":"INDIRECT(CONCATENATE(\"'\",C$1,\"'!\",C$4,(YEAR($A93)-1921)*12+MONTH($A93)+3+IF(ISNUMBER(FIND(\"PRV\",C$6)),1,0)))*IF(AND(C$3>0,TRIM(C$9)=\"CFS\"),Conv_Flags!$C93,1)","v":3930.5416382096155},null,null,null,null,null,2003,{"$f":"B985","v":2953.6999787462642},{"$f":"B986","v":2890.0056787746421},{"$f":"B987","v":3291.300048828125},{"$f":"B988","v":3515.199951171875},{"$f":"B989","v":3830.9870981480699},{"$f":"B990","v":4248.3700185740418},{"$f":"B991","v":4552.10009765625},{"$f":"B992","v":4552},{"$f":"B993","v":4364.9243233270208},{"$f":"B994","v":3670.6734031066198},{"$f":"B995","v":3334.7049837286027},{"$f":"B996","v":3107.4614037941337},null,null,null,3692.6189154879708,null,3425.7055551165731,3311.0012356304187,3115.3191324372551,3388.9987961537859,4362.6064567419598,3800.0083530148277,null,null,2003,{"$f":"'Compile Data'!C985","v":2954.0866064731754},{"$f":"'Compile Data'!C986","v":2884.9850537239654},{"$f":"'Compile Data'!C987","v":3291.300048828125},{"$f":"'Compile Data'!C988","v":3515.199951171875},{"$f":"'Compile Data'!C989","v":3830.9870981480699},{"$f":"'Compile Data'!C990","v":4248.3700185740418},{"$f":"'Compile Data'!C991","v":4552.10009765625},{"$f":"'Compile Data'!C992","v":4552},{"$f":"'Compile Data'!C993","v":4465.7270043828312},{"$f":"'Compile Data'!C994","v":3777.5416080194536},{"$f":"'Compile Data'!C995","v":3445.8306685023172},{"$f":"'Compile Data'!C996","v":3225.8355760190293},null,null,null,3728.6636442915951,null,3424.7400928791294,3424.1748194124289,3115.3386410581179,3388.1620253120059,4375.2067918739358,3894.504267228529]
["1928-07-31",{"$f":"INDIRECT(CONCATENATE(\"'\",B$1,\"'!\",B$4,(YEAR($A94)-1921)*12+MONTH($A94)+3+IF(ISNUMBER(FIND(\"PRV\",B$6)),1,0)))*IF(AND(B$3>0,TRIM(B$9)=\"CFS\"),Conv_Flags!$C94,1)","v":3176.4583077570101},{"$f":"INDIRECT(CONCATENATE(\"'\",C$1,\"'!\",C$4,(YEAR($A94)-1921)*12+MONTH($A94)+3+IF(ISNUMBER(FIND(\"PRV\",C$6)),1,0)))*IF(AND(C$3>0,TRIM(C$9)=\"CFS\"),Conv_Flags!$C94,1)","v":3225.8538377066989}]
["1928-08-31",{"$f":"INDIRECT(CONCATENATE(\"'\",B$1,\"'!\",B$4,(YEAR($A95)-1921)*12+MONTH($A95)+3+IF(ISNUMBER(FIND(\"PRV\",B$6)),1,0)))*IF(AND(B$3>0,TRIM(B$9)=\"CFS\"),Conv_Flags!$C95,1)","v":2747.359088366873},{"$f":"INDIRECT(CONCATENATE(\"'\",C$1,\"'!\",C$4,(YEAR($A95)-1921)*12+MONTH($A95)+3+IF(ISNUMBER(FIND(\"PRV\",C$6)),1,0)))*IF(AND(C$3>0,TRIM(C$9)=\"CFS\"),Conv_Flags!$C95,1)","v":2795.3953787252535},null,null,null,null,null,"AVG:",{"$f":"IF($B$7=\"TEMP\",AVERAGE(J13:J93),AVERAGE(J12:J93))","v":2726.2026644035755},{"$f":"IF($B$7=\"TEMP\",AVERAGE(K13:K93),AVERAGE(K12:K93))","v":2730.626797245247},2854.5402383059945,{"$f":"AVERAGE(M12:M93)","v":3097.8366045895409},3339.4295271144529,3692.3683026124477,4051.2761054535831,4043.839792241406,3755.2692761844955,3285.653284383518,2960.1506916640378,2823.5060351728202,null,{"$f":"AVERAGE(W12:W93)","v":3275.8248250258698},{"$f":"AVERAGE(X12:X93)","v":3276.7546024125509},{"$f":"IF($B$7=\"TEMP\",AVERAGE(Y13:Y93),AVERAGE(Y12:Y93))","v":3280.0582766142593},null,{"$f":"IF($B$7=\"TEMP\",AVERAGE(AA13:AA93),AVERAGE(AA12:AA93))","v":3046.3437301526501},{"$f":"AVERAGE(AB12:AB93)","v":2931.0257043932575},{"$f":"IF($B$7=\"TEMP\",AVERAGE(AC13:AC93),AVERAGE(AC12:AC93))","v":2817.5429333377792},{"$f":"IF($B$7=\"TEMP\",AVERAGE(AD13:AD93),AVERAGE(AD12:AD93))","v":2995.8016683584638},3833.7084004892286,3358.6865414847907,2796.4501404082448,null,"AVG:",{"$f":"IF($B$7=\"TEMP\",AVERAGE(AJ13:AJ93),AVERAGE(AJ12:AJ93))","v":2742.0506113110887},{"$f":"IF($B$7=\"TEMP\",AVERAGE(AK13:AK93),AVERAGE(AK12:AK93))","v":2741.951321934007},2865.0140329804458,{"$f":"AVERAGE(AM12:AM93)","v":3110.8743102218268},3350.30161280526,3702.7014228769531,4063.1694839781826,4060.1775948700556,3778.3415574099417,3306.9919064643668,2980.4430879804945,2843.133787130238,null,{"$f":"AVERAGE(AW12:AW93)","v":3290.8596847885019},{"$f":"AVERAGE(AX12:AX93)","v":3291.7262964579236},{"$f":"IF($B$7=\"TEMP\",AVERAGE(AY13:AY93),AVERAGE(AY12:AY93))","v":3295.4292274969039},null,{"$f":"IF($B$7=\"TEMP\",AVERAGE(BA13:BA93),AVERAGE(BA12:BA93))","v":3058.1034590071117},{"$f":"AVERAGE(BB12:BB93)","v":2950.7348355677982},{"$f":"IF($B$7=\"TEMP\",AVERAGE(BC13:BC93),AVERAGE(BC12:BC93))","v":2830.8961341622089},{"$f":"IF($B$7=\"TEMP\",AVERAGE(BD13:BD93),AVERAGE(BD12:BD93))","v":3007.3382701906353},{"$f":"AVERAGE(BE12:BE93)","v":3847.5925217081995},3379.3580607137374,2812.92546997506]
["1928-09-30",{"$f":"INDIRECT(CONCATENATE(\"'\",B$1,\"'!\",B$4,(YEAR($A96)-1921)*12+MONTH($A96)+3+IF(ISNUMBER(FIND(\"PRV\",B$6)),1,0)))*IF(AND(B$3>0,TRIM(B$9)=\"CFS\"),Conv_Flags!$C96,1)","v":2500},{"$f":"INDIRECT(CONCATENATE(\"'\",C$1,\"'!\",C$4,(YEAR($A96)-1921)*12+MONTH($A96)+3+IF(ISNUMBER(FIND(\"PRV\",C$6)),1,0)))*IF(AND(C$3>0,TRIM(C$9)=\"CFS\"),Conv_Flags!$C96,1)","v":2566.5104350087381},null,null,null,null,null,"MIN:",{"$f":"IF($B$7=\"TEMP\",MIN(J13:J93),MIN(J12:J93))","v":550.00000000000011},{"$f":"IF($B$7=\"TEMP\",MIN(K13:K93),MIN(K12:K93))","v":550},663.93456108192629,{"$f":"MIN(M12:M93)","v":935.81759352240192},1101.3913918282844,1642.8664835452012,1692.1584874328016,1546.8862229232827,1059.0408317339711,622.31898373184322,550,550,null,{"$f":"MIN(W12:W93)","v":1048.8094103309038},{"$f":"MIN(X12:X93)","v":1023.2158657276691},{"$f":"IF($B$7=\"TEMP\",MIN(Y13:Y93),MIN(Y12:Y93))","v":1085.6491256461452},null,{"$f":"IF($B$7=\"TEMP\",MIN(AA13:AA93),MIN(AA12:AA93))","v":915.83258501643627},{"$f":"MIN(AB12:AB93)","v":562.05316395530724},{"$f":"IF($B$7=\"TEMP\",MIN(AC13:AC93),MIN(AC12:AC93))","v":650.81052122688106},847.08030631898475,1583.0222358824922,819.95073173186393,550,null,"MIN:",{"$f":"IF($B$7=\"TEMP\",MIN(AJ13:AJ93),MIN(AJ12:AJ93))","v":550},{"$f":"IF($B$7=\"TEMP\",MIN(AK13:AK93),MIN(AK12:AK93))","v":550},707.53058857111284,{"$f":"MIN(AM12:AM93)","v":971.88178228470724},1233.3143646316153,1684.2018664329989,1822.2781340065349,1674.8084207138941,1151.3156912613506,650.0625283175533,550,550,null,{"$f":"MIN(AW12:AW93)","v":1151.4928823007906},{"$f":"MIN(AX12:AX93)","v":1107.3069683859364},{"$f":"IF($B$7=\"TEMP\",MIN(AY13:AY93),MIN(AY12:AY93))","v":1221.6871986795688},null,{"$f":"IF($B$7=\"TEMP\",MIN(BA13:BA93),MIN(BA12:BA93))","v":948.00909888067724},{"$f":"MIN(BB12:BB93)","v":566.67708805292557},{"$f":"IF($B$7=\"TEMP\",MIN(BC13:BC93),MIN(BC12:BC93))","v":681.1890047025895},883.7261553404511,{"$f":"MIN(BE12:BE93)","v":1721.0249713325095},865.9456074839627,550]
["1928-10-31",{"$f":"INDIRECT(CONCATENATE(\"'\",B$1,\"'!\",B$4,(YEAR($A97)-1921)*12+MONTH($A97)+3+IF(ISNUMBER(FIND(\"PRV\",B$6)),1,0)))*IF(AND(B$3>0,TRIM(B$9)=\"CFS\"),Conv_Flags!$C97,1)","v":2273.216041858936},{"$f":"INDIRECT(CONCATENATE(\"'\",C$1,\"'!\",C$4,(YEAR($A97)-1921)*12+MONTH($A97)+3+IF(ISNUMBER(FIND(\"PRV\",C$6)),1,0)))*IF(AND(C$3>0,TRIM(C$9)=\"CFS\"),Conv_Flags!$C97,1)","v":2365.3889355277051},null,null,null,null,null,"MAX:",{"$f":"IF($B$7=\"TEMP\",MAX(J13:J93),MAX(J12:J93))","v":3250.0000000000032},{"$f":"IF($B$7=\"TEMP\",MAX(K13:K93),MAX(K12:K93))","v":3252.0000000000005},3369,{"$f":"MAX(M12:M93)","v":3725},4099,4410.8515912324219,4552.1000976562509,4552.0000000000109,4500,4150.0000000000009,3700.0000000000005,3400.0000000000005,null,{"$f":"MAX(W12:W93)","v":3832.0687161280348},{"$f":"MAX(X12:X93)","v":3835.27149602692},{"$f":"IF($B$7=\"TEMP\",MAX(Y13:Y93),MAX(Y12:Y93))","v":3809.9254544606133},null,{"$f":"IF($B$7=\"TEMP\",MAX(AA13:AA93),MAX(AA12:AA93))","v":3622.5},{"$f":"MAX(AB12:AB93)","v":3600},{"$f":"IF($B$7=\"TEMP\",MAX(AC13:AC93),MAX(AC12:AC93))","v":3355.875},3576.1666666666665,4373.1792772354265,4081.5,3375.3333333333335,null,"MAX:",{"$f":"IF($B$7=\"TEMP\",MAX(AJ13:AJ93),MAX(AJ12:AJ93))","v":3250.0000000000005},{"$f":"IF($B$7=\"TEMP\",MAX(AK13:AK93),MAX(AK12:AK93))","v":3252.0000000000005},3369,{"$f":"MAX(AM12:AM93)","v":3725},4099,4410.8515912324228,4552.1000976562509,4552,4500,4150.0000000000009,3700.0000000000005,3400.0000000000005,null,{"$f":"MAX(AW12:AW93)","v":3831.0632496530538},{"$f":"MAX(AX12:AX93)","v":3831.8315144894982},{"$f":"IF($B$7=\"TEMP\",MAX(AY13:AY93),MAX(AY12:AY93))","v":3810.7021916958251},null,{"$f":"IF($B$7=\"TEMP\",MAX(BA13:BA93),MAX(BA12:BA93))","v":3622.5},{"$f":"MAX(BB12:BB93)","v":3600},{"$f":"IF($B$7=\"TEMP\",MAX(BC13:BC93),MAX(BC12:BC93))","v":3355.875},3576.1666666666665,{"$f":"MAX(BE12:BE93)","v":4375.2067918739358},4081.5,3375.3333333333335]
["1928-11-30",{"$f":"INDIRECT(CONCATENATE(\"'\",B$1,\"'!\",B$4,(YEAR($A98)-1921)*12+MONTH($A98)+3+IF(ISNUMBER(FIND(\"PRV\",B$6)),1,0)))*IF(AND(B$3>0,TRIM(B$9)=\"CFS\"),Conv_Flags!$C98,1)","v":2217.7523404095778},{"$f":"INDIRECT(CONCATENATE(\"'\",C$1,\"'!\",C$4,(YEAR($A98)-1921)*12+MONTH($A98)+3+IF(ISNUMBER(FIND(\"PRV\",C$6)),1,0)))*IF(AND(C$3>0,TRIM(C$9)=\"CFS\"),Conv_Flags!$C98,1)","v":2289.8986882706149}]
["1928-12-31",{"$f":"INDIRECT(CONCATENATE(\"'\",B$1,\"'!\",B$4,(YEAR($A99)-1921)*12+MONTH($A99)+3+IF(ISNUMBER(FIND(\"PRV\",B$6)),1,0)))*IF(AND(B$3>0,TRIM(B$9)=\"CFS\"),Conv_Flags!$C99,1)","v":2276.1844000804281},{"$f":"INDIRECT(CONCATENATE(\"'\",C$1,\"'!\",C$4,(YEAR($A99)-1921)*12+MONTH($A99)+3+IF(ISNUMBER(FIND(\"PRV\",C$6)),1,0)))*IF(AND(C$3>0,TRIM(C$9)=\"CFS\"),Conv_Flags!$C99,1)","v":2343.5073379404535},null,null,null,null,null,"PrEx75:",{"$f":"J182","v":2596.5601090051255},{"$f":"K182","v":2605.4987901811364},2646.6890243227781,2917.3855683074053,3252,3435,4024.1176380790671,3858.3364799238902,3446.7731578756006,3015.763565033139,2747.359088366873,2702.0923582392597,null,{"$f":"W182","v":3155.8690286479505},3191.0268670929672,{"$f":"Y182","v":3153.8385742315149},null,{"$f":"AA182","v":2913.9592454957806},{"$f":"AB182","v":2746.680785778321},2723.3407160013585,2853.7941080894893,{"$f":"AE182","v":3770.0943200789893},3106.2296405059851,2653.0520209867341,null,"PrEx75:",{"$f":"AJ182","v":2611.5533976175388},{"$f":"AK182","v":2636.6657239659244},2618.4856289534855,2984.2353614914127,3252,3435,4045.8427365877264,3874.7154360194186,3505.4041886358236,3076.2862303071943,2759.0488729416697,2723.9825798363072,null,{"$f":"AW182","v":3171.0928439631339},3164.3891129430849,{"$f":"AY182","v":3170.2932606958543},null,{"$f":"BA182","v":2886.4226895464217},{"$f":"BB182","v":2816.0644478067406},2693.0004591028378,2804.9379345377033,3769.4294635644637,3169.2498569132467,2674.7589586344106]
["1929-01-31",{"$f":"INDIRECT(CONCATENATE(\"'\",B$1,\"'!\",B$4,(YEAR($A100)-1921)*12+MONTH($A100)+3+IF(ISNUMBER(FIND(\"PRV\",B$6)),1,0)))*IF(AND(B$3>0,TRIM(B$9)=\"CFS\"),Conv_Flags!$C100,1)","v":2540.517783263128},{"$f":"INDIRECT(CONCATENATE(\"'\",C$1,\"'!\",C$4,(YEAR($A100)-1921)*12+MONTH($A100)+3+IF(ISNUMBER(FIND(\"PRV\",C$6)),1,0)))*IF(AND(C$3>0,TRIM(C$9)=\"CFS\"),Conv_Flags!$C100,1)","v":2607.7955797688569},null,null,null,null,null,"PrEx50:",{"$f":"J162","v":2942.5412971566921},{"$f":"K162","v":3002.8927298924586},3239.488516928936,3326.9757634990506,3503.10009765625,3940,4254.4890807170059,4410.215737658199,3969.6734914214076,3420.749743736716,3090.4335097995058,3050.150694958234,null,{"$f":"W162","v":3531.5597201843211},3531.4489998282984,{"$f":"Y162","v":3550.413217753086},null,{"$f":"AA162","v":3341.2},{"$f":"AB162","v":3118.2842494781453},3091.0180040617115,3291.8759090290878,{"$f":"AE162","v":4078.7409844574095},3572.0543097952286,2997.6320069103399,null,"PrEx50:",{"$f":"AJ162","v":2941.5598233610604},{"$f":"AK162","v":3004.2486844146874},3236.6842584690439,3344.2990044387716,3508.8739543913034,3940,4285.4962997793727,4428.2707760290314,3990.4386781973817,3431.3363562650802,3101.1036742215515,3054.5733231976137,null,{"$f":"AW162","v":3566.00491527243},3554.7639996128855,{"$f":"AY162","v":3571.6456333411802},null,{"$f":"BA162","v":3344.4354905771752},{"$f":"BB162","v":3117.4570035037582},3085.7960448422978,3317,4078.7409844931481,3562.4815313274948,3005.0496596705557]
["1929-02-28",{"$f":"INDIRECT(CONCATENATE(\"'\",B$1,\"'!\",B$4,(YEAR($A101)-1921)*12+MONTH($A101)+3+IF(ISNUMBER(FIND(\"PRV\",B$6)),1,0)))*IF(AND(B$3>0,TRIM(B$9)=\"CFS\"),Conv_Flags!$C101,1)","v":2725.6759574033663},{"$f":"INDIRECT(CONCATENATE(\"'\",C$1,\"'!\",C$4,(YEAR($A101)-1921)*12+MONTH($A101)+3+IF(ISNUMBER(FIND(\"PRV\",C$6)),1,0)))*IF(AND(C$3>0,TRIM(C$9)=\"CFS\"),Conv_Flags!$C101,1)","v":2792.9075512355439},null,null,null,null,null,"PrEx25:",{"$f":"J141","v":3249.9999999999995},{"$f":"K141","v":3252},3328,3549.556535256314,3742.5,4118,4512.312480886163,4552,4386.8810535712173,3879.682072680293,3590.4062239720647,3399.9999999999991,null,{"$f":"W141","v":3718.7384773907056},3742.0486248542497,{"$f":"Y141","v":3687.1666666666665},null,{"$f":"AA141","v":3460.147867578054},{"$f":"AB141","v":3514.5788139328565},3286.6610217340503,3446.3167213128067,{"$f":"AE141","v":4267.5490247907446},3931.4283720560443,3345.8972169318145,null,"PrEx25:",{"$f":"AJ141","v":3249.9999999999995},{"$f":"AK141","v":3252},3322,3541.570874217201,3742.5,4106,4516.0051072040324,4552,4393.0354198071836,3910.5996992906403,3601.6230270396313,3399.9999999999995,null,{"$f":"AW141","v":3719.2094989000598},3745.5246922632682,{"$f":"AY141","v":3698.9845081428994},null,{"$f":"BA141","v":3462.2949552658852},{"$f":"BB141","v":3518.6708036991367},3283.053672354029,3441.36381136196,4269.6988468705431,3953.7748251458615,3348.4077261931257]
["1929-03-31",{"$f":"INDIRECT(CONCATENATE(\"'\",B$1,\"'!\",B$4,(YEAR($A102)-1921)*12+MONTH($A102)+3+IF(ISNUMBER(FIND(\"PRV\",B$6)),1,0)))*IF(AND(B$3>0,TRIM(B$9)=\"CFS\"),Conv_Flags!$C102,1)","v":2896.6799349687722},{"$f":"INDIRECT(CONCATENATE(\"'\",C$1,\"'!\",C$4,(YEAR($A102)-1921)*12+MONTH($A102)+3+IF(ISNUMBER(FIND(\"PRV\",C$6)),1,0)))*IF(AND(C$3>0,TRIM(C$9)=\"CFS\"),Conv_Flags!$C102,1)","v":2963.8238894903575}]
["1929-04-30",{"$f":"INDIRECT(CONCATENATE(\"'\",B$1,\"'!\",B$4,(YEAR($A103)-1921)*12+MONTH($A103)+3+IF(ISNUMBER(FIND(\"PRV\",B$6)),1,0)))*IF(AND(B$3>0,TRIM(B$9)=\"CFS\"),Conv_Flags!$C103,1)","v":3074.7996947920692},{"$f":"INDIRECT(CONCATENATE(\"'\",C$1,\"'!\",C$4,(YEAR($A103)-1921)*12+MONTH($A103)+3+IF(ISNUMBER(FIND(\"PRV\",C$6)),1,0)))*IF(AND(C$3>0,TRIM(C$9)=\"CFS\"),Conv_Flags!$C103,1)","v":3141.0941582917235},null,null,null,null,null,"DP:",{"$f":"IF($B$7=\"TEMP\",SUMPRODUCT(J$13:J$93,Conv_Flags!$K$13:$K$93)/SUM(Conv_Flags!$K$13:$K$93),SUMPRODUCT(J$12:J$93,Conv_Flags!$K$12:$K$93)/SUM(Conv_Flags!$K$12:$K$93))","v":2061.9865932075982},{"$f":"IF($B$7=\"TEMP\",SUMPRODUCT(K$13:K$93,Conv_Flags!$K$13:$K$93)/SUM(Conv_Flags!$K$13:$K$93),SUMPRODUCT(K$12:K$93,Conv_Flags!$K$12:$K$93)/SUM(Conv_Flags!$K$12:$K$93))","v":1992.8420765197939},{"$f":"IF($B$7=\"TEMP\",SUMPRODUCT(L$13:L$93,Conv_Flags!$K$13:$K$93)/SUM(Conv_Flags!$K$13:$K$93),SUMPRODUCT(L$12:L$93,Conv_Flags!$K$12:$K$93)/SUM(Conv_Flags!$K$12:$K$93))","v":2065.3005021008244},{"$f":"SUMPRODUCT(M$12:M$93,Conv_Flags!$K$12:$K$93)/SUM(Conv_Flags!$K$12:$K$93)","v":2198.0405190851561},{"$f":"SUMPRODUCT(N$12:N$93,Conv_Flags!$K$12:$K$93)/SUM(Conv_Flags!$K$12:$K$93)","v":2381.4149290967798},{"$f":"SUMPRODUCT(O$12:O$93,Conv_Flags!$K$12:$K$93)/SUM(Conv_Flags!$K$12:$K$93)","v":2778.799974208167},{"$f":"SUMPRODUCT(P$12:P$93,Conv_Flags!$K$12:$K$93)/SUM(Conv_Flags!$K$12:$K$93)","v":2909.1951568439144},{"$f":"SUMPRODUCT(Q$12:Q$93,Conv_Flags!$K$12:$K$93)/SUM(Conv_Flags!$K$12:$K$93)","v":2757.4854487878315},{"$f":"SUMPRODUCT(R$12:R$93,Conv_Flags!$K$12:$K$93)/SUM(Conv_Flags!$K$12:$K$93)","v":2402.0453286227862},{"$f":"SUMPRODUCT(S$12:S$93,Conv_Flags!$K$12:$K$93)/SUM(Conv_Flags!$K$12:$K$93)","v":2037.1705605259183},{"$f":"SUMPRODUCT(T$12:T$93,Conv_Flags!$K$12:$K$93)/SUM(Conv_Flags!$K$12:$K$93)","v":1751.662675201623},{"$f":"SUMPRODUCT(U$12:U$93,Conv_Flags!$K$12:$K$93)/SUM(Conv_Flags!$K$12:$K$93)","v":1687.5048931517013},null,{"$f":"SUMPRODUCT(W$12:W$93,Conv_Flags!$K$12:$K$93)/SUM(Conv_Flags!$K$12:$K$93)","v":2139.8930899373563},{"$f":"SUMPRODUCT(X$12:X$93,Conv_Flags!$K$12:$K$93)/SUM(Conv_Flags!$K$12:$K$93)","v":2103.3705574045002},{"$f":"IF($B$7=\"TEMP\",SUMPRODUCT(Y$13:Y$93,Conv_Flags!$K$13:$K$93)/SUM(Conv_Flags!$K$13:$K$93),SUMPRODUCT(Y$12:Y$93,Conv_Flags!$K$12:$K$93)/SUM(Conv_Flags!$K$12:$K$93))","v":2251.9540547793408},null,{"$f":"IF($B$7=\"TEMP\",SUMPRODUCT(AA$13:AA$93,Conv_Flags!$K$13:$K$93)/SUM(Conv_Flags!$K$13:$K$93),SUMPRODUCT(AA$12:AA$93,Conv_Flags!$K$12:$K$93)/SUM(Conv_Flags!$K$12:$K$93))","v":2211.5982621020871},{"$f":"SUMPRODUCT(AB$12:AB$93,Conv_Flags!$K$12:$K$93)/SUM(Conv_Flags!$K$12:$K$93)","v":1751.0489370339674},{"$f":"IF($B$7=\"TEMP\",SUMPRODUCT(AC$13:AC$93,Conv_Flags!$K$13:$K$93)/SUM(Conv_Flags!$K$13:$K$93),SUMPRODUCT(AC$12:AC$93,Conv_Flags!$K$12:$K$93)/SUM(Conv_Flags!$K$12:$K$93))","v":2077.1886252077279},{"$f":"IF($B$7=\"TEMP\",SUMPRODUCT(AD$13:AD$93,Conv_Flags!$K$13:$K$93)/SUM(Conv_Flags!$K$13:$K$93),SUMPRODUCT(AD$12:AD$93,Conv_Flags!$K$12:$K$93)/SUM(Conv_Flags!$K$12:$K$93))","v":2150.1565079980887},{"$f":"SUMPRODUCT(AE$12:AE$93,Conv_Flags!$K$12:$K$93)/SUM(Conv_Flags!$K$12:$K$93)","v":2709.3026771749242},{"$f":"SUMPRODUCT(AF$12:AF$93,Conv_Flags!$K$12:$K$93)/SUM(Conv_Flags!$K$12:$K$93)","v":2103.3434338300235},{"$f":"SUMPRODUCT(AG$12:AG$93,Conv_Flags!$K$12:$K$93)/SUM(Conv_Flags!$K$12:$K$93)","v":1640.0055092954883},null,"DP:",{"$f":"IF($B$7=\"TEMP\",SUMPRODUCT(AJ$13:AJ$93,Conv_Flags!$K$13:$K$93)/SUM(Conv_Flags!$K$13:$K$93),SUMPRODUCT(AJ$12:AJ$93,Conv_Flags!$K$12:$K$93)/SUM(Conv_Flags!$K$12:$K$93))","v":2114.2306279598229},{"$f":"IF($B$7=\"TEMP\",SUMPRODUCT(AK$13:AK$93,Conv_Flags!$K$13:$K$93)/SUM(Conv_Flags!$K$13:$K$93),SUMPRODUCT(AK$12:AK$93,Conv_Flags!$K$12:$K$93)/SUM(Conv_Flags!$K$12:$K$93))","v":2038.9787552336886},{"$f":"IF($B$7=\"TEMP\",SUMPRODUCT(AL$13:AL$93,Conv_Flags!$K$13:$K$93)/SUM(Conv_Flags!$K$13:$K$93),SUMPRODUCT(AL$12:AL$93,Conv_Flags!$K$12:$K$93)/SUM(Conv_Flags!$K$12:$K$93))","v":2109.7975086951851},{"$f":"SUMPRODUCT(AM$12:AM$93,Conv_Flags!$K$12:$K$93)/SUM(Conv_Flags!$K$12:$K$93)","v":2256.6394638120169},{"$f":"SUMPRODUCT(AN$12:AN$93,Conv_Flags!$K$12:$K$93)/SUM(Conv_Flags!$K$12:$K$93)","v":2432.7631816422904},{"$f":"SUMPRODUCT(AO$12:AO$93,Conv_Flags!$K$12:$K$93)/SUM(Conv_Flags!$K$12:$K$93)","v":2829.228004326179},{"$f":"SUMPRODUCT(AP$12:AP$93,Conv_Flags!$K$12:$K$93)/SUM(Conv_Flags!$K$12:$K$93)","v":2958.7682232321245},{"$f":"SUMPRODUCT(AQ$12:AQ$93,Conv_Flags!$K$12:$K$93)/SUM(Conv_Flags!$K$12:$K$93)","v":2810.1451052262241},{"$f":"SUMPRODUCT(AR$12:AR$93,Conv_Flags!$K$12:$K$93)/SUM(Conv_Flags!$K$12:$K$93)","v":2456.9892209700147},{"$f":"SUMPRODUCT(AS$12:AS$93,Conv_Flags!$K$12:$K$93)/SUM(Conv_Flags!$K$12:$K$93)","v":2088.9408340788132},{"$f":"SUMPRODUCT(AT$12:AT$93,Conv_Flags!$K$12:$K$93)/SUM(Conv_Flags!$K$12:$K$93)","v":1803.63207529122},{"$f":"SUMPRODUCT(AU$12:AU$93,Conv_Flags!$K$12:$K$93)/SUM(Conv_Flags!$K$12:$K$93)","v":1736.0394383952437},null,{"$f":"SUMPRODUCT(AW$12:AW$93,Conv_Flags!$K$12:$K$93)/SUM(Conv_Flags!$K$12:$K$93)","v":2190.6942206674003},{"$f":"SUMPRODUCT(AX$12:AX$93,Conv_Flags!$K$12:$K$93)/SUM(Conv_Flags!$K$12:$K$93)","v":2154.5582427628046},{"$f":"IF($B$7=\"TEMP\",SUMPRODUCT(AY$13:AY$93,Conv_Flags!$K$13:$K$93)/SUM(Conv_Flags!$K$13:$K$93),SUMPRODUCT(AY$12:AY$93,Conv_Flags!$K$12:$K$93)/SUM(Conv_Flags!$K$12:$K$93))","v":2303.0127032385685},null,{"$f":"IF($B$7=\"TEMP\",SUMPRODUCT(BA$13:BA$93,Conv_Flags!$K$13:$K$93)/SUM(Conv_Flags!$K$13:$K$93),SUMPRODUCT(BA$12:BA$93,Conv_Flags!$K$12:$K$93)/SUM(Conv_Flags!$K$12:$K$93))","v":2261.9816451052361},{"$f":"SUMPRODUCT(BB$12:BB$93,Conv_Flags!$K$12:$K$93)/SUM(Conv_Flags!$K$12:$K$93)","v":1801.3976033437418},{"$f":"IF($B$7=\"TEMP\",SUMPRODUCT(BC$13:BC$93,Conv_Flags!$K$13:$K$93)/SUM(Conv_Flags!$K$13:$K$93),SUMPRODUCT(BC$12:BC$93,Conv_Flags!$K$12:$K$93)/SUM(Conv_Flags!$K$12:$K$93))","v":2125.7638345894989},{"$f":"IF($B$7=\"TEMP\",SUMPRODUCT(BD$13:BD$93,Conv_Flags!$K$13:$K$93)/SUM(Conv_Flags!$K$13:$K$93),SUMPRODUCT(BD$12:BD$93,Conv_Flags!$K$12:$K$93)/SUM(Conv_Flags!$K$12:$K$93))","v":2200.7693136483967},{"$f":"SUMPRODUCT(BE$12:BE$93,Conv_Flags!$K$12:$K$93)/SUM(Conv_Flags!$K$12:$K$93)","v":2760.7543835226707},{"$f":"SUMPRODUCT(BF$12:BF$93,Conv_Flags!$K$12:$K$93)/SUM(Conv_Flags!$K$12:$K$93)","v":2155.6636005376959},{"$f":"SUMPRODUCT(BG$12:BG$93,Conv_Flags!$K$12:$K$93)/SUM(Conv_Flags!$K$12:$K$93)","v":1688.7279633673413}]
["1929-05-31",{"$f":"INDIRECT(CONCATENATE(\"'\",B$1,\"'!\",B$4,(YEAR($A104)-1921)*12+MONTH($A104)+3+IF(ISNUMBER(FIND(\"PRV\",B$6)),1,0)))*IF(AND(B$3>0,TRIM(B$9)=\"CFS\"),Conv_Flags!$C104,1)","v":2842.6992809523636},{"$f":"INDIRECT(CONCATENATE(\"'\",C$1,\"'!\",C$4,(YEAR($A104)-1921)*12+MONTH($A104)+3+IF(ISNUMBER(FIND(\"PRV\",C$6)),1,0)))*IF(AND(C$3>0,TRIM(C$9)=\"CFS\"),Conv_Flags!$C104,1)","v":2907.7783437339831},null,null,null,null,null,"VIC:",{"$f":"AVERAGE(J60:J93)","v":2790.6371176303082},{"$f":"AVERAGE(K60:K93)","v":2785.4668422985696},2900.13568698269,3178.7819789419482,3383.7859702619717,3749.559234883131,4093.2522010553048,4069.1415991187932,3762.0917735285452,3300.0928954731471,2997.418132908716,2872.3515091564013,null,{"$f":"AVERAGE(W60:W93)","v":3310.8248265213701},3312.4995412923799,3323.5595785199603,null,{"$f":"AVERAGE(AA60:AA93)","v":3103.6537309483792},2972.0105752038025,{"$f":"AVERAGE(AC60:AC93)","v":2876.5271072850601},3054.5146907349695,3871.2229767381223,3382.5873390120009,2840.7547097628922,null,"VIC:",{"$f":"AVERAGE(AJ60:AJ93)","v":2800.8237655519038},{"$f":"AVERAGE(AK60:AK93)","v":2787.0390399723369},2902.6784186328841,3189.2821637222755,3388.6649707881779,3751.8430890249651,4094.9276275075149,4074.7607751608816,3779.2747819451683,3318.3730737383885,3014.8714214700481,2889.0411437337084,null,{"$f":"AVERAGE(AW60:AW93)","v":3319.0670550447458},3320.7417698157551,3332.6316892706864,null,{"$f":"AVERAGE(BA60:BA93)","v":3108.7996040808212},2988.6907930840084,2883.0660298535618,3059.93752924514,3876.3753420150092,3398.6050591502249,2851.4933550387614]
["1929-06-30",{"$f":"INDIRECT(CONCATENATE(\"'\",B$1,\"'!\",B$4,(YEAR($A105)-1921)*12+MONTH($A105)+3+IF(ISNUMBER(FIND(\"PRV\",B$6)),1,0)))*IF(AND(B$3>0,TRIM(B$9)=\"CFS\"),Conv_Flags!$C105,1)","v":2608.0037067294634},{"$f":"INDIRECT(CONCATENATE(\"'\",C$1,\"'!\",C$4,(YEAR($A105)-1921)*12+MONTH($A105)+3+IF(ISNUMBER(FIND(\"PRV\",C$6)),1,0)))*IF(AND(C$3>0,TRIM(C$9)=\"CFS\"),Conv_Flags!$C105,1)","v":2658.1984438969839},null,null,null,null,null,"40-30-30",null,null,null,null,null,null,null,null,null,null,null,null,null,null,null,null,null,null,null,null,null,null,null,null,null,"40-30-30"]
["1929-07-31",{"$f":"INDIRECT(CONCATENATE(\"'\",B$1,\"'!\",B$4,(YEAR($A106)-1921)*12+MONTH($A106)+3+IF(ISNUMBER(FIND(\"PRV\",B$6)),1,0)))*IF(AND(B$3>0,TRIM(B$9)=\"CFS\"),Conv_Flags!$C106,1)","v":2305.6360119736401},{"$f":"INDIRECT(CONCATENATE(\"'\",C$1,\"'!\",C$4,(YEAR($A106)-1921)*12+MONTH($A106)+3+IF(ISNUMBER(FIND(\"PRV\",C$6)),1,0)))*IF(AND(C$3>0,TRIM(C$9)=\"CFS\"),Conv_Flags!$C106,1)","v":2414.8205626911326},null,null,null,null,null,"W:",{"$f":"IF($B$7=\"TEMP\",SUMPRODUCT(J$13:J$93,Conv_Flags!$N$12:$N$92)/SUM(Conv_Flags!$N$12:$N$92),SUMPRODUCT(J$12:J$93,Conv_Flags!$N$11:$N$92)/SUM(Conv_Flags!$N$11:$N$92))","v":3183.3766484764878},{"$f":"IF($B$7=\"TEMP\",SUMPRODUCT(K$13:K$93,Conv_Flags!$N$12:$N$92)/SUM(Conv_Flags!$N$12:$N$92),SUMPRODUCT(K$12:K$93,Conv_Flags!$N$11:$N$92)/SUM(Conv_Flags!$N$11:$N$92))","v":3175.2215418673222},{"$f":"IF($B$7=\"TEMP\",SUMPRODUCT(L$13:L$93,Conv_Flags!$N$12:$N$92)/SUM(Conv_Flags!$N$12:$N$92),SUMPRODUCT(L$12:L$93,Conv_Flags!$N$11:$N$92)/SUM(Conv_Flags!$N$11:$N$92))","v":3258.46770983551},{"$f":"SUMPRODUCT(M$12:M$93,Conv_Flags!$N$12:$N$93)/SUM(Conv_Flags!$N$12:$N$93)","v":3457.7150356702837},{"$f":"SUMPRODUCT(N$12:N$93,Conv_Flags!$N$12:$N$93)/SUM(Conv_Flags!$N$12:$N$93)","v":3606.9710618874233},{"$f":"SUMPRODUCT(O$12:O$93,Conv_Flags!$N$12:$N$93)/SUM(Conv_Flags!$N$12:$N$93)","v":3862.526308564321},{"$f":"SUMPRODUCT(P$12:P$93,Conv_Flags!$N$12:$N$93)/SUM(Conv_Flags!$N$12:$N$93)","v":4348.4459354851197},{"$f":"SUMPRODUCT(Q$12:Q$93,Conv_Flags!$N$12:$N$93)/SUM(Conv_Flags!$N$12:$N$93)","v":4489.1584701363372},{"$f":"SUMPRODUCT(R$12:R$93,Conv_Flags!$N$12:$N$93)/SUM(Conv_Flags!$N$12:$N$93)","v":4370.1718642117103},{"$f":"SUMPRODUCT(S$12:S$93,Conv_Flags!$N$12:$N$93)/SUM(Conv_Flags!$N$12:$N$93)","v":3933.5270032982812},{"$f":"SUMPRODUCT(T$12:T$93,Conv_Flags!$N$12:$N$93)/SUM(Conv_Flags!$N$12:$N$93)","v":3558.7967708166016},{"$f":"SUMPRODUCT(U$12:U$93,Conv_Flags!$N$12:$N$93)/SUM(Conv_Flags!$N$12:$N$93)","v":3305.3815087235903},null,{"$f":"SUMPRODUCT(W$12:W$93,Conv_Flags!$N$12:$N$93)/SUM(Conv_Flags!$N$12:$N$93)","v":3712.4799882477482},{"$f":"SUMPRODUCT(X$12:X$93,Conv_Flags!$N$12:$N$93)/SUM(Conv_Flags!$N$12:$N$93)","v":3718.5947204076779},{"$f":"IF($B$7=\"TEMP\",SUMPRODUCT(Y$13:Y$93,Conv_Flags!$N$12:$N$92)/SUM(Conv_Flags!$N$12:$N$92),SUMPRODUCT(Y$12:Y$93,Conv_Flags!$N$11:$N$92)/SUM(Conv_Flags!$N$11:$N$92))","v":3585.0228214670078},null,{"$f":"IF($B$7=\"TEMP\",SUMPRODUCT(AA$13:AA$93,Conv_Flags!$N$12:$N$92)/SUM(Conv_Flags!$N$12:$N$92),SUMPRODUCT(AA$12:AA$93,Conv_Flags!$N$11:$N$92)/SUM(Conv_Flags!$N$11:$N$92))","v":3431.0448291645653},{"$f":"SUMPRODUCT(AB$12:AB$93,Conv_Flags!$N$12:$N$93)/SUM(Conv_Flags!$N$12:$N$93)","v":3474.2100351425256},{"$f":"IF($B$7=\"TEMP\",SUMPRODUCT(AC$13:AC$93,Conv_Flags!$N$12:$N$92)/SUM(Conv_Flags!$N$12:$N$92),SUMPRODUCT(AC$12:AC$93,Conv_Flags!$N$11:$N$92)/SUM(Conv_Flags!$N$11:$N$92))","v":3251.3529602706226},{"$f":"IF($B$7=\"TEMP\",SUMPRODUCT(AD$13:AD$93,Conv_Flags!$N$12:$N$92)/SUM(Conv_Flags!$N$12:$N$92),SUMPRODUCT(AD$12:AD$93,Conv_Flags!$N$11:$N$92)/SUM(Conv_Flags!$N$11:$N$92))","v":3383.5883696829897},{"$f":"SUMPRODUCT(AE$12:AE$93,Conv_Flags!$N$12:$N$93)/SUM(Conv_Flags!$N$12:$N$93)","v":4172.175544308835},{"$f":"SUMPRODUCT(AF$12:AF$93,Conv_Flags!$N$12:$N$93)/SUM(Conv_Flags!$N$12:$N$93)","v":3939.9414069391396},{"$f":"SUMPRODUCT(AG$12:AG$93,Conv_Flags!$N$11:$N$92)/SUM(Conv_Flags!$N$11:$N$92)","v":2991.0470332930836},null,"W:",{"$f":"IF($B$7=\"TEMP\",SUMPRODUCT(AJ$13:AJ$93,Conv_Flags!$N$12:$N$92)/SUM(Conv_Flags!$N$12:$N$92),SUMPRODUCT(AJ$12:AJ$93,Conv_Flags!$N$11:$N$92)/SUM(Conv_Flags!$N$11:$N$92))","v":3178.3967109031778},{"$f":"IF($B$7=\"TEMP\",SUMPRODUCT(AK$13:AK$93,Conv_Flags!$N$12:$N$92)/SUM(Conv_Flags!$N$12:$N$92),SUMPRODUCT(AK$12:AK$93,Conv_Flags!$N$11:$N$92)/SUM(Conv_Flags!$N$11:$N$92))","v":3174.6707452511141},{"$f":"IF($B$7=\"TEMP\",SUMPRODUCT(AL$13:AL$93,Conv_Flags!$N$12:$N$92)/SUM(Conv_Flags!$N$12:$N$92),SUMPRODUCT(AL$12:AL$93,Conv_Flags!$N$11:$N$92)/SUM(Conv_Flags!$N$11:$N$92))","v":3259.0817118132331},{"$f":"SUMPRODUCT(AM$12:AM$93,Conv_Flags!$N$12:$N$93)/SUM(Conv_Flags!$N$12:$N$93)","v":3460.6272433005724},{"$f":"SUMPRODUCT(AN$12:AN$93,Conv_Flags!$N$12:$N$93)/SUM(Conv_Flags!$N$12:$N$93)","v":3606.9710619186089},{"$f":"SUMPRODUCT(AO$12:AO$93,Conv_Flags!$N$12:$N$93)/SUM(Conv_Flags!$N$12:$N$93)","v":3862.526308548323},{"$f":"SUMPRODUCT(AP$12:AP$93,Conv_Flags!$N$12:$N$93)/SUM(Conv_Flags!$N$12:$N$93)","v":4348.4459351964915},{"$f":"SUMPRODUCT(AQ$12:AQ$93,Conv_Flags!$N$12:$N$93)/SUM(Conv_Flags!$N$12:$N$93)","v":4488.9546717444564},{"$f":"SUMPRODUCT(AR$12:AR$93,Conv_Flags!$N$12:$N$93)/SUM(Conv_Flags!$N$12:$N$93)","v":4365.4689078689935},{"$f":"SUMPRODUCT(AS$12:AS$93,Conv_Flags!$N$12:$N$93)/SUM(Conv_Flags!$N$12:$N$93)","v":3926.7610067169276},{"$f":"SUMPRODUCT(AT$12:AT$93,Conv_Flags!$N$12:$N$93)/SUM(Conv_Flags!$N$12:$N$93)","v":3552.8137781108253},{"$f":"SUMPRODUCT(AU$12:AU$93,Conv_Flags!$N$12:$N$93)/SUM(Conv_Flags!$N$12:$N$93)","v":3300.5499868711636},null,{"$f":"SUMPRODUCT(AW$12:AW$93,Conv_Flags!$N$12:$N$93)/SUM(Conv_Flags!$N$12:$N$93)","v":3710.4390056869897},{"$f":"SUMPRODUCT(AX$12:AX$93,Conv_Flags!$N$12:$N$93)/SUM(Conv_Flags!$N$12:$N$93)","v":3716.1740233809996},{"$f":"IF($B$7=\"TEMP\",SUMPRODUCT(AY$13:AY$93,Conv_Flags!$N$12:$N$92)/SUM(Conv_Flags!$N$12:$N$92),SUMPRODUCT(AY$12:AY$93,Conv_Flags!$N$11:$N$92)/SUM(Conv_Flags!$N$11:$N$92))","v":3593.2032186644265},null,{"$f":"IF($B$7=\"TEMP\",SUMPRODUCT(BA$13:BA$93,Conv_Flags!$N$12:$N$92)/SUM(Conv_Flags!$N$12:$N$92),SUMPRODUCT(BA$12:BA$93,Conv_Flags!$N$11:$N$92)/SUM(Conv_Flags!$N$11:$N$92))","v":3430.1162893270148},{"$f":"SUMPRODUCT(BB$12:BB$93,Conv_Flags!$N$12:$N$93)/SUM(Conv_Flags!$N$12:$N$93)","v":3468.6475412640143},{"$f":"IF($B$7=\"TEMP\",SUMPRODUCT(BC$13:BC$93,Conv_Flags!$N$12:$N$92)/SUM(Conv_Flags!$N$12:$N$92),SUMPRODUCT(BC$12:BC$93,Conv_Flags!$N$11:$N$92)/SUM(Conv_Flags!$N$11:$N$92))","v":3249.4573776558664},{"$f":"IF($B$7=\"TEMP\",SUMPRODUCT(BD$13:BD$93,Conv_Flags!$N$12:$N$92)/SUM(Conv_Flags!$N$12:$N$92),SUMPRODUCT(BD$12:BD$93,Conv_Flags!$N$11:$N$92)/SUM(Conv_Flags!$N$11:$N$92))","v":3383.3438974775981},{"$f":"SUMPRODUCT(BE$12:BE$93,Conv_Flags!$N$12:$N$93)/SUM(Conv_Flags!$N$12:$N$93)","v":4171.5367250957688},{"$f":"SUMPRODUCT(BF$12:BF$93,Conv_Flags!$N$12:$N$93)/SUM(Conv_Flags!$N$12:$N$93)","v":3934.9490055011388},{"$f":"SUMPRODUCT(BG$12:BG$93,Conv_Flags!$N$11:$N$92)/SUM(Conv_Flags!$N$11:$N$92)","v":3010.8081174239214}]
["1929-08-31",{"$f":"INDIRECT(CONCATENATE(\"'\",B$1,\"'!\",B$4,(YEAR($A107)-1921)*12+MONTH($A107)+3+IF(ISNUMBER(FIND(\"PRV\",B$6)),1,0)))*IF(AND(B$3>0,TRIM(B$9)=\"CFS\"),Conv_Flags!$C107,1)","v":1911.3060567267712},{"$f":"INDIRECT(CONCATENATE(\"'\",C$1,\"'!\",C$4,(YEAR($A107)-1921)*12+MONTH($A107)+3+IF(ISNUMBER(FIND(\"PRV\",C$6)),1,0)))*IF(AND(C$3>0,TRIM(C$9)=\"CFS\"),Conv_Flags!$C107,1)","v":2016.3660175882205},null,null,null,null,null,"AN:",{"$f":"IF($B$7=\"TEMP\",SUMPRODUCT(J$13:J$93,Conv_Flags!$O$12:$O$92)/SUM(Conv_Flags!$O$12:$O$92),SUMPRODUCT(J$12:J$93,Conv_Flags!$O$11:$O$92)/SUM(Conv_Flags!$O$11:$O$92))","v":2982.6534333271507},{"$f":"IF($B$7=\"TEMP\",SUMPRODUCT(K$13:K$93,Conv_Flags!$O$12:$O$92)/SUM(Conv_Flags!$O$12:$O$92),SUMPRODUCT(K$12:K$93,Conv_Flags!$O$11:$O$92)/SUM(Conv_Flags!$O$11:$O$92))","v":2933.6401708980961},{"$f":"IF($B$7=\"TEMP\",SUMPRODUCT(L$13:L$93,Conv_Flags!$O$12:$O$92)/SUM(Conv_Flags!$O$12:$O$92),SUMPRODUCT(L$12:L$93,Conv_Flags!$O$11:$O$92)/SUM(Conv_Flags!$O$11:$O$92))","v":3094.2159394377081},{"$f":"SUMPRODUCT(M$12:M$93,Conv_Flags!$O$12:$O$93)/SUM(Conv_Flags!$O$12:$O$93)","v":3249.5196751290168},{"$f":"SUMPRODUCT(N$12:N$93,Conv_Flags!$O$12:$O$93)/SUM(Conv_Flags!$O$12:$O$93)","v":3499.528972610557},{"$f":"SUMPRODUCT(O$12:O$93,Conv_Flags!$O$12:$O$93)/SUM(Conv_Flags!$O$12:$O$93)","v":4009.8004891497185},{"$f":"SUMPRODUCT(P$12:P$93,Conv_Flags!$O$12:$O$93)/SUM(Conv_Flags!$O$12:$O$93)","v":4470.0153498673581},{"$f":"SUMPRODUCT(Q$12:Q$93,Conv_Flags!$O$12:$O$93)/SUM(Conv_Flags!$O$12:$O$93)","v":4487.2662279445622},{"$f":"SUMPRODUCT(R$12:R$93,Conv_Flags!$O$12:$O$93)/SUM(Conv_Flags!$O$12:$O$93)","v":4182.317808352781},{"$f":"SUMPRODUCT(S$12:S$93,Conv_Flags!$O$12:$O$93)/SUM(Conv_Flags!$O$12:$O$93)","v":3579.1242935361383},{"$f":"SUMPRODUCT(T$12:T$93,Conv_Flags!$O$12:$O$93)/SUM(Conv_Flags!$O$12:$O$93)","v":3246.4801424766342},{"$f":"SUMPRODUCT(U$12:U$93,Conv_Flags!$O$12:$O$93)/SUM(Conv_Flags!$O$12:$O$93)","v":3096.4780422334643},null,{"$f":"SUMPRODUCT(W$12:W$93,Conv_Flags!$O$12:$O$93)/SUM(Conv_Flags!$O$12:$O$93)","v":3267.3393908074372},{"$f":"SUMPRODUCT(X$12:X$93,Conv_Flags!$O$12:$O$93)/SUM(Conv_Flags!$O$12:$O$93)","v":3274.4261706646284},{"$f":"IF($B$7=\"TEMP\",SUMPRODUCT(Y$13:Y$93,Conv_Flags!$O$12:$O$92)/SUM(Conv_Flags!$O$12:$O$92),SUMPRODUCT(Y$12:Y$93,Conv_Flags!$O$11:$O$92)/SUM(Conv_Flags!$O$11:$O$92))","v":3439.9952086008648},null,{"$f":"IF($B$7=\"TEMP\",SUMPRODUCT(AA$13:AA$93,Conv_Flags!$O$12:$O$92)/SUM(Conv_Flags!$O$12:$O$92),SUMPRODUCT(AA$12:AA$93,Conv_Flags!$O$11:$O$92)/SUM(Conv_Flags!$O$11:$O$92))","v":3231.3587762682487},{"$f":"SUMPRODUCT(AB$12:AB$93,Conv_Flags!$O$12:$O$93)/SUM(Conv_Flags!$O$12:$O$93)","v":3215.9039543763661},{"$f":"IF($B$7=\"TEMP\",SUMPRODUCT(AC$13:AC$93,Conv_Flags!$O$12:$O$92)/SUM(Conv_Flags!$O$12:$O$92),SUMPRODUCT(AC$12:AC$93,Conv_Flags!$O$11:$O$92)/SUM(Conv_Flags!$O$11:$O$92))","v":3045.1037286163537},{"$f":"IF($B$7=\"TEMP\",SUMPRODUCT(AD$13:AD$93,Conv_Flags!$O$12:$O$92)/SUM(Conv_Flags!$O$12:$O$92),SUMPRODUCT(AD$12:AD$93,Conv_Flags!$O$11:$O$92)/SUM(Conv_Flags!$O$11:$O$92))","v":3191.6216170238135},{"$f":"SUMPRODUCT(AE$12:AE$93,Conv_Flags!$O$12:$O$93)/SUM(Conv_Flags!$O$12:$O$93)","v":4202.0013643608272},{"$f":"SUMPRODUCT(AF$12:AF$93,Conv_Flags!$O$12:$O$93)/SUM(Conv_Flags!$O$12:$O$93)","v":3699.9485948636416},{"$f":"SUMPRODUCT(AG$12:AG$93,Conv_Flags!$O$11:$O$92)/SUM(Conv_Flags!$O$11:$O$92)","v":2957.5115345080376},null,"AN:",{"$f":"IF($B$7=\"TEMP\",SUMPRODUCT(AJ$13:AJ$93,Conv_Flags!$O$12:$O$92)/SUM(Conv_Flags!$O$12:$O$92),SUMPRODUCT(AJ$12:AJ$93,Conv_Flags!$O$11:$O$92)/SUM(Conv_Flags!$O$11:$O$92))","v":3030.0895632041374},{"$f":"IF($B$7=\"TEMP\",SUMPRODUCT(AK$13:AK$93,Conv_Flags!$O$12:$O$92)/SUM(Conv_Flags!$O$12:$O$92),SUMPRODUCT(AK$12:AK$93,Conv_Flags!$O$11:$O$92)/SUM(Conv_Flags!$O$11:$O$92))","v":2976.2127339716722},{"$f":"IF($B$7=\"TEMP\",SUMPRODUCT(AL$13:AL$93,Conv_Flags!$O$12:$O$92)/SUM(Conv_Flags!$O$12:$O$92),SUMPRODUCT(AL$12:AL$93,Conv_Flags!$O$11:$O$92)/SUM(Conv_Flags!$O$11:$O$92))","v":3122.1260707431188},{"$f":"SUMPRODUCT(AM$12:AM$93,Conv_Flags!$O$12:$O$93)/SUM(Conv_Flags!$O$12:$O$93)","v":3252.9892904709027},{"$f":"SUMPRODUCT(AN$12:AN$93,Conv_Flags!$O$12:$O$93)/SUM(Conv_Flags!$O$12:$O$93)","v":3501.8641411708991},{"$f":"SUMPRODUCT(AO$12:AO$93,Conv_Flags!$O$12:$O$93)/SUM(Conv_Flags!$O$12:$O$93)","v":4005.8866321614769},{"$f":"SUMPRODUCT(AP$12:AP$93,Conv_Flags!$O$12:$O$93)/SUM(Conv_Flags!$O$12:$O$93)","v":4472.8481675269059},{"$f":"SUMPRODUCT(AQ$12:AQ$93,Conv_Flags!$O$12:$O$93)/SUM(Conv_Flags!$O$12:$O$93)","v":4496.3864033930604},{"$f":"SUMPRODUCT(AR$12:AR$93,Conv_Flags!$O$12:$O$93)/SUM(Conv_Flags!$O$12:$O$93)","v":4224.1102281833164},{"$f":"SUMPRODUCT(AS$12:AS$93,Conv_Flags!$O$12:$O$93)/SUM(Conv_Flags!$O$12:$O$93)","v":3637.3304665937226},{"$f":"SUMPRODUCT(AT$12:AT$93,Conv_Flags!$O$12:$O$93)/SUM(Conv_Flags!$O$12:$O$93)","v":3306.935521190188},{"$f":"SUMPRODUCT(AU$12:AU$93,Conv_Flags!$O$12:$O$93)/SUM(Conv_Flags!$O$12:$O$93)","v":3157.0402775587868},null,{"$f":"SUMPRODUCT(AW$12:AW$93,Conv_Flags!$O$12:$O$93)/SUM(Conv_Flags!$O$12:$O$93)","v":3293.188109107552},{"$f":"SUMPRODUCT(AX$12:AX$93,Conv_Flags!$O$12:$O$93)/SUM(Conv_Flags!$O$12:$O$93)","v":3303.3448690331302},{"$f":"IF($B$7=\"TEMP\",SUMPRODUCT(AY$13:AY$93,Conv_Flags!$O$12:$O$92)/SUM(Conv_Flags!$O$12:$O$92),SUMPRODUCT(AY$12:AY$93,Conv_Flags!$O$11:$O$92)/SUM(Conv_Flags!$O$11:$O$92))","v":3466.1515732048442},null,{"$f":"IF($B$7=\"TEMP\",SUMPRODUCT(BA$13:BA$93,Conv_Flags!$O$12:$O$92)/SUM(Conv_Flags!$O$12:$O$92),SUMPRODUCT(BA$12:BA$93,Conv_Flags!$O$11:$O$92)/SUM(Conv_Flags!$O$11:$O$92))","v":3261.2900371863834},{"$f":"SUMPRODUCT(BB$12:BB$93,Conv_Flags!$O$12:$O$93)/SUM(Conv_Flags!$O$12:$O$93)","v":3275.2486757105376},{"$f":"IF($B$7=\"TEMP\",SUMPRODUCT(BC$13:BC$93,Conv_Flags!$O$12:$O$92)/SUM(Conv_Flags!$O$12:$O$92),SUMPRODUCT(BC$12:BC$93,Conv_Flags!$O$11:$O$92)/SUM(Conv_Flags!$O$11:$O$92))","v":3084.1332468558576},{"$f":"IF($B$7=\"TEMP\",SUMPRODUCT(BD$13:BD$93,Conv_Flags!$O$12:$O$92)/SUM(Conv_Flags!$O$12:$O$92),SUMPRODUCT(BD$12:BD$93,Conv_Flags!$O$11:$O$92)/SUM(Conv_Flags!$O$11:$O$92))","v":3219.9096186479724},{"$f":"SUMPRODUCT(BE$12:BE$93,Conv_Flags!$O$12:$O$93)/SUM(Conv_Flags!$O$12:$O$93)","v":4209.5270969396379},{"$f":"SUMPRODUCT(BF$12:BF$93,Conv_Flags!$O$12:$O$93)/SUM(Conv_Flags!$O$12:$O$93)","v":3748.7723891107876},{"$f":"SUMPRODUCT(BG$12:BG$93,Conv_Flags!$O$11:$O$92)/SUM(Conv_Flags!$O$11:$O$92)","v":2970.6709240888558}]
["1929-09-30",{"$f":"INDIRECT(CONCATENATE(\"'\",B$1,\"'!\",B$4,(YEAR($A108)-1921)*12+MONTH($A108)+3+IF(ISNUMBER(FIND(\"PRV\",B$6)),1,0)))*IF(AND(B$3>0,TRIM(B$9)=\"CFS\"),Conv_Flags!$C108,1)","v":1811.2694495396497},{"$f":"INDIRECT(CONCATENATE(\"'\",C$1,\"'!\",C$4,(YEAR($A108)-1921)*12+MONTH($A108)+3+IF(ISNUMBER(FIND(\"PRV\",C$6)),1,0)))*IF(AND(C$3>0,TRIM(C$9)=\"CFS\"),Conv_Flags!$C108,1)","v":1907.7246792362739},null,null,null,null,null,"BN:",{"$f":"IF($B$7=\"TEMP\",SUMPRODUCT(J$13:J$93,Conv_Flags!$P$12:$P$92)/SUM(Conv_Flags!$P$12:$P$92),SUMPRODUCT(J$12:J$93,Conv_Flags!$P$11:$P$92)/SUM(Conv_Flags!$P$11:$P$92))","v":2945.8725332557342},{"$f":"IF($B$7=\"TEMP\",SUMPRODUCT(K$13:K$93,Conv_Flags!$P$12:$P$92)/SUM(Conv_Flags!$P$12:$P$92),SUMPRODUCT(K$12:K$93,Conv_Flags!$P$11:$P$92)/SUM(Conv_Flags!$P$11:$P$92))","v":2992.4409991238249},{"$f":"IF($B$7=\"TEMP\",SUMPRODUCT(L$13:L$93,Conv_Flags!$P$12:$P$92)/SUM(Conv_Flags!$P$12:$P$92),SUMPRODUCT(L$12:L$93,Conv_Flags!$P$11:$P$92)/SUM(Conv_Flags!$P$11:$P$92))","v":3055.576542293501},{"$f":"SUMPRODUCT(M$12:M$93,Conv_Flags!$P$12:$P$93)/SUM(Conv_Flags!$P$12:$P$93)","v":3137.959835752848},{"$f":"SUMPRODUCT(N$12:N$93,Conv_Flags!$P$12:$P$93)/SUM(Conv_Flags!$P$12:$P$93)","v":3441.4211318674779},{"$f":"SUMPRODUCT(O$12:O$93,Conv_Flags!$P$12:$P$93)/SUM(Conv_Flags!$P$12:$P$93)","v":3839.1523612777628},{"$f":"SUMPRODUCT(P$12:P$93,Conv_Flags!$P$12:$P$93)/SUM(Conv_Flags!$P$12:$P$93)","v":4277.19505171331},{"$f":"SUMPRODUCT(Q$12:Q$93,Conv_Flags!$P$12:$P$93)/SUM(Conv_Flags!$P$12:$P$93)","v":4264.9158482131525},{"$f":"SUMPRODUCT(R$12:R$93,Conv_Flags!$P$12:$P$93)/SUM(Conv_Flags!$P$12:$P$93)","v":3906.0023793445444},{"$f":"SUMPRODUCT(S$12:S$93,Conv_Flags!$P$12:$P$93)/SUM(Conv_Flags!$P$12:$P$93)","v":3388.7279637963302},{"$f":"SUMPRODUCT(T$12:T$93,Conv_Flags!$P$12:$P$93)/SUM(Conv_Flags!$P$12:$P$93)","v":3062.6924198906891},{"$f":"SUMPRODUCT(U$12:U$93,Conv_Flags!$P$12:$P$93)/SUM(Conv_Flags!$P$12:$P$93)","v":2985.8391782914923},null,{"$f":"SUMPRODUCT(W$12:W$93,Conv_Flags!$P$12:$P$93)/SUM(Conv_Flags!$P$12:$P$93)","v":3441.4830204017226},{"$f":"SUMPRODUCT(X$12:X$93,Conv_Flags!$P$12:$P$93)/SUM(Conv_Flags!$P$12:$P$93)","v":3456.0938384863839},{"$f":"IF($B$7=\"TEMP\",SUMPRODUCT(Y$13:Y$93,Conv_Flags!$P$12:$P$92)/SUM(Conv_Flags!$P$12:$P$92),SUMPRODUCT(Y$12:Y$93,Conv_Flags!$P$11:$P$92)/SUM(Conv_Flags!$P$11:$P$92))","v":3464.7325242137713},null,{"$f":"IF($B$7=\"TEMP\",SUMPRODUCT(AA$13:AA$93,Conv_Flags!$P$12:$P$92)/SUM(Conv_Flags!$P$12:$P$92),SUMPRODUCT(AA$12:AA$93,Conv_Flags!$P$11:$P$92)/SUM(Conv_Flags!$P$11:$P$92))","v":3243.8342983061011},{"$f":"SUMPRODUCT(AB$12:AB$93,Conv_Flags!$P$12:$P$93)/SUM(Conv_Flags!$P$12:$P$93)","v":3071.9439489027382},{"$f":"IF($B$7=\"TEMP\",SUMPRODUCT(AC$13:AC$93,Conv_Flags!$P$12:$P$92)/SUM(Conv_Flags!$P$12:$P$92),SUMPRODUCT(AC$12:AC$93,Conv_Flags!$P$11:$P$92)/SUM(Conv_Flags!$P$11:$P$92))","v":3028.591872259542},{"$f":"IF($B$7=\"TEMP\",SUMPRODUCT(AD$13:AD$93,Conv_Flags!$P$12:$P$92)/SUM(Conv_Flags!$P$12:$P$92),SUMPRODUCT(AD$12:AD$93,Conv_Flags!$P$11:$P$92)/SUM(Conv_Flags!$P$11:$P$92))","v":3185.5700864643031},{"$f":"SUMPRODUCT(AE$12:AE$93,Conv_Flags!$P$12:$P$93)/SUM(Conv_Flags!$P$12:$P$93)","v":4013.7437542025596},{"$f":"SUMPRODUCT(AF$12:AF$93,Conv_Flags!$P$12:$P$93)/SUM(Conv_Flags!$P$12:$P$93)","v":3495.7000690709719},{"$f":"SUMPRODUCT(AG$12:AG$93,Conv_Flags!$P$11:$P$92)/SUM(Conv_Flags!$P$11:$P$92)","v":2959.4914258898502},null,"BN:",{"$f":"IF($B$7=\"TEMP\",SUMPRODUCT(AJ$13:AJ$93,Conv_Flags!$P$12:$P$92)/SUM(Conv_Flags!$P$12:$P$92),SUMPRODUCT(AJ$12:AJ$93,Conv_Flags!$P$11:$P$92)/SUM(Conv_Flags!$P$11:$P$92))","v":2954.7571458244279},{"$f":"IF($B$7=\"TEMP\",SUMPRODUCT(AK$13:AK$93,Conv_Flags!$P$12:$P$92)/SUM(Conv_Flags!$P$12:$P$92),SUMPRODUCT(AK$12:AK$93,Conv_Flags!$P$11:$P$92)/SUM(Conv_Flags!$P$11:$P$92))","v":2990.313576139738},{"$f":"IF($B$7=\"TEMP\",SUMPRODUCT(AL$13:AL$93,Conv_Flags!$P$12:$P$92)/SUM(Conv_Flags!$P$12:$P$92),SUMPRODUCT(AL$12:AL$93,Conv_Flags!$P$11:$P$92)/SUM(Conv_Flags!$P$11:$P$92))","v":3050.4118932149531},{"$f":"SUMPRODUCT(AM$12:AM$93,Conv_Flags!$P$12:$P$93)/SUM(Conv_Flags!$P$12:$P$93)","v":3154.333583005965},{"$f":"SUMPRODUCT(AN$12:AN$93,Conv_Flags!$P$12:$P$93)/SUM(Conv_Flags!$P$12:$P$93)","v":3456.043274731167},{"$f":"SUMPRODUCT(AO$12:AO$93,Conv_Flags!$P$12:$P$93)/SUM(Conv_Flags!$P$12:$P$93)","v":3853.9291682914959},{"$f":"SUMPRODUCT(AP$12:AP$93,Conv_Flags!$P$12:$P$93)/SUM(Conv_Flags!$P$12:$P$93)","v":4293.630882802343},{"$f":"SUMPRODUCT(AQ$12:AQ$93,Conv_Flags!$P$12:$P$93)/SUM(Conv_Flags!$P$12:$P$93)","v":4291.2702200107606},{"$f":"SUMPRODUCT(AR$12:AR$93,Conv_Flags!$P$12:$P$93)/SUM(Conv_Flags!$P$12:$P$93)","v":3940.2991017359723},{"$f":"SUMPRODUCT(AS$12:AS$93,Conv_Flags!$P$12:$P$93)/SUM(Conv_Flags!$P$12:$P$93)","v":3406.8013875129327},{"$f":"SUMPRODUCT(AT$12:AT$93,Conv_Flags!$P$12:$P$93)/SUM(Conv_Flags!$P$12:$P$93)","v":3080.5279267846622},{"$f":"SUMPRODUCT(AU$12:AU$93,Conv_Flags!$P$12:$P$93)/SUM(Conv_Flags!$P$12:$P$93)","v":2996.8133229136047},null,{"$f":"SUMPRODUCT(AW$12:AW$93,Conv_Flags!$P$12:$P$93)/SUM(Conv_Flags!$P$12:$P$93)","v":3455.7609569140018},{"$f":"SUMPRODUCT(AX$12:AX$93,Conv_Flags!$P$12:$P$93)/SUM(Conv_Flags!$P$12:$P$93)","v":3466.5829291332943},{"$f":"IF($B$7=\"TEMP\",SUMPRODUCT(AY$13:AY$93,Conv_Flags!$P$12:$P$92)/SUM(Conv_Flags!$P$12:$P$92),SUMPRODUCT(AY$12:AY$93,Conv_Flags!$P$11:$P$92)/SUM(Conv_Flags!$P$11:$P$92))","v":3466.179962381826},null,{"$f":"IF($B$7=\"TEMP\",SUMPRODUCT(BA$13:BA$93,Conv_Flags!$P$12:$P$92)/SUM(Conv_Flags!$P$12:$P$92),SUMPRODUCT(BA$12:BA$93,Conv_Flags!$P$11:$P$92)/SUM(Conv_Flags!$P$11:$P$92))","v":3240.1912241164464},{"$f":"SUMPRODUCT(BB$12:BB$93,Conv_Flags!$P$12:$P$93)/SUM(Conv_Flags!$P$12:$P$93)","v":3086.0401721223157},{"$f":"IF($B$7=\"TEMP\",SUMPRODUCT(BC$13:BC$93,Conv_Flags!$P$12:$P$92)/SUM(Conv_Flags!$P$12:$P$92),SUMPRODUCT(BC$12:BC$93,Conv_Flags!$P$11:$P$92)/SUM(Conv_Flags!$P$11:$P$92))","v":3029.6111145861892},{"$f":"IF($B$7=\"TEMP\",SUMPRODUCT(BD$13:BD$93,Conv_Flags!$P$12:$P$92)/SUM(Conv_Flags!$P$12:$P$92),SUMPRODUCT(BD$12:BD$93,Conv_Flags!$P$11:$P$92)/SUM(Conv_Flags!$P$11:$P$92))","v":3180.0813750593265},{"$f":"SUMPRODUCT(BE$12:BE$93,Conv_Flags!$P$12:$P$93)/SUM(Conv_Flags!$P$12:$P$93)","v":4034.2503648345419},{"$f":"SUMPRODUCT(BF$12:BF$93,Conv_Flags!$P$12:$P$93)/SUM(Conv_Flags!$P$12:$P$93)","v":3517.9175468739372},{"$f":"SUMPRODUCT(BG$12:BG$93,Conv_Flags!$P$11:$P$92)/SUM(Conv_Flags!$P$11:$P$92)","v":2965.5486684108087}]
["1929-10-31",{"$f":"INDIRECT(CONCATENATE(\"'\",B$1,\"'!\",B$4,(YEAR($A109)-1921)*12+MONTH($A109)+3+IF(ISNUMBER(FIND(\"PRV\",B$6)),1,0)))*IF(AND(B$3>0,TRIM(B$9)=\"CFS\"),Conv_Flags!$C109,1)","v":1654.3484714971426},{"$f":"INDIRECT(CONCATENATE(\"'\",C$1,\"'!\",C$4,(YEAR($A109)-1921)*12+MONTH($A109)+3+IF(ISNUMBER(FIND(\"PRV\",C$6)),1,0)))*IF(AND(C$3>0,TRIM(C$9)=\"CFS\"),Conv_Flags!$C109,1)","v":1739.9546839168206},null,null,null,null,null,"D:",{"$f":"IF($B$7=\"TEMP\",SUMPRODUCT(J$13:J$93,Conv_Flags!$Q$12:$Q$92)/SUM(Conv_Flags!$Q$12:$Q$92),SUMPRODUCT(J$12:J$93,Conv_Flags!$Q$11:$Q$92)/SUM(Conv_Flags!$Q$11:$Q$92))","v":2579.744726284096},{"$f":"IF($B$7=\"TEMP\",SUMPRODUCT(K$13:K$93,Conv_Flags!$Q$12:$Q$92)/SUM(Conv_Flags!$Q$12:$Q$92),SUMPRODUCT(K$12:K$93,Conv_Flags!$Q$11:$Q$92)/SUM(Conv_Flags!$Q$11:$Q$92))","v":2632.7798178502594},{"$f":"IF($B$7=\"TEMP\",SUMPRODUCT(L$13:L$93,Conv_Flags!$Q$12:$Q$92)/SUM(Conv_Flags!$Q$12:$Q$92),SUMPRODUCT(L$12:L$93,Conv_Flags!$Q$11:$Q$92)/SUM(Conv_Flags!$Q$11:$Q$92))","v":2837.773343321971},{"$f":"SUMPRODUCT(M$12:M$93,Conv_Flags!$Q$12:$Q$93)/SUM(Conv_Flags!$Q$12:$Q$93)","v":2954.9649715194191},{"$f":"SUMPRODUCT(N$12:N$93,Conv_Flags!$Q$12:$Q$93)/SUM(Conv_Flags!$Q$12:$Q$93)","v":3321.1841565060604},{"$f":"SUMPRODUCT(O$12:O$93,Conv_Flags!$Q$12:$Q$93)/SUM(Conv_Flags!$Q$12:$Q$93)","v":3772.2311960867364},{"$f":"SUMPRODUCT(P$12:P$93,Conv_Flags!$Q$12:$Q$93)/SUM(Conv_Flags!$Q$12:$Q$93)","v":4008.1316169013517},{"$f":"SUMPRODUCT(Q$12:Q$93,Conv_Flags!$Q$12:$Q$93)/SUM(Conv_Flags!$Q$12:$Q$93)","v":3877.2381355377706},{"$f":"SUMPRODUCT(R$12:R$93,Conv_Flags!$Q$12:$Q$93)/SUM(Conv_Flags!$Q$12:$Q$93)","v":3460.9543702124456},{"$f":"SUMPRODUCT(S$12:S$93,Conv_Flags!$Q$12:$Q$93)/SUM(Conv_Flags!$Q$12:$Q$93)","v":2999.5299210007311},{"$f":"SUMPRODUCT(T$12:T$93,Conv_Flags!$Q$12:$Q$93)/SUM(Conv_Flags!$Q$12:$Q$93)","v":2723.5150413551401},{"$f":"SUMPRODUCT(U$12:U$93,Conv_Flags!$Q$12:$Q$93)/SUM(Conv_Flags!$Q$12:$Q$93)","v":2669.2299770087307},null,{"$f":"SUMPRODUCT(W$12:W$93,Conv_Flags!$Q$12:$Q$93)/SUM(Conv_Flags!$Q$12:$Q$93)","v":3153.1064394653927},{"$f":"SUMPRODUCT(X$12:X$93,Conv_Flags!$Q$12:$Q$93)/SUM(Conv_Flags!$Q$12:$Q$93)","v":3166.1694198442437},{"$f":"IF($B$7=\"TEMP\",SUMPRODUCT(Y$13:Y$93,Conv_Flags!$Q$12:$Q$92)/SUM(Conv_Flags!$Q$12:$Q$92),SUMPRODUCT(Y$12:Y$93,Conv_Flags!$Q$11:$Q$92)/SUM(Conv_Flags!$Q$11:$Q$92))","v":3247.1192466364623},null,{"$f":"IF($B$7=\"TEMP\",SUMPRODUCT(AA$13:AA$93,Conv_Flags!$Q$12:$Q$92)/SUM(Conv_Flags!$Q$12:$Q$92),SUMPRODUCT(AA$12:AA$93,Conv_Flags!$Q$11:$Q$92)/SUM(Conv_Flags!$Q$11:$Q$92))","v":3006.6464915515071},{"$f":"SUMPRODUCT(AB$12:AB$93,Conv_Flags!$Q$12:$Q$93)/SUM(Conv_Flags!$Q$12:$Q$93)","v":2727.4607806687618},{"$f":"IF($B$7=\"TEMP\",SUMPRODUCT(AC$13:AC$93,Conv_Flags!$Q$12:$Q$92)/SUM(Conv_Flags!$Q$12:$Q$92),SUMPRODUCT(AC$12:AC$93,Conv_Flags!$Q$11:$Q$92)/SUM(Conv_Flags!$Q$11:$Q$92))","v":2735.3640159251286},{"$f":"IF($B$7=\"TEMP\",SUMPRODUCT(AD$13:AD$93,Conv_Flags!$Q$12:$Q$92)/SUM(Conv_Flags!$Q$12:$Q$92),SUMPRODUCT(AD$12:AD$93,Conv_Flags!$Q$11:$Q$92)/SUM(Conv_Flags!$Q$11:$Q$92))","v":2975.7196287575894},{"$f":"SUMPRODUCT(AE$12:AE$93,Conv_Flags!$Q$12:$Q$93)/SUM(Conv_Flags!$Q$12:$Q$93)","v":3762.1675529712779},{"$f":"SUMPRODUCT(AF$12:AF$93,Conv_Flags!$Q$12:$Q$93)/SUM(Conv_Flags!$Q$12:$Q$93)","v":3114.3083472103917},{"$f":"SUMPRODUCT(AG$12:AG$93,Conv_Flags!$Q$11:$Q$92)/SUM(Conv_Flags!$Q$11:$Q$92)","v":2602.4070602864276},null,"D:",{"$f":"IF($B$7=\"TEMP\",SUMPRODUCT(AJ$13:AJ$93,Conv_Flags!$Q$12:$Q$92)/SUM(Conv_Flags!$Q$12:$Q$92),SUMPRODUCT(AJ$12:AJ$93,Conv_Flags!$Q$11:$Q$92)/SUM(Conv_Flags!$Q$11:$Q$92))","v":2599.0867975428755},{"$f":"IF($B$7=\"TEMP\",SUMPRODUCT(AK$13:AK$93,Conv_Flags!$Q$12:$Q$92)/SUM(Conv_Flags!$Q$12:$Q$92),SUMPRODUCT(AK$12:AK$93,Conv_Flags!$Q$11:$Q$92)/SUM(Conv_Flags!$Q$11:$Q$92))","v":2642.864946380244},{"$f":"IF($B$7=\"TEMP\",SUMPRODUCT(AL$13:AL$93,Conv_Flags!$Q$12:$Q$92)/SUM(Conv_Flags!$Q$12:$Q$92),SUMPRODUCT(AL$12:AL$93,Conv_Flags!$Q$11:$Q$92)/SUM(Conv_Flags!$Q$11:$Q$92))","v":2851.6525272626013},{"$f":"SUMPRODUCT(AM$12:AM$93,Conv_Flags!$Q$12:$Q$93)/SUM(Conv_Flags!$Q$12:$Q$93)","v":2968.0229023429797},{"$f":"SUMPRODUCT(AN$12:AN$93,Conv_Flags!$Q$12:$Q$93)/SUM(Conv_Flags!$Q$12:$Q$93)","v":3337.0663377772976},{"$f":"SUMPRODUCT(AO$12:AO$93,Conv_Flags!$Q$12:$Q$93)/SUM(Conv_Flags!$Q$12:$Q$93)","v":3787.6962377652503},{"$f":"SUMPRODUCT(AP$12:AP$93,Conv_Flags!$Q$12:$Q$93)/SUM(Conv_Flags!$Q$12:$Q$93)","v":4025.6232587597115},{"$f":"SUMPRODUCT(AQ$12:AQ$93,Conv_Flags!$Q$12:$Q$93)/SUM(Conv_Flags!$Q$12:$Q$93)","v":3902.4566005938873},{"$f":"SUMPRODUCT(AR$12:AR$93,Conv_Flags!$Q$12:$Q$93)/SUM(Conv_Flags!$Q$12:$Q$93)","v":3492.4001273747449},{"$f":"SUMPRODUCT(AS$12:AS$93,Conv_Flags!$Q$12:$Q$93)/SUM(Conv_Flags!$Q$12:$Q$93)","v":3028.4519384588307},{"$f":"SUMPRODUCT(AT$12:AT$93,Conv_Flags!$Q$12:$Q$93)/SUM(Conv_Flags!$Q$12:$Q$93)","v":2742.9993487859992},{"$f":"SUMPRODUCT(AU$12:AU$93,Conv_Flags!$Q$12:$Q$93)/SUM(Conv_Flags!$Q$12:$Q$93)","v":2692.1115047691269},null,{"$f":"SUMPRODUCT(AW$12:AW$93,Conv_Flags!$Q$12:$Q$93)/SUM(Conv_Flags!$Q$12:$Q$93)","v":3172.5360439844626},{"$f":"SUMPRODUCT(AX$12:AX$93,Conv_Flags!$Q$12:$Q$93)/SUM(Conv_Flags!$Q$12:$Q$93)","v":3185.4758884838648},{"$f":"IF($B$7=\"TEMP\",SUMPRODUCT(AY$13:AY$93,Conv_Flags!$Q$12:$Q$92)/SUM(Conv_Flags!$Q$12:$Q$92),SUMPRODUCT(AY$12:AY$93,Conv_Flags!$Q$11:$Q$92)/SUM(Conv_Flags!$Q$11:$Q$92))","v":3263.3979649231624},null,{"$f":"IF($B$7=\"TEMP\",SUMPRODUCT(BA$13:BA$93,Conv_Flags!$Q$12:$Q$92)/SUM(Conv_Flags!$Q$12:$Q$92),SUMPRODUCT(BA$12:BA$93,Conv_Flags!$Q$11:$Q$92)/SUM(Conv_Flags!$Q$11:$Q$92))","v":3020.199809402653},{"$f":"SUMPRODUCT(BB$12:BB$93,Conv_Flags!$Q$12:$Q$93)/SUM(Conv_Flags!$Q$12:$Q$93)","v":2749.62674051866},{"$f":"IF($B$7=\"TEMP\",SUMPRODUCT(BC$13:BC$93,Conv_Flags!$Q$12:$Q$92)/SUM(Conv_Flags!$Q$12:$Q$92),SUMPRODUCT(BC$12:BC$93,Conv_Flags!$Q$11:$Q$92)/SUM(Conv_Flags!$Q$11:$Q$92))","v":2750.8444755938472},{"$f":"IF($B$7=\"TEMP\",SUMPRODUCT(BD$13:BD$93,Conv_Flags!$Q$12:$Q$92)/SUM(Conv_Flags!$Q$12:$Q$92),SUMPRODUCT(BD$12:BD$93,Conv_Flags!$Q$11:$Q$92)/SUM(Conv_Flags!$Q$11:$Q$92))","v":2988.9955221047953},{"$f":"SUMPRODUCT(BE$12:BE$93,Conv_Flags!$Q$12:$Q$93)/SUM(Conv_Flags!$Q$12:$Q$93)","v":3782.6273324237168},{"$f":"SUMPRODUCT(BF$12:BF$93,Conv_Flags!$Q$12:$Q$93)/SUM(Conv_Flags!$Q$12:$Q$93)","v":3140.2838668252712},{"$f":"SUMPRODUCT(BG$12:BG$93,Conv_Flags!$Q$11:$Q$92)/SUM(Conv_Flags!$Q$11:$Q$92)","v":2616.7139902394247}]
["1929-11-30",{"$f":"INDIRECT(CONCATENATE(\"'\",B$1,\"'!\",B$4,(YEAR($A110)-1921)*12+MONTH($A110)+3+IF(ISNUMBER(FIND(\"PRV\",B$6)),1,0)))*IF(AND(B$3>0,TRIM(B$9)=\"CFS\"),Conv_Flags!$C110,1)","v":1495.8525976944479},{"$f":"INDIRECT(CONCATENATE(\"'\",C$1,\"'!\",C$4,(YEAR($A110)-1921)*12+MONTH($A110)+3+IF(ISNUMBER(FIND(\"PRV\",C$6)),1,0)))*IF(AND(C$3>0,TRIM(C$9)=\"CFS\"),Conv_Flags!$C110,1)","v":1558.2286109971249},null,null,null,null,null,"C:",{"$f":"IF($B$7=\"TEMP\",SUMPRODUCT(J$13:J$93,Conv_Flags!$R$12:$R$92)/SUM(Conv_Flags!$R$12:$R$92),SUMPRODUCT(J$12:J$93,Conv_Flags!$R$11:$R$92)/SUM(Conv_Flags!$R$11:$R$92))","v":1442.6136568403906},{"$f":"IF($B$7=\"TEMP\",SUMPRODUCT(K$13:K$93,Conv_Flags!$R$12:$R$92)/SUM(Conv_Flags!$R$12:$R$92),SUMPRODUCT(K$12:K$93,Conv_Flags!$R$11:$R$92)/SUM(Conv_Flags!$R$11:$R$92))","v":1405.6453771453841},{"$f":"IF($B$7=\"TEMP\",SUMPRODUCT(L$13:L$93,Conv_Flags!$R$12:$R$92)/SUM(Conv_Flags!$R$12:$R$92),SUMPRODUCT(L$12:L$93,Conv_Flags!$R$11:$R$92)/SUM(Conv_Flags!$R$11:$R$92))","v":1530.2963366842826},{"$f":"SUMPRODUCT(M$12:M$93,Conv_Flags!$R$12:$R$93)/SUM(Conv_Flags!$R$12:$R$93)","v":2333.9139466231218},{"$f":"SUMPRODUCT(N$12:N$93,Conv_Flags!$R$12:$R$93)/SUM(Conv_Flags!$R$12:$R$93)","v":2508.0346066443071},{"$f":"SUMPRODUCT(O$12:O$93,Conv_Flags!$R$12:$R$93)/SUM(Conv_Flags!$R$12:$R$93)","v":2715.2180278584729},{"$f":"SUMPRODUCT(P$12:P$93,Conv_Flags!$R$12:$R$93)/SUM(Conv_Flags!$R$12:$R$93)","v":2789.8135248301528},{"$f":"SUMPRODUCT(Q$12:Q$93,Conv_Flags!$R$12:$R$93)/SUM(Conv_Flags!$R$12:$R$93)","v":2627.5366408543173},{"$f":"SUMPRODUCT(R$12:R$93,Conv_Flags!$R$12:$R$93)/SUM(Conv_Flags!$R$12:$R$93)","v":2261.5488752285951},{"$f":"SUMPRODUCT(S$12:S$93,Conv_Flags!$R$12:$R$93)/SUM(Conv_Flags!$R$12:$R$93)","v":1897.3871366748051},{"$f":"SUMPRODUCT(T$12:T$93,Conv_Flags!$R$12:$R$93)/SUM(Conv_Flags!$R$12:$R$93)","v":1612.0761952198097},{"$f":"SUMPRODUCT(U$12:U$93,Conv_Flags!$R$12:$R$93)/SUM(Conv_Flags!$R$12:$R$93)","v":1548.4959223598523},null,{"$f":"SUMPRODUCT(W$12:W$93,Conv_Flags!$R$12:$R$93)/SUM(Conv_Flags!$R$12:$R$93)","v":2056.0483539136239},{"$f":"SUMPRODUCT(X$12:X$93,Conv_Flags!$R$12:$R$93)/SUM(Conv_Flags!$R$12:$R$93)","v":2005.3485600696488},{"$f":"IF($B$7=\"TEMP\",SUMPRODUCT(Y$13:Y$93,Conv_Flags!$R$12:$R$92)/SUM(Conv_Flags!$R$12:$R$92),SUMPRODUCT(Y$12:Y$93,Conv_Flags!$R$11:$R$92)/SUM(Conv_Flags!$R$11:$R$92))","v":2293.3200868806375},null,{"$f":"IF($B$7=\"TEMP\",SUMPRODUCT(AA$13:AA$93,Conv_Flags!$R$12:$R$92)/SUM(Conv_Flags!$R$12:$R$92),SUMPRODUCT(AA$12:AA$93,Conv_Flags!$R$11:$R$92)/SUM(Conv_Flags!$R$11:$R$92))","v":1856.9498312339258},{"$f":"SUMPRODUCT(AB$12:AB$93,Conv_Flags!$R$12:$R$93)/SUM(Conv_Flags!$R$12:$R$93)","v":1610.1908381124201},{"$f":"IF($B$7=\"TEMP\",SUMPRODUCT(AC$13:AC$93,Conv_Flags!$R$12:$R$92)/SUM(Conv_Flags!$R$12:$R$92),SUMPRODUCT(AC$12:AC$93,Conv_Flags!$R$11:$R$92)/SUM(Conv_Flags!$R$11:$R$92))","v":1527.1050270816359},{"$f":"IF($B$7=\"TEMP\",SUMPRODUCT(AD$13:AD$93,Conv_Flags!$R$12:$R$92)/SUM(Conv_Flags!$R$12:$R$92),SUMPRODUCT(AD$12:AD$93,Conv_Flags!$R$11:$R$92)/SUM(Conv_Flags!$R$11:$R$92))","v":1768.5037717677988},{"$f":"SUMPRODUCT(AE$12:AE$93,Conv_Flags!$R$12:$R$93)/SUM(Conv_Flags!$R$12:$R$93)","v":2629.3399836198482},{"$f":"SUMPRODUCT(AF$12:AF$93,Conv_Flags!$R$12:$R$93)/SUM(Conv_Flags!$R$12:$R$93)","v":1964.757122182574},{"$f":"SUMPRODUCT(AG$12:AG$93,Conv_Flags!$R$11:$R$92)/SUM(Conv_Flags!$R$11:$R$92)","v":2081.5744204781377},null,"C:",{"$f":"IF($B$7=\"TEMP\",SUMPRODUCT(AJ$13:AJ$93,Conv_Flags!$R$12:$R$92)/SUM(Conv_Flags!$R$12:$R$92),SUMPRODUCT(AJ$12:AJ$93,Conv_Flags!$R$11:$R$92)/SUM(Conv_Flags!$R$11:$R$92))","v":1474.8832073552749},{"$f":"IF($B$7=\"TEMP\",SUMPRODUCT(AK$13:AK$93,Conv_Flags!$R$12:$R$92)/SUM(Conv_Flags!$R$12:$R$92),SUMPRODUCT(AK$12:AK$93,Conv_Flags!$R$11:$R$92)/SUM(Conv_Flags!$R$11:$R$92))","v":1429.0047594665682},{"$f":"IF($B$7=\"TEMP\",SUMPRODUCT(AL$13:AL$93,Conv_Flags!$R$12:$R$92)/SUM(Conv_Flags!$R$12:$R$92),SUMPRODUCT(AL$12:AL$93,Conv_Flags!$R$11:$R$92)/SUM(Conv_Flags!$R$11:$R$92))","v":1557.8334460499136},{"$f":"SUMPRODUCT(AM$12:AM$93,Conv_Flags!$R$12:$R$93)/SUM(Conv_Flags!$R$12:$R$93)","v":2374.5359352055775},{"$f":"SUMPRODUCT(AN$12:AN$93,Conv_Flags!$R$12:$R$93)/SUM(Conv_Flags!$R$12:$R$93)","v":2539.1095849890871},{"$f":"SUMPRODUCT(AO$12:AO$93,Conv_Flags!$R$12:$R$93)/SUM(Conv_Flags!$R$12:$R$93)","v":2749.3043693217182},{"$f":"SUMPRODUCT(AP$12:AP$93,Conv_Flags!$R$12:$R$93)/SUM(Conv_Flags!$R$12:$R$93)","v":2822.8395286559821},{"$f":"SUMPRODUCT(AQ$12:AQ$93,Conv_Flags!$R$12:$R$93)/SUM(Conv_Flags!$R$12:$R$93)","v":2661.9252152026102},{"$f":"SUMPRODUCT(AR$12:AR$93,Conv_Flags!$R$12:$R$93)/SUM(Conv_Flags!$R$12:$R$93)","v":2300.4253039810555},{"$f":"SUMPRODUCT(AS$12:AS$93,Conv_Flags!$R$12:$R$93)/SUM(Conv_Flags!$R$12:$R$93)","v":1935.1858532394356},{"$f":"SUMPRODUCT(AT$12:AT$93,Conv_Flags!$R$12:$R$93)/SUM(Conv_Flags!$R$12:$R$93)","v":1653.2141230086311},{"$f":"SUMPRODUCT(AU$12:AU$93,Conv_Flags!$R$12:$R$93)/SUM(Conv_Flags!$R$12:$R$93)","v":1585.3994957240932},null,{"$f":"SUMPRODUCT(AW$12:AW$93,Conv_Flags!$R$12:$R$93)/SUM(Conv_Flags!$R$12:$R$93)","v":2090.3050685166627},{"$f":"SUMPRODUCT(AX$12:AX$93,Conv_Flags!$R$12:$R$93)/SUM(Conv_Flags!$R$12:$R$93)","v":2041.5366646843797},{"$f":"IF($B$7=\"TEMP\",SUMPRODUCT(AY$13:AY$93,Conv_Flags!$R$12:$R$92)/SUM(Conv_Flags!$R$12:$R$92),SUMPRODUCT(AY$12:AY$93,Conv_Flags!$R$11:$R$92)/SUM(Conv_Flags!$R$11:$R$92))","v":2328.3676040875439},null,{"$f":"IF($B$7=\"TEMP\",SUMPRODUCT(BA$13:BA$93,Conv_Flags!$R$12:$R$92)/SUM(Conv_Flags!$R$12:$R$92),SUMPRODUCT(BA$12:BA$93,Conv_Flags!$R$11:$R$92)/SUM(Conv_Flags!$R$11:$R$92))","v":1893.3088302471863},{"$f":"SUMPRODUCT(BB$12:BB$93,Conv_Flags!$R$12:$R$93)/SUM(Conv_Flags!$R$12:$R$93)","v":1647.8827163433598},{"$f":"IF($B$7=\"TEMP\",SUMPRODUCT(BC$13:BC$93,Conv_Flags!$R$12:$R$92)/SUM(Conv_Flags!$R$12:$R$92),SUMPRODUCT(BC$12:BC$93,Conv_Flags!$R$11:$R$92)/SUM(Conv_Flags!$R$11:$R$92))","v":1559.0196712568675},{"$f":"IF($B$7=\"TEMP\",SUMPRODUCT(BD$13:BD$93,Conv_Flags!$R$12:$R$92)/SUM(Conv_Flags!$R$12:$R$92),SUMPRODUCT(BD$12:BD$93,Conv_Flags!$R$11:$R$92)/SUM(Conv_Flags!$R$11:$R$92))","v":1806.0685623935003},{"$f":"SUMPRODUCT(BE$12:BE$93,Conv_Flags!$R$12:$R$93)/SUM(Conv_Flags!$R$12:$R$93)","v":2663.4591394163454},{"$f":"SUMPRODUCT(BF$12:BF$93,Conv_Flags!$R$12:$R$93)/SUM(Conv_Flags!$R$12:$R$93)","v":2003.1219089231188},{"$f":"SUMPRODUCT(BG$12:BG$93,Conv_Flags!$R$11:$R$92)/SUM(Conv_Flags!$R$11:$R$92)","v":2108.2806453192206}]
["1929-12-31",{"$f":"INDIRECT(CONCATENATE(\"'\",B$1,\"'!\",B$4,(YEAR($A111)-1921)*12+MONTH($A111)+3+IF(ISNUMBER(FIND(\"PRV\",B$6)),1,0)))*IF(AND(B$3>0,TRIM(B$9)=\"CFS\"),Conv_Flags!$C111,1)","v":2037.4338247059516},{"$f":"INDIRECT(CONCATENATE(\"'\",C$1,\"'!\",C$4,(YEAR($A111)-1921)*12+MONTH($A111)+3+IF(ISNUMBER(FIND(\"PRV\",C$6)),1,0)))*IF(AND(C$3>0,TRIM(C$9)=\"CFS\"),Conv_Flags!$C111,1)","v":2099.7523854261981},null,null,null,null,null,"D&C:",{"$f":"IF($B$7=\"TEMP\",SUMPRODUCT(J$13:J$93,Conv_Flags!$S$12:$S$92)/SUM(Conv_Flags!$S$12:$S$92),SUMPRODUCT(J$12:J$93,Conv_Flags!$S$11:$S$92)/SUM(Conv_Flags!$S$11:$S$92))","v":2124.8922985066142},{"$f":"IF($B$7=\"TEMP\",SUMPRODUCT(K$13:K$93,Conv_Flags!$S$12:$S$92)/SUM(Conv_Flags!$S$12:$S$92),SUMPRODUCT(K$12:K$93,Conv_Flags!$S$11:$S$92)/SUM(Conv_Flags!$S$11:$S$92))","v":2141.9260415683098},{"$f":"IF($B$7=\"TEMP\",SUMPRODUCT(L$13:L$93,Conv_Flags!$S$12:$S$92)/SUM(Conv_Flags!$S$12:$S$92),SUMPRODUCT(L$12:L$93,Conv_Flags!$S$11:$S$92)/SUM(Conv_Flags!$S$11:$S$92))","v":2314.7825406668949},{"$f":"SUMPRODUCT(M$12:M$93,Conv_Flags!$S$12:$S$93)/SUM(Conv_Flags!$S$12:$S$93)","v":2706.5445615609001},{"$f":"SUMPRODUCT(N$12:N$93,Conv_Flags!$S$12:$S$93)/SUM(Conv_Flags!$S$12:$S$93)","v":2995.9243365613597},{"$f":"SUMPRODUCT(O$12:O$93,Conv_Flags!$S$12:$S$93)/SUM(Conv_Flags!$S$12:$S$93)","v":3349.4259287954305},{"$f":"SUMPRODUCT(P$12:P$93,Conv_Flags!$S$12:$S$93)/SUM(Conv_Flags!$S$12:$S$93)","v":3520.8043800728719},{"$f":"SUMPRODUCT(Q$12:Q$93,Conv_Flags!$S$12:$S$93)/SUM(Conv_Flags!$S$12:$S$93)","v":3377.3575376643898},{"$f":"SUMPRODUCT(R$12:R$93,Conv_Flags!$S$12:$S$93)/SUM(Conv_Flags!$S$12:$S$93)","v":2981.1921722189049},{"$f":"SUMPRODUCT(S$12:S$93,Conv_Flags!$S$12:$S$93)/SUM(Conv_Flags!$S$12:$S$93)","v":2558.6728072703613},{"$f":"SUMPRODUCT(T$12:T$93,Conv_Flags!$S$12:$S$93)/SUM(Conv_Flags!$S$12:$S$93)","v":2278.9395029010079},{"$f":"SUMPRODUCT(U$12:U$93,Conv_Flags!$S$12:$S$93)/SUM(Conv_Flags!$S$12:$S$93)","v":2220.9363551491788},null,{"$f":"SUMPRODUCT(W$12:W$93,Conv_Flags!$S$12:$S$93)/SUM(Conv_Flags!$S$12:$S$93)","v":2714.2832052446847},{"$f":"SUMPRODUCT(X$12:X$93,Conv_Flags!$S$12:$S$93)/SUM(Conv_Flags!$S$12:$S$93)","v":2701.8410759344051},{"$f":"IF($B$7=\"TEMP\",SUMPRODUCT(Y$13:Y$93,Conv_Flags!$S$12:$S$92)/SUM(Conv_Flags!$S$12:$S$92),SUMPRODUCT(Y$12:Y$93,Conv_Flags!$S$11:$S$92)/SUM(Conv_Flags!$S$11:$S$92))","v":2865.5995827341321},null,{"$f":"IF($B$7=\"TEMP\",SUMPRODUCT(AA$13:AA$93,Conv_Flags!$S$12:$S$92)/SUM(Conv_Flags!$S$12:$S$92),SUMPRODUCT(AA$12:AA$93,Conv_Flags!$S$11:$S$92)/SUM(Conv_Flags!$S$11:$S$92))","v":2546.7678274244745},{"$f":"SUMPRODUCT(AB$12:AB$93,Conv_Flags!$S$12:$S$93)/SUM(Conv_Flags!$S$12:$S$93)","v":2280.5528036462251},{"$f":"IF($B$7=\"TEMP\",SUMPRODUCT(AC$13:AC$93,Conv_Flags!$S$12:$S$92)/SUM(Conv_Flags!$S$12:$S$92),SUMPRODUCT(AC$12:AC$93,Conv_Flags!$S$11:$S$92)/SUM(Conv_Flags!$S$11:$S$92))","v":2252.0604203877319},{"$f":"IF($B$7=\"TEMP\",SUMPRODUCT(AD$13:AD$93,Conv_Flags!$S$12:$S$92)/SUM(Conv_Flags!$S$12:$S$92),SUMPRODUCT(AD$12:AD$93,Conv_Flags!$S$11:$S$92)/SUM(Conv_Flags!$S$11:$S$92))","v":2492.8332859616735},{"$f":"SUMPRODUCT(AE$12:AE$93,Conv_Flags!$S$12:$S$93)/SUM(Conv_Flags!$S$12:$S$93)","v":3309.0365252307065},{"$f":"SUMPRODUCT(AF$12:AF$93,Conv_Flags!$S$12:$S$93)/SUM(Conv_Flags!$S$12:$S$93)","v":2654.4878571992645},{"$f":"SUMPRODUCT(AG$12:AG$93,Conv_Flags!$S$11:$S$92)/SUM(Conv_Flags!$S$11:$S$92)","v":2394.0740043631117},null,"D&C:",{"$f":"IF($B$7=\"TEMP\",SUMPRODUCT(AJ$13:AJ$93,Conv_Flags!$S$12:$S$92)/SUM(Conv_Flags!$S$12:$S$92),SUMPRODUCT(AJ$12:AJ$93,Conv_Flags!$S$11:$S$92)/SUM(Conv_Flags!$S$11:$S$92))","v":2149.4053614678351},{"$f":"IF($B$7=\"TEMP\",SUMPRODUCT(AK$13:AK$93,Conv_Flags!$S$12:$S$92)/SUM(Conv_Flags!$S$12:$S$92),SUMPRODUCT(AK$12:AK$93,Conv_Flags!$S$11:$S$92)/SUM(Conv_Flags!$S$11:$S$92))","v":2157.3208716147733},{"$f":"IF($B$7=\"TEMP\",SUMPRODUCT(AL$13:AL$93,Conv_Flags!$S$12:$S$92)/SUM(Conv_Flags!$S$12:$S$92),SUMPRODUCT(AL$12:AL$93,Conv_Flags!$S$11:$S$92)/SUM(Conv_Flags!$S$11:$S$92))","v":2334.1248947775262},{"$f":"SUMPRODUCT(AM$12:AM$93,Conv_Flags!$S$12:$S$93)/SUM(Conv_Flags!$S$12:$S$93)","v":2730.6281154880189},{"$f":"SUMPRODUCT(AN$12:AN$93,Conv_Flags!$S$12:$S$93)/SUM(Conv_Flags!$S$12:$S$93)","v":3017.8836366620139},{"$f":"SUMPRODUCT(AO$12:AO$93,Conv_Flags!$S$12:$S$93)/SUM(Conv_Flags!$S$12:$S$93)","v":3372.339490387837},{"$f":"SUMPRODUCT(AP$12:AP$93,Conv_Flags!$S$12:$S$93)/SUM(Conv_Flags!$S$12:$S$93)","v":3544.509766718219},{"$f":"SUMPRODUCT(AQ$12:AQ$93,Conv_Flags!$S$12:$S$93)/SUM(Conv_Flags!$S$12:$S$93)","v":3406.2440464373767},{"$f":"SUMPRODUCT(AR$12:AR$93,Conv_Flags!$S$12:$S$93)/SUM(Conv_Flags!$S$12:$S$93)","v":3015.6101980172689},{"$f":"SUMPRODUCT(AS$12:AS$93,Conv_Flags!$S$12:$S$93)/SUM(Conv_Flags!$S$12:$S$93)","v":2591.1455043710721},{"$f":"SUMPRODUCT(AT$12:AT$93,Conv_Flags!$S$12:$S$93)/SUM(Conv_Flags!$S$12:$S$93)","v":2307.0852584750519},{"$f":"SUMPRODUCT(AU$12:AU$93,Conv_Flags!$S$12:$S$93)/SUM(Conv_Flags!$S$12:$S$93)","v":2249.4267011511133},null,{"$f":"SUMPRODUCT(AW$12:AW$93,Conv_Flags!$S$12:$S$93)/SUM(Conv_Flags!$S$12:$S$93)","v":2739.6436537973423},{"$f":"SUMPRODUCT(AX$12:AX$93,Conv_Flags!$S$12:$S$93)/SUM(Conv_Flags!$S$12:$S$93)","v":2727.9001989640706},{"$f":"IF($B$7=\"TEMP\",SUMPRODUCT(AY$13:AY$93,Conv_Flags!$S$12:$S$92)/SUM(Conv_Flags!$S$12:$S$92),SUMPRODUCT(AY$12:AY$93,Conv_Flags!$S$11:$S$92)/SUM(Conv_Flags!$S$11:$S$92))","v":2889.3858205889142},null,{"$f":"IF($B$7=\"TEMP\",SUMPRODUCT(BA$13:BA$93,Conv_Flags!$S$12:$S$92)/SUM(Conv_Flags!$S$12:$S$92),SUMPRODUCT(BA$12:BA$93,Conv_Flags!$S$11:$S$92)/SUM(Conv_Flags!$S$11:$S$92))","v":2569.443417740466},{"$f":"SUMPRODUCT(BB$12:BB$93,Conv_Flags!$S$12:$S$93)/SUM(Conv_Flags!$S$12:$S$93)","v":2308.9291308485404},{"$f":"IF($B$7=\"TEMP\",SUMPRODUCT(BC$13:BC$93,Conv_Flags!$S$12:$S$92)/SUM(Conv_Flags!$S$12:$S$92),SUMPRODUCT(BC$12:BC$93,Conv_Flags!$S$11:$S$92)/SUM(Conv_Flags!$S$11:$S$92))","v":2274.1145538590554},{"$f":"IF($B$7=\"TEMP\",SUMPRODUCT(BD$13:BD$93,Conv_Flags!$S$12:$S$92)/SUM(Conv_Flags!$S$12:$S$92),SUMPRODUCT(BD$12:BD$93,Conv_Flags!$S$11:$S$92)/SUM(Conv_Flags!$S$11:$S$92))","v":2515.8247382202771},{"$f":"SUMPRODUCT(BE$12:BE$93,Conv_Flags!$S$12:$S$93)/SUM(Conv_Flags!$S$12:$S$93)","v":3334.9600552207685},{"$f":"SUMPRODUCT(BF$12:BF$93,Conv_Flags!$S$12:$S$93)/SUM(Conv_Flags!$S$12:$S$93)","v":2685.4190836644098},{"$f":"SUMPRODUCT(BG$12:BG$93,Conv_Flags!$S$11:$S$92)/SUM(Conv_Flags!$S$11:$S$92)","v":2413.3406522713431}]
["1930-01-31",{"$f":"INDIRECT(CONCATENATE(\"'\",B$1,\"'!\",B$4,(YEAR($A112)-1921)*12+MONTH($A112)+3+IF(ISNUMBER(FIND(\"PRV\",B$6)),1,0)))*IF(AND(B$3>0,TRIM(B$9)=\"CFS\"),Conv_Flags!$C112,1)","v":2237.6099634364546},{"$f":"INDIRECT(CONCATENATE(\"'\",C$1,\"'!\",C$4,(YEAR($A112)-1921)*12+MONTH($A112)+3+IF(ISNUMBER(FIND(\"PRV\",C$6)),1,0)))*IF(AND(C$3>0,TRIM(C$9)=\"CFS\"),Conv_Flags!$C112,1)","v":2299.8846384802309},null,null,null,null,null,"60-20-20",null,null,null,null,null,null,null,null,null,null,null,null,null,null,null,null,null,null,null,null,null,null,null,null,null,"60-20-20"]
["1930-02-28",{"$f":"INDIRECT(CONCATENATE(\"'\",B$1,\"'!\",B$4,(YEAR($A113)-1921)*12+MONTH($A113)+3+IF(ISNUMBER(FIND(\"PRV\",B$6)),1,0)))*IF(AND(B$3>0,TRIM(B$9)=\"CFS\"),Conv_Flags!$C113,1)","v":2637.297243382834},{"$f":"INDIRECT(CONCATENATE(\"'\",C$1,\"'!\",C$4,(YEAR($A113)-1921)*12+MONTH($A113)+3+IF(ISNUMBER(FIND(\"PRV\",C$6)),1,0)))*IF(AND(C$3>0,TRIM(C$9)=\"CFS\"),Conv_Flags!$C113,1)","v":2699.5064480126175},null,null,null,null,null,"W:",{"$f":"IF($B$7=\"TEMP\",SUMPRODUCT(J$13:J$93,Conv_Flags!$V$12:$V$92)/SUM(Conv_Flags!$V$12:$V$92),SUMPRODUCT(J$12:J$93,Conv_Flags!$V$11:$V$92)/SUM(Conv_Flags!$V$11:$V$92))","v":3202.5467528779604},{"$f":"IF($B$7=\"TEMP\",SUMPRODUCT(K$13:K$93,Conv_Flags!$V$12:$V$92)/SUM(Conv_Flags!$V$12:$V$92),SUMPRODUCT(K$12:K$93,Conv_Flags!$V$11:$V$92)/SUM(Conv_Flags!$V$11:$V$92))","v":3159.2958798219584},{"$f":"IF($B$7=\"TEMP\",SUMPRODUCT(L$13:L$93,Conv_Flags!$V$12:$V$92)/SUM(Conv_Flags!$V$12:$V$92),SUMPRODUCT(L$12:L$93,Conv_Flags!$V$11:$V$92)/SUM(Conv_Flags!$V$11:$V$92))","v":3235.752129583228},{"$f":"SUMPRODUCT(M$12:M$93,Conv_Flags!$V$12:$V$93)/SUM(Conv_Flags!$V$12:$V$93)","v":3288.5882023021204},{"$f":"SUMPRODUCT(N$12:N$93,Conv_Flags!$V$12:$V$93)/SUM(Conv_Flags!$V$12:$V$93)","v":3461.7231836674855},{"$f":"SUMPRODUCT(O$12:O$93,Conv_Flags!$V$12:$V$93)/SUM(Conv_Flags!$V$12:$V$93)","v":3786.8435284443126},{"$f":"SUMPRODUCT(P$12:P$93,Conv_Flags!$V$12:$V$93)/SUM(Conv_Flags!$V$12:$V$93)","v":4322.4316287752126},{"$f":"SUMPRODUCT(Q$12:Q$93,Conv_Flags!$V$12:$V$93)/SUM(Conv_Flags!$V$12:$V$93)","v":4473.2298621143245},{"$f":"SUMPRODUCT(R$12:R$93,Conv_Flags!$V$12:$V$93)/SUM(Conv_Flags!$V$12:$V$93)","v":4355.996568175321},{"$f":"SUMPRODUCT(S$12:S$93,Conv_Flags!$V$12:$V$93)/SUM(Conv_Flags!$V$12:$V$93)","v":3955.0589006993214},{"$f":"SUMPRODUCT(T$12:T$93,Conv_Flags!$V$12:$V$93)/SUM(Conv_Flags!$V$12:$V$93)","v":3571.3946055310921},{"$f":"SUMPRODUCT(U$12:U$93,Conv_Flags!$V$12:$V$93)/SUM(Conv_Flags!$V$12:$V$93)","v":3337.4416807515804},null,{"$f":"SUMPRODUCT(W$12:W$93,Conv_Flags!$V$12:$V$93)/SUM(Conv_Flags!$V$12:$V$93)","v":3679.1919102286593},{"$f":"SUMPRODUCT(X$12:X$93,Conv_Flags!$V$12:$V$93)/SUM(Conv_Flags!$V$12:$V$93)","v":3704.4869045802748},{"$f":"IF($B$7=\"TEMP\",SUMPRODUCT(Y$13:Y$93,Conv_Flags!$V$12:$V$92)/SUM(Conv_Flags!$V$12:$V$92),SUMPRODUCT(Y$12:Y$93,Conv_Flags!$V$11:$V$92)/SUM(Conv_Flags!$V$11:$V$92))","v":3565.2444225660979},null,{"$f":"IF($B$7=\"TEMP\",SUMPRODUCT(AA$13:AA$93,Conv_Flags!$V$12:$V$92)/SUM(Conv_Flags!$V$12:$V$92),SUMPRODUCT(AA$12:AA$93,Conv_Flags!$V$11:$V$92)/SUM(Conv_Flags!$V$11:$V$92))","v":3404.5462189003351},{"$f":"SUMPRODUCT(AB$12:AB$93,Conv_Flags!$V$12:$V$93)/SUM(Conv_Flags!$V$12:$V$93)","v":3495.8797043571044},{"$f":"IF($B$7=\"TEMP\",SUMPRODUCT(AC$13:AC$93,Conv_Flags!$V$12:$V$92)/SUM(Conv_Flags!$V$12:$V$92),SUMPRODUCT(AC$12:AC$93,Conv_Flags!$V$11:$V$92)/SUM(Conv_Flags!$V$11:$V$92))","v":3245.0914142662277},{"$f":"IF($B$7=\"TEMP\",SUMPRODUCT(AD$13:AD$93,Conv_Flags!$V$12:$V$92)/SUM(Conv_Flags!$V$12:$V$92),SUMPRODUCT(AD$12:AD$93,Conv_Flags!$V$11:$V$92)/SUM(Conv_Flags!$V$11:$V$92))","v":3352.1252609982253},{"$f":"SUMPRODUCT(AE$12:AE$93,Conv_Flags!$V$12:$V$93)/SUM(Conv_Flags!$V$12:$V$93)","v":4122.8412238138126},{"$f":"SUMPRODUCT(AF$12:AF$93,Conv_Flags!$V$12:$V$93)/SUM(Conv_Flags!$V$12:$V$93)","v":3946.9464614596723},{"$f":"SUMPRODUCT(AG$12:AG$93,Conv_Flags!$V$11:$V$92)/SUM(Conv_Flags!$V$11:$V$92)","v":3000.5253614561693},null,"W:",{"$f":"IF($B$7=\"TEMP\",SUMPRODUCT(AJ$13:AJ$93,Conv_Flags!$V$12:$V$92)/SUM(Conv_Flags!$V$12:$V$92),SUMPRODUCT(AJ$12:AJ$93,Conv_Flags!$V$11:$V$92)/SUM(Conv_Flags!$V$11:$V$92))","v":3198.868093332308},{"$f":"IF($B$7=\"TEMP\",SUMPRODUCT(AK$13:AK$93,Conv_Flags!$V$12:$V$92)/SUM(Conv_Flags!$V$12:$V$92),SUMPRODUCT(AK$12:AK$93,Conv_Flags!$V$11:$V$92)/SUM(Conv_Flags!$V$11:$V$92))","v":3161.1106740915197},{"$f":"IF($B$7=\"TEMP\",SUMPRODUCT(AL$13:AL$93,Conv_Flags!$V$12:$V$92)/SUM(Conv_Flags!$V$12:$V$92),SUMPRODUCT(AL$12:AL$93,Conv_Flags!$V$11:$V$92)/SUM(Conv_Flags!$V$11:$V$92))","v":3239.1532098545881},{"$f":"SUMPRODUCT(AM$12:AM$93,Conv_Flags!$V$12:$V$93)/SUM(Conv_Flags!$V$12:$V$93)","v":3294.5855151904557},{"$f":"SUMPRODUCT(AN$12:AN$93,Conv_Flags!$V$12:$V$93)/SUM(Conv_Flags!$V$12:$V$93)","v":3464.5192618334713},{"$f":"SUMPRODUCT(AO$12:AO$93,Conv_Flags!$V$12:$V$93)/SUM(Conv_Flags!$V$12:$V$93)","v":3786.5130246542594},{"$f":"SUMPRODUCT(AP$12:AP$93,Conv_Flags!$V$12:$V$93)/SUM(Conv_Flags!$V$12:$V$93)","v":4325.475973098859},{"$f":"SUMPRODUCT(AQ$12:AQ$93,Conv_Flags!$V$12:$V$93)/SUM(Conv_Flags!$V$12:$V$93)","v":4474.4816161708759},{"$f":"SUMPRODUCT(AR$12:AR$93,Conv_Flags!$V$12:$V$93)/SUM(Conv_Flags!$V$12:$V$93)","v":4353.7935076839904},{"$f":"SUMPRODUCT(AS$12:AS$93,Conv_Flags!$V$12:$V$93)/SUM(Conv_Flags!$V$12:$V$93)","v":3958.7974295147219},{"$f":"SUMPRODUCT(AT$12:AT$93,Conv_Flags!$V$12:$V$93)/SUM(Conv_Flags!$V$12:$V$93)","v":3575.6514113699727},{"$f":"SUMPRODUCT(AU$12:AU$93,Conv_Flags!$V$12:$V$93)/SUM(Conv_Flags!$V$12:$V$93)","v":3335.7455132864147},null,{"$f":"SUMPRODUCT(AW$12:AW$93,Conv_Flags!$V$12:$V$93)/SUM(Conv_Flags!$V$12:$V$93)","v":3680.7246025067866},{"$f":"SUMPRODUCT(AX$12:AX$93,Conv_Flags!$V$12:$V$93)/SUM(Conv_Flags!$V$12:$V$93)","v":3705.3471638005281},{"$f":"IF($B$7=\"TEMP\",SUMPRODUCT(AY$13:AY$93,Conv_Flags!$V$12:$V$92)/SUM(Conv_Flags!$V$12:$V$92),SUMPRODUCT(AY$12:AY$93,Conv_Flags!$V$11:$V$92)/SUM(Conv_Flags!$V$11:$V$92))","v":3569.487166612731},null,{"$f":"IF($B$7=\"TEMP\",SUMPRODUCT(BA$13:BA$93,Conv_Flags!$V$12:$V$92)/SUM(Conv_Flags!$V$12:$V$92),SUMPRODUCT(BA$12:BA$93,Conv_Flags!$V$11:$V$92)/SUM(Conv_Flags!$V$11:$V$92))","v":3405.2554738134399},{"$f":"SUMPRODUCT(BB$12:BB$93,Conv_Flags!$V$12:$V$93)/SUM(Conv_Flags!$V$12:$V$93)","v":3496.7432286933013},{"$f":"IF($B$7=\"TEMP\",SUMPRODUCT(BC$13:BC$93,Conv_Flags!$V$12:$V$92)/SUM(Conv_Flags!$V$12:$V$92),SUMPRODUCT(BC$12:BC$93,Conv_Flags!$V$11:$V$92)/SUM(Conv_Flags!$V$11:$V$92))","v":3245.335588694797},{"$f":"IF($B$7=\"TEMP\",SUMPRODUCT(BD$13:BD$93,Conv_Flags!$V$12:$V$92)/SUM(Conv_Flags!$V$12:$V$92),SUMPRODUCT(BD$12:BD$93,Conv_Flags!$V$11:$V$92)/SUM(Conv_Flags!$V$11:$V$92))","v":3353.7779746774413},{"$f":"SUMPRODUCT(BE$12:BE$93,Conv_Flags!$V$12:$V$93)/SUM(Conv_Flags!$V$12:$V$93)","v":4123.9067496706812},{"$f":"SUMPRODUCT(BF$12:BF$93,Conv_Flags!$V$12:$V$93)/SUM(Conv_Flags!$V$12:$V$93)","v":3948.3389783243329},{"$f":"SUMPRODUCT(BG$12:BG$93,Conv_Flags!$V$11:$V$92)/SUM(Conv_Flags!$V$11:$V$92)","v":3003.870902041821}]
["1930-03-31",{"$f":"INDIRECT(CONCATENATE(\"'\",B$1,\"'!\",B$4,(YEAR($A114)-1921)*12+MONTH($A114)+3+IF(ISNUMBER(FIND(\"PRV\",B$6)),1,0)))*IF(AND(B$3>0,TRIM(B$9)=\"CFS\"),Conv_Flags!$C114,1)","v":3130.8081842416045},{"$f":"INDIRECT(CONCATENATE(\"'\",C$1,\"'!\",C$4,(YEAR($A114)-1921)*12+MONTH($A114)+3+IF(ISNUMBER(FIND(\"PRV\",C$6)),1,0)))*IF(AND(C$3>0,TRIM(C$9)=\"CFS\"),Conv_Flags!$C114,1)","v":3192.9304437447508},null,null,null,null,null,"AN:",{"$f":"IF($B$7=\"TEMP\",SUMPRODUCT(J$13:J$93,Conv_Flags!$W$12:$W$92)/SUM(Conv_Flags!$W$12:$W$92),SUMPRODUCT(J$12:J$93,Conv_Flags!$W$11:$W$92)/SUM(Conv_Flags!$W$11:$W$92))","v":2814.8280346105585},{"$f":"IF($B$7=\"TEMP\",SUMPRODUCT(K$13:K$93,Conv_Flags!$W$12:$W$92)/SUM(Conv_Flags!$W$12:$W$92),SUMPRODUCT(K$12:K$93,Conv_Flags!$W$11:$W$92)/SUM(Conv_Flags!$W$11:$W$92))","v":2836.9911411396042},{"$f":"IF($B$7=\"TEMP\",SUMPRODUCT(L$13:L$93,Conv_Flags!$W$12:$W$92)/SUM(Conv_Flags!$W$12:$W$92),SUMPRODUCT(L$12:L$93,Conv_Flags!$W$11:$W$92)/SUM(Conv_Flags!$W$11:$W$92))","v":2938.1255565556703},{"$f":"SUMPRODUCT(M$12:M$93,Conv_Flags!$W$12:$W$93)/SUM(Conv_Flags!$W$12:$W$93)","v":3130.5693083931442},{"$f":"SUMPRODUCT(N$12:N$93,Conv_Flags!$W$12:$W$93)/SUM(Conv_Flags!$W$12:$W$93)","v":3342.281913059684},{"$f":"SUMPRODUCT(O$12:O$93,Conv_Flags!$W$12:$W$93)/SUM(Conv_Flags!$W$12:$W$93)","v":3754.4817941585866},{"$f":"SUMPRODUCT(P$12:P$93,Conv_Flags!$W$12:$W$93)/SUM(Conv_Flags!$W$12:$W$93)","v":4137.8529135863455},{"$f":"SUMPRODUCT(Q$12:Q$93,Conv_Flags!$W$12:$W$93)/SUM(Conv_Flags!$W$12:$W$93)","v":4188.7812523658431},{"$f":"SUMPRODUCT(R$12:R$93,Conv_Flags!$W$12:$W$93)/SUM(Conv_Flags!$W$12:$W$93)","v":3884.793164224438},{"$f":"SUMPRODUCT(S$12:S$93,Conv_Flags!$W$12:$W$93)/SUM(Conv_Flags!$W$12:$W$93)","v":3332.114601442403},{"$f":"SUMPRODUCT(T$12:T$93,Conv_Flags!$W$12:$W$93)/SUM(Conv_Flags!$W$12:$W$93)","v":3017.4519759537989},{"$f":"SUMPRODUCT(U$12:U$93,Conv_Flags!$W$12:$W$93)/SUM(Conv_Flags!$W$12:$W$93)","v":2878.9650105128289},null,{"$f":"SUMPRODUCT(W$12:W$93,Conv_Flags!$W$12:$W$93)/SUM(Conv_Flags!$W$12:$W$93)","v":3356.2840541904766},{"$f":"SUMPRODUCT(X$12:X$93,Conv_Flags!$W$12:$W$93)/SUM(Conv_Flags!$W$12:$W$93)","v":3360.2043376495858},{"$f":"IF($B$7=\"TEMP\",SUMPRODUCT(Y$13:Y$93,Conv_Flags!$W$12:$W$92)/SUM(Conv_Flags!$W$12:$W$92),SUMPRODUCT(Y$12:Y$93,Conv_Flags!$W$11:$W$92)/SUM(Conv_Flags!$W$11:$W$92))","v":3311.0571289738314},null,{"$f":"IF($B$7=\"TEMP\",SUMPRODUCT(AA$13:AA$93,Conv_Flags!$W$12:$W$92)/SUM(Conv_Flags!$W$12:$W$92),SUMPRODUCT(AA$12:AA$93,Conv_Flags!$W$11:$W$92)/SUM(Conv_Flags!$W$11:$W$92))","v":3108.7882057496204},{"$f":"SUMPRODUCT(AB$12:AB$93,Conv_Flags!$W$12:$W$93)/SUM(Conv_Flags!$W$12:$W$93)","v":2990.7605010672519},{"$f":"IF($B$7=\"TEMP\",SUMPRODUCT(AC$13:AC$93,Conv_Flags!$W$12:$W$92)/SUM(Conv_Flags!$W$12:$W$92),SUMPRODUCT(AC$12:AC$93,Conv_Flags!$W$11:$W$92)/SUM(Conv_Flags!$W$11:$W$92))","v":2899.4912609638882},{"$f":"IF($B$7=\"TEMP\",SUMPRODUCT(AD$13:AD$93,Conv_Flags!$W$12:$W$92)/SUM(Conv_Flags!$W$12:$W$92),SUMPRODUCT(AD$12:AD$93,Conv_Flags!$W$11:$W$92)/SUM(Conv_Flags!$W$11:$W$92))","v":3061.7081149346614},{"$f":"SUMPRODUCT(AE$12:AE$93,Conv_Flags!$W$12:$W$93)/SUM(Conv_Flags!$W$12:$W$93)","v":3923.6633746882089},{"$f":"SUMPRODUCT(AF$12:AF$93,Conv_Flags!$W$12:$W$93)/SUM(Conv_Flags!$W$12:$W$93)","v":3442.0582182649937},{"$f":"SUMPRODUCT(AG$12:AG$93,Conv_Flags!$W$11:$W$92)/SUM(Conv_Flags!$W$11:$W$92)","v":2792.2068036728201},null,"AN:",{"$f":"IF($B$7=\"TEMP\",SUMPRODUCT(AJ$13:AJ$93,Conv_Flags!$W$12:$W$92)/SUM(Conv_Flags!$W$12:$W$92),SUMPRODUCT(AJ$12:AJ$93,Conv_Flags!$W$11:$W$92)/SUM(Conv_Flags!$W$11:$W$92))","v":2845.5357719193075},{"$f":"IF($B$7=\"TEMP\",SUMPRODUCT(AK$13:AK$93,Conv_Flags!$W$12:$W$92)/SUM(Conv_Flags!$W$12:$W$92),SUMPRODUCT(AK$12:AK$93,Conv_Flags!$W$11:$W$92)/SUM(Conv_Flags!$W$11:$W$92))","v":2862.8645569909449},{"$f":"IF($B$7=\"TEMP\",SUMPRODUCT(AL$13:AL$93,Conv_Flags!$W$12:$W$92)/SUM(Conv_Flags!$W$12:$W$92),SUMPRODUCT(AL$12:AL$93,Conv_Flags!$W$11:$W$92)/SUM(Conv_Flags!$W$11:$W$92))","v":2956.2148610557738},{"$f":"SUMPRODUCT(AM$12:AM$93,Conv_Flags!$W$12:$W$93)/SUM(Conv_Flags!$W$12:$W$93)","v":3152.678679761354},{"$f":"SUMPRODUCT(AN$12:AN$93,Conv_Flags!$W$12:$W$93)/SUM(Conv_Flags!$W$12:$W$93)","v":3361.4445737274382},{"$f":"SUMPRODUCT(AO$12:AO$93,Conv_Flags!$W$12:$W$93)/SUM(Conv_Flags!$W$12:$W$93)","v":3775.0212775414711},{"$f":"SUMPRODUCT(AP$12:AP$93,Conv_Flags!$W$12:$W$93)/SUM(Conv_Flags!$W$12:$W$93)","v":4157.8116477750164},{"$f":"SUMPRODUCT(AQ$12:AQ$93,Conv_Flags!$W$12:$W$93)/SUM(Conv_Flags!$W$12:$W$93)","v":4208.5335975560547},{"$f":"SUMPRODUCT(AR$12:AR$93,Conv_Flags!$W$12:$W$93)/SUM(Conv_Flags!$W$12:$W$93)","v":3913.6239786316128},{"$f":"SUMPRODUCT(AS$12:AS$93,Conv_Flags!$W$12:$W$93)/SUM(Conv_Flags!$W$12:$W$93)","v":3354.2560259725788},{"$f":"SUMPRODUCT(AT$12:AT$93,Conv_Flags!$W$12:$W$93)/SUM(Conv_Flags!$W$12:$W$93)","v":3036.7072632492745},{"$f":"SUMPRODUCT(AU$12:AU$93,Conv_Flags!$W$12:$W$93)/SUM(Conv_Flags!$W$12:$W$93)","v":2908.274858381581},null,{"$f":"SUMPRODUCT(AW$12:AW$93,Conv_Flags!$W$12:$W$93)/SUM(Conv_Flags!$W$12:$W$93)","v":3379.2652835984773},{"$f":"SUMPRODUCT(AX$12:AX$93,Conv_Flags!$W$12:$W$93)/SUM(Conv_Flags!$W$12:$W$93)","v":3382.2117514763586},{"$f":"IF($B$7=\"TEMP\",SUMPRODUCT(AY$13:AY$93,Conv_Flags!$W$12:$W$92)/SUM(Conv_Flags!$W$12:$W$92),SUMPRODUCT(AY$12:AY$93,Conv_Flags!$W$11:$W$92)/SUM(Conv_Flags!$W$11:$W$92))","v":3335.705511957543},null,{"$f":"IF($B$7=\"TEMP\",SUMPRODUCT(BA$13:BA$93,Conv_Flags!$W$12:$W$92)/SUM(Conv_Flags!$W$12:$W$92),SUMPRODUCT(BA$12:BA$93,Conv_Flags!$W$11:$W$92)/SUM(Conv_Flags!$W$11:$W$92))","v":3128.6098021919547},{"$f":"SUMPRODUCT(BB$12:BB$93,Conv_Flags!$W$12:$W$93)/SUM(Conv_Flags!$W$12:$W$93)","v":3015.94690348514},{"$f":"IF($B$7=\"TEMP\",SUMPRODUCT(BC$13:BC$93,Conv_Flags!$W$12:$W$92)/SUM(Conv_Flags!$W$12:$W$92),SUMPRODUCT(BC$12:BC$93,Conv_Flags!$W$11:$W$92)/SUM(Conv_Flags!$W$11:$W$92))","v":2923.884882265791},{"$f":"IF($B$7=\"TEMP\",SUMPRODUCT(BD$13:BD$93,Conv_Flags!$W$12:$W$92)/SUM(Conv_Flags!$W$12:$W$92),SUMPRODUCT(BD$12:BD$93,Conv_Flags!$W$11:$W$92)/SUM(Conv_Flags!$W$11:$W$92))","v":3080.0798999253539},{"$f":"SUMPRODUCT(BE$12:BE$93,Conv_Flags!$W$12:$W$93)/SUM(Conv_Flags!$W$12:$W$93)","v":3944.7251997630174},{"$f":"SUMPRODUCT(BF$12:BF$93,Conv_Flags!$W$12:$W$93)/SUM(Conv_Flags!$W$12:$W$93)","v":3465.7478739555709},{"$f":"SUMPRODUCT(BG$12:BG$93,Conv_Flags!$W$11:$W$92)/SUM(Conv_Flags!$W$11:$W$92)","v":2821.4364158076287}]
["1930-04-30",{"$f":"INDIRECT(CONCATENATE(\"'\",B$1,\"'!\",B$4,(YEAR($A115)-1921)*12+MONTH($A115)+3+IF(ISNUMBER(FIND(\"PRV\",B$6)),1,0)))*IF(AND(B$3>0,TRIM(B$9)=\"CFS\"),Conv_Flags!$C115,1)","v":3363.7971441256441},{"$f":"INDIRECT(CONCATENATE(\"'\",C$1,\"'!\",C$4,(YEAR($A115)-1921)*12+MONTH($A115)+3+IF(ISNUMBER(FIND(\"PRV\",C$6)),1,0)))*IF(AND(C$3>0,TRIM(C$9)=\"CFS\"),Conv_Flags!$C115,1)","v":3425.7928689643245},null,null,null,null,null,"BN:",{"$f":"IF($B$7=\"TEMP\",SUMPRODUCT(J$13:J$93,Conv_Flags!$X$12:$X$92)/SUM(Conv_Flags!$X$12:$X$92),SUMPRODUCT(J$12:J$93,Conv_Flags!$X$11:$X$92)/SUM(Conv_Flags!$X$11:$X$92))","v":2993.2498036868783},{"$f":"IF($B$7=\"TEMP\",SUMPRODUCT(K$13:K$93,Conv_Flags!$X$12:$X$92)/SUM(Conv_Flags!$X$12:$X$92),SUMPRODUCT(K$12:K$93,Conv_Flags!$X$11:$X$92)/SUM(Conv_Flags!$X$11:$X$92))","v":3025.4835650450182},{"$f":"IF($B$7=\"TEMP\",SUMPRODUCT(L$13:L$93,Conv_Flags!$X$12:$X$92)/SUM(Conv_Flags!$X$12:$X$92),SUMPRODUCT(L$12:L$93,Conv_Flags!$X$11:$X$92)/SUM(Conv_Flags!$X$11:$X$92))","v":3126.4154338610292},{"$f":"SUMPRODUCT(M$12:M$93,Conv_Flags!$X$12:$X$93)/SUM(Conv_Flags!$X$12:$X$93)","v":3226.7667625364952},{"$f":"SUMPRODUCT(N$12:N$93,Conv_Flags!$X$12:$X$93)/SUM(Conv_Flags!$X$12:$X$93)","v":3601.4416870509954},{"$f":"SUMPRODUCT(O$12:O$93,Conv_Flags!$X$12:$X$93)/SUM(Conv_Flags!$X$12:$X$93)","v":3938.787273755951},{"$f":"SUMPRODUCT(P$12:P$93,Conv_Flags!$X$12:$X$93)/SUM(Conv_Flags!$X$12:$X$93)","v":4404.0720450655581},{"$f":"SUMPRODUCT(Q$12:Q$93,Conv_Flags!$X$12:$X$93)/SUM(Conv_Flags!$X$12:$X$93)","v":4390.0374368883186},{"$f":"SUMPRODUCT(R$12:R$93,Conv_Flags!$X$12:$X$93)/SUM(Conv_Flags!$X$12:$X$93)","v":4118.189960227618},{"$f":"SUMPRODUCT(S$12:S$93,Conv_Flags!$X$12:$X$93)/SUM(Conv_Flags!$X$12:$X$93)","v":3560.9021801282352},{"$f":"SUMPRODUCT(T$12:T$93,Conv_Flags!$X$12:$X$93)/SUM(Conv_Flags!$X$12:$X$93)","v":3230.1326086222552},{"$f":"SUMPRODUCT(U$12:U$93,Conv_Flags!$X$12:$X$93)/SUM(Conv_Flags!$X$12:$X$93)","v":3075.1260653827335},null,{"$f":"SUMPRODUCT(W$12:W$93,Conv_Flags!$X$12:$X$93)/SUM(Conv_Flags!$X$12:$X$93)","v":3273.4377731228496},{"$f":"SUMPRODUCT(X$12:X$93,Conv_Flags!$X$12:$X$93)/SUM(Conv_Flags!$X$12:$X$93)","v":3285.4478038013663},{"$f":"IF($B$7=\"TEMP\",SUMPRODUCT(Y$13:Y$93,Conv_Flags!$X$12:$X$92)/SUM(Conv_Flags!$X$12:$X$92),SUMPRODUCT(Y$12:Y$93,Conv_Flags!$X$11:$X$92)/SUM(Conv_Flags!$X$11:$X$92))","v":3500.7975542532108},null,{"$f":"IF($B$7=\"TEMP\",SUMPRODUCT(AA$13:AA$93,Conv_Flags!$X$12:$X$92)/SUM(Conv_Flags!$X$12:$X$92),SUMPRODUCT(AA$12:AA$93,Conv_Flags!$X$11:$X$92)/SUM(Conv_Flags!$X$11:$X$92))","v":3307.7996217343334},{"$f":"SUMPRODUCT(AB$12:AB$93,Conv_Flags!$X$12:$X$93)/SUM(Conv_Flags!$X$12:$X$93)","v":3198.1852916111507},{"$f":"IF($B$7=\"TEMP\",SUMPRODUCT(AC$13:AC$93,Conv_Flags!$X$12:$X$92)/SUM(Conv_Flags!$X$12:$X$92),SUMPRODUCT(AC$12:AC$93,Conv_Flags!$X$11:$X$92)/SUM(Conv_Flags!$X$11:$X$92))","v":3086.7252667136277},{"$f":"IF($B$7=\"TEMP\",SUMPRODUCT(AD$13:AD$93,Conv_Flags!$X$12:$X$92)/SUM(Conv_Flags!$X$12:$X$92),SUMPRODUCT(AD$12:AD$93,Conv_Flags!$X$11:$X$92)/SUM(Conv_Flags!$X$11:$X$92))","v":3258.4269120898261},{"$f":"SUMPRODUCT(AE$12:AE$93,Conv_Flags!$X$12:$X$93)/SUM(Conv_Flags!$X$12:$X$93)","v":4148.178144837284},{"$f":"SUMPRODUCT(AF$12:AF$93,Conv_Flags!$X$12:$X$93)/SUM(Conv_Flags!$X$12:$X$93)","v":3660.4516250284078},{"$f":"SUMPRODUCT(AG$12:AG$93,Conv_Flags!$X$11:$X$92)/SUM(Conv_Flags!$X$11:$X$92)","v":2971.4719506517049},null,"BN:",{"$f":"IF($B$7=\"TEMP\",SUMPRODUCT(AJ$13:AJ$93,Conv_Flags!$X$12:$X$92)/SUM(Conv_Flags!$X$12:$X$92),SUMPRODUCT(AJ$12:AJ$93,Conv_Flags!$X$11:$X$92)/SUM(Conv_Flags!$X$11:$X$92))","v":3008.376275054607},{"$f":"IF($B$7=\"TEMP\",SUMPRODUCT(AK$13:AK$93,Conv_Flags!$X$12:$X$92)/SUM(Conv_Flags!$X$12:$X$92),SUMPRODUCT(AK$12:AK$93,Conv_Flags!$X$11:$X$92)/SUM(Conv_Flags!$X$11:$X$92))","v":3036.348043595402},{"$f":"IF($B$7=\"TEMP\",SUMPRODUCT(AL$13:AL$93,Conv_Flags!$X$12:$X$92)/SUM(Conv_Flags!$X$12:$X$92),SUMPRODUCT(AL$12:AL$93,Conv_Flags!$X$11:$X$92)/SUM(Conv_Flags!$X$11:$X$92))","v":3136.3911691746307},{"$f":"SUMPRODUCT(AM$12:AM$93,Conv_Flags!$X$12:$X$93)/SUM(Conv_Flags!$X$12:$X$93)","v":3227.2411765149036},{"$f":"SUMPRODUCT(AN$12:AN$93,Conv_Flags!$X$12:$X$93)/SUM(Conv_Flags!$X$12:$X$93)","v":3602.3980801698176},{"$f":"SUMPRODUCT(AO$12:AO$93,Conv_Flags!$X$12:$X$93)/SUM(Conv_Flags!$X$12:$X$93)","v":3940.5967323120713},{"$f":"SUMPRODUCT(AP$12:AP$93,Conv_Flags!$X$12:$X$93)/SUM(Conv_Flags!$X$12:$X$93)","v":4407.585488754632},{"$f":"SUMPRODUCT(AQ$12:AQ$93,Conv_Flags!$X$12:$X$93)/SUM(Conv_Flags!$X$12:$X$93)","v":4408.4424068798025},{"$f":"SUMPRODUCT(AR$12:AR$93,Conv_Flags!$X$12:$X$93)/SUM(Conv_Flags!$X$12:$X$93)","v":4151.4019379703395},{"$f":"SUMPRODUCT(AS$12:AS$93,Conv_Flags!$X$12:$X$93)/SUM(Conv_Flags!$X$12:$X$93)","v":3584.023667580494},{"$f":"SUMPRODUCT(AT$12:AT$93,Conv_Flags!$X$12:$X$93)/SUM(Conv_Flags!$X$12:$X$93)","v":3250.2262796115169},{"$f":"SUMPRODUCT(AU$12:AU$93,Conv_Flags!$X$12:$X$93)/SUM(Conv_Flags!$X$12:$X$93)","v":3098.3461017050772},null,{"$f":"SUMPRODUCT(AW$12:AW$93,Conv_Flags!$X$12:$X$93)/SUM(Conv_Flags!$X$12:$X$93)","v":3283.8025523134888},{"$f":"SUMPRODUCT(AX$12:AX$93,Conv_Flags!$X$12:$X$93)/SUM(Conv_Flags!$X$12:$X$93)","v":3297.0793194600619},{"$f":"IF($B$7=\"TEMP\",SUMPRODUCT(AY$13:AY$93,Conv_Flags!$X$12:$X$92)/SUM(Conv_Flags!$X$12:$X$92),SUMPRODUCT(AY$12:AY$93,Conv_Flags!$X$11:$X$92)/SUM(Conv_Flags!$X$11:$X$92))","v":3514.8046135246313},null,{"$f":"IF($B$7=\"TEMP\",SUMPRODUCT(BA$13:BA$93,Conv_Flags!$X$12:$X$92)/SUM(Conv_Flags!$X$12:$X$92),SUMPRODUCT(BA$12:BA$93,Conv_Flags!$X$11:$X$92)/SUM(Conv_Flags!$X$11:$X$92))","v":3317.7123560801142},{"$f":"SUMPRODUCT(BB$12:BB$93,Conv_Flags!$X$12:$X$93)/SUM(Conv_Flags!$X$12:$X$93)","v":3220.2548681134049},{"$f":"IF($B$7=\"TEMP\",SUMPRODUCT(BC$13:BC$93,Conv_Flags!$X$12:$X$92)/SUM(Conv_Flags!$X$12:$X$92),SUMPRODUCT(BC$12:BC$93,Conv_Flags!$X$11:$X$92)/SUM(Conv_Flags!$X$11:$X$92))","v":3098.9843358072176},{"$f":"IF($B$7=\"TEMP\",SUMPRODUCT(BD$13:BD$93,Conv_Flags!$X$12:$X$92)/SUM(Conv_Flags!$X$12:$X$92),SUMPRODUCT(BD$12:BD$93,Conv_Flags!$X$11:$X$92)/SUM(Conv_Flags!$X$11:$X$92))","v":3268.373949018574},{"$f":"SUMPRODUCT(BE$12:BE$93,Conv_Flags!$X$12:$X$93)/SUM(Conv_Flags!$X$12:$X$93)","v":4158.381159254146},{"$f":"SUMPRODUCT(BF$12:BF$93,Conv_Flags!$X$12:$X$93)/SUM(Conv_Flags!$X$12:$X$93)","v":3684.7615348636973},{"$f":"SUMPRODUCT(BG$12:BG$93,Conv_Flags!$X$11:$X$92)/SUM(Conv_Flags!$X$11:$X$92)","v":2995.037818105297}]
["1930-05-31",{"$f":"INDIRECT(CONCATENATE(\"'\",B$1,\"'!\",B$4,(YEAR($A116)-1921)*12+MONTH($A116)+3+IF(ISNUMBER(FIND(\"PRV\",B$6)),1,0)))*IF(AND(B$3>0,TRIM(B$9)=\"CFS\"),Conv_Flags!$C116,1)","v":3337.0460280845068},{"$f":"INDIRECT(CONCATENATE(\"'\",C$1,\"'!\",C$4,(YEAR($A116)-1921)*12+MONTH($A116)+3+IF(ISNUMBER(FIND(\"PRV\",C$6)),1,0)))*IF(AND(C$3>0,TRIM(C$9)=\"CFS\"),Conv_Flags!$C116,1)","v":3400.8266882003968},null,null,null,null,null,"D:",{"$f":"IF($B$7=\"TEMP\",SUMPRODUCT(J$13:J$93,Conv_Flags!$Y$12:$Y$92)/SUM(Conv_Flags!$Y$12:$Y$92),SUMPRODUCT(J$12:J$93,Conv_Flags!$Y$11:$Y$92)/SUM(Conv_Flags!$Y$11:$Y$92))","v":2574.4511038278315},{"$f":"IF($B$7=\"TEMP\",SUMPRODUCT(K$13:K$93,Conv_Flags!$Y$12:$Y$92)/SUM(Conv_Flags!$Y$12:$Y$92),SUMPRODUCT(K$12:K$93,Conv_Flags!$Y$11:$Y$92)/SUM(Conv_Flags!$Y$11:$Y$92))","v":2650.4920621674391},{"$f":"IF($B$7=\"TEMP\",SUMPRODUCT(L$13:L$93,Conv_Flags!$Y$12:$Y$92)/SUM(Conv_Flags!$Y$12:$Y$92),SUMPRODUCT(L$12:L$93,Conv_Flags!$Y$11:$Y$92)/SUM(Conv_Flags!$Y$11:$Y$92))","v":2878.2002923703212},{"$f":"SUMPRODUCT(M$12:M$93,Conv_Flags!$Y$12:$Y$93)/SUM(Conv_Flags!$Y$12:$Y$93)","v":3235.0723216350661},{"$f":"SUMPRODUCT(N$12:N$93,Conv_Flags!$Y$12:$Y$93)/SUM(Conv_Flags!$Y$12:$Y$93)","v":3501.5407061037395},{"$f":"SUMPRODUCT(O$12:O$93,Conv_Flags!$Y$12:$Y$93)/SUM(Conv_Flags!$Y$12:$Y$93)","v":3861.3480695288872},{"$f":"SUMPRODUCT(P$12:P$93,Conv_Flags!$Y$12:$Y$93)/SUM(Conv_Flags!$Y$12:$Y$93)","v":4069.8384439010074},{"$f":"SUMPRODUCT(Q$12:Q$93,Conv_Flags!$Y$12:$Y$93)/SUM(Conv_Flags!$Y$12:$Y$93)","v":3897.1949920295228},{"$f":"SUMPRODUCT(R$12:R$93,Conv_Flags!$Y$12:$Y$93)/SUM(Conv_Flags!$Y$12:$Y$93)","v":3439.9699898182475},{"$f":"SUMPRODUCT(S$12:S$93,Conv_Flags!$Y$12:$Y$93)/SUM(Conv_Flags!$Y$12:$Y$93)","v":2954.521053471859},{"$f":"SUMPRODUCT(T$12:T$93,Conv_Flags!$Y$12:$Y$93)/SUM(Conv_Flags!$Y$12:$Y$93)","v":2677.9555776159586},{"$f":"SUMPRODUCT(U$12:U$93,Conv_Flags!$Y$12:$Y$93)/SUM(Conv_Flags!$Y$12:$Y$93)","v":2640.7947806323377},null,{"$f":"SUMPRODUCT(W$12:W$93,Conv_Flags!$Y$12:$Y$93)/SUM(Conv_Flags!$Y$12:$Y$93)","v":3198.448282758518},{"$f":"SUMPRODUCT(X$12:X$93,Conv_Flags!$Y$12:$Y$93)/SUM(Conv_Flags!$Y$12:$Y$93)","v":3182.5789518691681},{"$f":"IF($B$7=\"TEMP\",SUMPRODUCT(Y$13:Y$93,Conv_Flags!$Y$12:$Y$92)/SUM(Conv_Flags!$Y$12:$Y$92),SUMPRODUCT(Y$12:Y$93,Conv_Flags!$Y$11:$Y$92)/SUM(Conv_Flags!$Y$11:$Y$92))","v":3371.1262995235206},null,{"$f":"IF($B$7=\"TEMP\",SUMPRODUCT(AA$13:AA$93,Conv_Flags!$Y$12:$Y$92)/SUM(Conv_Flags!$Y$12:$Y$92),SUMPRODUCT(AA$12:AA$93,Conv_Flags!$Y$11:$Y$92)/SUM(Conv_Flags!$Y$11:$Y$92))","v":3050.584982080542},{"$f":"SUMPRODUCT(AB$12:AB$93,Conv_Flags!$Y$12:$Y$93)/SUM(Conv_Flags!$Y$12:$Y$93)","v":2694.4121456327139},{"$f":"IF($B$7=\"TEMP\",SUMPRODUCT(AC$13:AC$93,Conv_Flags!$Y$12:$Y$92)/SUM(Conv_Flags!$Y$12:$Y$92),SUMPRODUCT(AC$12:AC$93,Conv_Flags!$Y$11:$Y$92)/SUM(Conv_Flags!$Y$11:$Y$92))","v":2755.1938210194648},{"$f":"IF($B$7=\"TEMP\",SUMPRODUCT(AD$13:AD$93,Conv_Flags!$Y$12:$Y$92)/SUM(Conv_Flags!$Y$12:$Y$92),SUMPRODUCT(AD$12:AD$93,Conv_Flags!$Y$11:$Y$92)/SUM(Conv_Flags!$Y$11:$Y$92))","v":3024.5904291278139},{"$f":"SUMPRODUCT(AE$12:AE$93,Conv_Flags!$Y$12:$Y$93)/SUM(Conv_Flags!$Y$12:$Y$93)","v":3824.784213355103},{"$f":"SUMPRODUCT(AF$12:AF$93,Conv_Flags!$Y$12:$Y$93)/SUM(Conv_Flags!$Y$12:$Y$93)","v":3085.3603768092485},{"$f":"SUMPRODUCT(AG$12:AG$93,Conv_Flags!$Y$11:$Y$92)/SUM(Conv_Flags!$Y$11:$Y$92)","v":2729.8098228634653},null,"D:",{"$f":"IF($B$7=\"TEMP\",SUMPRODUCT(AJ$13:AJ$93,Conv_Flags!$Y$12:$Y$92)/SUM(Conv_Flags!$Y$12:$Y$92),SUMPRODUCT(AJ$12:AJ$93,Conv_Flags!$Y$11:$Y$92)/SUM(Conv_Flags!$Y$11:$Y$92))","v":2602.0962512647357},{"$f":"IF($B$7=\"TEMP\",SUMPRODUCT(AK$13:AK$93,Conv_Flags!$Y$12:$Y$92)/SUM(Conv_Flags!$Y$12:$Y$92),SUMPRODUCT(AK$12:AK$93,Conv_Flags!$Y$11:$Y$92)/SUM(Conv_Flags!$Y$11:$Y$92))","v":2666.6557497268627},{"$f":"IF($B$7=\"TEMP\",SUMPRODUCT(AL$13:AL$93,Conv_Flags!$Y$12:$Y$92)/SUM(Conv_Flags!$Y$12:$Y$92),SUMPRODUCT(AL$12:AL$93,Conv_Flags!$Y$11:$Y$92)/SUM(Conv_Flags!$Y$11:$Y$92))","v":2891.3347559919548},{"$f":"SUMPRODUCT(AM$12:AM$93,Conv_Flags!$Y$12:$Y$93)/SUM(Conv_Flags!$Y$12:$Y$93)","v":3257.6476841444642},{"$f":"SUMPRODUCT(AN$12:AN$93,Conv_Flags!$Y$12:$Y$93)/SUM(Conv_Flags!$Y$12:$Y$93)","v":3524.5374299148339},{"$f":"SUMPRODUCT(AO$12:AO$93,Conv_Flags!$Y$12:$Y$93)/SUM(Conv_Flags!$Y$12:$Y$93)","v":3882.3255361271295},{"$f":"SUMPRODUCT(AP$12:AP$93,Conv_Flags!$Y$12:$Y$93)/SUM(Conv_Flags!$Y$12:$Y$93)","v":4093.7053298060223},{"$f":"SUMPRODUCT(AQ$12:AQ$93,Conv_Flags!$Y$12:$Y$93)/SUM(Conv_Flags!$Y$12:$Y$93)","v":3933.6844526705795},{"$f":"SUMPRODUCT(AR$12:AR$93,Conv_Flags!$Y$12:$Y$93)/SUM(Conv_Flags!$Y$12:$Y$93)","v":3492.711319427111},{"$f":"SUMPRODUCT(AS$12:AS$93,Conv_Flags!$Y$12:$Y$93)/SUM(Conv_Flags!$Y$12:$Y$93)","v":3005.885576088499},{"$f":"SUMPRODUCT(AT$12:AT$93,Conv_Flags!$Y$12:$Y$93)/SUM(Conv_Flags!$Y$12:$Y$93)","v":2725.1937932381184},{"$f":"SUMPRODUCT(AU$12:AU$93,Conv_Flags!$Y$12:$Y$93)/SUM(Conv_Flags!$Y$12:$Y$93)","v":2681.1337516560661},null,{"$f":"SUMPRODUCT(AW$12:AW$93,Conv_Flags!$Y$12:$Y$93)/SUM(Conv_Flags!$Y$12:$Y$93)","v":3229.7426358380308},{"$f":"SUMPRODUCT(AX$12:AX$93,Conv_Flags!$Y$12:$Y$93)/SUM(Conv_Flags!$Y$12:$Y$93)","v":3211.5899591340867},{"$f":"IF($B$7=\"TEMP\",SUMPRODUCT(AY$13:AY$93,Conv_Flags!$Y$12:$Y$92)/SUM(Conv_Flags!$Y$12:$Y$92),SUMPRODUCT(AY$12:AY$93,Conv_Flags!$Y$11:$Y$92)/SUM(Conv_Flags!$Y$11:$Y$92))","v":3385.4472732986032},null,{"$f":"IF($B$7=\"TEMP\",SUMPRODUCT(BA$13:BA$93,Conv_Flags!$Y$12:$Y$92)/SUM(Conv_Flags!$Y$12:$Y$92),SUMPRODUCT(BA$12:BA$93,Conv_Flags!$Y$11:$Y$92)/SUM(Conv_Flags!$Y$11:$Y$92))","v":3063.5003773338967},{"$f":"SUMPRODUCT(BB$12:BB$93,Conv_Flags!$Y$12:$Y$93)/SUM(Conv_Flags!$Y$12:$Y$93)","v":2736.7728195236},{"$f":"IF($B$7=\"TEMP\",SUMPRODUCT(BC$13:BC$93,Conv_Flags!$Y$12:$Y$92)/SUM(Conv_Flags!$Y$12:$Y$92),SUMPRODUCT(BC$12:BC$93,Conv_Flags!$Y$11:$Y$92)/SUM(Conv_Flags!$Y$11:$Y$92))","v":2775.9203925088364},{"$f":"IF($B$7=\"TEMP\",SUMPRODUCT(BD$13:BD$93,Conv_Flags!$Y$12:$Y$92)/SUM(Conv_Flags!$Y$12:$Y$92),SUMPRODUCT(BD$12:BD$93,Conv_Flags!$Y$11:$Y$92)/SUM(Conv_Flags!$Y$11:$Y$92))","v":3036.6223549617102},{"$f":"SUMPRODUCT(BE$12:BE$93,Conv_Flags!$Y$12:$Y$93)/SUM(Conv_Flags!$Y$12:$Y$93)","v":3854.5849233186755},{"$f":"SUMPRODUCT(BF$12:BF$93,Conv_Flags!$Y$12:$Y$93)/SUM(Conv_Flags!$Y$12:$Y$93)","v":3132.7999477292633},{"$f":"SUMPRODUCT(BG$12:BG$93,Conv_Flags!$Y$11:$Y$92)/SUM(Conv_Flags!$Y$11:$Y$92)","v":2731.4584285667956}]
["1930-06-30",{"$f":"INDIRECT(CONCATENATE(\"'\",B$1,\"'!\",B$4,(YEAR($A117)-1921)*12+MONTH($A117)+3+IF(ISNUMBER(FIND(\"PRV\",B$6)),1,0)))*IF(AND(B$3>0,TRIM(B$9)=\"CFS\"),Conv_Flags!$C117,1)","v":3001.4461222804798},{"$f":"INDIRECT(CONCATENATE(\"'\",C$1,\"'!\",C$4,(YEAR($A117)-1921)*12+MONTH($A117)+3+IF(ISNUMBER(FIND(\"PRV\",C$6)),1,0)))*IF(AND(C$3>0,TRIM(C$9)=\"CFS\"),Conv_Flags!$C117,1)","v":3064.5423780984679},null,null,null,null,null,"C:",{"$f":"IF($B$7=\"TEMP\",SUMPRODUCT(J$13:J$93,Conv_Flags!$Z$12:$Z$92)/SUM(Conv_Flags!$Z$12:$Z$92),SUMPRODUCT(J$12:J$93,Conv_Flags!$Z$11:$Z$92)/SUM(Conv_Flags!$Z$11:$Z$92))","v":1840.5348643523932},{"$f":"IF($B$7=\"TEMP\",SUMPRODUCT(K$13:K$93,Conv_Flags!$Z$12:$Z$92)/SUM(Conv_Flags!$Z$12:$Z$92),SUMPRODUCT(K$12:K$93,Conv_Flags!$Z$11:$Z$92)/SUM(Conv_Flags!$Z$11:$Z$92))","v":1818.5779543933227},{"$f":"IF($B$7=\"TEMP\",SUMPRODUCT(L$13:L$93,Conv_Flags!$Z$12:$Z$92)/SUM(Conv_Flags!$Z$12:$Z$92),SUMPRODUCT(L$12:L$93,Conv_Flags!$Z$11:$Z$92)/SUM(Conv_Flags!$Z$11:$Z$92))","v":1970.7828101563284},{"$f":"SUMPRODUCT(M$12:M$93,Conv_Flags!$Z$12:$Z$93)/SUM(Conv_Flags!$Z$12:$Z$93)","v":2562.716730785683},{"$f":"SUMPRODUCT(N$12:N$93,Conv_Flags!$Z$12:$Z$93)/SUM(Conv_Flags!$Z$12:$Z$93)","v":2808.5364434624371},{"$f":"SUMPRODUCT(O$12:O$93,Conv_Flags!$Z$12:$Z$93)/SUM(Conv_Flags!$Z$12:$Z$93)","v":3151.030497644801},{"$f":"SUMPRODUCT(P$12:P$93,Conv_Flags!$Z$12:$Z$93)/SUM(Conv_Flags!$Z$12:$Z$93)","v":3256.2374114151216},{"$f":"SUMPRODUCT(Q$12:Q$93,Conv_Flags!$Z$12:$Z$93)/SUM(Conv_Flags!$Z$12:$Z$93)","v":3092.6765412041314},{"$f":"SUMPRODUCT(R$12:R$93,Conv_Flags!$Z$12:$Z$93)/SUM(Conv_Flags!$Z$12:$Z$93)","v":2685.9620645458531},{"$f":"SUMPRODUCT(S$12:S$93,Conv_Flags!$Z$12:$Z$93)/SUM(Conv_Flags!$Z$12:$Z$93)","v":2280.488752674064},{"$f":"SUMPRODUCT(T$12:T$93,Conv_Flags!$Z$12:$Z$93)/SUM(Conv_Flags!$Z$12:$Z$93)","v":1995.9067592092101},{"$f":"SUMPRODUCT(U$12:U$93,Conv_Flags!$Z$12:$Z$93)/SUM(Conv_Flags!$Z$12:$Z$93)","v":1941.1552112332558},null,{"$f":"SUMPRODUCT(W$12:W$93,Conv_Flags!$Z$12:$Z$93)/SUM(Conv_Flags!$Z$12:$Z$93)","v":2450.3838367563835},{"$f":"SUMPRODUCT(X$12:X$93,Conv_Flags!$Z$12:$Z$93)/SUM(Conv_Flags!$Z$12:$Z$93)","v":2416.363741211238},{"$f":"IF($B$7=\"TEMP\",SUMPRODUCT(Y$13:Y$93,Conv_Flags!$Z$12:$Z$92)/SUM(Conv_Flags!$Z$12:$Z$92),SUMPRODUCT(Y$12:Y$93,Conv_Flags!$Z$11:$Z$92)/SUM(Conv_Flags!$Z$11:$Z$92))","v":2579.7955502114723},null,{"$f":"IF($B$7=\"TEMP\",SUMPRODUCT(AA$13:AA$93,Conv_Flags!$Z$12:$Z$92)/SUM(Conv_Flags!$Z$12:$Z$92),SUMPRODUCT(AA$12:AA$93,Conv_Flags!$Z$11:$Z$92)/SUM(Conv_Flags!$Z$11:$Z$92))","v":2243.1548058316666},{"$f":"SUMPRODUCT(AB$12:AB$93,Conv_Flags!$Z$12:$Z$93)/SUM(Conv_Flags!$Z$12:$Z$93)","v":1999.1912596518982},{"$f":"IF($B$7=\"TEMP\",SUMPRODUCT(AC$13:AC$93,Conv_Flags!$Z$12:$Z$92)/SUM(Conv_Flags!$Z$12:$Z$92),SUMPRODUCT(AC$12:AC$93,Conv_Flags!$Z$11:$Z$92)/SUM(Conv_Flags!$Z$11:$Z$92))","v":1937.9220175691139},{"$f":"IF($B$7=\"TEMP\",SUMPRODUCT(AD$13:AD$93,Conv_Flags!$Z$12:$Z$92)/SUM(Conv_Flags!$Z$12:$Z$92),SUMPRODUCT(AD$12:AD$93,Conv_Flags!$Z$11:$Z$92)/SUM(Conv_Flags!$Z$11:$Z$92))","v":2170.9308789879869},{"$f":"SUMPRODUCT(AE$12:AE$93,Conv_Flags!$Z$12:$Z$93)/SUM(Conv_Flags!$Z$12:$Z$93)","v":3061.7984260670501},{"$f":"SUMPRODUCT(AF$12:AF$93,Conv_Flags!$Z$12:$Z$93)/SUM(Conv_Flags!$Z$12:$Z$93)","v":2369.8183631619549},{"$f":"SUMPRODUCT(AG$12:AG$93,Conv_Flags!$Z$11:$Z$92)/SUM(Conv_Flags!$Z$11:$Z$92)","v":2242.9466206647735},null,"C:",{"$f":"IF($B$7=\"TEMP\",SUMPRODUCT(AJ$13:AJ$93,Conv_Flags!$Z$12:$Z$92)/SUM(Conv_Flags!$Z$12:$Z$92),SUMPRODUCT(AJ$12:AJ$93,Conv_Flags!$Z$11:$Z$92)/SUM(Conv_Flags!$Z$11:$Z$92))","v":1860.8400748630538},{"$f":"IF($B$7=\"TEMP\",SUMPRODUCT(AK$13:AK$93,Conv_Flags!$Z$12:$Z$92)/SUM(Conv_Flags!$Z$12:$Z$92),SUMPRODUCT(AK$12:AK$93,Conv_Flags!$Z$11:$Z$92)/SUM(Conv_Flags!$Z$11:$Z$92))","v":1825.1220926220005},{"$f":"IF($B$7=\"TEMP\",SUMPRODUCT(AL$13:AL$93,Conv_Flags!$Z$12:$Z$92)/SUM(Conv_Flags!$Z$12:$Z$92),SUMPRODUCT(AL$12:AL$93,Conv_Flags!$Z$11:$Z$92)/SUM(Conv_Flags!$Z$11:$Z$92))","v":1981.9859482467111},{"$f":"SUMPRODUCT(AM$12:AM$93,Conv_Flags!$Z$12:$Z$93)/SUM(Conv_Flags!$Z$12:$Z$93)","v":2579.7016880540878},{"$f":"SUMPRODUCT(AN$12:AN$93,Conv_Flags!$Z$12:$Z$93)/SUM(Conv_Flags!$Z$12:$Z$93)","v":2821.4371972055346},{"$f":"SUMPRODUCT(AO$12:AO$93,Conv_Flags!$Z$12:$Z$93)/SUM(Conv_Flags!$Z$12:$Z$93)","v":3165.4296346146748},{"$f":"SUMPRODUCT(AP$12:AP$93,Conv_Flags!$Z$12:$Z$93)/SUM(Conv_Flags!$Z$12:$Z$93)","v":3270.419207884353},{"$f":"SUMPRODUCT(AQ$12:AQ$93,Conv_Flags!$Z$12:$Z$93)/SUM(Conv_Flags!$Z$12:$Z$93)","v":3110.1760785119795},{"$f":"SUMPRODUCT(AR$12:AR$93,Conv_Flags!$Z$12:$Z$93)/SUM(Conv_Flags!$Z$12:$Z$93)","v":2708.8442199329302},{"$f":"SUMPRODUCT(AS$12:AS$93,Conv_Flags!$Z$12:$Z$93)/SUM(Conv_Flags!$Z$12:$Z$93)","v":2301.5800899041587},{"$f":"SUMPRODUCT(AT$12:AT$93,Conv_Flags!$Z$12:$Z$93)/SUM(Conv_Flags!$Z$12:$Z$93)","v":2019.5576364054707},{"$f":"SUMPRODUCT(AU$12:AU$93,Conv_Flags!$Z$12:$Z$93)/SUM(Conv_Flags!$Z$12:$Z$93)","v":1963.3401498753396},null,{"$f":"SUMPRODUCT(AW$12:AW$93,Conv_Flags!$Z$12:$Z$93)/SUM(Conv_Flags!$Z$12:$Z$93)","v":2467.3695015100247},{"$f":"SUMPRODUCT(AX$12:AX$93,Conv_Flags!$Z$12:$Z$93)/SUM(Conv_Flags!$Z$12:$Z$93)","v":2435.8380897833413},{"$f":"IF($B$7=\"TEMP\",SUMPRODUCT(AY$13:AY$93,Conv_Flags!$Z$12:$Z$92)/SUM(Conv_Flags!$Z$12:$Z$92),SUMPRODUCT(AY$12:AY$93,Conv_Flags!$Z$11:$Z$92)/SUM(Conv_Flags!$Z$11:$Z$92))","v":2603.8775648490646},null,{"$f":"IF($B$7=\"TEMP\",SUMPRODUCT(BA$13:BA$93,Conv_Flags!$Z$12:$Z$92)/SUM(Conv_Flags!$Z$12:$Z$92),SUMPRODUCT(BA$12:BA$93,Conv_Flags!$Z$11:$Z$92)/SUM(Conv_Flags!$Z$11:$Z$92))","v":2263.3707782184638},{"$f":"SUMPRODUCT(BB$12:BB$93,Conv_Flags!$Z$12:$Z$93)/SUM(Conv_Flags!$Z$12:$Z$93)","v":2021.3692895548056},{"$f":"IF($B$7=\"TEMP\",SUMPRODUCT(BC$13:BC$93,Conv_Flags!$Z$12:$Z$92)/SUM(Conv_Flags!$Z$12:$Z$92),SUMPRODUCT(BC$12:BC$93,Conv_Flags!$Z$11:$Z$92)/SUM(Conv_Flags!$Z$11:$Z$92))","v":1954.0380463628808},{"$f":"IF($B$7=\"TEMP\",SUMPRODUCT(BD$13:BD$93,Conv_Flags!$Z$12:$Z$92)/SUM(Conv_Flags!$Z$12:$Z$92),SUMPRODUCT(BD$12:BD$93,Conv_Flags!$Z$11:$Z$92)/SUM(Conv_Flags!$Z$11:$Z$92))","v":2190.820653869836},{"$f":"SUMPRODUCT(BE$12:BE$93,Conv_Flags!$Z$12:$Z$93)/SUM(Conv_Flags!$Z$12:$Z$93)","v":3077.791407395061},{"$f":"SUMPRODUCT(BF$12:BF$93,Conv_Flags!$Z$12:$Z$93)/SUM(Conv_Flags!$Z$12:$Z$93)","v":2391.6850151090548},{"$f":"SUMPRODUCT(BG$12:BG$93,Conv_Flags!$Z$11:$Z$92)/SUM(Conv_Flags!$Z$11:$Z$92)","v":2271.2643101009066}]
["1930-07-31",{"$f":"INDIRECT(CONCATENATE(\"'\",B$1,\"'!\",B$4,(YEAR($A118)-1921)*12+MONTH($A118)+3+IF(ISNUMBER(FIND(\"PRV\",B$6)),1,0)))*IF(AND(B$3>0,TRIM(B$9)=\"CFS\"),Conv_Flags!$C118,1)","v":2642.1481157913126},{"$f":"INDIRECT(CONCATENATE(\"'\",C$1,\"'!\",C$4,(YEAR($A118)-1921)*12+MONTH($A118)+3+IF(ISNUMBER(FIND(\"PRV\",C$6)),1,0)))*IF(AND(C$3>0,TRIM(C$9)=\"CFS\"),Conv_Flags!$C118,1)","v":2703.9635804589761},null,null,null,null,null,"D&C:",{"$f":"IF($B$7=\"TEMP\",SUMPRODUCT(J$13:J$93,Conv_Flags!$AA$12:$AA$92)/SUM(Conv_Flags!$AA$12:$AA$92),SUMPRODUCT(J$12:J$93,Conv_Flags!$AA$11:$AA$92)/SUM(Conv_Flags!$AA$11:$AA$92))","v":2169.5317992896589},{"$f":"IF($B$7=\"TEMP\",SUMPRODUCT(K$13:K$93,Conv_Flags!$AA$12:$AA$92)/SUM(Conv_Flags!$AA$12:$AA$92),SUMPRODUCT(K$12:K$93,Conv_Flags!$AA$11:$AA$92)/SUM(Conv_Flags!$AA$11:$AA$92))","v":2191.5049682230997},{"$f":"IF($B$7=\"TEMP\",SUMPRODUCT(L$13:L$93,Conv_Flags!$AA$12:$AA$92)/SUM(Conv_Flags!$AA$12:$AA$92),SUMPRODUCT(L$12:L$93,Conv_Flags!$AA$11:$AA$92)/SUM(Conv_Flags!$AA$11:$AA$92))","v":2377.5561642522566},{"$f":"SUMPRODUCT(M$12:M$93,Conv_Flags!$AA$12:$AA$93)/SUM(Conv_Flags!$AA$12:$AA$93)","v":2864.1175128905793},{"$f":"SUMPRODUCT(N$12:N$93,Conv_Flags!$AA$12:$AA$93)/SUM(Conv_Flags!$AA$12:$AA$93)","v":3119.1935267154349},{"$f":"SUMPRODUCT(O$12:O$93,Conv_Flags!$AA$12:$AA$93)/SUM(Conv_Flags!$AA$12:$AA$93)","v":3469.4487195238735},{"$f":"SUMPRODUCT(P$12:P$93,Conv_Flags!$AA$12:$AA$93)/SUM(Conv_Flags!$AA$12:$AA$93)","v":3620.955115632933},{"$f":"SUMPRODUCT(Q$12:Q$93,Conv_Flags!$AA$12:$AA$93)/SUM(Conv_Flags!$AA$12:$AA$93)","v":3453.3227432982731},{"$f":"SUMPRODUCT(R$12:R$93,Conv_Flags!$AA$12:$AA$93)/SUM(Conv_Flags!$AA$12:$AA$93)","v":3023.9656172541677},{"$f":"SUMPRODUCT(S$12:S$93,Conv_Flags!$AA$12:$AA$93)/SUM(Conv_Flags!$AA$12:$AA$93)","v":2582.6411633765238},{"$f":"SUMPRODUCT(T$12:T$93,Conv_Flags!$AA$12:$AA$93)/SUM(Conv_Flags!$AA$12:$AA$93)","v":2301.6527812536146},{"$f":"SUMPRODUCT(U$12:U$93,Conv_Flags!$AA$12:$AA$93)/SUM(Conv_Flags!$AA$12:$AA$93)","v":2254.7867423431885},null,{"$f":"SUMPRODUCT(W$12:W$93,Conv_Flags!$AA$12:$AA$93)/SUM(Conv_Flags!$AA$12:$AA$93)","v":2785.7230711711327},{"$f":"SUMPRODUCT(X$12:X$93,Conv_Flags!$AA$12:$AA$93)/SUM(Conv_Flags!$AA$12:$AA$93)","v":2759.8395252992746},{"$f":"IF($B$7=\"TEMP\",SUMPRODUCT(Y$13:Y$93,Conv_Flags!$AA$12:$AA$92)/SUM(Conv_Flags!$AA$12:$AA$92),SUMPRODUCT(Y$12:Y$93,Conv_Flags!$AA$11:$AA$92)/SUM(Conv_Flags!$AA$11:$AA$92))","v":2934.5300240410106},null,{"$f":"IF($B$7=\"TEMP\",SUMPRODUCT(AA$13:AA$93,Conv_Flags!$AA$12:$AA$92)/SUM(Conv_Flags!$AA$12:$AA$92),SUMPRODUCT(AA$12:AA$93,Conv_Flags!$AA$11:$AA$92)/SUM(Conv_Flags!$AA$11:$AA$92))","v":2605.106264150128},{"$f":"SUMPRODUCT(AB$12:AB$93,Conv_Flags!$AA$12:$AA$93)/SUM(Conv_Flags!$AA$12:$AA$93)","v":2310.8420016432983},{"$f":"IF($B$7=\"TEMP\",SUMPRODUCT(AC$13:AC$93,Conv_Flags!$AA$12:$AA$92)/SUM(Conv_Flags!$AA$12:$AA$92),SUMPRODUCT(AC$12:AC$93,Conv_Flags!$AA$11:$AA$92)/SUM(Conv_Flags!$AA$11:$AA$92))","v":2304.2852398054783},{"$f":"IF($B$7=\"TEMP\",SUMPRODUCT(AD$13:AD$93,Conv_Flags!$AA$12:$AA$92)/SUM(Conv_Flags!$AA$12:$AA$92),SUMPRODUCT(AD$12:AD$93,Conv_Flags!$AA$11:$AA$92)/SUM(Conv_Flags!$AA$11:$AA$92))","v":2553.6058497403233},{"$f":"SUMPRODUCT(AE$12:AE$93,Conv_Flags!$AA$12:$AA$93)/SUM(Conv_Flags!$AA$12:$AA$93)","v":3403.8265376099698},{"$f":"SUMPRODUCT(AF$12:AF$93,Conv_Flags!$AA$12:$AA$93)/SUM(Conv_Flags!$AA$12:$AA$93)","v":2690.5785761762595},{"$f":"SUMPRODUCT(AG$12:AG$93,Conv_Flags!$AA$11:$AA$92)/SUM(Conv_Flags!$AA$11:$AA$92)","v":2461.1956423400497},null,"D&C:",{"$f":"IF($B$7=\"TEMP\",SUMPRODUCT(AJ$13:AJ$93,Conv_Flags!$AA$12:$AA$92)/SUM(Conv_Flags!$AA$12:$AA$92),SUMPRODUCT(AJ$12:AJ$93,Conv_Flags!$AA$11:$AA$92)/SUM(Conv_Flags!$AA$11:$AA$92))","v":2193.1273263534631},{"$f":"IF($B$7=\"TEMP\",SUMPRODUCT(AK$13:AK$93,Conv_Flags!$AA$12:$AA$92)/SUM(Conv_Flags!$AA$12:$AA$92),SUMPRODUCT(AK$12:AK$93,Conv_Flags!$AA$11:$AA$92)/SUM(Conv_Flags!$AA$11:$AA$92))","v":2202.3613182207323},{"$f":"IF($B$7=\"TEMP\",SUMPRODUCT(AL$13:AL$93,Conv_Flags!$AA$12:$AA$92)/SUM(Conv_Flags!$AA$12:$AA$92),SUMPRODUCT(AL$12:AL$93,Conv_Flags!$AA$11:$AA$92)/SUM(Conv_Flags!$AA$11:$AA$92))","v":2389.6250689600961},{"$f":"SUMPRODUCT(AM$12:AM$93,Conv_Flags!$AA$12:$AA$93)/SUM(Conv_Flags!$AA$12:$AA$93)","v":2883.6085138877052},{"$f":"SUMPRODUCT(AN$12:AN$93,Conv_Flags!$AA$12:$AA$93)/SUM(Conv_Flags!$AA$12:$AA$93)","v":3136.6200601441865},{"$f":"SUMPRODUCT(AO$12:AO$93,Conv_Flags!$AA$12:$AA$93)/SUM(Conv_Flags!$AA$12:$AA$93)","v":3486.7967628788783},{"$f":"SUMPRODUCT(AP$12:AP$93,Conv_Flags!$AA$12:$AA$93)/SUM(Conv_Flags!$AA$12:$AA$93)","v":3639.4785039182034},{"$f":"SUMPRODUCT(AQ$12:AQ$93,Conv_Flags!$AA$12:$AA$93)/SUM(Conv_Flags!$AA$12:$AA$93)","v":3479.3350048589396},{"$f":"SUMPRODUCT(AR$12:AR$93,Conv_Flags!$AA$12:$AA$93)/SUM(Conv_Flags!$AA$12:$AA$93)","v":3060.2329197061836},{"$f":"SUMPRODUCT(AS$12:AS$93,Conv_Flags!$AA$12:$AA$93)/SUM(Conv_Flags!$AA$12:$AA$93)","v":2617.3032388833449},{"$f":"SUMPRODUCT(AT$12:AT$93,Conv_Flags!$AA$12:$AA$93)/SUM(Conv_Flags!$AA$12:$AA$93)","v":2335.8772929166576},{"$f":"SUMPRODUCT(AU$12:AU$93,Conv_Flags!$AA$12:$AA$93)/SUM(Conv_Flags!$AA$12:$AA$93)","v":2285.1096955011826},null,{"$f":"SUMPRODUCT(AW$12:AW$93,Conv_Flags!$AA$12:$AA$93)/SUM(Conv_Flags!$AA$12:$AA$93)","v":2809.1229755191307},{"$f":"SUMPRODUCT(AX$12:AX$93,Conv_Flags!$AA$12:$AA$93)/SUM(Conv_Flags!$AA$12:$AA$93)","v":2783.5889277681581},{"$f":"IF($B$7=\"TEMP\",SUMPRODUCT(AY$13:AY$93,Conv_Flags!$AA$12:$AA$92)/SUM(Conv_Flags!$AA$12:$AA$92),SUMPRODUCT(AY$12:AY$93,Conv_Flags!$AA$11:$AA$92)/SUM(Conv_Flags!$AA$11:$AA$92))","v":2954.2363996712716},null,{"$f":"IF($B$7=\"TEMP\",SUMPRODUCT(BA$13:BA$93,Conv_Flags!$AA$12:$AA$92)/SUM(Conv_Flags!$AA$12:$AA$92),SUMPRODUCT(BA$12:BA$93,Conv_Flags!$AA$11:$AA$92)/SUM(Conv_Flags!$AA$11:$AA$92))","v":2622.0495640288295},{"$f":"SUMPRODUCT(BB$12:BB$93,Conv_Flags!$AA$12:$AA$93)/SUM(Conv_Flags!$AA$12:$AA$93)","v":2342.0674236787481},{"$f":"IF($B$7=\"TEMP\",SUMPRODUCT(BC$13:BC$93,Conv_Flags!$AA$12:$AA$92)/SUM(Conv_Flags!$AA$12:$AA$92),SUMPRODUCT(BC$12:BC$93,Conv_Flags!$AA$11:$AA$92)/SUM(Conv_Flags!$AA$11:$AA$92))","v":2322.4680636007224},{"$f":"IF($B$7=\"TEMP\",SUMPRODUCT(BD$13:BD$93,Conv_Flags!$AA$12:$AA$92)/SUM(Conv_Flags!$AA$12:$AA$92),SUMPRODUCT(BD$12:BD$93,Conv_Flags!$AA$11:$AA$92)/SUM(Conv_Flags!$AA$11:$AA$92))","v":2569.9731405661937},{"$f":"SUMPRODUCT(BE$12:BE$93,Conv_Flags!$AA$12:$AA$93)/SUM(Conv_Flags!$AA$12:$AA$93)","v":3426.0091903953016},{"$f":"SUMPRODUCT(BF$12:BF$93,Conv_Flags!$AA$12:$AA$93)/SUM(Conv_Flags!$AA$12:$AA$93)","v":2723.9089504215622},{"$f":"SUMPRODUCT(BG$12:BG$93,Conv_Flags!$AA$11:$AA$92)/SUM(Conv_Flags!$AA$11:$AA$92)","v":2477.5582252752715}]
["1930-08-31",{"$f":"INDIRECT(CONCATENATE(\"'\",B$1,\"'!\",B$4,(YEAR($A119)-1921)*12+MONTH($A119)+3+IF(ISNUMBER(FIND(\"PRV\",B$6)),1,0)))*IF(AND(B$3>0,TRIM(B$9)=\"CFS\"),Conv_Flags!$C119,1)","v":2302.3156781213029},{"$f":"INDIRECT(CONCATENATE(\"'\",C$1,\"'!\",C$4,(YEAR($A119)-1921)*12+MONTH($A119)+3+IF(ISNUMBER(FIND(\"PRV\",C$6)),1,0)))*IF(AND(C$3>0,TRIM(C$9)=\"CFS\"),Conv_Flags!$C119,1)","v":2420.236405169243}]
["1930-09-30",{"$f":"INDIRECT(CONCATENATE(\"'\",B$1,\"'!\",B$4,(YEAR($A120)-1921)*12+MONTH($A120)+3+IF(ISNUMBER(FIND(\"PRV\",B$6)),1,0)))*IF(AND(B$3>0,TRIM(B$9)=\"CFS\"),Conv_Flags!$C120,1)","v":2270.2534174272696},{"$f":"INDIRECT(CONCATENATE(\"'\",C$1,\"'!\",C$4,(YEAR($A120)-1921)*12+MONTH($A120)+3+IF(ISNUMBER(FIND(\"PRV\",C$6)),1,0)))*IF(AND(C$3>0,TRIM(C$9)=\"CFS\"),Conv_Flags!$C120,1)","v":2392.2434259147335},null,null,null,null,null,null,{"$f":"J$11","v":"OCT"},"NOV","DEC","JAN","FEB","MAR","APR","MAY","JUN","JUL","AUG","SEP",null,{"$f":"CONCATENATE(W$10,\" \",W$11)","v":"Jan-Dec AVG"},{"$f":"CONCATENATE(X$10,\" \",X$11)","v":"Mar-Feb AVG"},{"$f":"CONCATENATE(Y$10,\" \",Y$11)","v":"Oct-Sep AVG"},null,{"$f":"CONCATENATE(AA$10,\" \",AA$11)","v":"Nov-Mar AVG"},"Aug-Oct AVG","Oct-Jan AVG","Dec-Feb AVG","Mar-Jun AVG","Jun-Sep AVG","Sep-Nov AVG"," ",null,{"$f":"AJ$11","v":"OCT"},"NOV","DEC","JAN","FEB","MAR","APR","MAY","JUN","JUL","AUG","SEP",null,{"$f":"CONCATENATE(AW$10,\" \",AW$11)","v":"Jan-Dec AVG"},{"$f":"CONCATENATE(AX$10,\" \",AX$11)","v":"Mar-Feb AVG"},{"$f":"CONCATENATE(AY$10,\" \",AY$11)","v":"Oct-Sep AVG"},null,{"$f":"CONCATENATE(BA$10,\" \",BA$11)","v":"Nov-Mar AVG"},"Aug-Oct AVG","Oct-Jan AVG","Dec-Feb AVG","Mar-Jun AVG","Jun-Sep AVG","Sep-Nov AVG"," "]
["1930-10-31",{"$f":"INDIRECT(CONCATENATE(\"'\",B$1,\"'!\",B$4,(YEAR($A121)-1921)*12+MONTH($A121)+3+IF(ISNUMBER(FIND(\"PRV\",B$6)),1,0)))*IF(AND(B$3>0,TRIM(B$9)=\"CFS\"),Conv_Flags!$C121,1)","v":2150.5995583017507},{"$f":"INDIRECT(CONCATENATE(\"'\",C$1,\"'!\",C$4,(YEAR($A121)-1921)*12+MONTH($A121)+3+IF(ISNUMBER(FIND(\"PRV\",C$6)),1,0)))*IF(AND(C$3>0,TRIM(C$9)=\"CFS\"),Conv_Flags!$C121,1)","v":2304.8472334463581},null,1,1,null,null,{"$f":"($E121-1)/($E$202-1)","v":0},{"$f":"IF($B$7=\"TEMP\",LARGE(J$13:J$93,$F121),LARGE(J$12:J$93,$E121))","v":3250.0000000000032},{"$f":"IF($B$7=\"TEMP\",LARGE(K$13:K$93,$F121),LARGE(K$12:K$93,$E121))","v":3252.0000000000005},3369,{"$f":"LARGE(M$12:M$93,$E121)","v":3725},4099,4410.8515912324219,4552.1000976562509,4552.0000000000109,4500,4150.0000000000009,3700.0000000000005,3400.0000000000005,null,{"$f":"LARGE(W$12:W$93,$E121)","v":3832.0687161280348},3835.27149602692,{"$f":"IF($B$7=\"TEMP\",LARGE(Y$13:Y$93,$F121),LARGE(Y$12:Y$93,$E121))","v":3809.9254544606133},null,{"$f":"IF($B$7=\"TEMP\",LARGE(AA$13:AA$93,$F121),LARGE(AA$12:AA$93,$E121))","v":3622.5},{"$f":"LARGE(AB$12:AB$93,$E121)","v":3600},{"$f":"IF($B$7=\"TEMP\",LARGE(AC$13:AC$93,$F121),LARGE(AC$12:AC$93,$E121))","v":3355.875},3576.1666666666665,{"$f":"LARGE(AE$12:AE$93,$E121)","v":4373.1792772354265},4081.5,3375.3333333333335,null,{"$f":"($E121-1)/($E$202-1)","v":0},{"$f":"IF($B$7=\"TEMP\",LARGE(AJ$13:AJ$93,$F121),LARGE(AJ$12:AJ$93,$E121))","v":3250.0000000000005},{"$f":"IF($B$7=\"TEMP\",LARGE(AK$13:AK$93,$F121),LARGE(AK$12:AK$93,$E121))","v":3252.0000000000005},3369,{"$f":"LARGE(AM$12:AM$93,$E121)","v":3725},4099,4410.8515912324228,4552.1000976562509,4552,4500,4150.0000000000009,3700.0000000000005,3400.0000000000005,null,{"$f":"LARGE(AW$12:AW$93,$E121)","v":3831.0632496530538},3831.8315144894982,{"$f":"IF($B$7=\"TEMP\",LARGE(AY$13:AY$93,$F121),LARGE(AY$12:AY$93,$E121))","v":3810.7021916958251},null,{"$f":"IF($B$7=\"TEMP\",LARGE(BA$13:BA$93,$F121),LARGE(BA$12:BA$93,$E121))","v":3622.5},{"$f":"LARGE(BB$12:BB$93,$E121)","v":3600},{"$f":"IF($B$7=\"TEMP\",LARGE(BC$13:BC$93,$F121),LARGE(BC$12:BC$93,$E121))","v":3355.875},3576.1666666666665,{"$f":"LARGE(BE$12:BE$93,$E121)","v":4375.2067918739358},4081.5,3375.3333333333335]
["1930-11-30",{"$f":"INDIRECT(CONCATENATE(\"'\",B$1,\"'!\",B$4,(YEAR($A122)-1921)*12+MONTH($A122)+3+IF(ISNUMBER(FIND(\"PRV\",B$6)),1,0)))*IF(AND(B$3>0,TRIM(B$9)=\"CFS\"),Conv_Flags!$C122,1)","v":2062.5704169721575},{"$f":"INDIRECT(CONCATENATE(\"'\",C$1,\"'!\",C$4,(YEAR($A122)-1921)*12+MONTH($A122)+3+IF(ISNUMBER(FIND(\"PRV\",C$6)),1,0)))*IF(AND(C$3>0,TRIM(C$9)=\"CFS\"),Conv_Flags!$C122,1)","v":2217.0267745487185},null,2,2,null,null,1.2345679012345678E-2,{"$f":"IF($B$7=\"TEMP\",LARGE(J$13:J$93,$F122),LARGE(J$12:J$93,$E122))","v":3250.0000000000005},3252,3367.60009765625,3722.5,4037,4280,4552.10009765625,4552,4500,4150.0000000000009,3700.0000000000005,3400.0000000000005,null,3813.6644801845887,3824.801258805986,{"$f":"IF($B$7=\"TEMP\",LARGE(Y$13:Y$93,$F122),LARGE(Y$12:Y$93,$E122))","v":3803.3873831928045},null,{"$f":"IF($B$7=\"TEMP\",LARGE(AA$13:AA$93,$F122),LARGE(AA$12:AA$93,$E122))","v":3596.9941607368005},3600,3342.7625122070313,3564.6237838060092,4366.6958042419228,4081.5,3375.3333333333335,null,1.2345679012345678E-2,{"$f":"IF($B$7=\"TEMP\",LARGE(AJ$13:AJ$93,$F122),LARGE(AJ$12:AJ$93,$E122))","v":3250.0000000000005},3252.0000000000005,3367.60009765625,3722.5,4037,4280,4552.10009765625,4552,4500,4150.0000000000009,3700.0000000000005,3400,null,3813.5465260767123,3824.6833046305405,{"$f":"IF($B$7=\"TEMP\",LARGE(AY$13:AY$93,$F122),LARGE(AY$12:AY$93,$E122))","v":3799.9099380648045},null,{"$f":"IF($B$7=\"TEMP\",LARGE(BA$13:BA$93,$F122),LARGE(BA$12:BA$93,$E122))","v":3590.9349379048545},3600,3342.7625122070313,3564.6237838060092,4372.1559611136126,4081.5,3375.3333333333335]
["1930-12-31",{"$f":"INDIRECT(CONCATENATE(\"'\",B$1,\"'!\",B$4,(YEAR($A123)-1921)*12+MONTH($A123)+3+IF(ISNUMBER(FIND(\"PRV\",B$6)),1,0)))*IF(AND(B$3>0,TRIM(B$9)=\"CFS\"),Conv_Flags!$C123,1)","v":2005.7186892332386},{"$f":"INDIRECT(CONCATENATE(\"'\",C$1,\"'!\",C$4,(YEAR($A123)-1921)*12+MONTH($A123)+3+IF(ISNUMBER(FIND(\"PRV\",C$6)),1,0)))*IF(AND(C$3>0,TRIM(C$9)=\"CFS\"),Conv_Flags!$C123,1)","v":2159.2579197064979},null,3,3,null,null,2.4691358024691357E-2,3250,3252,3367,3714,4022,4266.6979834966178,4552.10009765625,4552,4500,4150,3700.0000000000005,3400,null,3812.7177523994505,3819.0900681331282,3799.2191659314412,null,3588,3600,3341.4949707129258,3552.4118006140002,4362.6064567419598,4081.5,3375.3333333333335,null,2.4691358024691357E-2,3250.0000000000005,3252,3367,3714,4022.0000000000005,4266.6979834966178,4552.10009765625,4552,4500,4150,3700.0000000000005,3400,null,3811.7049517929354,3818.0395213415318,3791.00759553136,null,3588,3600,3341.4949707129258,3545.0054341640002,4368.355468119682,4081.5,3375.3333333333335]
["1931-01-31",{"$f":"INDIRECT(CONCATENATE(\"'\",B$1,\"'!\",B$4,(YEAR($A124)-1921)*12+MONTH($A124)+3+IF(ISNUMBER(FIND(\"PRV\",B$6)),1,0)))*IF(AND(B$3>0,TRIM(B$9)=\"CFS\"),Conv_Flags!$C124,1)","v":2083.3691602558251},{"$f":"INDIRECT(CONCATENATE(\"'\",C$1,\"'!\",C$4,(YEAR($A124)-1921)*12+MONTH($A124)+3+IF(ISNUMBER(FIND(\"PRV\",C$6)),1,0)))*IF(AND(C$3>0,TRIM(C$9)=\"CFS\"),Conv_Flags!$C124,1)","v":2236.7950836885498},null,4,4,null,null,3.7037037037037035E-2,3250,3252,3365,3688.2825157828447,4005,4256,4552.10009765625,4552,4500,4150,3700,3400,null,3810.5118566933784,3816.1481918266272,3789.5277228122509,null,3569.8120233274581,3600,3337.3677009210005,3521.1666666666665,4334.8601316964023,4081.5,3375.3333333333335,null,3.7037037037037035E-2,3250,3252,3363,3696.6603438112706,4005,4256,4552.10009765625,4552,4500,4150,3700,3400,null,3809.2777708620288,3816.1481918266272,3786.3155164504192,null,3568.9727410188934,3600,3332.125,3521.1666666666665,4331.664722027982,4081.5,3375.3333333333335]
["1931-02-28",{"$f":"INDIRECT(CONCATENATE(\"'\",B$1,\"'!\",B$4,(YEAR($A125)-1921)*12+MONTH($A125)+3+IF(ISNUMBER(FIND(\"PRV\",B$6)),1,0)))*IF(AND(B$3>0,TRIM(B$9)=\"CFS\"),Conv_Flags!$C125,1)","v":2167.4654897901351},{"$f":"INDIRECT(CONCATENATE(\"'\",C$1,\"'!\",C$4,(YEAR($A125)-1921)*12+MONTH($A125)+3+IF(ISNUMBER(FIND(\"PRV\",C$6)),1,0)))*IF(AND(C$3>0,TRIM(C$9)=\"CFS\"),Conv_Flags!$C125,1)","v":2320.7071906926976},null,5,5,null,null,4.9382716049382713E-2,3250,3252,3363,3678.39990234375,3979,4249,4552,4552,4500,4150,3700,3400,null,3798.6107302167288,3805.1219650279982,3779.2641506954628,null,3564.2460545174786,3600,3332.125,3505.058709586338,4329.5763010424062,4081.5,3375.3333333333335,null,4.9382716049382713E-2,3250,3252,3360,3678.39990234375,3979,4249,4552,4552,4500,4150,3700,3400,null,3799.6823830146732,3803.722531916299,3777.9071032701372,null,3564.2460545174786,3600,3329.7936723810681,3514.9840772655843,4330.158901358107,4081.5,3375.3333333333335]
["1931-03-31",{"$f":"INDIRECT(CONCATENATE(\"'\",B$1,\"'!\",B$4,(YEAR($A126)-1921)*12+MONTH($A126)+3+IF(ISNUMBER(FIND(\"PRV\",B$6)),1,0)))*IF(AND(B$3>0,TRIM(B$9)=\"CFS\"),Conv_Flags!$C126,1)","v":2330.6270216294351},{"$f":"INDIRECT(CONCATENATE(\"'\",C$1,\"'!\",C$4,(YEAR($A126)-1921)*12+MONTH($A126)+3+IF(ISNUMBER(FIND(\"PRV\",C$6)),1,0)))*IF(AND(C$3>0,TRIM(C$9)=\"CFS\"),Conv_Flags!$C126,1)","v":2483.6167926536982},null,6,6,null,null,6.1728395061728392E-2,3250,3252,3360,3668,3948,4248.3700185740418,4552,4552,4500,4150,3700,3400,null,3784.1733847449723,3788.541744738648,3775.0465204707803,null,3551.025524758114,3600,3328,3495.0767575291306,4328.3470907767187,4081.5,3375.3333333333335,null,6.1728395061728392E-2,3250,3252,3360,3668,3948,4248.3700185740418,4552,4552,4500,4150,3700,3400,null,3781.7449068402402,3789.7348399057742,3772.8807767350268,null,3558.0748922288935,3600,3328,3495.0767575291306,4329.5763010865458,4081.5,3375.3333333333335]
["1931-04-30",{"$f":"INDIRECT(CONCATENATE(\"'\",B$1,\"'!\",B$4,(YEAR($A127)-1921)*12+MONTH($A127)+3+IF(ISNUMBER(FIND(\"PRV\",B$6)),1,0)))*IF(AND(B$3>0,TRIM(B$9)=\"CFS\"),Conv_Flags!$C127,1)","v":2254.455135551314},{"$f":"INDIRECT(CONCATENATE(\"'\",C$1,\"'!\",C$4,(YEAR($A127)-1921)*12+MONTH($A127)+3+IF(ISNUMBER(FIND(\"PRV\",C$6)),1,0)))*IF(AND(C$3>0,TRIM(C$9)=\"CFS\"),Conv_Flags!$C127,1)","v":2422.3332167024128},null,7,7,null,null,7.407407407407407E-2,3250,3252,3360,3668,3944,4246,4552,4552,4500,4150,3700,3400,null,3781.0540498237733,3785.0833333333335,3772.4815251599607,null,3543.0056362434088,3600,3322.502647252064,3489.6666666666665,4327.3600614188599,4081.5,3375.3333333333335,null,7.407407407407407E-2,3250,3252,3359,3668,3944,4248.3368458312125,4552,4552,4500,4150,3700,3400,null,3778.8378798232902,3785.0833333333335,3772.4815251599607,null,3543.9165455393318,3600,3323.39785852147,3489.6666666666665,4328.8848066307864,4081.5,3375.3333333333335]
["1931-05-31",{"$f":"INDIRECT(CONCATENATE(\"'\",B$1,\"'!\",B$4,(YEAR($A128)-1921)*12+MONTH($A128)+3+IF(ISNUMBER(FIND(\"PRV\",B$6)),1,0)))*IF(AND(B$3>0,TRIM(B$9)=\"CFS\"),Conv_Flags!$C128,1)","v":1951.1996702482818},{"$f":"INDIRECT(CONCATENATE(\"'\",C$1,\"'!\",C$4,(YEAR($A128)-1921)*12+MONTH($A128)+3+IF(ISNUMBER(FIND(\"PRV\",C$6)),1,0)))*IF(AND(C$3>0,TRIM(C$9)=\"CFS\"),Conv_Flags!$C128,1)","v":2119.2040799373644},null,8,8,null,null,8.6419753086419748E-2,3250,3252,3359,3655.3713514180281,3936,4242.4410290080023,4552,4552,4500,4150,3700,3400,null,3776.2246240401796,3783.0923975268029,3760.395223242705,null,3540.593037360547,3600,3314.1098222655369,3483.2883206004749,4318.5,4081.5,3375.3333333333326,null,8.6419753086419748E-2,3250,3252,3356,3655.3713514180281,3936,4246,4552,4552,4500,4150,3700,3400,null,3776.0974444809885,3780.6330193807448,3763.7083524096001,null,3543.0056362224991,3600,3317.3241137037517,3482.3333333333335,4323.1687347538518,4081.5,3372.7954980186296]
["1931-06-30",{"$f":"INDIRECT(CONCATENATE(\"'\",B$1,\"'!\",B$4,(YEAR($A129)-1921)*12+MONTH($A129)+3+IF(ISNUMBER(FIND(\"PRV\",B$6)),1,0)))*IF(AND(B$3>0,TRIM(B$9)=\"CFS\"),Conv_Flags!$C129,1)","v":1623.8647869933829},{"$f":"INDIRECT(CONCATENATE(\"'\",C$1,\"'!\",C$4,(YEAR($A129)-1921)*12+MONTH($A129)+3+IF(ISNUMBER(FIND(\"PRV\",C$6)),1,0)))*IF(AND(C$3>0,TRIM(C$9)=\"CFS\"),Conv_Flags!$C129,1)","v":1790.6427338355836},null,9,9,null,null,9.8765432098765427E-2,3250,3252,3356,3650,3920,4239.5428898487689,4552,4552,4500,4150,3700,3400,null,3775.8148584932937,3773.040214227231,3757.028969009149,null,3536.2,3600,3311.8345358193296,3482.3333333333335,4318.4708915314541,4080.2119360602692,3368.2975333199197,null,9.8765432098765427E-2,3250,3252,3354,3650,3929.4162253845507,4242.4410291618942,4552,4552,4500,4150,3700,3399.9999999999995,null,3775.8148584932937,3772.3691953443486,3757.6689182126083,null,3536.2,3600,3311.6074915212466,3479.8326092644634,4318.5,4080.0211667214826,3367.0750386726522]
["1931-07-31",{"$f":"INDIRECT(CONCATENATE(\"'\",B$1,\"'!\",B$4,(YEAR($A130)-1921)*12+MONTH($A130)+3+IF(ISNUMBER(FIND(\"PRV\",B$6)),1,0)))*IF(AND(B$3>0,TRIM(B$9)=\"CFS\"),Conv_Flags!$C130,1)","v":1279.8539515610676},{"$f":"INDIRECT(CONCATENATE(\"'\",C$1,\"'!\",C$4,(YEAR($A130)-1921)*12+MONTH($A130)+3+IF(ISNUMBER(FIND(\"PRV\",C$6)),1,0)))*IF(AND(C$3>0,TRIM(C$9)=\"CFS\"),Conv_Flags!$C130,1)","v":1458.5094008675667},null,10,10,null,null,0.1111111111111111,3250,3252,3350,3648,3918.9530824217172,4229,4552,4552,4500,4150,3700,3400,null,3771.3333333333335,3770.8011736928347,3749.494448760885,null,3511.2567358470142,3600,3308.9111512784566,3478.3656236463921,4304.1542359010109,4074.9704097889598,3364.2172876438058,null,0.1111111111111111,3250,3252,3350.8579154597273,3648,3928.3281745838103,4229,4552,4552,4500,4150,3700,3399.9999999999995,null,3771.3333333333335,3770.8011737047473,3749.445666930214,null,3516.9411463061015,3600,3311.3630442486174,3474.0938046118335,4311.7685192027366,4074.9722875351963,3366.5757770000528]
["1931-08-31",{"$f":"INDIRECT(CONCATENATE(\"'\",B$1,\"'!\",B$4,(YEAR($A131)-1921)*12+MONTH($A131)+3+IF(ISNUMBER(FIND(\"PRV\",B$6)),1,0)))*IF(AND(B$3>0,TRIM(B$9)=\"CFS\"),Conv_Flags!$C131,1)","v":983.25498469579941},{"$f":"INDIRECT(CONCATENATE(\"'\",C$1,\"'!\",C$4,(YEAR($A131)-1921)*12+MONTH($A131)+3+IF(ISNUMBER(FIND(\"PRV\",C$6)),1,0)))*IF(AND(C$3>0,TRIM(C$9)=\"CFS\"),Conv_Flags!$C131,1)","v":1166.8724872368812},null,11,11,null,null,0.12345679012345678,3250,3252,3349,3640.10009765625,3914,4226,4552,4552,4500,4150,3700,3400,null,3768.3141847642855,3769.5833333333335,3747.7955511309688,null,3491.0021178016514,3600,3306.1006028622114,3472.8315670396501,4302.4185000673069,4074.252040415603,3363.7092423624213,null,0.12345679012345678,3250,3252,3349,3640.10009765625,3920,4226,4552,4552,4500,4150,3700,3399.9999999999995,null,3768.2694846337886,3770.1761740131155,3746.06076309441,null,3491.9575486502472,3600,3305.2689685424557,3470.9151189587988,4310.0787339859844,4074.5243530142789,3364.7432369192043]
["1931-09-30",{"$f":"INDIRECT(CONCATENATE(\"'\",B$1,\"'!\",B$4,(YEAR($A132)-1921)*12+MONTH($A132)+3+IF(ISNUMBER(FIND(\"PRV\",B$6)),1,0)))*IF(AND(B$3>0,TRIM(B$9)=\"CFS\"),Conv_Flags!$C132,1)","v":803.20132745639512},{"$f":"INDIRECT(CONCATENATE(\"'\",C$1,\"'!\",C$4,(YEAR($A132)-1921)*12+MONTH($A132)+3+IF(ISNUMBER(FIND(\"PRV\",C$6)),1,0)))*IF(AND(C$3>0,TRIM(C$9)=\"CFS\"),Conv_Flags!$C132,1)","v":985.52098791607591},null,12,12,null,null,0.13580246913580246,3250,3252,3349,3624,3907.3550764703737,4221.0812314040368,4552,4552,4500,4121.0081616624129,3700,3399.9999999999995,null,3768.1903077969582,3768.781722147316,3743.8103846204758,null,3490.694490576288,3595.1680269437352,3303.875,3466.6333821614585,4290.6602891024777,4073.9437424753105,3362.9118006140002,null,0.13580246913580246,3250,3252,3349,3624,3914,4221.0812319328188,4552,4552,4500,4122.0974120571145,3700,3399.9999999999995,null,3767.4620397842586,3769.5833333333335,3743.4259249219463,null,3491.7182868171758,3595.3495686761858,3304.9485838971186,3466.6333821614585,4296.3403466190448,4073.9764513936607,3363.7639003745876]
["1931-10-31",{"$f":"INDIRECT(CONCATENATE(\"'\",B$1,\"'!\",B$4,(YEAR($A133)-1921)*12+MONTH($A133)+3+IF(ISNUMBER(FIND(\"PRV\",B$6)),1,0)))*IF(AND(B$3>0,TRIM(B$9)=\"CFS\"),Conv_Flags!$C133,1)","v":649.99999999999989},{"$f":"INDIRECT(CONCATENATE(\"'\",C$1,\"'!\",C$4,(YEAR($A133)-1921)*12+MONTH($A133)+3+IF(ISNUMBER(FIND(\"PRV\",C$6)),1,0)))*IF(AND(C$3>0,TRIM(C$9)=\"CFS\"),Conv_Flags!$C133,1)","v":855.44748120114537},null,13,13,null,null,0.14814814814814814,3250,3252,3347.3834727889034,3622,3899.1738320457312,4209.3343553099467,4552,4552,4500,4115.1220977205166,3700,3399.9999999999995,null,3767.2928626550042,3768.6153976523874,3726.186898186334,null,3487.3378521916502,3594.1870162867526,3303.125,3461.4687721815139,4286.7044815851496,4063.2804175141882,3362.6169718770652,null,0.14814814814814814,3250,3252,3347.7719175899201,3622,3907.3550764703737,4209.3343553099467,4552,4552,4500,4115.6650734755358,3700,3399.9999999999995,null,3766.2423158634078,3767.5857822930734,3734.9042037446275,null,3490.6339775019815,3594.2775122459225,3303.875,3462.2911083545841,4290.6055183242479,4064.0282894974989,3362.6817576882136]
["1931-11-30",{"$f":"INDIRECT(CONCATENATE(\"'\",B$1,\"'!\",B$4,(YEAR($A134)-1921)*12+MONTH($A134)+3+IF(ISNUMBER(FIND(\"PRV\",B$6)),1,0)))*IF(AND(B$3>0,TRIM(B$9)=\"CFS\"),Conv_Flags!$C134,1)","v":639.68004382918946},{"$f":"INDIRECT(CONCATENATE(\"'\",C$1,\"'!\",C$4,(YEAR($A134)-1921)*12+MONTH($A134)+3+IF(ISNUMBER(FIND(\"PRV\",C$6)),1,0)))*IF(AND(C$3>0,TRIM(C$9)=\"CFS\"),Conv_Flags!$C134,1)","v":815.96986326975548},null,14,14,null,null,0.16049382716049382,3250,3252,3347,3616,3848,4196.0563624340857,4551.9999999999991,4552,4500,4061.9534912867121,3699.9999999999995,3399.9999999999995,null,3750.750414931817,3764.6551990099069,3716.8215060846646,null,3485.1400390624999,3585.325581881119,3300.4025122467347,3461.3333333333335,4277.443267951644,4058.7446601913921,3362.3570467200902,null,0.16049382716049382,3250,3252,3346,3616,3852.9956555867784,4196.056362224992,4551.5113874467024,4552,4499.9999999999991,4061.3330658704831,3699.9999999999995,3399.9999999999995,null,3754.128893988413,3766.353244242584,3728.6636442915951,null,3485.1400390624999,3585.2221776450806,3303.125,3461.4687705828237,4289.2678666886995,4057.4955864528647,3361.7740059874668]
["1931-12-31",{"$f":"INDIRECT(CONCATENATE(\"'\",B$1,\"'!\",B$4,(YEAR($A135)-1921)*12+MONTH($A135)+3+IF(ISNUMBER(FIND(\"PRV\",B$6)),1,0)))*IF(AND(B$3>0,TRIM(B$9)=\"CFS\"),Conv_Flags!$C135,1)","v":828.49846929033538},{"$f":"INDIRECT(CONCATENATE(\"'\",C$1,\"'!\",C$4,(YEAR($A135)-1921)*12+MONTH($A135)+3+IF(ISNUMBER(FIND(\"PRV\",C$6)),1,0)))*IF(AND(C$3>0,TRIM(C$9)=\"CFS\"),Conv_Flags!$C135,1)","v":1004.6073591955935},null,15,15,null,null,0.1728395061728395,3250,3252,3346,3614.5,3844.1937418783514,4162,4546,4552,4473.8816391558394,4058.9786407655679,3699.9999999999995,3399.9999999999995,null,3748.7203674782995,3761.7705891936348,3714.9207337736129,null,3480.909745907863,3584.8297734609278,3300.0857022574332,3460.1482473957744,4275.7668349162104,4048.1286907492258,3359.3757577673532,null,0.1728395061728395,3250,3252,3345,3614.5,3848,4191.7376600393163,4546,4552,4473.8891501407834,4053.9823458114593,3699.9999999999995,3399.9999999999995,null,3748.7667176711898,3765.6534839840533,3722.6869489771598,null,3483.1806864658583,3583.997057635243,3302.7007621512221,3461.3333333333335,4286.7044815851496,4053.8519861712703,3359.7495084643019]
["1932-01-31",{"$f":"INDIRECT(CONCATENATE(\"'\",B$1,\"'!\",B$4,(YEAR($A136)-1921)*12+MONTH($A136)+3+IF(ISNUMBER(FIND(\"PRV\",B$6)),1,0)))*IF(AND(B$3>0,TRIM(B$9)=\"CFS\"),Conv_Flags!$C136,1)","v":1078.1963111859718},{"$f":"INDIRECT(CONCATENATE(\"'\",C$1,\"'!\",C$4,(YEAR($A136)-1921)*12+MONTH($A136)+3+IF(ISNUMBER(FIND(\"PRV\",C$6)),1,0)))*IF(AND(C$3>0,TRIM(C$9)=\"CFS\"),Conv_Flags!$C136,1)","v":1236.4306478001645},null,16,16,null,null,0.18518518518518517,3250,3252,3345,3604,3830.9870981480699,4161.6660405454677,4538.9204290728067,4552,4469.7749699012438,4020.1612901486324,3699.9999999999995,3399.9999999999995,null,3729.6991630392945,3761.1675253999133,3709.5,null,3480.0051414968666,3574.1077934222703,3298.0138764419535,3452.667633400848,4273.3866779750115,4044.3810311033326,3357.4315455590645,null,0.18518518518518517,3250,3252,3342.1011748714436,3604,3830.9870981480699,4162,4538.9204292656013,4552,4469.9058055746445,4042.248492247144,3697.1594524379366,3399.9999999999995,null,3732.3451484994989,3761.3394406293392,3718.7868532798798,null,3481.6368274822576,3576.6035234345509,3299.5412788910244,3458.4476992005661,4279.8343540488204,4047.912603339485,3359.2289317333903]
["1932-02-29",{"$f":"INDIRECT(CONCATENATE(\"'\",B$1,\"'!\",B$4,(YEAR($A137)-1921)*12+MONTH($A137)+3+IF(ISNUMBER(FIND(\"PRV\",B$6)),1,0)))*IF(AND(B$3>0,TRIM(B$9)=\"CFS\"),Conv_Flags!$C137,1)","v":1194.4363510110543},{"$f":"INDIRECT(CONCATENATE(\"'\",C$1,\"'!\",C$4,(YEAR($A137)-1921)*12+MONTH($A137)+3+IF(ISNUMBER(FIND(\"PRV\",C$6)),1,0)))*IF(AND(C$3>0,TRIM(C$9)=\"CFS\"),Conv_Flags!$C137,1)","v":1365.9024611711577},null,17,17,null,null,0.19753086419753085,3250,3252,3341.6570163129741,{"$f":"LARGE(M$12:M$93,$E137)","v":3589.9597657034074},3794,4147.3133950118427,4530.8021073409345,4552,4461.9995723362354,3994.6467605336215,3699.9999999999995,3399.9999999999995,null,3724.997245267261,3760.6589455533481,3706.6291215682591,null,3474.7308090979145,3568.151501813973,{"$f":"IF($B$7=\"TEMP\",LARGE(AC$13:AC$93,$F137),LARGE(AC$12:AC$93,$E137))","v":3292.8542184196776},3451.4797273901531,{"$f":"LARGE(AE$12:AE$93,$E137)","v":4272.7533458352482},4042.6616901334055,3357.0677039953443,null,0.19753086419753085,3250,3252,3338,{"$f":"LARGE(AM$12:AM$93,$E137)","v":3589.9597657034074},3794,4147.3133949202756,4530.8021073409345,4552,4465.7270043828312,3989.6062799085025,3694.0568163357957,3399.9999999999995,null,3726.0937763026031,3760.663238155164,3709.5,null,3479.8200714211607,3571.2866520966822,{"$f":"IF($B$7=\"TEMP\",LARGE(BC$13:BC$93,$F137),LARGE(BC$12:BC$93,$E137))","v":3299.1308251413111},3454.9119024272186,{"$f":"LARGE(BE$12:BE$93,$E137)","v":4277.127658758317},4039.9157740610744,3355.9631066812672]
["1932-03-31",{"$f":"INDIRECT(CONCATENATE(\"'\",B$1,\"'!\",B$4,(YEAR($A138)-1921)*12+MONTH($A138)+3+IF(ISNUMBER(FIND(\"PRV\",B$6)),1,0)))*IF(AND(B$3>0,TRIM(B$9)=\"CFS\"),Conv_Flags!$C138,1)","v":1646.3587095413629},{"$f":"INDIRECT(CONCATENATE(\"'\",C$1,\"'!\",C$4,(YEAR($A138)-1921)*12+MONTH($A138)+3+IF(ISNUMBER(FIND(\"PRV\",C$6)),1,0)))*IF(AND(C$3>0,TRIM(C$9)=\"CFS\"),Conv_Flags!$C138,1)","v":1837.6014213003823},null,18,18,null,null,0.20987654320987653,3250,3252,3338,3552,3788.800048828125,4132.7877544813891,4518.1403881054102,4552,4454.5612717101912,3955.9266487284208,3681.3628342646916,3399.9999999999995,null,3721.009268275729,3755.3975180976195,3700.2506862551927,null,3474.7193444961872,3567.6544414547366,3292.4357658832637,3451.3719300769985,4272.7008687408606,3998.1759595257117,3352.9681008930297,null,0.20987654320987653,3250,3252,3335,3552,3788.800048828125,4129,4523.9804038846278,4552,4464.4480845144608,3948.246712950543,3684.7729881117771,3399.9999999999995,null,3725.0626344883317,3755.3528179671225,3709.450535235077,null,3465.3781795153068,3561.2987815290162,3291.6148553788062,3449.7129547822165,4273.0695599171786,4016.1038002781561,3353.4343532782864]
["1932-04-30",{"$f":"INDIRECT(CONCATENATE(\"'\",B$1,\"'!\",B$4,(YEAR($A139)-1921)*12+MONTH($A139)+3+IF(ISNUMBER(FIND(\"PRV\",B$6)),1,0)))*IF(AND(B$3>0,TRIM(B$9)=\"CFS\"),Conv_Flags!$C139,1)","v":1888.1353460388052},{"$f":"INDIRECT(CONCATENATE(\"'\",C$1,\"'!\",C$4,(YEAR($A139)-1921)*12+MONTH($A139)+3+IF(ISNUMBER(FIND(\"PRV\",C$6)),1,0)))*IF(AND(C$3>0,TRIM(C$9)=\"CFS\"),Conv_Flags!$C139,1)","v":2078.9913180676654},null,19,19,null,null,0.22222222222222221,3249.9999999999995,3252,3335,3552,3777,4129,4516.0051072040324,4552,4444.2264737132373,3897.0743911945306,3613.7280867427025,3399.9999999999995,null,3719.2094988881472,3747.7408627965747,3693.7768530172689,null,3468.7368189679969,3524.8389989679549,3288.0355700801356,3447.3333333333335,4270.0255858156397,3991.4290143454118,3350.1749829704881,null,0.22222222222222221,3250,3252,3333.800048828125,3552,3777,4118,4523.5519737614622,4552,4454.3173474874566,3935.9533272779131,3652.4618738347108,3399.9999999999995,null,3723.0228405383982,3749.1804262970086,3706.0559888754028,null,3465.0581860129109,3548.4795124912221,3290.3048365725404,3447.3333333333335,4272.8922283581642,3991.269438407719,3351.0049561782303]
["1932-05-31",{"$f":"INDIRECT(CONCATENATE(\"'\",B$1,\"'!\",B$4,(YEAR($A140)-1921)*12+MONTH($A140)+3+IF(ISNUMBER(FIND(\"PRV\",B$6)),1,0)))*IF(AND(B$3>0,TRIM(B$9)=\"CFS\"),Conv_Flags!$C140,1)","v":2040.4023325435758},{"$f":"INDIRECT(CONCATENATE(\"'\",C$1,\"'!\",C$4,(YEAR($A140)-1921)*12+MONTH($A140)+3+IF(ISNUMBER(FIND(\"PRV\",C$6)),1,0)))*IF(AND(C$3>0,TRIM(C$9)=\"CFS\"),Conv_Flags!$C140,1)","v":2234.979945779116},null,20,20,null,null,0.23456790123456789,3249.9999999999995,3252,3333.800048828125,3551,3772.4335342625091,4119.2249259285991,4513.1061213962212,4552,4396.2389066090373,3884.5777781371507,3610.2570534015808,3399.9999999999995,null,3718.757432617158,3746.8119219610876,3692.6189154879708,null,3466.6513319125552,3516.1878248566391,3287.3139539787762,3447.0582639510453,4269.2779398235489,3976.383095194567,3346.2648652343164,null,0.23456790123456789,3249.9999999999995,3252,3328,3551,3772.4335342625091,4114.8983328022377,4518.1403881054102,4552,4430.584109281087,3933.5247401505758,3617.8988905665983,3399.9999999999995,null,3719.8288630965631,3748.6919992197786,3702.5610675614516,null,3462.719300728626,3534.4843336134345,3289.4290257995744,3442.8641955972166,4271.0480502812297,3966.7464761090691,3350.5874152425454]
["1932-06-30",{"$f":"INDIRECT(CONCATENATE(\"'\",B$1,\"'!\",B$4,(YEAR($A141)-1921)*12+MONTH($A141)+3+IF(ISNUMBER(FIND(\"PRV\",B$6)),1,0)))*IF(AND(B$3>0,TRIM(B$9)=\"CFS\"),Conv_Flags!$C141,1)","v":1838.4789317237203},{"$f":"INDIRECT(CONCATENATE(\"'\",C$1,\"'!\",C$4,(YEAR($A141)-1921)*12+MONTH($A141)+3+IF(ISNUMBER(FIND(\"PRV\",C$6)),1,0)))*IF(AND(C$3>0,TRIM(C$9)=\"CFS\"),Conv_Flags!$C141,1)","v":2028.5034154732832},null,21,21,null,null,0.24691358024691357,3249.9999999999995,3252,3328,3549.556535256314,3742.5,4118,4512.312480886163,4552,4386.8810535712173,3879.682072680293,3590.4062239720647,3399.9999999999991,null,{"$f":"LARGE(W$12:W$93,$E141)","v":3718.7384773907056},3742.0486248542497,3687.1666666666665,null,3460.147867578054,{"$f":"LARGE(AB$12:AB$93,$E141)","v":3514.5788139328565},3286.6610217340503,3446.3167213128067,4267.5490247907446,3931.4283720560443,3345.8972169318145,null,0.24691358024691357,3249.9999999999995,3252,3322,3541.570874217201,3742.5,4106,4516.0051072040324,4552,4393.0354198071836,3910.5996992906403,3601.6230270396313,3399.9999999999995,null,{"$f":"LARGE(AW$12:AW$93,$E141)","v":3719.2094989000598},3745.5246922632682,3698.9845081428994,null,3462.2949552658852,{"$f":"LARGE(BB$12:BB$93,$E141)","v":3518.6708036991367},3283.053672354029,3441.36381136196,4269.6988468705431,3953.7748251458615,3348.4077261931257]
["1932-07-31",{"$f":"INDIRECT(CONCATENATE(\"'\",B$1,\"'!\",B$4,(YEAR($A142)-1921)*12+MONTH($A142)+3+IF(ISNUMBER(FIND(\"PRV\",B$6)),1,0)))*IF(AND(B$3>0,TRIM(B$9)=\"CFS\"),Conv_Flags!$C142,1)","v":1554.1924633120038},{"$f":"INDIRECT(CONCATENATE(\"'\",C$1,\"'!\",C$4,(YEAR($A142)-1921)*12+MONTH($A142)+3+IF(ISNUMBER(FIND(\"PRV\",C$6)),1,0)))*IF(AND(C$3>0,TRIM(C$9)=\"CFS\"),Conv_Flags!$C142,1)","v":1710.4766291224234},null,22,22,null,null,0.25925925925925924,3249.9999999999995,3252,3322,3541.5708774154605,3739,4106,4503.4103933009328,4552,4386.2046865251195,3871.5778203223263,3570.3395342719691,3399.9999999999991,null,3701.5062939726909,3738.007432617158,3675.5768902306786,null,3459.4315268739401,3510.7780841687395,3275.5502549541216,3440.1701963360852,4257.9747674727414,3929.9288630477627,3341.7567505192474,null,0.25925925925925924,3249.9999999999995,3251.9999999999995,3319,3541,3739,4098.2630258204526,4512.3124807488766,4552,4383.5907749643466,3858.7787681155583,3583.7786400876034,3399.9999999999995,null,3718.1452280616136,3741.3203568415502,3691.918427868648,null,3448.2818171503022,3511.4431955715668,3283.0020700015193,3435.5677341297869,4257.834458733284,3930.4852591791205,3346.5133401732905]
["1932-08-31",{"$f":"INDIRECT(CONCATENATE(\"'\",B$1,\"'!\",B$4,(YEAR($A143)-1921)*12+MONTH($A143)+3+IF(ISNUMBER(FIND(\"PRV\",B$6)),1,0)))*IF(AND(B$3>0,TRIM(B$9)=\"CFS\"),Conv_Flags!$C143,1)","v":1316.502327325431},{"$f":"INDIRECT(CONCATENATE(\"'\",C$1,\"'!\",C$4,(YEAR($A143)-1921)*12+MONTH($A143)+3+IF(ISNUMBER(FIND(\"PRV\",C$6)),1,0)))*IF(AND(C$3>0,TRIM(C$9)=\"CFS\"),Conv_Flags!$C143,1)","v":1423.539655741577},null,23,23,null,null,0.27160493827160492,3249.9999999999995,3209.7851999195213,3319,3541,3713.6708782581632,4098.2630271489743,4500,4552,4364.9243233270208,3856.6604356530133,3523.3833015908849,3380.4455670882503,null,3700.733213729844,3732.6412907068461,3672.8660817002783,null,3455.9725726364945,3496.0747793103437,3270.0375366210938,3427.6666666666665,4245.875,3917.7180732996908,3309.0727086455513,null,0.27160493827160492,3249.9999999999995,3221.1370456156696,3317,3538.2302725873933,3713.6708750625389,4085.3751557241858,4503.4103933009328,4552,4379.3072950906962,3850.405061342145,3554.0297370693802,3399.9999999999991,null,3708.9723157339049,3739.0788630965631,3687.1666666666665,null,3442.0416032035341,3511.3270569195588,3275.6775038853893,3427.6666666666665,4253.7621508281327,3928.119921599553,3331.5082024879243]
["1932-09-30",{"$f":"INDIRECT(CONCATENATE(\"'\",B$1,\"'!\",B$4,(YEAR($A144)-1921)*12+MONTH($A144)+3+IF(ISNUMBER(FIND(\"PRV\",B$6)),1,0)))*IF(AND(B$3>0,TRIM(B$9)=\"CFS\"),Conv_Flags!$C144,1)","v":1201.9283513517476},{"$f":"INDIRECT(CONCATENATE(\"'\",C$1,\"'!\",C$4,(YEAR($A144)-1921)*12+MONTH($A144)+3+IF(ISNUMBER(FIND(\"PRV\",C$6)),1,0)))*IF(AND(C$3>0,TRIM(C$9)=\"CFS\"),Conv_Flags!$C144,1)","v":1321.8055085539861},null,24,24,null,null,0.2839506172839506,3249.9999999999995,3207.7299236028475,3317,3538.2302725873933,3713.3586565432374,4085.3751557241858,4493.2735858628657,4552,4346.3431123517239,3826.5053208779041,3463.7728776722975,3364.7692255710717,null,3693.3119219610876,3727.4106126383799,3664.5530516854892,null,3434.9575405965029,3406.7231346047724,3268.8138635436317,3415.10972904869,4245.8201589637738,3882.5764788747233,3281.3815496641778,null,0.2839506172839506,3249.9999999999995,3202.4502320359156,3316,3531,3713.3586573540638,4082.9661589349275,4500,4552,4361.3177762238538,3818.6401969552794,3453.5082304066941,3399.9999999999991,null,3699.7496506430798,3732.5141111476551,3681.2937461522288,null,3434.9575405965029,3446.471289607794,3273.0730637523147,3426.9481058226102,4252.9599185078841,3894.504267228529,3299.2536575755407]
["1932-10-31",{"$f":"INDIRECT(CONCATENATE(\"'\",B$1,\"'!\",B$4,(YEAR($A145)-1921)*12+MONTH($A145)+3+IF(ISNUMBER(FIND(\"PRV\",B$6)),1,0)))*IF(AND(B$3>0,TRIM(B$9)=\"CFS\"),Conv_Flags!$C145,1)","v":1109.5888212808916},{"$f":"INDIRECT(CONCATENATE(\"'\",C$1,\"'!\",C$4,(YEAR($A145)-1921)*12+MONTH($A145)+3+IF(ISNUMBER(FIND(\"PRV\",C$6)),1,0)))*IF(AND(C$3>0,TRIM(C$9)=\"CFS\"),Conv_Flags!$C145,1)","v":1235.3222824062129},null,25,25,null,null,0.29629629629629628,3247.0903522359131,3201.3776521808213,3316,3531,3694,4071,4492.3457842470852,4552,4318.3930290624739,3782.1218604752967,3432.3080287656412,3244.4129816523596,null,3688.2197188119153,3708.5341072538777,3651.4395665586485,null,3425.7055551165731,3389.7634282713948,3261.3608382867965,3414.0875390086035,4231.9710921055876,3860.0643743926635,3267.4455393137137,null,0.29629629629629628,3249.9999999999995,3201.9014644156418,3315.5914340858808,3528,3694,4076.4704913022097,4492.3457846581932,4552,4343.8061678890563,3777.5416080194536,3445.8306685023172,3279.9043539889403,null,3698.0114028824441,3713.0354408180488,3675.6688819278929,null,3434.6990166806077,3424.1748194124289,3270.0375366210938,3407.1468430707646,4245.875,3875.3743656919091,3275.8376911470532]
["1932-11-30",{"$f":"INDIRECT(CONCATENATE(\"'\",B$1,\"'!\",B$4,(YEAR($A146)-1921)*12+MONTH($A146)+3+IF(ISNUMBER(FIND(\"PRV\",B$6)),1,0)))*IF(AND(B$3>0,TRIM(B$9)=\"CFS\"),Conv_Flags!$C146,1)","v":1067.4636257439142},{"$f":"INDIRECT(CONCATENATE(\"'\",C$1,\"'!\",C$4,(YEAR($A146)-1921)*12+MONTH($A146)+3+IF(ISNUMBER(FIND(\"PRV\",C$6)),1,0)))*IF(AND(C$3>0,TRIM(C$9)=\"CFS\"),Conv_Flags!$C146,1)","v":1193.8001787627827},null,26,26,null,null,0.30864197530864196,3241.8452285040253,3187.3218110802254,3312.0105890082564,3528,3675,4067.1046791373683,4487.2383984151757,4552,4308.8549002805466,3755.7748812681898,3381.03204007563,3242.5116318302075,null,3683.5833333333335,3702.5164632995043,3650.5781442925977,null,3423.3923738050412,3359.5716208362051,3257.1694586067706,3412.7124790662124,4231.6791996855854,3829.6791606428569,3266.1770256470277,null,0.30864197530864196,3246.4852370591661,3199.4546620003184,3310,3522.2382336777123,3685.490756299087,4071,4487.238398034383,4552,4307.8768167344588,3770.0991742003307,3443.8583389649366,3245.897453740562,null,3695.6804262970086,3705.8197706669066,3668.2158981921002,null,3424.7400928791294,3397.3930934346977,3268.8958505618812,3405.4159424382688,4245.7896684359321,3854.5542586981664,3274.4661581350952]
["1932-12-31",{"$f":"INDIRECT(CONCATENATE(\"'\",B$1,\"'!\",B$4,(YEAR($A147)-1921)*12+MONTH($A147)+3+IF(ISNUMBER(FIND(\"PRV\",B$6)),1,0)))*IF(AND(B$3>0,TRIM(B$9)=\"CFS\"),Conv_Flags!$C147,1)","v":1048.2521574620607},{"$f":"INDIRECT(CONCATENATE(\"'\",C$1,\"'!\",C$4,(YEAR($A147)-1921)*12+MONTH($A147)+3+IF(ISNUMBER(FIND(\"PRV\",C$6)),1,0)))*IF(AND(C$3>0,TRIM(C$9)=\"CFS\"),Conv_Flags!$C147,1)","v":1180.4142938538682},null,27,27,null,null,0.32098765432098764,3239.4116583313471,3185.3037258628369,3310,3517.2366719482029,3675,4033,4487.0189046219884,4552,4291.8069189275839,3723.8337566251971,3359.3708468366412,3234.9247046673531,null,3683.5140353074917,3702.1193599675457,3648.3338623506643,null,3421.4029126963551,3348.5285207908069,3249.0410604307312,3391.6375196256777,4231.6073855330878,3824.4781848719704,3249.2231756174551,null,0.32098765432098764,3237.5834803968355,3188.4594215152247,3306,3518.4560865666585,3675,4033,4487.0189016080731,4552,4299.843563282353,3758.7683391946953,3424.6048310786932,3245.7576096194925,null,3683.5833333333335,3704.4736296121864,3663.6713345218891,null,3424.2559823361057,3367.8865597256117,3253.1529010561276,3397.236489866229,4242.4836994365141,3837.3881708891295,3264.2658149062904]
["1933-01-31",{"$f":"INDIRECT(CONCATENATE(\"'\",B$1,\"'!\",B$4,(YEAR($A148)-1921)*12+MONTH($A148)+3+IF(ISNUMBER(FIND(\"PRV\",B$6)),1,0)))*IF(AND(B$3>0,TRIM(B$9)=\"CFS\"),Conv_Flags!$C148,1)","v":1064.6045751330223},{"$f":"INDIRECT(CONCATENATE(\"'\",C$1,\"'!\",C$4,(YEAR($A148)-1921)*12+MONTH($A148)+3+IF(ISNUMBER(FIND(\"PRV\",C$6)),1,0)))*IF(AND(C$3>0,TRIM(C$9)=\"CFS\"),Conv_Flags!$C148,1)","v":1196.647240255146},null,28,28,null,null,0.33333333333333331,3236.5485014285441,3184.4016666818425,3306,3515.199951171875,3670.4837392057248,4029.9999999999995,4481.1532266702879,4552,4288.7981397819294,3670.6734031066198,3358.3157900443134,3200,null,3673.5670337313422,3689.684867818351,3646.6508659106748,null,3415.2659792809441,3320.3171751915429,3247.5672917402026,3389,4227.375,3800.0083530148277,3237.029347554449,null,0.33333333333333331,3234.0457928094088,3186.014189679473,3300.8896974551612,3515.199951171875,3675,4030,4481.153227195563,4552,4287.6756698662712,3741.1110597168899,3371.9872476505384,3236.5985663925303,null,3682.5983422090208,3699.5305652639977,3661.0263475590541,null,3423.6563559750293,3362.2957530061917,3245.9590554828819,3389,4231.6955541447605,3828.9543844735631,3252.5861077705908]
["1933-02-28",{"$f":"INDIRECT(CONCATENATE(\"'\",B$1,\"'!\",B$4,(YEAR($A149)-1921)*12+MONTH($A149)+3+IF(ISNUMBER(FIND(\"PRV\",B$6)),1,0)))*IF(AND(B$3>0,TRIM(B$9)=\"CFS\"),Conv_Flags!$C149,1)","v":1101.3913918282844},{"$f":"INDIRECT(CONCATENATE(\"'\",C$1,\"'!\",C$4,(YEAR($A149)-1921)*12+MONTH($A149)+3+IF(ISNUMBER(FIND(\"PRV\",C$6)),1,0)))*IF(AND(C$3>0,TRIM(C$9)=\"CFS\"),Conv_Flags!$C149,1)","v":1233.3143646316153},null,29,29,null,null,0.34567901234567899,3226.022052205823,3182.2554541745271,3293,3515,3667.0698708310879,4022,4479,4552,4286.5662522602761,3650.4460168247419,3348.024605011768,3199.2892102276437,null,3666.9073643417942,3686.4016902478229,3642.5450197943578,null,3405.1974479874939,3311.0012356304187,3228.0304798296825,3388.9987961537859,4221.3552293717648,3791.7739733289213,3234.3574261532758,null,0.34567901234567899,3226.3542375851334,3182.5834022475256,3293,3515,3674.6432962641884,4022,4480.2969569715042,4552,4281.3116003564601,3711.075772566915,3358.3268306074588,3234.318583834437,null,3678.0478648291041,3695.1149335052728,3651.2496630608962,null,3422.4188863850868,3343.8521167425934,3245.8911078838582,3388.1620253120059,4230.8128311581495,3808.7177454170292,3219.2127080176356]
["1933-03-31",{"$f":"INDIRECT(CONCATENATE(\"'\",B$1,\"'!\",B$4,(YEAR($A150)-1921)*12+MONTH($A150)+3+IF(ISNUMBER(FIND(\"PRV\",B$6)),1,0)))*IF(AND(B$3>0,TRIM(B$9)=\"CFS\"),Conv_Flags!$C150,1)","v":1698.827522700539},{"$f":"INDIRECT(CONCATENATE(\"'\",C$1,\"'!\",C$4,(YEAR($A150)-1921)*12+MONTH($A150)+3+IF(ISNUMBER(FIND(\"PRV\",C$6)),1,0)))*IF(AND(C$3>0,TRIM(C$9)=\"CFS\"),Conv_Flags!$C150,1)","v":1856.5732135077344},null,30,30,null,null,0.35802469135802467,3200,3177.4708036840034,3291.300048828125,3506.5732605657431,3661,4016.8630267426579,4477.0099627719137,4552,4280.4342178834122,3645.0917239997893,3334.7049837286027,3194.2918210280245,null,3658.8320521126466,3643.9498920136907,3640.733675658093,null,3403.2231032410723,3305.6530817357125,3217.1488864651924,3388.523660125406,4215.9141322784426,3778.6137939294181,3184.4458122827232,null,0.35802469135802467,3223.0537434842886,3177.3391802632063,3291.300048828125,3506.5732605657431,3661,4016.8630267426579,4479,4552,4272.2476889088985,3698.3945156238406,3343.2174389044376,3225.8355760190293,null,3672.1446308784125,3694.0694110988861,3643.9233816590418,null,3420.7497909841331,3312.4163203240155,3241.5631002569576,3387.3030131448813,4227.375,3785.3525072257739,3218.0191426228098]
["1933-04-30",{"$f":"INDIRECT(CONCATENATE(\"'\",B$1,\"'!\",B$4,(YEAR($A151)-1921)*12+MONTH($A151)+3+IF(ISNUMBER(FIND(\"PRV\",B$6)),1,0)))*IF(AND(B$3>0,TRIM(B$9)=\"CFS\"),Conv_Flags!$C151,1)","v":1908.0097424080302},{"$f":"INDIRECT(CONCATENATE(\"'\",C$1,\"'!\",C$4,(YEAR($A151)-1921)*12+MONTH($A151)+3+IF(ISNUMBER(FIND(\"PRV\",C$6)),1,0)))*IF(AND(C$3>0,TRIM(C$9)=\"CFS\"),Conv_Flags!$C151,1)","v":2067.6130144704362},null,31,31,null,null,0.37037037037037035,3186.8803370716619,3175.7018312623923,3285,3493.6389867995586,3659.1228380315656,4010.5754010548076,4456,4541.6954884821535,4187.9566892001221,3642.1447402161866,3274.7733208007239,3189.6856180594659,null,3655.1207937337181,3637.3089011867191,3636.7670981244264,null,3399.2880094664301,3304.8939824241866,3213.9140794765735,3384.91682281063,4212.3931815411088,3710.0942705161465,3151.5778719907062,null,0.37037037037037035,3206.8372983885515,3176.0905461292809,3285,3500.4774871947729,3659.1228380315656,4010.5754014661698,4456,4552,4255.8441465939868,3604.3071814622335,3333.6816683259744,3206.7857373557504,null,3659.8450922312768,3672.2549484743399,3638.7546485293155,null,3409.0492788296942,3303.2083570210357,3240.885943361513,3387.1619656440216,4223.8239989868689,3759.4965210778737,3182.5309319108037]
["1933-05-31",{"$f":"INDIRECT(CONCATENATE(\"'\",B$1,\"'!\",B$4,(YEAR($A152)-1921)*12+MONTH($A152)+3+IF(ISNUMBER(FIND(\"PRV\",B$6)),1,0)))*IF(AND(B$3>0,TRIM(B$9)=\"CFS\"),Conv_Flags!$C152,1)","v":1872.8827452560038},{"$f":"INDIRECT(CONCATENATE(\"'\",C$1,\"'!\",C$4,(YEAR($A152)-1921)*12+MONTH($A152)+3+IF(ISNUMBER(FIND(\"PRV\",C$6)),1,0)))*IF(AND(C$3>0,TRIM(C$9)=\"CFS\"),Conv_Flags!$C152,1)","v":2025.1796101759614},null,32,32,null,null,0.38271604938271603,3137.3680056680687,3174.1422803205442,3276,3491.9686318293498,3654,4009.89990234375,4447.898207255228,4539.5838566371058,4162.4166991057373,3612.1672830229645,3271.5976648713986,3145.2619710767381,null,3650.065342674478,3635.3196156909748,3628.9829562087775,null,3396.8208259527892,3300.7190142882059,3213.4439280054708,3375.355081969059,4206.1699688140916,3693.8845948777771,3149.1982941012079,null,0.38271604938271603,3177.8089414676592,3170.6440359248004,3276,3499.8881421043911,3654,4009.89990234375,4453.8042456170579,4552,4233.3971507499882,3604.0158004264417,3288.1760442583859,3169.4170388458965,null,3658.583953954676,3662.4316755423538,3631.3496013394765,null,3407.2671968210316,3281.0260171232981,3239.0156892520208,3384.1484223258763,4221.66129278876,3746.227242129949,3174.9399052324538]
["1933-06-30",{"$f":"INDIRECT(CONCATENATE(\"'\",B$1,\"'!\",B$4,(YEAR($A153)-1921)*12+MONTH($A153)+3+IF(ISNUMBER(FIND(\"PRV\",B$6)),1,0)))*IF(AND(B$3>0,TRIM(B$9)=\"CFS\"),Conv_Flags!$C153,1)","v":1720.2093737818325},{"$f":"INDIRECT(CONCATENATE(\"'\",C$1,\"'!\",C$4,(YEAR($A153)-1921)*12+MONTH($A153)+3+IF(ISNUMBER(FIND(\"PRV\",C$6)),1,0)))*IF(AND(C$3>0,TRIM(C$9)=\"CFS\"),Conv_Flags!$C153,1)","v":1866.704085144589},null,33,33,null,null,0.39506172839506171,3133.1671661275122,3156.2545466041192,3267,{"$f":"LARGE(M$12:M$93,$E153)","v":3450.1199584381779},3636,4009.5749176837785,4434,4508.7451324563635,4144.404438574943,3608.3552098173327,3247.251039377526,3137.3416956281017,null,3641.2508929702758,3629.8986760078114,3623.3529832962763,null,3393.8541297156689,3246.3405124463202,{"$f":"IF($B$7=\"TEMP\",LARGE(AC$13:AC$93,$F153),LARGE(AC$12:AC$93,$E153))","v":3208.8073498312547},3373.6666666666665,{"$f":"LARGE(AE$12:AE$93,$E153)","v":4201.1945754798817},3673.2744901254682,3143.1688758328492,null,0.39506172839506171,3171.4686173008126,3161.316774064544,3269.1318031176252,{"$f":"LARGE(AM$12:AM$93,$E153)","v":3488.9113871589425},3652.8411679805545,4009.5749176837776,4447.898207255228,4540.8383364680058,4218.1496685636193,3602.6211184459412,3277.8387355152217,3167.5886711769481,null,3655.3401699125002,3646.7181687247735,3613.3680222693579,null,3399.2880094664301,3274.280389219994,{"$f":"IF($B$7=\"TEMP\",LARGE(BC$13:BC$93,$F153),LARGE(BC$12:BC$93,$E153))","v":3232.1040007816646},3373.6666666666665,{"$f":"LARGE(BE$12:BE$93,$E153)","v":4215.0391300024976},3743.9529651619209,3168.8929823262556]
["1933-07-31",{"$f":"INDIRECT(CONCATENATE(\"'\",B$1,\"'!\",B$4,(YEAR($A154)-1921)*12+MONTH($A154)+3+IF(ISNUMBER(FIND(\"PRV\",B$6)),1,0)))*IF(AND(B$3>0,TRIM(B$9)=\"CFS\"),Conv_Flags!$C154,1)","v":1432.5319728951663},{"$f":"INDIRECT(CONCATENATE(\"'\",C$1,\"'!\",C$4,(YEAR($A154)-1921)*12+MONTH($A154)+3+IF(ISNUMBER(FIND(\"PRV\",C$6)),1,0)))*IF(AND(C$3>0,TRIM(C$9)=\"CFS\"),Conv_Flags!$C154,1)","v":1573.4520986612956},null,34,34,null,null,0.40740740740740738,3071.2146932772762,3144.5892733543883,3265,3437.9404034330373,3626.4723070388059,4000,4423.606449375764,4506.4877496101117,4125.6097518409615,3562.5489147910944,3206.4716208099235,3120.0925977489251,null,3627.4385732341811,3625.6030559817341,3616.0829088440646,null,3385.5799895089076,3210.6601230343185,3203.7486444309279,3363,4199.5601902031767,3654.1951903411909,3120.7042387714464,null,0.40740740740740738,3137.6913830059684,3158.497050785812,3267,3445.3216736920881,3636,4000,4434,4540.1693337718616,4121.0110556584686,3587.125850451122,3264.5723028747943,3158.0062561747077,null,3652.6818879892076,3630.3273544792933,3609.928513690727,null,3393.0574454447719,3261.1922142277394,3222.4893770033768,3363,4214.0185840687991,3692.0637371068906,3148.8728235847725]
["1933-08-31",{"$f":"INDIRECT(CONCATENATE(\"'\",B$1,\"'!\",B$4,(YEAR($A155)-1921)*12+MONTH($A155)+3+IF(ISNUMBER(FIND(\"PRV\",B$6)),1,0)))*IF(AND(B$3>0,TRIM(B$9)=\"CFS\"),Conv_Flags!$C155,1)","v":1079.3907230754264},{"$f":"INDIRECT(CONCATENATE(\"'\",C$1,\"'!\",C$4,(YEAR($A155)-1921)*12+MONTH($A155)+3+IF(ISNUMBER(FIND(\"PRV\",C$6)),1,0)))*IF(AND(C$3>0,TRIM(C$9)=\"CFS\"),Conv_Flags!$C155,1)","v":1215.5716659022762},null,35,35,null,null,0.41975308641975306,3034.7942273879607,3102.5452514064696,3263.7840754747444,3389,3606.9285923085886,3980,4422,4503.166123555503,4114.155363564736,3509.8179403532899,3199.6582893301825,3118.2020711507712,null,3619.9250433895922,3602.2522714560619,3596.036470813398,null,3378.640853789585,3199.0163777913672,3178.3181774390928,3341.533406575521,4199.2621892903662,3654.1266035455628,3118.5055180062986,null,0.41975308641975306,3099.184800238615,3133.490713752793,3265,3389,3588,3980,4423.6064488761949,4509.2492448931434,4113.1820409953252,3579.6345288275074,3241.3210949115751,3151.8753565410525,null,3629.9187652284959,3623.6687652284959,3608.8530506323773,null,3387.3615041841667,3259.6667723449323,3210.7427933189483,3343.0191825994189,4207.3812573985779,3679.7780605740327,3144.8729335438329]
["1933-09-30",{"$f":"INDIRECT(CONCATENATE(\"'\",B$1,\"'!\",B$4,(YEAR($A156)-1921)*12+MONTH($A156)+3+IF(ISNUMBER(FIND(\"PRV\",B$6)),1,0)))*IF(AND(B$3>0,TRIM(B$9)=\"CFS\"),Conv_Flags!$C156,1)","v":953.66966007769781},{"$f":"INDIRECT(CONCATENATE(\"'\",C$1,\"'!\",C$4,(YEAR($A156)-1921)*12+MONTH($A156)+3+IF(ISNUMBER(FIND(\"PRV\",C$6)),1,0)))*IF(AND(C$3>0,TRIM(C$9)=\"CFS\"),Conv_Flags!$C156,1)","v":1087.2526407291489},null,36,36,null,null,0.43209876543209874,3020.9920811317766,3098.3890151290871,3252.10009765625,3371,3569.60009765625,3975.60009765625,4415.8293137917199,4502.1341317810411,4058.2133041803249,3506.1756022425443,3193.3692763572767,3107.4614037941337,null,3608.4655274854017,3592.7141671130407,3582.7152773919843,null,3371.277393549803,3194.0400387026407,3169.3544628946106,3335.5133714254571,4198.163103649993,3640.0660685059052,3111.6230061462388,null,0.43209876543209874,3064.2007142116054,3090.4463571587567,3258.1278006935777,3384.2311612111935,3579.2729918976224,3975.60009765625,4422.0000000000009,4505.8331884519348,4111.2263040986909,3555.7343213962176,3228.0989057519173,3146.7657592425367,null,3625.3780147033608,3613.2568365791667,3608.6627268213874,null,3386.1953329167168,3245.3786083494001,3183.9364578424511,3341.533406575521,4201.1945754798817,3655.9366324866446,3119.7519706829203]
["1933-10-31",{"$f":"INDIRECT(CONCATENATE(\"'\",B$1,\"'!\",B$4,(YEAR($A157)-1921)*12+MONTH($A157)+3+IF(ISNUMBER(FIND(\"PRV\",B$6)),1,0)))*IF(AND(B$3>0,TRIM(B$9)=\"CFS\"),Conv_Flags!$C157,1)","v":798.04684896886306},{"$f":"INDIRECT(CONCATENATE(\"'\",C$1,\"'!\",C$4,(YEAR($A157)-1921)*12+MONTH($A157)+3+IF(ISNUMBER(FIND(\"PRV\",C$6)),1,0)))*IF(AND(C$3>0,TRIM(C$9)=\"CFS\"),Conv_Flags!$C157,1)","v":927.57766811051988},null,37,37,null,null,0.44444444444444442,3013.193444961873,3077.589191405898,3252,3368,3567.2250764989794,3971.4022266969519,4394.9463706209845,4481.0765655307796,4044.5084626516691,3494.096049553888,3184.9438744367508,3102.6034747700287,null,3598.9641671130407,3585.3552399008477,3581.179794557966,null,3370.7502137289221,3178.7649667098426,3163.7563632913866,3330.6666666666665,4185.5822128450091,3617.4461067914986,3065.0810919580904,null,0.44444444444444442,3058.4901644862084,3081.8300971129288,3253.5210796392985,3371,3569.60009765625,3971.4022272897364,4415.8293137917199,4483.2777842077239,4074.9338858691135,3526.0974581540731,3213.9858505090097,3130.9540429888948,null,3619.6170768858178,3607.8955346418729,3595.863500805865,null,3376.7116657668403,3198.18615895629,3166.2883757533978,3330.6666666666665,4183.0885397019756,3645.0993310449803,3106.1655687027555]
["1933-11-30",{"$f":"INDIRECT(CONCATENATE(\"'\",B$1,\"'!\",B$4,(YEAR($A158)-1921)*12+MONTH($A158)+3+IF(ISNUMBER(FIND(\"PRV\",B$6)),1,0)))*IF(AND(B$3>0,TRIM(B$9)=\"CFS\"),Conv_Flags!$C158,1)","v":681.46233595034562},{"$f":"INDIRECT(CONCATENATE(\"'\",C$1,\"'!\",C$4,(YEAR($A158)-1921)*12+MONTH($A158)+3+IF(ISNUMBER(FIND(\"PRV\",C$6)),1,0)))*IF(AND(C$3>0,TRIM(C$9)=\"CFS\"),Conv_Flags!$C158,1)","v":855.55865080895228},null,38,38,null,null,0.4567901234567901,2994.3775304385263,3042.4119386083676,3252,3366,3567,3965,4383.0139866577638,4461.5769541317495,4032.3296424360515,3492.4674038274784,3181.6663826748118,3084.113827364718,null,3596.3546866907686,3584.2155274854017,3571.0777454962313,null,3362.8484684182936,3174.7416153999243,3151.0408293359878,3325.4846260397171,4150.9238721205384,3603.5172772035307,3057.3820866460569,null,0.4567901234567901,3020.3236641655353,3051.6636064883101,3252.10009765625,3368,3567,3965,4383.0139868007154,4478.0452655227464,4060.1651969229215,3518.6277476036453,3174.0325784921806,3110.3316777392761,null,3609.0010452797374,3596.5785845031928,3593.2691297844281,null,3371.3429830315499,3185.2186701602586,3129.4023614160037,3329.7058272701165,4150.5423334429652,3631.5632477140416,3099.1764712868721]
["1933-12-31",{"$f":"INDIRECT(CONCATENATE(\"'\",B$1,\"'!\",B$4,(YEAR($A159)-1921)*12+MONTH($A159)+3+IF(ISNUMBER(FIND(\"PRV\",B$6)),1,0)))*IF(AND(B$3>0,TRIM(B$9)=\"CFS\"),Conv_Flags!$C159,1)","v":805.46632461044908},{"$f":"INDIRECT(CONCATENATE(\"'\",C$1,\"'!\",C$4,(YEAR($A159)-1921)*12+MONTH($A159)+3+IF(ISNUMBER(FIND(\"PRV\",C$6)),1,0)))*IF(AND(C$3>0,TRIM(C$9)=\"CFS\"),Conv_Flags!$C159,1)","v":967.27734386649297},null,39,39,null,null,0.46913580246913578,2976.2393091191439,3034.9902309875993,3247.8162036473291,3358,3560,3962.5023576252056,4293.3984052304331,4448.1338405761499,4028.0193221154691,3473.3658047333333,3149.4679241562812,3073.6548231923975,null,3586.6497254513401,3579.0074210127768,3569.7492957115701,null,3361.5567658792761,3164.8740564743221,3115.3191324372551,3317,4110.7942824909223,3603.2772257075771,3055.6608394905438,null,0.46913580246913578,2990.951347162907,3036.5873410928334,3252,3366,3560,3956.8692814137421,4293.3984052541537,4464.8899088359858,4041.412076142421,3508.2549309341525,3133.2225914088649,3086.4181128032546,null,3606.6451451662974,3567.798433454333,3584.1518340719795,null,3359.1912495204574,3155.807934198383,3116.7412618652093,3324.0387709966985,4110.6170049288794,3615.4156012740018,3057.4613937833169]
["1934-01-31",{"$f":"INDIRECT(CONCATENATE(\"'\",B$1,\"'!\",B$4,(YEAR($A160)-1921)*12+MONTH($A160)+3+IF(ISNUMBER(FIND(\"PRV\",B$6)),1,0)))*IF(AND(B$3>0,TRIM(B$9)=\"CFS\"),Conv_Flags!$C160,1)","v":1090.8282399250522},{"$f":"INDIRECT(CONCATENATE(\"'\",C$1,\"'!\",C$4,(YEAR($A160)-1921)*12+MONTH($A160)+3+IF(ISNUMBER(FIND(\"PRV\",C$6)),1,0)))*IF(AND(C$3>0,TRIM(C$9)=\"CFS\"),Conv_Flags!$C160,1)","v":1239.9696417040884},null,40,40,null,null,0.48148148148148145,2953.6999787462642,3022.6604938369251,3241.417071765311,3357.6485348020451,3530,3955.2092562325197,4290,4422.4105749650353,4023.6189495867775,3432.2512482295588,3142.9376120397546,3051.8647740473402,null,3544.5442881397266,3577.7967769803249,3566.260548158149,null,3347.9167166127509,3155.8498574872883,3111.1962116514278,3310.6414395111155,4093.2566738092373,3603.2053256234658,3045.2912194755932,null,0.48148148148148145,2985.9847073528758,3022.9719261433747,3252,3365.512995930857,3530,3953,4290,4455.0842093985457,4029.2907327060034,3472.8203643399193,3118.0147622777217,3083.8021481477981,null,3584.2622440606756,3565.5068776294497,3574.2034667583434,null,3357.2354237585132,3152.8194400033972,3115.3386410581179,3322.6229122225973,4085.2361437675982,3596.7111153277024,3052.1287393307416]
["1934-02-28",{"$f":"INDIRECT(CONCATENATE(\"'\",B$1,\"'!\",B$4,(YEAR($A161)-1921)*12+MONTH($A161)+3+IF(ISNUMBER(FIND(\"PRV\",B$6)),1,0)))*IF(AND(B$3>0,TRIM(B$9)=\"CFS\"),Conv_Flags!$C161,1)","v":1406.125052876584},{"$f":"INDIRECT(CONCATENATE(\"'\",C$1,\"'!\",C$4,(YEAR($A161)-1921)*12+MONTH($A161)+3+IF(ISNUMBER(FIND(\"PRV\",C$6)),1,0)))*IF(AND(C$3>0,TRIM(C$9)=\"CFS\"),Conv_Flags!$C161,1)","v":1555.1240202204192},null,41,41,null,null,0.49382716049382713,2948.6253360701648,3014.640747329579,3240.0393936169003,3338.5,3516,3953,4289,4419.4667492081117,3991.0391085143738,3423.873072757573,3110.0897975934081,3050.7155104505387,null,{"$f":"LARGE(W$12:W$93,$E161)","v":3541.1909509924221},3563.292469671087,3552.0407758555616,null,3346.2724575902803,3124.3370414513452,3096.0412183880085,3302.001749546122,4085.2352048944799,3577.9010179716061,3007.5889397444967,null,0.49382716049382713,2954.0866064731754,3011.817726350479,3250.7220124033438,3358,3516,3941.4358371441986,4289,4450.6019177659191,4007.4674144625187,3435.7221949852837,3117.9703782757133,3082.2084199929295,null,{"$f":"LARGE(AW$12:AW$93,$E161)","v":3567.6502537842771},3560.0122440606756,3572.8279277190777,null,3353.1724114853569,3145.4405668332874,3101.87381219085,3318.0414474024478,4083.1092288488567,3592.0807528107534,3050.1126059440667]
["1934-03-31",{"$f":"INDIRECT(CONCATENATE(\"'\",B$1,\"'!\",B$4,(YEAR($A162)-1921)*12+MONTH($A162)+3+IF(ISNUMBER(FIND(\"PRV\",B$6)),1,0)))*IF(AND(B$3>0,TRIM(B$9)=\"CFS\"),Conv_Flags!$C162,1)","v":1660.0849926502053},{"$f":"INDIRECT(CONCATENATE(\"'\",C$1,\"'!\",C$4,(YEAR($A162)-1921)*12+MONTH($A162)+3+IF(ISNUMBER(FIND(\"PRV\",C$6)),1,0)))*IF(AND(C$3>0,TRIM(C$9)=\"CFS\"),Conv_Flags!$C162,1)","v":1808.7858769942216},null,42,42,null,null,0.50617283950617287,2942.5412971566921,3002.8927298924586,3239.488516928936,3326.9757634990506,3503.10009765625,3940,4254.4890807170059,4410.215737658199,3969.6734914214076,3420.749743736716,3090.4335097995058,3050.150694958234,null,3531.5597201843211,3531.4489998282984,3550.413217753086,null,3341.2,3118.2842494781453,3091.0180040617115,3291.8759090290878,4078.7409844574095,3572.0543097952286,2997.6320069103399,null,0.50617283950617287,2941.5598233610604,3004.2486844146874,3236.6842584690439,3344.2990044387716,3508.8739543913034,3940,4285.4962997793727,4428.2707760290314,3990.4386781973817,3431.3363562650802,3101.1036742215515,3054.5733231976137,null,3566.00491527243,3554.7639996128855,3571.6456333411802,null,3344.4354905771752,3117.4570035037582,3085.7960448422978,3317,4078.7409844931481,3562.4815313274948,3005.0496596705557]
["1934-04-30",{"$f":"INDIRECT(CONCATENATE(\"'\",B$1,\"'!\",B$4,(YEAR($A163)-1921)*12+MONTH($A163)+3+IF(ISNUMBER(FIND(\"PRV\",B$6)),1,0)))*IF(AND(B$3>0,TRIM(B$9)=\"CFS\"),Conv_Flags!$C163,1)","v":1785.9566302190353},{"$f":"INDIRECT(CONCATENATE(\"'\",C$1,\"'!\",C$4,(YEAR($A163)-1921)*12+MONTH($A163)+3+IF(ISNUMBER(FIND(\"PRV\",C$6)),1,0)))*IF(AND(C$3>0,TRIM(C$9)=\"CFS\"),Conv_Flags!$C163,1)","v":1934.2370091609214},null,43,43,null,null,0.51851851851851849,2940.0209668738948,2984.5346044407447,3214.5498411632229,3317,3490.2267820368816,3936.1220566509019,4232.9061392727917,4384.3690812540717,3957.644929788712,3407.9092334891225,3083.9957067851842,3034.2300414992033,null,3528.2524999667071,3511.1311815280646,3543.4934319950876,null,3329.3324819524796,3102.3853232477491,3087.166132102016,3278.5245826320711,4076.637451171875,3518.5305458642315,2983.2651778442832,null,0.51851851851851849,2940.522212304083,3002.6886349356614,3235.3087638007282,3338.5,3503.10009765625,3925.8442391763133,4262.0412948910143,4413.2909090230478,3987.6457064937622,3417.1388833056262,3099.6656656029327,3024.7934376561375,null,3563.8886292571483,3542.2409715210324,3566.853084326141,null,3341.3448715992286,3093.2813419321405,3077.6416181064478,3306.5742896125917,4076.637451171875,3553.6236236261348,3004.110764261904]
["1934-05-31",{"$f":"INDIRECT(CONCATENATE(\"'\",B$1,\"'!\",B$4,(YEAR($A164)-1921)*12+MONTH($A164)+3+IF(ISNUMBER(FIND(\"PRV\",B$6)),1,0)))*IF(AND(B$3>0,TRIM(B$9)=\"CFS\"),Conv_Flags!$C164,1)","v":1594.3202907707291},{"$f":"INDIRECT(CONCATENATE(\"'\",C$1,\"'!\",C$4,(YEAR($A164)-1921)*12+MONTH($A164)+3+IF(ISNUMBER(FIND(\"PRV\",C$6)),1,0)))*IF(AND(C$3>0,TRIM(C$9)=\"CFS\"),Conv_Flags!$C164,1)","v":1719.9846838249832},null,44,44,null,null,0.53086419753086422,2930.8581935175321,2974.8400976164558,3208.8410247251063,3285.235346223958,3482.3100194833596,3928.5071081570641,4231.6965744630206,4365.634615045371,3939.7078834827903,3405.3744350321927,3070.5984796511002,3030.059518463891,null,3495.0769595639072,3502.4492510667442,3530.8396634708552,null,3327.5919635992823,3085.2382257424265,3081.849455177573,3275.9584205094511,4061.9710744246036,3516.1347519188957,2967.117394456975,null,0.53086419753086422,2934.5744544477238,2972.2774051236893,3203.4696777006639,3317,3480,3925.3897491548551,4250.3434366225965,4384.2184333312025,3987.0667760218544,3384.3477271230154,3094.9076072806556,3020.1615306115327,null,3502.3270569094516,3538.4174243352932,3544.3978390552929,null,3341.2,3090.9546029127487,3045.8723991091269,3291.9305670412541,4050.3921961154483,3544.7995040121573,2985.368225899932]
["1934-06-30",{"$f":"INDIRECT(CONCATENATE(\"'\",B$1,\"'!\",B$4,(YEAR($A165)-1921)*12+MONTH($A165)+3+IF(ISNUMBER(FIND(\"PRV\",B$6)),1,0)))*IF(AND(B$3>0,TRIM(B$9)=\"CFS\"),Conv_Flags!$C165,1)","v":1177.3290069034133},{"$f":"INDIRECT(CONCATENATE(\"'\",C$1,\"'!\",C$4,(YEAR($A165)-1921)*12+MONTH($A165)+3+IF(ISNUMBER(FIND(\"PRV\",C$6)),1,0)))*IF(AND(C$3>0,TRIM(C$9)=\"CFS\"),Conv_Flags!$C165,1)","v":1287.0606104794037},null,45,45,null,null,0.54320987654320985,2917.5363944853907,2940.4742219757959,3173.1794511364992,3283.0173383451024,3480,3925.3710421797186,4229.6331930462993,4322.1117344385912,3931.6653012556335,3390.6889158039617,3070.1845256235511,2974.9484059074935,null,3491.3939906895484,3490.7876238457288,3516.6738671107087,null,3314.8671762101139,3046.0564109510346,3065.4595211831293,3274.2577602476417,4040.0352691423532,3487.4669092460167,2956.9393103519874,null,0.54320987654320985,2927.7549987616317,2964.7575985229023,3187.8172592397395,3264.7000258146491,3465.2289487673206,3925.3710394011637,4231.6965744630206,4365.4238313067017,3962.5201704741025,3345.3601817831013,3080.8755504852365,2980.4305778301036,null,3500.8110028030183,3501.8355623563184,3532.3235370094949,null,3308.7682961404098,3073.8518278287806,3034.6955950859356,3276.8529985093096,4042.9546317912927,3497.6531359193418,2977.8231429444586]
["1934-07-31",{"$f":"INDIRECT(CONCATENATE(\"'\",B$1,\"'!\",B$4,(YEAR($A166)-1921)*12+MONTH($A166)+3+IF(ISNUMBER(FIND(\"PRV\",B$6)),1,0)))*IF(AND(B$3>0,TRIM(B$9)=\"CFS\"),Conv_Flags!$C166,1)","v":833.60318679002921},{"$f":"INDIRECT(CONCATENATE(\"'\",C$1,\"'!\",C$4,(YEAR($A166)-1921)*12+MONTH($A166)+3+IF(ISNUMBER(FIND(\"PRV\",C$6)),1,0)))*IF(AND(C$3>0,TRIM(C$9)=\"CFS\"),Conv_Flags!$C166,1)","v":949.91640532507745},null,46,46,null,null,0.55555555555555558,2913.0291269635532,2917.2748743972729,3157.629208736259,3265.8939121949984,3462.9964441126663,3902.7167531076043,4216.7998046875,4313.710151423712,3915.1940922749559,3319.6478290586861,3069.7133206155127,2965.4085768069745,null,3475.5588701594097,3475.1078456443006,3513.0448745804138,null,3314.0898317034685,3042.5959624419143,3030.2910715517401,3264.6365440902432,4022.9435796304538,3473.1174085513208,2944.1767576919133,null,0.55555555555555558,2900.0187586210491,2931.7990917176817,3172.856815590435,3252.9331824590304,3462,3912.7675736051938,4216.7998046875,4324.6970258737301,3943.1047804512336,3339.1168913676333,3075.3492884970401,2978.8188281728426,null,3475.4084197160628,3486.824953359388,3500.2176320773519,null,3307.3,3072.8523050545045,3021.8125647272427,3268.0754377687858,4039.1642183515037,3492.4585987615737,2960.2221867514677]
["1934-08-31",{"$f":"INDIRECT(CONCATENATE(\"'\",B$1,\"'!\",B$4,(YEAR($A167)-1921)*12+MONTH($A167)+3+IF(ISNUMBER(FIND(\"PRV\",B$6)),1,0)))*IF(AND(B$3>0,TRIM(B$9)=\"CFS\"),Conv_Flags!$C167,1)","v":609.69787328991561},{"$f":"INDIRECT(CONCATENATE(\"'\",C$1,\"'!\",C$4,(YEAR($A167)-1921)*12+MONTH($A167)+3+IF(ISNUMBER(FIND(\"PRV\",C$6)),1,0)))*IF(AND(C$3>0,TRIM(C$9)=\"CFS\"),Conv_Flags!$C167,1)","v":753.2879508049898},null,47,47,null,null,0.5679012345679012,2910.1402346143241,2890.0056787746421,3141.9640196407508,3264.05848885163,3462,3898.8604415600062,4205.4718943453963,4308.1468141776249,3897.050699469135,3315.2169893758073,3053.8419152787724,2948.7023179099683,null,3424.2975185651771,3442.9356180141317,3487.3353865586892,null,3307.3,3033.5825593850709,3023.0543991613076,3254.6343805162992,4019.1365331419765,3459.2782065454967,2941.9506538897422,null,0.5679012345679012,2898.8115939795439,2884.9850537239654,3167.0613730386731,3252.10009765625,3451.8785644933591,3910.9058415634713,4205.4718943453963,4294.7618204420623,3936.1696733202625,3335.4738777016846,3063.3932939325487,2954.7954157137729,null,3428.8722056631104,3454.1275206843543,3493.4605597831192,null,3294.1927851737591,3056.9263417149141,3019.8435416877737,3224.3483208737757,4030.6245202662712,3483.6760134889651,2954.1797840596555]
["1934-09-30",{"$f":"INDIRECT(CONCATENATE(\"'\",B$1,\"'!\",B$4,(YEAR($A168)-1921)*12+MONTH($A168)+3+IF(ISNUMBER(FIND(\"PRV\",B$6)),1,0)))*IF(AND(B$3>0,TRIM(B$9)=\"CFS\"),Conv_Flags!$C168,1)","v":584.86872479911972},{"$f":"INDIRECT(CONCATENATE(\"'\",C$1,\"'!\",C$4,(YEAR($A168)-1921)*12+MONTH($A168)+3+IF(ISNUMBER(FIND(\"PRV\",C$6)),1,0)))*IF(AND(C$3>0,TRIM(C$9)=\"CFS\"),Conv_Flags!$C168,1)","v":661.466522854755},null,48,48,null,null,0.58024691358024694,2859.6681216695661,2877.4138613327632,3134.2578817414537,3252.10009765625,3437.9795109911643,3873,4202.5244017783098,4286.1395711632576,3880.9255858484748,3304.0446877139657,3030.4185576409122,2946.0294380606024,null,3420.1988132663059,3442.3622981944704,3473.1024366288379,null,3260.4930084945418,3019.8836996018049,3020.6290927984905,3211.806682936076,4014,3442.0537484306724,2938.8245937517563,null,0.58024691358024694,2873.1493078133749,2882.4887444450542,3155.1125748003874,3252.10009765625,3436.1070514067105,3885.0959450978798,4199.7216112591932,4285.2449722721494,3930.5416382096155,3310.9066199646259,3046.042206772011,2941.4760849908089,null,3428.4415751560568,3448.6696612532428,3459.785669902963,null,3242.5439636639626,3046.4980322730848,3011.0742683175645,3210.1262664204837,4027.8224686586782,3478.6446848913279,2899.1108376230845]
["1934-10-31",{"$f":"INDIRECT(CONCATENATE(\"'\",B$1,\"'!\",B$4,(YEAR($A169)-1921)*12+MONTH($A169)+3+IF(ISNUMBER(FIND(\"PRV\",B$6)),1,0)))*IF(AND(B$3>0,TRIM(B$9)=\"CFS\"),Conv_Flags!$C169,1)","v":550.00000000000091},{"$f":"INDIRECT(CONCATENATE(\"'\",C$1,\"'!\",C$4,(YEAR($A169)-1921)*12+MONTH($A169)+3+IF(ISNUMBER(FIND(\"PRV\",C$6)),1,0)))*IF(AND(C$3>0,TRIM(C$9)=\"CFS\"),Conv_Flags!$C169,1)","v":550},null,49,49,null,null,0.59259259259259256,2847.8758628352057,2870.4536179506122,3128.7149356945824,{"$f":"LARGE(M$12:M$93,$E169)","v":3252.10009765625},3436.0977804232248,3841,4199.7216108621969,4255.8235823708183,3829.218778464141,3293.2383680334442,3016.0097129662645,2925.1958322494588,null,3409.4039639483981,3424.5899246798767,3460.2150657141888,null,3255.8236129163643,3014.3878240719682,{"$f":"IF($B$7=\"TEMP\",LARGE(AC$13:AC$93,$F169),LARGE(AC$12:AC$93,$E169))","v":2951.9661284209515},3197.7936046103873,{"$f":"LARGE(AE$12:AE$93,$E169)","v":4004.25},3436.3112506048192,2928.8114212450073,null,0.59259259259259256,2864.6286825995344,2879.350471105191,3149.1104443203722,{"$f":"LARGE(AM$12:AM$93,$E169)","v":3252},3431,3878.1999491618244,4185.3399575597696,4282.5579801744698,3920.9666125176295,3269.3424004985386,2990.1714385688215,2938.3081118737146,null,3391.7824771125124,3417.61873130716,3451.6329667481937,null,3238.5779630288835,3038.463489551747,{"$f":"IF($B$7=\"TEMP\",LARGE(BC$13:BC$93,$F169),LARGE(BC$12:BC$93,$E169))","v":3007.3571282440898},3185.9070931855349,{"$f":"LARGE(BE$12:BE$93,$E169)","v":4014},3424.9719314162962,2892.5189272726425]
["1934-11-30",{"$f":"INDIRECT(CONCATENATE(\"'\",B$1,\"'!\",B$4,(YEAR($A170)-1921)*12+MONTH($A170)+3+IF(ISNUMBER(FIND(\"PRV\",B$6)),1,0)))*IF(AND(B$3>0,TRIM(B$9)=\"CFS\"),Conv_Flags!$C170,1)","v":628.96436466483647},{"$f":"INDIRECT(CONCATENATE(\"'\",C$1,\"'!\",C$4,(YEAR($A170)-1921)*12+MONTH($A170)+3+IF(ISNUMBER(FIND(\"PRV\",C$6)),1,0)))*IF(AND(C$3>0,TRIM(C$9)=\"CFS\"),Conv_Flags!$C170,1)","v":650.55127766951421},null,50,50,null,null,0.60493827160493829,2834.4095606816081,2869.0895569573759,3116.5501144218615,3252,3434.5404551091883,3827.5649433029998,4199.5298883425667,4249.4166541457071,3823.1026904186019,3266.4759371715518,3002.7616808010503,2911.5899342072898,null,3401.5214234082646,3395.9385725371685,3425.1100239524199,null,3245.4455981188553,2996.8294359295583,2918.812262791766,3183.6286580713163,3997.805716559883,3431.2037859129418,2908.7816749184531,null,0.60493827160493829,2836.694452340751,2866.6845698975048,3120.8350392620387,3252,3426.0562332341478,3873,4183.5261857288815,4257.9071506616692,3859.4897502304802,3265.7346751064924,2971.5098519010348,2930.8682201796432,null,3373.6093730310822,3388.4926236520637,3450.7918532052968,null,3237.3515925525958,2985.9246011739792,2947.8034585078644,3173.5933206120094,4004.25,3411.6188667498027,2878.0013490132092]
["1934-12-31",{"$f":"INDIRECT(CONCATENATE(\"'\",B$1,\"'!\",B$4,(YEAR($A171)-1921)*12+MONTH($A171)+3+IF(ISNUMBER(FIND(\"PRV\",B$6)),1,0)))*IF(AND(B$3>0,TRIM(B$9)=\"CFS\"),Conv_Flags!$C171,1)","v":663.93456108192629},{"$f":"INDIRECT(CONCATENATE(\"'\",C$1,\"'!\",C$4,(YEAR($A171)-1921)*12+MONTH($A171)+3+IF(ISNUMBER(FIND(\"PRV\",C$6)),1,0)))*IF(AND(C$3>0,TRIM(C$9)=\"CFS\"),Conv_Flags!$C171,1)","v":707.53058857111284},null,51,51,null,null,0.61728395061728392,2813.6585107333485,2857.8251177540669,3089.9804181311697,3252,3431,3820.6979342563554,4185.3399588863795,4224.1605909329419,3804.9987039329908,3243.9796388128148,2987.8851300275724,2896.0719087262919,null,3393.7443834106216,3385.397346570006,3424.2979237833715,null,3245.3707758000028,2978.6375125359114,2918.1329438395837,3182.5743732004739,3989.3819113314544,3407.0386166046492,2881.6754349250546,null,0.61728395061728392,2808.0913461852001,2850.1945962130612,3072.6995582552631,3252,3423,3841,4181.5005438725657,4247.4519058473334,3847.0213660574536,3254.0970631733908,2968.1436089354934,2916.3720160174889,null,3369.342179226232,3364.814262061238,3428.4558045558229,null,3202.8417529799449,2983.0975157413341,2942.284435378082,3164.0277443320538,3997.0597643425258,3409.2869855574481,2876.5206007872166]
["1935-01-31",{"$f":"INDIRECT(CONCATENATE(\"'\",B$1,\"'!\",B$4,(YEAR($A172)-1921)*12+MONTH($A172)+3+IF(ISNUMBER(FIND(\"PRV\",B$6)),1,0)))*IF(AND(B$3>0,TRIM(B$9)=\"CFS\"),Conv_Flags!$C172,1)","v":935.81759352240192},{"$f":"INDIRECT(CONCATENATE(\"'\",C$1,\"'!\",C$4,(YEAR($A172)-1921)*12+MONTH($A172)+3+IF(ISNUMBER(FIND(\"PRV\",C$6)),1,0)))*IF(AND(C$3>0,TRIM(C$9)=\"CFS\"),Conv_Flags!$C172,1)","v":971.88178228470724},null,52,52,null,null,0.62962962962962965,2812.9186747108029,2838.9749195343179,3075.0531369529317,3252,3425.8399600740822,3803.03818600964,4183.5261852241483,4165.9554706918734,3786.7032040132863,3235.9651446295916,2943.9643467466503,2882.6880020154736,null,3365.1634675320856,3327.6384634630754,3422.1204674504279,null,3150.7452587410812,2966.4317347822921,2905.4392992522617,3158.0059755754846,3982.1696772138216,3397.6350500621884,2860.4695141173565,null,0.62962962962962965,2786.689575312088,2846.8748885854616,3060.4851150745917,3245.046145289924,3418.1054280664243,3827.5649433707667,4173,4195.3562069214049,3813.93909797776,3235.5898857669795,2950.0237001882892,2915.1499372944754,null,3356.005808267962,3351.4050866121411,3420.8083802683163,null,3156.243851584396,2973.8965921619297,2939.946968389278,3155.1757390142934,3979.75,3405.1247400880006,2868.9907807580298]
["1935-02-28",{"$f":"INDIRECT(CONCATENATE(\"'\",B$1,\"'!\",B$4,(YEAR($A173)-1921)*12+MONTH($A173)+3+IF(ISNUMBER(FIND(\"PRV\",B$6)),1,0)))*IF(AND(B$3>0,TRIM(B$9)=\"CFS\"),Conv_Flags!$C173,1)","v":1254.0131640404161},{"$f":"INDIRECT(CONCATENATE(\"'\",C$1,\"'!\",C$4,(YEAR($A173)-1921)*12+MONTH($A173)+3+IF(ISNUMBER(FIND(\"PRV\",C$6)),1,0)))*IF(AND(C$3>0,TRIM(C$9)=\"CFS\"),Conv_Flags!$C173,1)","v":1292.980912661553},null,53,53,null,null,0.64197530864197527,2786.333662371384,2837.3290436873517,2970.0076016739263,3249.8571138520829,3423,3796.8800946642991,4173,4158.1516964796947,3759.8959935556077,3196.6396276887285,2936.3115834250425,2864.7475087002013,null,3362.9770016406787,3320.091306750322,3393.840281585417,null,3122.7536354792751,2921.5601157440856,2891.0411124583352,3104.5666474233053,3979.75,3370.8347435016685,2855.5072313269798,null,0.64197530864197527,2785.3142523452038,2840.7694441212411,2943.5082552717572,3211.7332073309926,3416.8817368434025,3810.6007407233906,4168.1577003501516,4176.7829558819494,3788.1076691973776,3231.2179458104215,2948.8156161751331,2914.9296370912634,null,3355.9787822512358,3323.7967215462436,3420.7573902808181,null,3149.0348238006022,2939.5175798325595,2907.871733906572,3143.2548650246868,3974.5946384595049,3402.7126802704374,2847.8905181516989]
["1935-03-31",{"$f":"INDIRECT(CONCATENATE(\"'\",B$1,\"'!\",B$4,(YEAR($A174)-1921)*12+MONTH($A174)+3+IF(ISNUMBER(FIND(\"PRV\",B$6)),1,0)))*IF(AND(B$3>0,TRIM(B$9)=\"CFS\"),Conv_Flags!$C174,1)","v":1642.8664835452012},{"$f":"INDIRECT(CONCATENATE(\"'\",C$1,\"'!\",C$4,(YEAR($A174)-1921)*12+MONTH($A174)+3+IF(ISNUMBER(FIND(\"PRV\",C$6)),1,0)))*IF(AND(C$3>0,TRIM(C$9)=\"CFS\"),Conv_Flags!$C174,1)","v":1684.2018664329989},null,54,54,null,null,0.65432098765432101,2771.5197470228868,2828.0472487926468,2875.1237385333925,3211.941293401605,3368.4868532130795,3763.4113963836348,4151.7636401387035,4157.5697848644204,3759.76157603504,3176.4583077570101,2915.2613340857097,2858.8194245961022,null,3323.8347292815251,3315.5516395310424,3333.1482291695334,null,3078.4297274455344,2917.5230205590901,2882.0110472704446,3098.1983254968604,3932.5644686738315,3316.1190891441033,2844.9214047294881,null,0.65432098765432101,2763.3944007464506,2819.8688678220947,2929.2586746937786,3183.7557944056362,3389.5248140136887,3796.8800946642991,4151.7636373661517,4160.1106341692575,3754.1305679325401,3230.2012936121318,2944.3456766424933,2896.5736425824757,null,3354.5560479612918,3314.3491187606492,3342.3287935243911,null,3125.8869759806771,2922.2898366968216,2907.3188923000362,3062.456808320152,3945.8654914934264,3374.0737474648608,2847.3188715766314]
["1935-04-30",{"$f":"INDIRECT(CONCATENATE(\"'\",B$1,\"'!\",B$4,(YEAR($A175)-1921)*12+MONTH($A175)+3+IF(ISNUMBER(FIND(\"PRV\",B$6)),1,0)))*IF(AND(B$3>0,TRIM(B$9)=\"CFS\"),Conv_Flags!$C175,1)","v":2680.0169144934284},{"$f":"INDIRECT(CONCATENATE(\"'\",C$1,\"'!\",C$4,(YEAR($A175)-1921)*12+MONTH($A175)+3+IF(ISNUMBER(FIND(\"PRV\",C$6)),1,0)))*IF(AND(C$3>0,TRIM(C$9)=\"CFS\"),Conv_Flags!$C175,1)","v":2721.380358563094},null,55,55,null,null,0.66666666666666663,2738.2456759338857,2812.2150629920134,2865.8538683484285,3172.4370835838163,3292,3756,4137,4112.1718834263738,3728.8317739120644,3155.8818815117716,2913.5706274264276,2856.7774492297785,null,3313.5611554122861,3289.9415884121031,3302.8392105018552,null,3070.0236406788022,2909.8550924147253,2879.6862767539865,2979.5245966690049,3929.4909075253699,3306.6851892324044,2795.867984428141,null,0.66666666666666663,2758.3870997573467,2809.4588623426862,2896.581186912817,3151.3213622407338,3389.2692377198514,3756,4137,4112.0707900236102,3726.8270915894241,3225.8538377066989,2925.0769506541792,2852.5216453764165,null,3348.3200729886044,3310.7950689195932,3283.7988919797881,null,3107.9482810129462,2920.5043097607668,2892.2058689749697,3010.2429626139146,3933.6216471212842,3369.1712410624496,2820.6575504700172]
["1935-05-31",{"$f":"INDIRECT(CONCATENATE(\"'\",B$1,\"'!\",B$4,(YEAR($A176)-1921)*12+MONTH($A176)+3+IF(ISNUMBER(FIND(\"PRV\",B$6)),1,0)))*IF(AND(B$3>0,TRIM(B$9)=\"CFS\"),Conv_Flags!$C176,1)","v":3026.28436914963},{"$f":"INDIRECT(CONCATENATE(\"'\",C$1,\"'!\",C$4,(YEAR($A176)-1921)*12+MONTH($A176)+3+IF(ISNUMBER(FIND(\"PRV\",C$6)),1,0)))*IF(AND(C$3>0,TRIM(C$9)=\"CFS\"),Conv_Flags!$C176,1)","v":3068.8016643578376},null,56,56,null,null,0.67901234567901236,2729.1137723831444,2810.4948056440267,2827.9121893816937,3104.4374810801933,3288,3674.5086693416038,4121.3205893895156,4025.5847969345623,3726.3398979989897,3145.0546419631942,2902.2629920511117,2845.8093992037916,null,3309.7878161772824,3285.7072414533218,3300.1058185679481,null,3069.7544997960149,2871.7617979990214,2861.9902631980012,2963.1471185129885,3875.9415346523178,3306.5323180910091,2783.9235150199493,null,0.67901234567901236,2750.7296958034658,2782.1750240733841,2828.437828868482,3062.5792823843585,3292,3625.2852698394213,4134.6748145871225,4023.9277153311828,3715.5509333051523,3200.238625364912,2905.0392377855615,2849.8082047741595,null,3327.352182675922,3303.7412340271972,3281.0432140011903,null,3091.4165599158355,2908.390101993582,2868.327436420951,3002.6215356516509,3880.0387202794363,3330.2098816898961,2776.4779109308547]
["1935-06-30",{"$f":"INDIRECT(CONCATENATE(\"'\",B$1,\"'!\",B$4,(YEAR($A177)-1921)*12+MONTH($A177)+3+IF(ISNUMBER(FIND(\"PRV\",B$6)),1,0)))*IF(AND(B$3>0,TRIM(B$9)=\"CFS\"),Conv_Flags!$C177,1)","v":2807.7243572458692},{"$f":"INDIRECT(CONCATENATE(\"'\",C$1,\"'!\",C$4,(YEAR($A177)-1921)*12+MONTH($A177)+3+IF(ISNUMBER(FIND(\"PRV\",C$6)),1,0)))*IF(AND(C$3>0,TRIM(C$9)=\"CFS\"),Conv_Flags!$C177,1)","v":2870.1660005618191},null,57,57,null,null,0.69135802469135799,2722.4047624361651,2789.349162396818,2826.9903670284993,3064.8916385797665,3281.5,3663.3009279166363,4094,4000.3368294868028,3677.7176861326693,3139.9077501222669,2873.4473937648163,2815.7863853916474,null,3284.8322766319693,3265.3650873877928,3200.144558453861,null,3034.9527497916702,2869.2689884640895,2846.4807992675574,2941.3208712134037,3875.2794854026429,3288.918692341872,2742.4094797866201,null,0.69135802469135799,2738.6004326235279,2774.9306571428383,2826.6805353622799,3057.5682682315119,3288,3609.2616093543602,4094,4008.7458092995516,3666.2148035456507,3197.8909456588185,2888.3440248796542,2804.2414250935312,null,3306.327252275285,3268.6222146324963,3270.7148556914594,null,3078.0136343102872,2853.9490160057776,2861.4754019019601,2959.3320890439604,3879.4781082544982,3264.3452844867743,2772.1480725211318]
["1935-07-31",{"$f":"INDIRECT(CONCATENATE(\"'\",B$1,\"'!\",B$4,(YEAR($A178)-1921)*12+MONTH($A178)+3+IF(ISNUMBER(FIND(\"PRV\",B$6)),1,0)))*IF(AND(B$3>0,TRIM(B$9)=\"CFS\"),Conv_Flags!$C178,1)","v":2466.752260108774},{"$f":"INDIRECT(CONCATENATE(\"'\",C$1,\"'!\",C$4,(YEAR($A178)-1921)*12+MONTH($A178)+3+IF(ISNUMBER(FIND(\"PRV\",C$6)),1,0)))*IF(AND(C$3>0,TRIM(C$9)=\"CFS\"),Conv_Flags!$C178,1)","v":2525.7622254924258},null,58,58,null,null,0.70370370370370372,2709.5394814798733,2695.0934394984006,2793.3612522836593,3046.3269963238595,3268.4990339800315,3544.0791392596952,4093.2760739027208,3978.0076325338005,3625.9529714565128,3119.0719588030083,2780.7487622224435,2779.6017117746419,null,3262.6020072330557,3252.7863595293038,3195.9988311898633,null,3031.7188461868909,2856.7303374025864,2842.6806516985971,2933.2580431746969,3856.508842341043,3261.5084488213074,2715.6773833978391,null,0.70370370370370372,2722.9892300282072,2755.1257504089258,2799.2915180740538,3039.8951967424805,3281.5,3542.8509074501826,4080.8970221796699,3977.7700242384713,3631.5541908781693,3113.3352457511733,2882.1830430527571,2795.0019439448315,null,3288.3449950782738,3265.9284470491948,3215.0695561351436,null,3044.2231590219053,2852.0238104736382,2849.3718116622258,2937.6747031664036,3856.8527923058155,3263.8788366721919,2770.6919322911522]
["1935-08-31",{"$f":"INDIRECT(CONCATENATE(\"'\",B$1,\"'!\",B$4,(YEAR($A179)-1921)*12+MONTH($A179)+3+IF(ISNUMBER(FIND(\"PRV\",B$6)),1,0)))*IF(AND(B$3>0,TRIM(B$9)=\"CFS\"),Conv_Flags!$C179,1)","v":2180.3592742053966},{"$f":"INDIRECT(CONCATENATE(\"'\",C$1,\"'!\",C$4,(YEAR($A179)-1921)*12+MONTH($A179)+3+IF(ISNUMBER(FIND(\"PRV\",C$6)),1,0)))*IF(AND(C$3>0,TRIM(C$9)=\"CFS\"),Conv_Flags!$C179,1)","v":2237.9803498653309},null,59,59,null,null,0.71604938271604934,2684.5255818055252,2686.7025590380199,2764.5313487293206,3032.6303185555762,3252.1000976562505,3541.5903071339058,4074,3907.916715222339,3578.6352140076251,3114.2186157892352,2763.0397782377063,2725.1023616929929,null,3250.0338161693076,3229.0422529415141,3175.2701487339036,null,3001.7516555081211,2843.238382889926,2840.7643822636164,2932.707512059178,3842.8396721077333,3252.0046801864119,2706.516569665011,null,0.71604938271604934,2687.574177819346,2725.8433373406097,2747.7636763850173,3038.6115578749614,3252.1000976562505,3534,4075.679659037643,3910.3215289595396,3600.8684686539241,3102.0696307840876,2879.8722217492709,2786.9997894282087,null,3261.2426931251739,3257.4589159979146,3206.380375621849,null,3030.6000727348087,2851.2095421844788,2826.4171425698214,2932.5275165925109,3838.6443200833746,3244.3757019617888,2757.344048608325]
["1935-09-30",{"$f":"INDIRECT(CONCATENATE(\"'\",B$1,\"'!\",B$4,(YEAR($A180)-1921)*12+MONTH($A180)+3+IF(ISNUMBER(FIND(\"PRV\",B$6)),1,0)))*IF(AND(B$3>0,TRIM(B$9)=\"CFS\"),Conv_Flags!$C180,1)","v":2083.2823471360589},{"$f":"INDIRECT(CONCATENATE(\"'\",C$1,\"'!\",C$4,(YEAR($A180)-1921)*12+MONTH($A180)+3+IF(ISNUMBER(FIND(\"PRV\",C$6)),1,0)))*IF(AND(C$3>0,TRIM(C$9)=\"CFS\"),Conv_Flags!$C180,1)","v":2145.7157158943323},null,60,60,null,null,0.72839506172839508,2663.8888110700154,2667.4148473933483,2678.6054810396231,3007.9029743547908,3252,3534,4058,3878.1724984794237,3550.108754287256,3082.5226686824585,2761.3528439421079,2713.1268290639487,null,3201.1764064206891,3227.2993197938208,3168.4373887805309,null,2997.404559592328,2758.5915174158995,2840.6415231155761,2906.3312354734885,3835.8682845538142,3193.8079338747875,2702.3930228269769,null,0.72839506172839508,2654.4947576386567,2683.0715122195611,2731.6489912660272,3023.3847253377317,3252,3514.540374148864,4074,3898.9430201245523,3553.0480187276557,3092.9338233512767,2824.8090630387414,2773.8706227003759,null,3243.2334938799809,3237.3478884342799,3202.8966138266874,null,2966.0696755264098,2834.0209510174209,2824.9925133763777,2904.8258542372073,3833.1870878097966,3215.6452321596817,2696.3340837874193]
["1935-10-31",{"$f":"INDIRECT(CONCATENATE(\"'\",B$1,\"'!\",B$4,(YEAR($A181)-1921)*12+MONTH($A181)+3+IF(ISNUMBER(FIND(\"PRV\",B$6)),1,0)))*IF(AND(B$3>0,TRIM(B$9)=\"CFS\"),Conv_Flags!$C181,1)","v":2040.1518023362876},{"$f":"INDIRECT(CONCATENATE(\"'\",C$1,\"'!\",C$4,(YEAR($A181)-1921)*12+MONTH($A181)+3+IF(ISNUMBER(FIND(\"PRV\",C$6)),1,0)))*IF(AND(C$3>0,TRIM(C$9)=\"CFS\"),Conv_Flags!$C181,1)","v":2106.0195615634098},null,61,61,null,null,0.7407407407407407,2622.5854688982986,2662.4784619971679,2668.4335321459744,2960.2092161719447,3252,3503.89990234375,4030.3765964253635,3864.6982732290317,3510.1027009622858,3038.4825111005948,2754.5076770427195,2706.5501064712739,null,{"$f":"LARGE(W$12:W$93,$E181)","v":3166.1463244738547},3216.5085241301017,3157.4598730599828,null,2968.7315000851513,2751.2723963112658,2800.8984202737456,2856.666647589112,3770.3829023510325,3182.7462721751363,2668.2236346709183,null,0.7407407407407407,2633.233895461819,2642.5689046783791,2645.1702338998043,2987.0629787671714,3252,3503.89990234375,4058,3896.5504164649042,3507.8374225551329,3080.6947210077324,2795.3953787252535,2750.2694816878852,null,{"$f":"LARGE(AW$12:AW$93,$E181)","v":3177.4867768806453},3234.531864685634,3177.3243519181956,null,2940.1174729247023,2817.0004989092045,2784.5091554040177,2904.8236088628819,3812.3474679995943,3180.8104529896609,2696.1547838401584]
["1935-11-30",{"$f":"INDIRECT(CONCATENATE(\"'\",B$1,\"'!\",B$4,(YEAR($A182)-1921)*12+MONTH($A182)+3+IF(ISNUMBER(FIND(\"PRV\",B$6)),1,0)))*IF(AND(B$3>0,TRIM(B$9)=\"CFS\"),Conv_Flags!$C182,1)","v":1988.8388443954054},{"$f":"INDIRECT(CONCATENATE(\"'\",C$1,\"'!\",C$4,(YEAR($A182)-1921)*12+MONTH($A182)+3+IF(ISNUMBER(FIND(\"PRV\",C$6)),1,0)))*IF(AND(C$3>0,TRIM(C$9)=\"CFS\"),Conv_Flags!$C182,1)","v":2058.1979371463981},null,62,62,null,null,0.75308641975308643,2596.5601090051255,2605.4987901811364,2646.6890243227781,2917.3855683074053,3252,3435,4024.1176380790671,3858.3364799238902,3446.7731578756006,3015.763565033139,2747.359088366873,2702.0923582392597,null,3155.8690286479505,3191.0268670929672,3153.8385742315149,null,2913.9592454957806,2746.680785778321,2723.3407160013585,2853.7941080894893,3770.0943200789893,3106.2296405059851,2653.0520209867341,null,0.75308641975308643,2611.5533976175388,2636.6657239659244,2618.4856289534855,2984.2353614914127,3252,3435,4045.8427365877264,3874.7154360194186,3505.4041886358236,3076.2862303071943,2759.0488729416697,2723.9825798363072,null,3171.0928439631339,3164.3891129430849,3170.2932606958543,null,2886.4226895464217,2816.0644478067406,2693.0004591028378,2804.9379345377033,3769.4294635644637,3169.2498569132467,2674.7589586344106]
["1935-12-31",{"$f":"INDIRECT(CONCATENATE(\"'\",B$1,\"'!\",B$4,(YEAR($A183)-1921)*12+MONTH($A183)+3+IF(ISNUMBER(FIND(\"PRV\",B$6)),1,0)))*IF(AND(B$3>0,TRIM(B$9)=\"CFS\"),Conv_Flags!$C183,1)","v":1996.5705550925197},{"$f":"INDIRECT(CONCATENATE(\"'\",C$1,\"'!\",C$4,(YEAR($A183)-1921)*12+MONTH($A183)+3+IF(ISNUMBER(FIND(\"PRV\",C$6)),1,0)))*IF(AND(C$3>0,TRIM(C$9)=\"CFS\"),Conv_Flags!$C183,1)","v":2060.7820614737975},null,63,63,null,null,0.76543209876543206,2591.8591370557542,2588.9847284478674,2616.5142806583112,2874.4169273451766,3252,3417,4023.8923042700189,3833.7062948592838,3363.5750237877096,2983.155160214545,2727.8834327964064,2623.2239654634745,null,3136.1302590484961,3185.8761960067477,3141.8697506706108,null,2876.667091331115,2714.300496642119,2649.2868324328097,2835.9348353349051,3737.1199585857512,3104.7330422876576,2618.5337565537634,null,0.76543209876543206,2571.1224411303388,2577.2910540106277,2610.078496629555,2916.1547364869366,3252,3417,4030.3765931319599,3857.6357972064775,3419.490590002441,3054.2875953565112,2756.6422886929372,2599.9519494661813,null,3159.0267458697217,3161.0989250318639,3127.3570869350019,null,2837.2165174733564,2732.0688057751613,2686.0705257956711,2769.7864932413322,3760.7462126974706,3148.3175154861528,2618.3112475631747]
["1936-01-31",{"$f":"INDIRECT(CONCATENATE(\"'\",B$1,\"'!\",B$4,(YEAR($A184)-1921)*12+MONTH($A184)+3+IF(ISNUMBER(FIND(\"PRV\",B$6)),1,0)))*IF(AND(B$3>0,TRIM(B$9)=\"CFS\"),Conv_Flags!$C184,1)","v":2647.2021453321117},{"$f":"INDIRECT(CONCATENATE(\"'\",C$1,\"'!\",C$4,(YEAR($A184)-1921)*12+MONTH($A184)+3+IF(ISNUMBER(FIND(\"PRV\",C$6)),1,0)))*IF(AND(C$3>0,TRIM(C$9)=\"CFS\"),Conv_Flags!$C184,1)","v":2711.365027395756},null,64,64,null,null,0.77777777777777779,2429.7153204799042,2538.8508837566224,2513.3107506321194,2864.3121111577639,3228.2356956441076,3416.5,3994.5818071189879,3764.4606877586871,3316.7179061147713,2981.5592787422747,2694.4871211371687,2618.7990690369811,null,3134.9293779792192,3106.2130211829917,3126.1471160113142,null,2865.083172053538,2709.0148774187301,2632.4793191907579,2776.2200694899057,3711.6541355954892,3066.1220970329409,2529.615678953895,null,0.77777777777777779,2501.5956487907852,2531.3976954841073,2552.4473773933314,2875.4815778174684,3227.0058114115786,3416.5,4018.4284879384854,3843.3318254668848,3374.483493389218,3021.9421017570839,2754.0256244185457,2583.4773816546108,null,3142.9340814381176,3159.8397638834335,3125.9731144817993,null,2784.8811928475202,2719.1757334503982,2619.426033983897,2748.3271773537435,3732.6606846402797,3130.4550497127825,2513.2075540595233]
["1936-02-29",{"$f":"INDIRECT(CONCATENATE(\"'\",B$1,\"'!\",B$4,(YEAR($A185)-1921)*12+MONTH($A185)+3+IF(ISNUMBER(FIND(\"PRV\",B$6)),1,0)))*IF(AND(B$3>0,TRIM(B$9)=\"CFS\"),Conv_Flags!$C185,1)","v":3567.2250764989794},{"$f":"INDIRECT(CONCATENATE(\"'\",C$1,\"'!\",C$4,(YEAR($A185)-1921)*12+MONTH($A185)+3+IF(ISNUMBER(FIND(\"PRV\",C$6)),1,0)))*IF(AND(C$3>0,TRIM(C$9)=\"CFS\"),Conv_Flags!$C185,1)","v":3588},null,65,65,null,null,{"$f":"($E185-1)/($E$202-1)","v":0.79012345679012341},2393.6463708688207,2452.4462392028431,2478.2216980540015,{"$f":"LARGE(M$12:M$93,$E185)","v":2855.5365278081076},3225.6791042487921,3416,3985.5452013838667,3729.1096651659109,3302.5000867308722,2903.7544447694991,2685.5215183130645,2500,null,3132.2486568443583,2993.2225469603832,3124.942251018299,null,2751.4958836968476,2657.3987543916151,{"$f":"IF($B$7=\"TEMP\",LARGE(AC$13:AC$93,$F185),LARGE(AC$12:AC$93,$E185))","v":2549.5959086273733},2721.0938188025598,{"$f":"LARGE(AE$12:AE$93,$E185)","v":3681.1498759551409},3021.9781175305338,2418.5905854157204,null,{"$f":"($E185-1)/($E$202-1)","v":0.79012345679012341},2376.5665676945414,2472.442559113209,2441.8475345113261,{"$f":"LARGE(AM$12:AM$93,$E185)","v":2836.6307669049279},3219.2532576786571,3416,3972.7480280149989,3780.9609910901017,3331.8634401082345,2978.3239911480282,2639.7792071802614,2566.5104350087381,null,3104.8810928432977,3055.3220030884081,3092.504379582499,null,2744.8327263380443,2676.345177379932,{"$f":"IF($B$7=\"TEMP\",LARGE(BC$13:BC$93,$F185),LARGE(BC$12:BC$93,$E185))","v":2608.5589786293558},2689.5581661672136,{"$f":"LARGE(BE$12:BE$93,$E185)","v":3707.6529997023631},3084.2279976312152,2491.5154680114592]
["1936-03-31",{"$f":"INDIRECT(CONCATENATE(\"'\",B$1,\"'!\",B$4,(YEAR($A186)-1921)*12+MONTH($A186)+3+IF(ISNUMBER(FIND(\"PRV\",B$6)),1,0)))*IF(AND(B$3>0,TRIM(B$9)=\"CFS\"),Conv_Flags!$C186,1)","v":3936.1220566509019},{"$f":"INDIRECT(CONCATENATE(\"'\",C$1,\"'!\",C$4,(YEAR($A186)-1921)*12+MONTH($A186)+3+IF(ISNUMBER(FIND(\"PRV\",C$6)),1,0)))*IF(AND(C$3>0,TRIM(C$9)=\"CFS\"),Conv_Flags!$C186,1)","v":3956.8692814137421},null,66,66,null,null,0.80246913580246915,{"$f":"IF($B$7=\"TEMP\",LARGE(J$13:J$93,$F186),LARGE(J$12:J$93,$E186))","v":2316.9725144320169},2260.2438384810207,2402.2200501735638,2834.5037018425055,3214.8727762060635,3416,3933.67757042839,3722.8117264016328,3261.6072312813799,2863.1227164681595,2561.4659640549562,2485.5551250883532,null,3002.1418104420554,2979.7643803644919,{"$f":"IF($B$7=\"TEMP\",LARGE(Y$13:Y$93,$F186),LARGE(Y$12:Y$93,$E186))","v":3062.8042040315922},null,{"$f":"IF($B$7=\"TEMP\",LARGE(AA$13:AA$93,$F186),LARGE(AA$12:AA$93,$E186))","v":2674.5721598723462},2551.6860144852917,2396.043500687585,2632.0471798812837,3678.0789449808567,2947.6442535717829,2370.6511043509759,null,0.80246913580246915,{"$f":"IF($B$7=\"TEMP\",LARGE(AJ$13:AJ$93,$F186),LARGE(AJ$12:AJ$93,$E186))","v":2365.3889355277051},2289.8986882706149,2428.8963121818629,2736.7759997853032,3187.7930824931259,3416,3945.4732038777897,3715.8384479874635,3246.2949461422754,2856.3934791012366,2541.9892147951418,2471.6767650258375,null,2984.6786015047469,2969.0378472105608,{"$f":"IF($B$7=\"TEMP\",LARGE(AY$13:AY$93,$F186),LARGE(AY$12:AY$93,$E186))","v":3071.6174254029229},null,{"$f":"IF($B$7=\"TEMP\",LARGE(BA$13:BA$93,$F186),LARGE(BA$12:BA$93,$E186))","v":2689.9578895009058},2532.9181033836612,2396.4869922818925,2631.5612818932168,3690.4652927870029,2909.6305139857513,2358.2493508411626]
["1936-04-30",{"$f":"INDIRECT(CONCATENATE(\"'\",B$1,\"'!\",B$4,(YEAR($A187)-1921)*12+MONTH($A187)+3+IF(ISNUMBER(FIND(\"PRV\",B$6)),1,0)))*IF(AND(B$3>0,TRIM(B$9)=\"CFS\"),Conv_Flags!$C187,1)","v":4229.6331930462993},{"$f":"INDIRECT(CONCATENATE(\"'\",C$1,\"'!\",C$4,(YEAR($A187)-1921)*12+MONTH($A187)+3+IF(ISNUMBER(FIND(\"PRV\",C$6)),1,0)))*IF(AND(C$3>0,TRIM(C$9)=\"CFS\"),Conv_Flags!$C187,1)","v":4250.3434366225965},null,67,67,null,null,0.81481481481481477,2273.216041858936,2226.6955593442303,2365.6996730508249,2702.714336438326,3125.4884676513402,3416,3851.1558327831372,3713.6559659057029,3200,2822.4275377563113,2502.994460755986,2455.3301515970111,null,2941.4294941366315,2961.3027777553289,3011.4780123519922,null,2637.594710162522,2516.1240759343614,2385.8747521981682,2529.4271418274575,3650.3381541660842,2904.6047457924178,2330.7367121647812,null,0.81481481481481477,2304.8472334463581,2255.1994261049763,2352.0503925107505,2711.365027395756,3079.9513440136739,3416,3890.9172547391313,3676.2265129133139,3228.9711092128205,2793.6100929654681,2492.3122683054416,2443.655909611743,null,2943.8165881857954,2923.889870820321,2989.5711754976819,null,2675.2476957606132,2505.4503686005287,2378.7208267930632,2568.2027729063425,3662.7767592964365,2891.3059306040986,2338.5740830733575]
["1936-05-31",{"$f":"INDIRECT(CONCATENATE(\"'\",B$1,\"'!\",B$4,(YEAR($A188)-1921)*12+MONTH($A188)+3+IF(ISNUMBER(FIND(\"PRV\",B$6)),1,0)))*IF(AND(B$3>0,TRIM(B$9)=\"CFS\"),Conv_Flags!$C188,1)","v":4157.5697848644204},{"$f":"INDIRECT(CONCATENATE(\"'\",C$1,\"'!\",C$4,(YEAR($A188)-1921)*12+MONTH($A188)+3+IF(ISNUMBER(FIND(\"PRV\",C$6)),1,0)))*IF(AND(C$3>0,TRIM(C$9)=\"CFS\"),Conv_Flags!$C188,1)","v":4176.7829558819494},null,68,68,null,null,0.8271604938271605,2249.5271491817234,2217.7523404095778,2276.1844000804281,2647.2021453321117,3062.5350887724599,3390.157316167014,3747.0290194788195,3635.7031809894688,3198.5065939077872,2742.6995840697668,2415.491948401364,2421.5892334398227,null,2932.4721295983641,2888.8832199562275,2996.5452794679659,null,2633.5076291350588,2444.3981828223109,2321.8529184951262,2473.9348869572746,3591.1465865987257,2843.934523380437,2237.8526236645898,null,0.8271604938271605,2304.3723766675653,2217.0267745487185,2343.5073379404535,2666.3657092414178,2943.895572678864,3369.0416691264172,3745.8027770152917,3659.385589406997,3200.9648566256351,2703.9635804589761,2420.236405169243,2395.812525450785,null,2894.9932175771087,2895.606102084284,2987.3735815734744,null,2671.948983642741,2438.9617460122149,2352.8711120113312,2531.7486858142506,3592.9784373590733,2822.0235381944058,2292.8904862098348]
["1936-06-30",{"$f":"INDIRECT(CONCATENATE(\"'\",B$1,\"'!\",B$4,(YEAR($A189)-1921)*12+MONTH($A189)+3+IF(ISNUMBER(FIND(\"PRV\",B$6)),1,0)))*IF(AND(B$3>0,TRIM(B$9)=\"CFS\"),Conv_Flags!$C189,1)","v":3969.6734914214076},{"$f":"INDIRECT(CONCATENATE(\"'\",C$1,\"'!\",C$4,(YEAR($A189)-1921)*12+MONTH($A189)+3+IF(ISNUMBER(FIND(\"PRV\",C$6)),1,0)))*IF(AND(C$3>0,TRIM(C$9)=\"CFS\"),Conv_Flags!$C189,1)","v":3987.6457064937622},null,69,69,null,null,0.83950617283950613,2198.630519956268,2176.3068332918133,2271.1066286763489,2540.517783263128,2945.4493313253447,3375.4579680582951,3726.0186695523694,3634.1749227818464,3188.9003538359716,2701.545974845757,2412.5639177606581,2304.3205955388407,null,2841.0786478774935,2678.0982328047526,2962.9676375938907,null,2514.9115989741535,2377.7493213941066,2280.5976344548508,2429.4721107500091,3585.5671378510178,2824.9034948390458,2234.8145639133622,null,0.83950617283950613,2208.5912935625556,2174.9462739447858,2203.9905689844672,2607.7955797688569,2939.7405186029127,3344.6848159603633,3673.0822688841226,3585.3356371579353,3166.4948956010917,2700.9742739599515,2402.4972773307918,2392.2434259147335,null,2819.1446783840797,2679.8031641439593,2972.15976398674,null,2539.7431139449004,2408.0614381665273,2282.6281930391506,2497.5686791541302,3542.2451222250802,2807.9080640382372,2238.5787845087602]
["1936-07-31",{"$f":"INDIRECT(CONCATENATE(\"'\",B$1,\"'!\",B$4,(YEAR($A190)-1921)*12+MONTH($A190)+3+IF(ISNUMBER(FIND(\"PRV\",B$6)),1,0)))*IF(AND(B$3>0,TRIM(B$9)=\"CFS\"),Conv_Flags!$C190,1)","v":3492.4674038274784},{"$f":"INDIRECT(CONCATENATE(\"'\",C$1,\"'!\",C$4,(YEAR($A190)-1921)*12+MONTH($A190)+3+IF(ISNUMBER(FIND(\"PRV\",C$6)),1,0)))*IF(AND(C$3>0,TRIM(C$9)=\"CFS\"),Conv_Flags!$C190,1)","v":3526.0974581540731},null,70,70,null,null,0.85185185185185186,2150.5995583017507,2105.9587587263009,2171.3459013243382,2488.440251540731,2725.6759574033663,3319.8494092815731,3491.5268785796966,3526.058997731282,3155.9538606199467,2671.4986820454224,2353.4055115178285,2294.6397645009561,null,2784.5061732165846,2656.4046008044015,2799.5949050025779,null,2469.0156939140707,2364.2635693525049,2261.526803539728,2408.9234320380906,3371.5687035681631,2798.1646366578452,2201.09867442525,null,0.85185185185185186,2201.9637251855606,2161.1272641829187,2169.0317927646583,2527.5535341377768,2792.9075512355439,3314.1485204917872,3485.1257579837315,3496.7901481231393,3155.9978141328847,2695.5747307248125,2373.5890052875429,2308.164143905874,null,2787.412125028166,2653.2641660528097,2798.8185915940267,null,2509.8445941203645,2369.423281277474,2268.4031455667218,2420.8698974956055,3337.7665129415736,2796.8677532662841,2226.6301761227687]
["1936-08-31",{"$f":"INDIRECT(CONCATENATE(\"'\",B$1,\"'!\",B$4,(YEAR($A191)-1921)*12+MONTH($A191)+3+IF(ISNUMBER(FIND(\"PRV\",B$6)),1,0)))*IF(AND(B$3>0,TRIM(B$9)=\"CFS\"),Conv_Flags!$C191,1)","v":3070.5984796511002},{"$f":"INDIRECT(CONCATENATE(\"'\",C$1,\"'!\",C$4,(YEAR($A191)-1921)*12+MONTH($A191)+3+IF(ISNUMBER(FIND(\"PRV\",C$6)),1,0)))*IF(AND(C$3>0,TRIM(C$9)=\"CFS\"),Conv_Flags!$C191,1)","v":3099.6656656029327},null,71,71,null,null,0.86419753086419748,2150.5425889956523,2067.8079994794925,2065.7641156903514,2466.7865920152067,2637.297243382834,3213.9328467439104,3376.510650907996,3379.1607310166119,3005.8582034201268,2642.1481157913126,2323.0959525137996,2270.2534174272696,null,2595.1342134498796,2543.1281670521025,2782.5295028837427,null,2280.6039060315202,2322.9809775317012,2191.2108314526663,2263.8498040084855,3340.4785578722658,2693.1972119321908,2199.7344577732765,null,0.86419753086419748,2141.7950621021082,2099.5183150252656,2159.2579197064979,2453.1469235056879,2699.5064480126175,3252.9670384283204,3425.7928689643245,3400.8266882003968,3064.5423780984679,2665.6598619746424,2341.2581770412198,2287.087670088169,null,2690.0882337287762,2632.6764491716663,2777.9059524246691,null,2421.543668731475,2359.6824550981332,2248.9127956258044,2396.7146764071367,3335.9495932873074,2771.319355196063,2223.5143163396174]
["1936-09-30",{"$f":"INDIRECT(CONCATENATE(\"'\",B$1,\"'!\",B$4,(YEAR($A192)-1921)*12+MONTH($A192)+3+IF(ISNUMBER(FIND(\"PRV\",B$6)),1,0)))*IF(AND(B$3>0,TRIM(B$9)=\"CFS\"),Conv_Flags!$C192,1)","v":2925.1958322494588},{"$f":"INDIRECT(CONCATENATE(\"'\",C$1,\"'!\",C$4,(YEAR($A192)-1921)*12+MONTH($A192)+3+IF(ISNUMBER(FIND(\"PRV\",C$6)),1,0)))*IF(AND(C$3>0,TRIM(C$9)=\"CFS\"),Conv_Flags!$C192,1)","v":2954.7954157137729},null,72,72,null,null,0.87654320987654322,2066.0073354165052,2062.5704169721575,2037.4338247059516,2237.6099634364546,2567.5620564379074,3130.8081842416045,3363.7971441256441,3337.0460280845068,3001.4461222804798,2633.4912550835738,2302.3156781213029,2241.5261424059145,null,2325.3518975205639,2427.272869128305,2509.1963992324122,null,2160.1543914178119,2304.7904633899175,2098.9249883371735,2113.8729028936823,3162.7557598208532,2687.3899097372459,2069.3444029242492,null,0.87654320987654322,2107.264456350882,2074.1455410612675,2099.7523854261981,2408.4546769555282,2606.6459096974586,3192.9304437447508,3346.4679426048151,3377.3309161812722,3005.3468020369583,2632.1297574857776,2337.0714278084247,2265.0496910948723,null,2400.7037421894352,2481.531064062267,2583.1552131153235,null,2265.6037963372983,2325.3349916848069,2179.4949419710497,2221.6399953385858,3225.3936034912535,2699.9812600505065,2133.2748069878685]
["1936-10-31",{"$f":"INDIRECT(CONCATENATE(\"'\",B$1,\"'!\",B$4,(YEAR($A193)-1921)*12+MONTH($A193)+3+IF(ISNUMBER(FIND(\"PRV\",B$6)),1,0)))*IF(AND(B$3>0,TRIM(B$9)=\"CFS\"),Conv_Flags!$C193,1)","v":2771.5197470228868},{"$f":"INDIRECT(CONCATENATE(\"'\",C$1,\"'!\",C$4,(YEAR($A193)-1921)*12+MONTH($A193)+3+IF(ISNUMBER(FIND(\"PRV\",C$6)),1,0)))*IF(AND(C$3>0,TRIM(C$9)=\"CFS\"),Conv_Flags!$C193,1)","v":2808.0913461852001},null,73,73,null,null,0.88888888888888884,2040.1518023362876,1988.8388443954054,2005.7186892332386,2083.6888146090878,2528.3242236154601,2896.6799349687722,3074.7996947920692,3026.28436914963,2807.7243572458692,2466.752260108774,2180.3592742053966,2083.2823471360589,null,2091.8898304392819,2292.7446863666296,2456.9783882248471,null,2111.9474092433898,2172.364550854662,2097.7008620145743,2068.0352676234033,2870.2546856949048,2502.4048124257206,1723.0657494158006,null,0.88888888888888884,2106.0195615634098,2058.1979371463981,2070.6226671286081,2299.8846384802309,2514.6940003049658,2963.8238894903575,3141.0941582917235,3068.8016643578376,2870.1660005618191,2525.7622254924258,2237.9803498653309,2145.7157158943323,null,2145.3225363581423,2367.2610718134724,2534.1086823059877,null,2224.762929349391,2233.1956530958601,2163.3849829571623,2176.1681844704331,2934.562347270582,2560.2918165114156,1811.6588924819225]
["1936-11-30",{"$f":"INDIRECT(CONCATENATE(\"'\",B$1,\"'!\",B$4,(YEAR($A194)-1921)*12+MONTH($A194)+3+IF(ISNUMBER(FIND(\"PRV\",B$6)),1,0)))*IF(AND(B$3>0,TRIM(B$9)=\"CFS\"),Conv_Flags!$C194,1)","v":2605.4987901811364},{"$f":"INDIRECT(CONCATENATE(\"'\",C$1,\"'!\",C$4,(YEAR($A194)-1921)*12+MONTH($A194)+3+IF(ISNUMBER(FIND(\"PRV\",C$6)),1,0)))*IF(AND(C$3>0,TRIM(C$9)=\"CFS\"),Conv_Flags!$C194,1)","v":2642.5689046783791},null,74,74,null,null,0.90123456790123457,1654.3484714971426,1495.8525976944479,1996.5705550925197,2083.3691602558251,2471.3201180694291,2795.9487017991391,2806.1614887714995,2842.6992809523636,2608.0037067294634,2305.6360119736401,1911.3060567267712,1811.2694495396497,null,1955.489494159862,1925.5996405499754,2330.4459446833825,null,2109.5435625429686,1900.8559160006041,1803.0186500963985,2034.3558098663798,2572.5411904890066,2287.9825351689706,1615.6862389603941,null,0.90123456790123457,1739.9546839168206,1558.2286109971249,2060.7820614737975,2236.7950836885498,2468.6536471353979,2759.6289597871182,2745.7843677979158,2907.7783437339831,2658.1984438969839,2414.8205626911326,2016.3660175882205,1907.7246792362739,null,1907.2967451202624,1859.0915597796422,2279.2157000843913,null,2076.0590358837835,2000.4927733761572,1875.4350847995991,2008.637863478416,2529.3843715093499,2374.284133915367,1551.9481836441435]
["1936-12-31",{"$f":"INDIRECT(CONCATENATE(\"'\",B$1,\"'!\",B$4,(YEAR($A195)-1921)*12+MONTH($A195)+3+IF(ISNUMBER(FIND(\"PRV\",B$6)),1,0)))*IF(AND(B$3>0,TRIM(B$9)=\"CFS\"),Conv_Flags!$C195,1)","v":2513.3107506321194},{"$f":"INDIRECT(CONCATENATE(\"'\",C$1,\"'!\",C$4,(YEAR($A195)-1921)*12+MONTH($A195)+3+IF(ISNUMBER(FIND(\"PRV\",C$6)),1,0)))*IF(AND(C$3>0,TRIM(C$9)=\"CFS\"),Conv_Flags!$C195,1)","v":2552.4473773933314},null,75,75,null,null,0.9135802469135802,1612.0493387291856,1438.6479951715048,1435.3021150236962,1956.2695731959545,2167.4654897901351,2556.4347646315114,2689.6629173790507,2497.6054943953927,2239.1945742574185,1935.642270939577,1720.4596813330895,1655.4555398996997,null,1941.1205236204635,1837.8126324704253,2128.2431620340112,null,2046.1869992376123,1716.587008689057,1512.18990300164,1965.8116653960203,2479.2606379846015,1992.956760919408,1173.2837547414792,null,0.9135802469135802,1543.4251301832537,1378.9155498342307,1406.7047288668209,1920.0590101984731,2320.7071906926976,2495.899888920113,2721.380358563094,2447.161940430185,2172.7664999806902,1863.6605782133427,1658.3082137582944,1593.8075389529133,null,1889.7074366510813,1823.8516058243188,2076.3103673898581,null,2048.261960850326,1651.8862023031686,1449.6170352933007,1969.2699347505434,2428.5350054090918,1925.9940743260522,1288.599236070793]
["1937-01-31",{"$f":"INDIRECT(CONCATENATE(\"'\",B$1,\"'!\",B$4,(YEAR($A196)-1921)*12+MONTH($A196)+3+IF(ISNUMBER(FIND(\"PRV\",B$6)),1,0)))*IF(AND(B$3>0,TRIM(B$9)=\"CFS\"),Conv_Flags!$C196,1)","v":2488.440251540731},{"$f":"INDIRECT(CONCATENATE(\"'\",C$1,\"'!\",C$4,(YEAR($A196)-1921)*12+MONTH($A196)+3+IF(ISNUMBER(FIND(\"PRV\",C$6)),1,0)))*IF(AND(C$3>0,TRIM(C$9)=\"CFS\"),Conv_Flags!$C196,1)","v":2527.5535341377768},null,76,76,null,null,0.92592592592592593,1141.5577187578222,1302.5089652373445,1416.7468491840048,1756.0961448264825,2113.2871917465195,2410.2607703737222,2680.0169144934284,2485.8206062026843,2023.9641929189033,1595.2957641876797,1316.502327325431,1201.9283513517476,null,1684.3448987985773,1738.0169225389725,1808.2967156143911,null,1925.6672602442316,1283.4404403245419,1321.5569884049146,1757.8845296400384,2399.8924511074997,1621.7319440495203,1167.8333830557706,null,0.92592592592592593,1235.3222824062129,1292.4602264830664,1374.5464590962872,1753.4277391694893,2273.2263526882252,2483.6167926536982,2657.3165642037388,2424.6744717508486,2028.5034154732832,1710.4766291224234,1423.539655741577,1321.8055085539861,null,1657.6477101802127,1720.9874048910679,1972.1111584360333,null,1920.9440383884387,1406.0815400199606,1316.8864286188259,1754.131494573249,2388.9893364914042,1735.2281068759587,1171.6089707588055]
["1937-02-28",{"$f":"INDIRECT(CONCATENATE(\"'\",B$1,\"'!\",B$4,(YEAR($A197)-1921)*12+MONTH($A197)+3+IF(ISNUMBER(FIND(\"PRV\",B$6)),1,0)))*IF(AND(B$3>0,TRIM(B$9)=\"CFS\"),Conv_Flags!$C197,1)","v":2567.5620564379074},{"$f":"INDIRECT(CONCATENATE(\"'\",C$1,\"'!\",C$4,(YEAR($A197)-1921)*12+MONTH($A197)+3+IF(ISNUMBER(FIND(\"PRV\",C$6)),1,0)))*IF(AND(C$3>0,TRIM(C$9)=\"CFS\"),Conv_Flags!$C197,1)","v":2606.6459096974586},null,77,77,null,null,0.93827160493827155,1109.5888212808916,1067.4636257439142,1106.865359881052,1732.9275914547659,2022.2963660377436,2330.6270216294351,2579.2259284652487,2339.7659898418215,1867.0392170995694,1554.1924633120038,1218.2756268434694,1117.9012494262086,null,1466.28917010843,1406.4415861070684,1808.0150160573987,null,1736.7179904596567,1216.6464837656235,1103.6001368206414,1560.444831582452,2345.0091319578505,1582.5847660772042,1023.8515516782335,null,0.93827160493827155,1138.3021508671263,1193.8001787627827,1180.4142938538682,1739.5893823099368,2052.6505846086734,2333.9269750834374,2503.0622507277872,2307.2185331952796,1997.9370643676352,1579.230974819269,1219.4536279222286,1120.5678342066424,null,1638.3522230997771,1556.2830211623379,1785.5793951962271,null,1734.928963269112,1213.4550889246934,1217.1907823568577,1510.2844470734101,2325.6788071422816,1606.4222904877781,1026.3170769697583]
["1937-03-31",{"$f":"INDIRECT(CONCATENATE(\"'\",B$1,\"'!\",B$4,(YEAR($A198)-1921)*12+MONTH($A198)+3+IF(ISNUMBER(FIND(\"PRV\",B$6)),1,0)))*IF(AND(B$3>0,TRIM(B$9)=\"CFS\"),Conv_Flags!$C198,1)","v":3213.9328467439104},{"$f":"INDIRECT(CONCATENATE(\"'\",C$1,\"'!\",C$4,(YEAR($A198)-1921)*12+MONTH($A198)+3+IF(ISNUMBER(FIND(\"PRV\",C$6)),1,0)))*IF(AND(C$3>0,TRIM(C$9)=\"CFS\"),Conv_Flags!$C198,1)","v":3252.9670384283204},null,78,78,null,null,0.95061728395061729,1013.3150236215539,878.39726363201009,1048.2521574620607,1470.064786264647,1985.7606481338537,1902.1196602988023,2254.455135551314,2040.4023325435758,1838.4789317237203,1485.9674312965633,1086.9826882554469,1075.5496554694173,null,1415.3279773767117,1369.0382651923967,1743.3346407661611,null,1708.3088279773433,1155.6125792098271,1089.6427669323127,1512.6067318527512,2107.9867414551973,1575.0289737184044,877.38101285314895,null,0.95061728395061729,1015.2761476460844,877.80891629286566,1104.1943203366095,1409.3544651659486,1909.3365620334148,2081.3127958849223,2422.3332167024128,2234.979945779116,1866.704085144589,1573.4520986612956,1215.5716659022762,1087.2526407291489,null,1570.6473131693849,1475.4214593156166,1765.9483564167301,null,1647.0259136513646,1184.4463966724443,1103.8817382721093,1499.894663827896,2270.2072628894039,1559.6458887675365,1016.7984890650945]
["1937-04-30",{"$f":"INDIRECT(CONCATENATE(\"'\",B$1,\"'!\",B$4,(YEAR($A199)-1921)*12+MONTH($A199)+3+IF(ISNUMBER(FIND(\"PRV\",B$6)),1,0)))*IF(AND(B$3>0,TRIM(B$9)=\"CFS\"),Conv_Flags!$C199,1)","v":3933.67757042839},{"$f":"INDIRECT(CONCATENATE(\"'\",C$1,\"'!\",C$4,(YEAR($A199)-1921)*12+MONTH($A199)+3+IF(ISNUMBER(FIND(\"PRV\",C$6)),1,0)))*IF(AND(C$3>0,TRIM(C$9)=\"CFS\"),Conv_Flags!$C199,1)","v":3972.7480280149989},null,79,79,null,null,0.96296296296296291,798.04684896886306,681.46233595034562,964.51806884288408,1090.8282399250522,1406.125052876584,1698.827522700539,1908.0097424080302,1951.1996702482818,1720.2093737818325,1432.5319728951663,1079.3907230754264,953.66966007769781,null,1259.7077680571385,1301.4390044543522,1644.1044689057362,null,1137.1839844315996,1049.449931361713,944.18163312886804,1065.7614137937273,1772.8385073727829,1411.3520681048192,754.88961390629663,null,0.96296296296296291,927.57766811051988,855.55865080895228,1004.6073591955935,1239.9696417040884,1555.1240202204192,1856.5732135077344,2078.9913180676654,2119.2040799373644,1842.8512850236625,1462.3854584232931,1166.8724872368812,1083.0673984562668,null,1406.060133022014,1436.4878044418263,1743.8360888148206,null,1270.0247650920771,1154.575804336642,978.506201000646,1196.8729352687378,1962.1939058673461,1552.9859937901788,944.12988145684642]
["1937-05-31",{"$f":"INDIRECT(CONCATENATE(\"'\",B$1,\"'!\",B$4,(YEAR($A200)-1921)*12+MONTH($A200)+3+IF(ISNUMBER(FIND(\"PRV\",B$6)),1,0)))*IF(AND(B$3>0,TRIM(B$9)=\"CFS\"),Conv_Flags!$C200,1)","v":4158.1516964796947},{"$f":"INDIRECT(CONCATENATE(\"'\",C$1,\"'!\",C$4,(YEAR($A200)-1921)*12+MONTH($A200)+3+IF(ISNUMBER(FIND(\"PRV\",C$6)),1,0)))*IF(AND(C$3>0,TRIM(C$9)=\"CFS\"),Conv_Flags!$C200,1)","v":4195.3562069214049},null,80,80,null,null,0.97530864197530864,649.99999999999989,639.68004382918946,828.49846929033538,1078.1963111859718,1254.0131640404161,1660.0849926502053,1888.1353460388052,1872.8827452560038,1623.8647869933829,1279.8539515610676,983.25498469579941,803.20132745639512,null,1174.4189529675348,1287.287545210499,1338.0685259702391,null,1042.589574834393,917.12776264424281,826.80611488275827,980.02941964965532,1722.6300982924079,1316.0435555256472,584.73328125883222,null,0.97530864197530864,855.44748120114537,815.96986326975548,973.82822643416148,1236.4306478001645,1365.9024611711577,1837.6014213003823,2067.6130144704362,2025.1796101759614,1790.6427338355836,1458.5094008675667,1083.4064533209823,985.52098791607591,null,1269.6072355218475,1416.3406145363235,1492.8546422230208,null,1197.2222858304644,1103.1239720624378,946.75013038115367,1137.5294403617556,1874.8437657605584,1492.0967889666877,637.79537903066898]
["1937-06-30",{"$f":"INDIRECT(CONCATENATE(\"'\",B$1,\"'!\",B$4,(YEAR($A201)-1921)*12+MONTH($A201)+3+IF(ISNUMBER(FIND(\"PRV\",B$6)),1,0)))*IF(AND(B$3>0,TRIM(B$9)=\"CFS\"),Conv_Flags!$C201,1)","v":4023.6189495867775},{"$f":"INDIRECT(CONCATENATE(\"'\",C$1,\"'!\",C$4,(YEAR($A201)-1921)*12+MONTH($A201)+3+IF(ISNUMBER(FIND(\"PRV\",C$6)),1,0)))*IF(AND(C$3>0,TRIM(C$9)=\"CFS\"),Conv_Flags!$C201,1)","v":4074.9338858691135},null,81,81,null,null,0.98765432098765427,550.00000000000091,628.96436466483647,805.46632461044908,{"$f":"LARGE(M$12:M$93,$E201)","v":1064.6045751330223},1194.4363510110543,1646.3587095413629,1785.9566302190353,1594.3202907707291,1177.3290069034133,833.60318679002921,609.69787328991561,584.86872479911972,null,1048.8094103309038,1023.2158657276691,1323.0674697627665,null,977.79810601744634,628.78939716135017,{"$f":"IF($B$7=\"TEMP\",LARGE(AC$13:AC$93,$F201),LARGE(AC$12:AC$93,$E201))","v":764.7193331101771},941.25099263214304,{"$f":"LARGE(AE$12:AE$93,$E201)","v":1670.4582423851862},927.55614369207069,550,null,0.98765432098765427,550,650.55127766951421,967.27734386649297,{"$f":"LARGE(AM$12:AM$93,$E201)","v":1196.647240255146},1292.980912661553,1808.7858769942216,1934.2370091609214,1719.9846838249832,1287.0606104794037,949.91640532507745,753.2879508049898,661.466522854755,null,1151.4928823007906,1107.3069683859364,1477.6537240417554,null,1153.8869565374869,721.57089210742777,{"$f":"IF($B$7=\"TEMP\",LARGE(BC$13:BC$93,$F201),LARGE(BC$12:BC$93,$E201))","v":946.64225383572398},1110.658056405405,{"$f":"LARGE(BE$12:BE$93,$E201)","v":1822.6675931450345},1045.247642487335,550]
["1937-07-31",{"$f":"INDIRECT(CONCATENATE(\"'\",B$1,\"'!\",B$4,(YEAR($A202)-1921)*12+MONTH($A202)+3+IF(ISNUMBER(FIND(\"PRV\",B$6)),1,0)))*IF(AND(B$3>0,TRIM(B$9)=\"CFS\"),Conv_Flags!$C202,1)","v":3608.3552098173327},{"$f":"INDIRECT(CONCATENATE(\"'\",C$1,\"'!\",C$4,(YEAR($A202)-1921)*12+MONTH($A202)+3+IF(ISNUMBER(FIND(\"PRV\",C$6)),1,0)))*IF(AND(C$3>0,TRIM(C$9)=\"CFS\"),Conv_Flags!$C202,1)","v":3602.6211184459412},null,82,null,null,null,1,{"$f":"IF($B$7=\"TEMP\",NA(),LARGE(J$12:J$93,$E202))","v":550.00000000000011},{"$f":"IF($B$7=\"TEMP\",NA(),LARGE(K$12:K$93,$E202))","v":550},663.93456108192629,935.81759352240192,1101.3913918282844,1642.8664835452012,1692.1584874328016,1546.8862229232827,1059.0408317339711,622.31898373184322,550,550,null,null,null,{"$f":"IF($B$7=\"TEMP\",NA(),LARGE(Y$12:Y$93,$E202))","v":1085.6491256461452},null,{"$f":"IF($B$7=\"TEMP\",NA(),LARGE(AA$12:AA$93,$E202))","v":915.83258501643627},562.05316395530724,{"$f":"IF($B$7=\"TEMP\",NA(),LARGE(AC$12:AC$93,$E202))","v":650.81052122688106},847.08030631898475,{"$f":"LARGE(AE$12:AE$93,$E202)","v":1583.0222358824922},{"$f":"LARGE(AF$12:AF$93,$E202)","v":819.95073173186393},null,null,1,{"$f":"IF($B$7=\"TEMP\",NA(),LARGE(AJ$12:AJ$93,$E202))","v":550},{"$f":"IF($B$7=\"TEMP\",NA(),LARGE(AK$12:AK$93,$E202))","v":550},707.53058857111284,971.88178228470724,1233.3143646316153,1684.2018664329989,1822.2781340065349,1674.8084207138941,1151.3156912613506,650.0625283175533,550,550,null,null,null,{"$f":"IF($B$7=\"TEMP\",NA(),LARGE(AY$12:AY$93,$E202))","v":1221.6871986795688},null,{"$f":"IF($B$7=\"TEMP\",NA(),LARGE(BA$12:BA$93,$E202))","v":948.00909888067724},566.67708805292557,{"$f":"IF($B$7=\"TEMP\",NA(),LARGE(BC$12:BC$93,$E202))","v":681.1890047025895},883.7261553404511,{"$f":"LARGE(BE$12:BE$93,$E202)","v":1721.0249713325095},{"$f":"LARGE(BF$12:BF$93,$E202)","v":865.9456074839627}]
["1937-08-31",{"$f":"INDIRECT(CONCATENATE(\"'\",B$1,\"'!\",B$4,(YEAR($A203)-1921)*12+MONTH($A203)+3+IF(ISNUMBER(FIND(\"PRV\",B$6)),1,0)))*IF(AND(B$3>0,TRIM(B$9)=\"CFS\"),Conv_Flags!$C203,1)","v":3184.9438744367508},{"$f":"INDIRECT(CONCATENATE(\"'\",C$1,\"'!\",C$4,(YEAR($A203)-1921)*12+MONTH($A203)+3+IF(ISNUMBER(FIND(\"PRV\",C$6)),1,0)))*IF(AND(C$3>0,TRIM(C$9)=\"CFS\"),Conv_Flags!$C203,1)","v":3174.0325784921806}]
["1937-09-30",{"$f":"INDIRECT(CONCATENATE(\"'\",B$1,\"'!\",B$4,(YEAR($A204)-1921)*12+MONTH($A204)+3+IF(ISNUMBER(FIND(\"PRV\",B$6)),1,0)))*IF(AND(B$3>0,TRIM(B$9)=\"CFS\"),Conv_Flags!$C204,1)","v":3034.2300414992033},{"$f":"INDIRECT(CONCATENATE(\"'\",C$1,\"'!\",C$4,(YEAR($A204)-1921)*12+MONTH($A204)+3+IF(ISNUMBER(FIND(\"PRV\",C$6)),1,0)))*IF(AND(C$3>0,TRIM(C$9)=\"CFS\"),Conv_Flags!$C204,1)","v":3024.7934376561375}]
["1937-10-31",{"$f":"INDIRECT(CONCATENATE(\"'\",B$1,\"'!\",B$4,(YEAR($A205)-1921)*12+MONTH($A205)+3+IF(ISNUMBER(FIND(\"PRV\",B$6)),1,0)))*IF(AND(B$3>0,TRIM(B$9)=\"CFS\"),Conv_Flags!$C205,1)","v":2942.5412971566921},{"$f":"INDIRECT(CONCATENATE(\"'\",C$1,\"'!\",C$4,(YEAR($A205)-1921)*12+MONTH($A205)+3+IF(ISNUMBER(FIND(\"PRV\",C$6)),1,0)))*IF(AND(C$3>0,TRIM(C$9)=\"CFS\"),Conv_Flags!$C205,1)","v":2934.5744544477238}]
["1937-11-30",{"$f":"INDIRECT(CONCATENATE(\"'\",B$1,\"'!\",B$4,(YEAR($A206)-1921)*12+MONTH($A206)+3+IF(ISNUMBER(FIND(\"PRV\",B$6)),1,0)))*IF(AND(B$3>0,TRIM(B$9)=\"CFS\"),Conv_Flags!$C206,1)","v":3252},{"$f":"INDIRECT(CONCATENATE(\"'\",C$1,\"'!\",C$4,(YEAR($A206)-1921)*12+MONTH($A206)+3+IF(ISNUMBER(FIND(\"PRV\",C$6)),1,0)))*IF(AND(C$3>0,TRIM(C$9)=\"CFS\"),Conv_Flags!$C206,1)","v":3252}]
["1937-12-31",{"$f":"INDIRECT(CONCATENATE(\"'\",B$1,\"'!\",B$4,(YEAR($A207)-1921)*12+MONTH($A207)+3+IF(ISNUMBER(FIND(\"PRV\",B$6)),1,0)))*IF(AND(B$3>0,TRIM(B$9)=\"CFS\"),Conv_Flags!$C207,1)","v":3310},{"$f":"INDIRECT(CONCATENATE(\"'\",C$1,\"'!\",C$4,(YEAR($A207)-1921)*12+MONTH($A207)+3+IF(ISNUMBER(FIND(\"PRV\",C$6)),1,0)))*IF(AND(C$3>0,TRIM(C$9)=\"CFS\"),Conv_Flags!$C207,1)","v":3310}]
["1938-01-31",{"$f":"INDIRECT(CONCATENATE(\"'\",B$1,\"'!\",B$4,(YEAR($A208)-1921)*12+MONTH($A208)+3+IF(ISNUMBER(FIND(\"PRV\",B$6)),1,0)))*IF(AND(B$3>0,TRIM(B$9)=\"CFS\"),Conv_Flags!$C208,1)","v":3668},{"$f":"INDIRECT(CONCATENATE(\"'\",C$1,\"'!\",C$4,(YEAR($A208)-1921)*12+MONTH($A208)+3+IF(ISNUMBER(FIND(\"PRV\",C$6)),1,0)))*IF(AND(C$3>0,TRIM(C$9)=\"CFS\"),Conv_Flags!$C208,1)","v":3668}]
["1938-02-28",{"$f":"INDIRECT(CONCATENATE(\"'\",B$1,\"'!\",B$4,(YEAR($A209)-1921)*12+MONTH($A209)+3+IF(ISNUMBER(FIND(\"PRV\",B$6)),1,0)))*IF(AND(B$3>0,TRIM(B$9)=\"CFS\"),Conv_Flags!$C209,1)","v":3560},{"$f":"INDIRECT(CONCATENATE(\"'\",C$1,\"'!\",C$4,(YEAR($A209)-1921)*12+MONTH($A209)+3+IF(ISNUMBER(FIND(\"PRV\",C$6)),1,0)))*IF(AND(C$3>0,TRIM(C$9)=\"CFS\"),Conv_Flags!$C209,1)","v":3560}]
["1938-03-31",{"$f":"INDIRECT(CONCATENATE(\"'\",B$1,\"'!\",B$4,(YEAR($A210)-1921)*12+MONTH($A210)+3+IF(ISNUMBER(FIND(\"PRV\",B$6)),1,0)))*IF(AND(B$3>0,TRIM(B$9)=\"CFS\"),Conv_Flags!$C210,1)","v":3416},{"$f":"INDIRECT(CONCATENATE(\"'\",C$1,\"'!\",C$4,(YEAR($A210)-1921)*12+MONTH($A210)+3+IF(ISNUMBER(FIND(\"PRV\",C$6)),1,0)))*IF(AND(C$3>0,TRIM(C$9)=\"CFS\"),Conv_Flags!$C210,1)","v":3416}]
["1938-04-30",{"$f":"INDIRECT(CONCATENATE(\"'\",B$1,\"'!\",B$4,(YEAR($A211)-1921)*12+MONTH($A211)+3+IF(ISNUMBER(FIND(\"PRV\",B$6)),1,0)))*IF(AND(B$3>0,TRIM(B$9)=\"CFS\"),Conv_Flags!$C211,1)","v":4058},{"$f":"INDIRECT(CONCATENATE(\"'\",C$1,\"'!\",C$4,(YEAR($A211)-1921)*12+MONTH($A211)+3+IF(ISNUMBER(FIND(\"PRV\",C$6)),1,0)))*IF(AND(C$3>0,TRIM(C$9)=\"CFS\"),Conv_Flags!$C211,1)","v":4058}]
["1938-05-31",{"$f":"INDIRECT(CONCATENATE(\"'\",B$1,\"'!\",B$4,(YEAR($A212)-1921)*12+MONTH($A212)+3+IF(ISNUMBER(FIND(\"PRV\",B$6)),1,0)))*IF(AND(B$3>0,TRIM(B$9)=\"CFS\"),Conv_Flags!$C212,1)","v":4552},{"$f":"INDIRECT(CONCATENATE(\"'\",C$1,\"'!\",C$4,(YEAR($A212)-1921)*12+MONTH($A212)+3+IF(ISNUMBER(FIND(\"PRV\",C$6)),1,0)))*IF(AND(C$3>0,TRIM(C$9)=\"CFS\"),Conv_Flags!$C212,1)","v":4552}]
["1938-06-30",{"$f":"INDIRECT(CONCATENATE(\"'\",B$1,\"'!\",B$4,(YEAR($A213)-1921)*12+MONTH($A213)+3+IF(ISNUMBER(FIND(\"PRV\",B$6)),1,0)))*IF(AND(B$3>0,TRIM(B$9)=\"CFS\"),Conv_Flags!$C213,1)","v":4500},{"$f":"INDIRECT(CONCATENATE(\"'\",C$1,\"'!\",C$4,(YEAR($A213)-1921)*12+MONTH($A213)+3+IF(ISNUMBER(FIND(\"PRV\",C$6)),1,0)))*IF(AND(C$3>0,TRIM(C$9)=\"CFS\"),Conv_Flags!$C213,1)","v":4499.9999999999991}]
["1938-07-31",{"$f":"INDIRECT(CONCATENATE(\"'\",B$1,\"'!\",B$4,(YEAR($A214)-1921)*12+MONTH($A214)+3+IF(ISNUMBER(FIND(\"PRV\",B$6)),1,0)))*IF(AND(B$3>0,TRIM(B$9)=\"CFS\"),Conv_Flags!$C214,1)","v":4121.0081616624129},{"$f":"INDIRECT(CONCATENATE(\"'\",C$1,\"'!\",C$4,(YEAR($A214)-1921)*12+MONTH($A214)+3+IF(ISNUMBER(FIND(\"PRV\",C$6)),1,0)))*IF(AND(C$3>0,TRIM(C$9)=\"CFS\"),Conv_Flags!$C214,1)","v":4122.0974120571145}]
["1938-08-31",{"$f":"INDIRECT(CONCATENATE(\"'\",B$1,\"'!\",B$4,(YEAR($A215)-1921)*12+MONTH($A215)+3+IF(ISNUMBER(FIND(\"PRV\",B$6)),1,0)))*IF(AND(B$3>0,TRIM(B$9)=\"CFS\"),Conv_Flags!$C215,1)","v":3699.9999999999995},{"$f":"INDIRECT(CONCATENATE(\"'\",C$1,\"'!\",C$4,(YEAR($A215)-1921)*12+MONTH($A215)+3+IF(ISNUMBER(FIND(\"PRV\",C$6)),1,0)))*IF(AND(C$3>0,TRIM(C$9)=\"CFS\"),Conv_Flags!$C215,1)","v":3700}]
["1938-09-30",{"$f":"INDIRECT(CONCATENATE(\"'\",B$1,\"'!\",B$4,(YEAR($A216)-1921)*12+MONTH($A216)+3+IF(ISNUMBER(FIND(\"PRV\",B$6)),1,0)))*IF(AND(B$3>0,TRIM(B$9)=\"CFS\"),Conv_Flags!$C216,1)","v":3400},{"$f":"INDIRECT(CONCATENATE(\"'\",C$1,\"'!\",C$4,(YEAR($A216)-1921)*12+MONTH($A216)+3+IF(ISNUMBER(FIND(\"PRV\",C$6)),1,0)))*IF(AND(C$3>0,TRIM(C$9)=\"CFS\"),Conv_Flags!$C216,1)","v":3400}]
["1938-10-31",{"$f":"INDIRECT(CONCATENATE(\"'\",B$1,\"'!\",B$4,(YEAR($A217)-1921)*12+MONTH($A217)+3+IF(ISNUMBER(FIND(\"PRV\",B$6)),1,0)))*IF(AND(B$3>0,TRIM(B$9)=\"CFS\"),Conv_Flags!$C217,1)","v":3250},{"$f":"INDIRECT(CONCATENATE(\"'\",C$1,\"'!\",C$4,(YEAR($A217)-1921)*12+MONTH($A217)+3+IF(ISNUMBER(FIND(\"PRV\",C$6)),1,0)))*IF(AND(C$3>0,TRIM(C$9)=\"CFS\"),Conv_Flags!$C217,1)","v":3250}]
["1938-11-30",{"$f":"INDIRECT(CONCATENATE(\"'\",B$1,\"'!\",B$4,(YEAR($A218)-1921)*12+MONTH($A218)+3+IF(ISNUMBER(FIND(\"PRV\",B$6)),1,0)))*IF(AND(B$3>0,TRIM(B$9)=\"CFS\"),Conv_Flags!$C218,1)","v":3185.3037258628369},{"$f":"INDIRECT(CONCATENATE(\"'\",C$1,\"'!\",C$4,(YEAR($A218)-1921)*12+MONTH($A218)+3+IF(ISNUMBER(FIND(\"PRV\",C$6)),1,0)))*IF(AND(C$3>0,TRIM(C$9)=\"CFS\"),Conv_Flags!$C218,1)","v":3199.4546620003184}]
["1938-12-31",{"$f":"INDIRECT(CONCATENATE(\"'\",B$1,\"'!\",B$4,(YEAR($A219)-1921)*12+MONTH($A219)+3+IF(ISNUMBER(FIND(\"PRV\",B$6)),1,0)))*IF(AND(B$3>0,TRIM(B$9)=\"CFS\"),Conv_Flags!$C219,1)","v":3214.5498411632229},{"$f":"INDIRECT(CONCATENATE(\"'\",C$1,\"'!\",C$4,(YEAR($A219)-1921)*12+MONTH($A219)+3+IF(ISNUMBER(FIND(\"PRV\",C$6)),1,0)))*IF(AND(C$3>0,TRIM(C$9)=\"CFS\"),Conv_Flags!$C219,1)","v":3250.7220124033438}]
["1939-01-31",{"$f":"INDIRECT(CONCATENATE(\"'\",B$1,\"'!\",B$4,(YEAR($A220)-1921)*12+MONTH($A220)+3+IF(ISNUMBER(FIND(\"PRV\",B$6)),1,0)))*IF(AND(B$3>0,TRIM(B$9)=\"CFS\"),Conv_Flags!$C220,1)","v":3357.6485348020451},{"$f":"INDIRECT(CONCATENATE(\"'\",C$1,\"'!\",C$4,(YEAR($A220)-1921)*12+MONTH($A220)+3+IF(ISNUMBER(FIND(\"PRV\",C$6)),1,0)))*IF(AND(C$3>0,TRIM(C$9)=\"CFS\"),Conv_Flags!$C220,1)","v":3384.2311612111935}]
["1939-02-28",{"$f":"INDIRECT(CONCATENATE(\"'\",B$1,\"'!\",B$4,(YEAR($A221)-1921)*12+MONTH($A221)+3+IF(ISNUMBER(FIND(\"PRV\",B$6)),1,0)))*IF(AND(B$3>0,TRIM(B$9)=\"CFS\"),Conv_Flags!$C221,1)","v":3482.3100194833596},{"$f":"INDIRECT(CONCATENATE(\"'\",C$1,\"'!\",C$4,(YEAR($A221)-1921)*12+MONTH($A221)+3+IF(ISNUMBER(FIND(\"PRV\",C$6)),1,0)))*IF(AND(C$3>0,TRIM(C$9)=\"CFS\"),Conv_Flags!$C221,1)","v":3508.8739543913034}]
["1939-03-31",{"$f":"INDIRECT(CONCATENATE(\"'\",B$1,\"'!\",B$4,(YEAR($A222)-1921)*12+MONTH($A222)+3+IF(ISNUMBER(FIND(\"PRV\",B$6)),1,0)))*IF(AND(B$3>0,TRIM(B$9)=\"CFS\"),Conv_Flags!$C222,1)","v":3898.8604415600062},{"$f":"INDIRECT(CONCATENATE(\"'\",C$1,\"'!\",C$4,(YEAR($A222)-1921)*12+MONTH($A222)+3+IF(ISNUMBER(FIND(\"PRV\",C$6)),1,0)))*IF(AND(C$3>0,TRIM(C$9)=\"CFS\"),Conv_Flags!$C222,1)","v":3925.3897491548551}]
["1939-04-30",{"$f":"INDIRECT(CONCATENATE(\"'\",B$1,\"'!\",B$4,(YEAR($A223)-1921)*12+MONTH($A223)+3+IF(ISNUMBER(FIND(\"PRV\",B$6)),1,0)))*IF(AND(B$3>0,TRIM(B$9)=\"CFS\"),Conv_Flags!$C223,1)","v":3851.1558327831372},{"$f":"INDIRECT(CONCATENATE(\"'\",C$1,\"'!\",C$4,(YEAR($A223)-1921)*12+MONTH($A223)+3+IF(ISNUMBER(FIND(\"PRV\",C$6)),1,0)))*IF(AND(C$3>0,TRIM(C$9)=\"CFS\"),Conv_Flags!$C223,1)","v":3890.9172547391313}]
["1939-05-31",{"$f":"INDIRECT(CONCATENATE(\"'\",B$1,\"'!\",B$4,(YEAR($A224)-1921)*12+MONTH($A224)+3+IF(ISNUMBER(FIND(\"PRV\",B$6)),1,0)))*IF(AND(B$3>0,TRIM(B$9)=\"CFS\"),Conv_Flags!$C224,1)","v":3634.1749227818464},{"$f":"INDIRECT(CONCATENATE(\"'\",C$1,\"'!\",C$4,(YEAR($A224)-1921)*12+MONTH($A224)+3+IF(ISNUMBER(FIND(\"PRV\",C$6)),1,0)))*IF(AND(C$3>0,TRIM(C$9)=\"CFS\"),Conv_Flags!$C224,1)","v":3659.385589406997}]
["1939-06-30",{"$f":"INDIRECT(CONCATENATE(\"'\",B$1,\"'!\",B$4,(YEAR($A225)-1921)*12+MONTH($A225)+3+IF(ISNUMBER(FIND(\"PRV\",B$6)),1,0)))*IF(AND(B$3>0,TRIM(B$9)=\"CFS\"),Conv_Flags!$C225,1)","v":3198.5065939077872},{"$f":"INDIRECT(CONCATENATE(\"'\",C$1,\"'!\",C$4,(YEAR($A225)-1921)*12+MONTH($A225)+3+IF(ISNUMBER(FIND(\"PRV\",C$6)),1,0)))*IF(AND(C$3>0,TRIM(C$9)=\"CFS\"),Conv_Flags!$C225,1)","v":3200.9648566256351}]
["1939-07-31",{"$f":"INDIRECT(CONCATENATE(\"'\",B$1,\"'!\",B$4,(YEAR($A226)-1921)*12+MONTH($A226)+3+IF(ISNUMBER(FIND(\"PRV\",B$6)),1,0)))*IF(AND(B$3>0,TRIM(B$9)=\"CFS\"),Conv_Flags!$C226,1)","v":2671.4986820454224},{"$f":"INDIRECT(CONCATENATE(\"'\",C$1,\"'!\",C$4,(YEAR($A226)-1921)*12+MONTH($A226)+3+IF(ISNUMBER(FIND(\"PRV\",C$6)),1,0)))*IF(AND(C$3>0,TRIM(C$9)=\"CFS\"),Conv_Flags!$C226,1)","v":2665.6598619746424}]
["1939-08-31",{"$f":"INDIRECT(CONCATENATE(\"'\",B$1,\"'!\",B$4,(YEAR($A227)-1921)*12+MONTH($A227)+3+IF(ISNUMBER(FIND(\"PRV\",B$6)),1,0)))*IF(AND(B$3>0,TRIM(B$9)=\"CFS\"),Conv_Flags!$C227,1)","v":2353.4055115178285},{"$f":"INDIRECT(CONCATENATE(\"'\",C$1,\"'!\",C$4,(YEAR($A227)-1921)*12+MONTH($A227)+3+IF(ISNUMBER(FIND(\"PRV\",C$6)),1,0)))*IF(AND(C$3>0,TRIM(C$9)=\"CFS\"),Conv_Flags!$C227,1)","v":2337.0714278084247}]
["1939-09-30",{"$f":"INDIRECT(CONCATENATE(\"'\",B$1,\"'!\",B$4,(YEAR($A228)-1921)*12+MONTH($A228)+3+IF(ISNUMBER(FIND(\"PRV\",B$6)),1,0)))*IF(AND(B$3>0,TRIM(B$9)=\"CFS\"),Conv_Flags!$C228,1)","v":2304.3205955388407},{"$f":"INDIRECT(CONCATENATE(\"'\",C$1,\"'!\",C$4,(YEAR($A228)-1921)*12+MONTH($A228)+3+IF(ISNUMBER(FIND(\"PRV\",C$6)),1,0)))*IF(AND(C$3>0,TRIM(C$9)=\"CFS\"),Conv_Flags!$C228,1)","v":2308.164143905874}]
["1939-10-31",{"$f":"INDIRECT(CONCATENATE(\"'\",B$1,\"'!\",B$4,(YEAR($A229)-1921)*12+MONTH($A229)+3+IF(ISNUMBER(FIND(\"PRV\",B$6)),1,0)))*IF(AND(B$3>0,TRIM(B$9)=\"CFS\"),Conv_Flags!$C229,1)","v":2198.630519956268},{"$f":"INDIRECT(CONCATENATE(\"'\",C$1,\"'!\",C$4,(YEAR($A229)-1921)*12+MONTH($A229)+3+IF(ISNUMBER(FIND(\"PRV\",C$6)),1,0)))*IF(AND(C$3>0,TRIM(C$9)=\"CFS\"),Conv_Flags!$C229,1)","v":2201.9637251855606}]
["1939-11-30",{"$f":"INDIRECT(CONCATENATE(\"'\",B$1,\"'!\",B$4,(YEAR($A230)-1921)*12+MONTH($A230)+3+IF(ISNUMBER(FIND(\"PRV\",B$6)),1,0)))*IF(AND(B$3>0,TRIM(B$9)=\"CFS\"),Conv_Flags!$C230,1)","v":2067.8079994794925},{"$f":"INDIRECT(CONCATENATE(\"'\",C$1,\"'!\",C$4,(YEAR($A230)-1921)*12+MONTH($A230)+3+IF(ISNUMBER(FIND(\"PRV\",C$6)),1,0)))*IF(AND(C$3>0,TRIM(C$9)=\"CFS\"),Conv_Flags!$C230,1)","v":2074.1455410612675}]
["1939-12-31",{"$f":"INDIRECT(CONCATENATE(\"'\",B$1,\"'!\",B$4,(YEAR($A231)-1921)*12+MONTH($A231)+3+IF(ISNUMBER(FIND(\"PRV\",B$6)),1,0)))*IF(AND(B$3>0,TRIM(B$9)=\"CFS\"),Conv_Flags!$C231,1)","v":2171.3459013243382},{"$f":"INDIRECT(CONCATENATE(\"'\",C$1,\"'!\",C$4,(YEAR($A231)-1921)*12+MONTH($A231)+3+IF(ISNUMBER(FIND(\"PRV\",C$6)),1,0)))*IF(AND(C$3>0,TRIM(C$9)=\"CFS\"),Conv_Flags!$C231,1)","v":2169.0317927646583}]
["1940-01-31",{"$f":"INDIRECT(CONCATENATE(\"'\",B$1,\"'!\",B$4,(YEAR($A232)-1921)*12+MONTH($A232)+3+IF(ISNUMBER(FIND(\"PRV\",B$6)),1,0)))*IF(AND(B$3>0,TRIM(B$9)=\"CFS\"),Conv_Flags!$C232,1)","v":3064.8916385797665},{"$f":"INDIRECT(CONCATENATE(\"'\",C$1,\"'!\",C$4,(YEAR($A232)-1921)*12+MONTH($A232)+3+IF(ISNUMBER(FIND(\"PRV\",C$6)),1,0)))*IF(AND(C$3>0,TRIM(C$9)=\"CFS\"),Conv_Flags!$C232,1)","v":3062.5792823843585}]
["1940-02-29",{"$f":"INDIRECT(CONCATENATE(\"'\",B$1,\"'!\",B$4,(YEAR($A233)-1921)*12+MONTH($A233)+3+IF(ISNUMBER(FIND(\"PRV\",B$6)),1,0)))*IF(AND(B$3>0,TRIM(B$9)=\"CFS\"),Conv_Flags!$C233,1)","v":3252},{"$f":"INDIRECT(CONCATENATE(\"'\",C$1,\"'!\",C$4,(YEAR($A233)-1921)*12+MONTH($A233)+3+IF(ISNUMBER(FIND(\"PRV\",C$6)),1,0)))*IF(AND(C$3>0,TRIM(C$9)=\"CFS\"),Conv_Flags!$C233,1)","v":3252}]
["1940-03-31",{"$f":"INDIRECT(CONCATENATE(\"'\",B$1,\"'!\",B$4,(YEAR($A234)-1921)*12+MONTH($A234)+3+IF(ISNUMBER(FIND(\"PRV\",B$6)),1,0)))*IF(AND(B$3>0,TRIM(B$9)=\"CFS\"),Conv_Flags!$C234,1)","v":3435},{"$f":"INDIRECT(CONCATENATE(\"'\",C$1,\"'!\",C$4,(YEAR($A234)-1921)*12+MONTH($A234)+3+IF(ISNUMBER(FIND(\"PRV\",C$6)),1,0)))*IF(AND(C$3>0,TRIM(C$9)=\"CFS\"),Conv_Flags!$C234,1)","v":3435}]
["1940-04-30",{"$f":"INDIRECT(CONCATENATE(\"'\",B$1,\"'!\",B$4,(YEAR($A235)-1921)*12+MONTH($A235)+3+IF(ISNUMBER(FIND(\"PRV\",B$6)),1,0)))*IF(AND(B$3>0,TRIM(B$9)=\"CFS\"),Conv_Flags!$C235,1)","v":4205.4718943453963},{"$f":"INDIRECT(CONCATENATE(\"'\",C$1,\"'!\",C$4,(YEAR($A235)-1921)*12+MONTH($A235)+3+IF(ISNUMBER(FIND(\"PRV\",C$6)),1,0)))*IF(AND(C$3>0,TRIM(C$9)=\"CFS\"),Conv_Flags!$C235,1)","v":4205.4718943453963}]
["1940-05-31",{"$f":"INDIRECT(CONCATENATE(\"'\",B$1,\"'!\",B$4,(YEAR($A236)-1921)*12+MONTH($A236)+3+IF(ISNUMBER(FIND(\"PRV\",B$6)),1,0)))*IF(AND(B$3>0,TRIM(B$9)=\"CFS\"),Conv_Flags!$C236,1)","v":4255.8235823708183},{"$f":"INDIRECT(CONCATENATE(\"'\",C$1,\"'!\",C$4,(YEAR($A236)-1921)*12+MONTH($A236)+3+IF(ISNUMBER(FIND(\"PRV\",C$6)),1,0)))*IF(AND(C$3>0,TRIM(C$9)=\"CFS\"),Conv_Flags!$C236,1)","v":4257.9071506616692}]
["1940-06-30",{"$f":"INDIRECT(CONCATENATE(\"'\",B$1,\"'!\",B$4,(YEAR($A237)-1921)*12+MONTH($A237)+3+IF(ISNUMBER(FIND(\"PRV\",B$6)),1,0)))*IF(AND(B$3>0,TRIM(B$9)=\"CFS\"),Conv_Flags!$C237,1)","v":3957.644929788712},{"$f":"INDIRECT(CONCATENATE(\"'\",C$1,\"'!\",C$4,(YEAR($A237)-1921)*12+MONTH($A237)+3+IF(ISNUMBER(FIND(\"PRV\",C$6)),1,0)))*IF(AND(C$3>0,TRIM(C$9)=\"CFS\"),Conv_Flags!$C237,1)","v":3987.0667760218544}]
["1940-07-31",{"$f":"INDIRECT(CONCATENATE(\"'\",B$1,\"'!\",B$4,(YEAR($A238)-1921)*12+MONTH($A238)+3+IF(ISNUMBER(FIND(\"PRV\",B$6)),1,0)))*IF(AND(B$3>0,TRIM(B$9)=\"CFS\"),Conv_Flags!$C238,1)","v":3266.4759371715518},{"$f":"INDIRECT(CONCATENATE(\"'\",C$1,\"'!\",C$4,(YEAR($A238)-1921)*12+MONTH($A238)+3+IF(ISNUMBER(FIND(\"PRV\",C$6)),1,0)))*IF(AND(C$3>0,TRIM(C$9)=\"CFS\"),Conv_Flags!$C238,1)","v":3254.0970631733908}]
["1940-08-31",{"$f":"INDIRECT(CONCATENATE(\"'\",B$1,\"'!\",B$4,(YEAR($A239)-1921)*12+MONTH($A239)+3+IF(ISNUMBER(FIND(\"PRV\",B$6)),1,0)))*IF(AND(B$3>0,TRIM(B$9)=\"CFS\"),Conv_Flags!$C239,1)","v":2913.5706274264276},{"$f":"INDIRECT(CONCATENATE(\"'\",C$1,\"'!\",C$4,(YEAR($A239)-1921)*12+MONTH($A239)+3+IF(ISNUMBER(FIND(\"PRV\",C$6)),1,0)))*IF(AND(C$3>0,TRIM(C$9)=\"CFS\"),Conv_Flags!$C239,1)","v":2905.0392377855615}]
["1940-09-30",{"$f":"INDIRECT(CONCATENATE(\"'\",B$1,\"'!\",B$4,(YEAR($A240)-1921)*12+MONTH($A240)+3+IF(ISNUMBER(FIND(\"PRV\",B$6)),1,0)))*IF(AND(B$3>0,TRIM(B$9)=\"CFS\"),Conv_Flags!$C240,1)","v":2725.1023616929929},{"$f":"INDIRECT(CONCATENATE(\"'\",C$1,\"'!\",C$4,(YEAR($A240)-1921)*12+MONTH($A240)+3+IF(ISNUMBER(FIND(\"PRV\",C$6)),1,0)))*IF(AND(C$3>0,TRIM(C$9)=\"CFS\"),Conv_Flags!$C240,1)","v":2723.9825798363072}]
["1940-10-31",{"$f":"INDIRECT(CONCATENATE(\"'\",B$1,\"'!\",B$4,(YEAR($A241)-1921)*12+MONTH($A241)+3+IF(ISNUMBER(FIND(\"PRV\",B$6)),1,0)))*IF(AND(B$3>0,TRIM(B$9)=\"CFS\"),Conv_Flags!$C241,1)","v":2596.5601090051255},{"$f":"INDIRECT(CONCATENATE(\"'\",C$1,\"'!\",C$4,(YEAR($A241)-1921)*12+MONTH($A241)+3+IF(ISNUMBER(FIND(\"PRV\",C$6)),1,0)))*IF(AND(C$3>0,TRIM(C$9)=\"CFS\"),Conv_Flags!$C241,1)","v":2611.5533976175388}]
["1940-11-30",{"$f":"INDIRECT(CONCATENATE(\"'\",B$1,\"'!\",B$4,(YEAR($A242)-1921)*12+MONTH($A242)+3+IF(ISNUMBER(FIND(\"PRV\",B$6)),1,0)))*IF(AND(B$3>0,TRIM(B$9)=\"CFS\"),Conv_Flags!$C242,1)","v":2452.4462392028431},{"$f":"INDIRECT(CONCATENATE(\"'\",C$1,\"'!\",C$4,(YEAR($A242)-1921)*12+MONTH($A242)+3+IF(ISNUMBER(FIND(\"PRV\",C$6)),1,0)))*IF(AND(C$3>0,TRIM(C$9)=\"CFS\"),Conv_Flags!$C242,1)","v":2472.442559113209}]
["1940-12-31",{"$f":"INDIRECT(CONCATENATE(\"'\",B$1,\"'!\",B$4,(YEAR($A243)-1921)*12+MONTH($A243)+3+IF(ISNUMBER(FIND(\"PRV\",B$6)),1,0)))*IF(AND(B$3>0,TRIM(B$9)=\"CFS\"),Conv_Flags!$C243,1)","v":3293},{"$f":"INDIRECT(CONCATENATE(\"'\",C$1,\"'!\",C$4,(YEAR($A243)-1921)*12+MONTH($A243)+3+IF(ISNUMBER(FIND(\"PRV\",C$6)),1,0)))*IF(AND(C$3>0,TRIM(C$9)=\"CFS\"),Conv_Flags!$C243,1)","v":3293}]
["1941-01-31",{"$f":"INDIRECT(CONCATENATE(\"'\",B$1,\"'!\",B$4,(YEAR($A244)-1921)*12+MONTH($A244)+3+IF(ISNUMBER(FIND(\"PRV\",B$6)),1,0)))*IF(AND(B$3>0,TRIM(B$9)=\"CFS\"),Conv_Flags!$C244,1)","v":3317},{"$f":"INDIRECT(CONCATENATE(\"'\",C$1,\"'!\",C$4,(YEAR($A244)-1921)*12+MONTH($A244)+3+IF(ISNUMBER(FIND(\"PRV\",C$6)),1,0)))*IF(AND(C$3>0,TRIM(C$9)=\"CFS\"),Conv_Flags!$C244,1)","v":3317}]
["1941-02-28",{"$f":"INDIRECT(CONCATENATE(\"'\",B$1,\"'!\",B$4,(YEAR($A245)-1921)*12+MONTH($A245)+3+IF(ISNUMBER(FIND(\"PRV\",B$6)),1,0)))*IF(AND(B$3>0,TRIM(B$9)=\"CFS\"),Conv_Flags!$C245,1)","v":3423},{"$f":"INDIRECT(CONCATENATE(\"'\",C$1,\"'!\",C$4,(YEAR($A245)-1921)*12+MONTH($A245)+3+IF(ISNUMBER(FIND(\"PRV\",C$6)),1,0)))*IF(AND(C$3>0,TRIM(C$9)=\"CFS\"),Conv_Flags!$C245,1)","v":3423}]
["1941-03-31",{"$f":"INDIRECT(CONCATENATE(\"'\",B$1,\"'!\",B$4,(YEAR($A246)-1921)*12+MONTH($A246)+3+IF(ISNUMBER(FIND(\"PRV\",B$6)),1,0)))*IF(AND(B$3>0,TRIM(B$9)=\"CFS\"),Conv_Flags!$C246,1)","v":3940},{"$f":"INDIRECT(CONCATENATE(\"'\",C$1,\"'!\",C$4,(YEAR($A246)-1921)*12+MONTH($A246)+3+IF(ISNUMBER(FIND(\"PRV\",C$6)),1,0)))*IF(AND(C$3>0,TRIM(C$9)=\"CFS\"),Conv_Flags!$C246,1)","v":3940}]
["1941-04-30",{"$f":"INDIRECT(CONCATENATE(\"'\",B$1,\"'!\",B$4,(YEAR($A247)-1921)*12+MONTH($A247)+3+IF(ISNUMBER(FIND(\"PRV\",B$6)),1,0)))*IF(AND(B$3>0,TRIM(B$9)=\"CFS\"),Conv_Flags!$C247,1)","v":4456},{"$f":"INDIRECT(CONCATENATE(\"'\",C$1,\"'!\",C$4,(YEAR($A247)-1921)*12+MONTH($A247)+3+IF(ISNUMBER(FIND(\"PRV\",C$6)),1,0)))*IF(AND(C$3>0,TRIM(C$9)=\"CFS\"),Conv_Flags!$C247,1)","v":4456}]
["1941-05-31",{"$f":"INDIRECT(CONCATENATE(\"'\",B$1,\"'!\",B$4,(YEAR($A248)-1921)*12+MONTH($A248)+3+IF(ISNUMBER(FIND(\"PRV\",B$6)),1,0)))*IF(AND(B$3>0,TRIM(B$9)=\"CFS\"),Conv_Flags!$C248,1)","v":4552},{"$f":"INDIRECT(CONCATENATE(\"'\",C$1,\"'!\",C$4,(YEAR($A248)-1921)*12+MONTH($A248)+3+IF(ISNUMBER(FIND(\"PRV\",C$6)),1,0)))*IF(AND(C$3>0,TRIM(C$9)=\"CFS\"),Conv_Flags!$C248,1)","v":4552}]
["1941-06-30",{"$f":"INDIRECT(CONCATENATE(\"'\",B$1,\"'!\",B$4,(YEAR($A249)-1921)*12+MONTH($A249)+3+IF(ISNUMBER(FIND(\"PRV\",B$6)),1,0)))*IF(AND(B$3>0,TRIM(B$9)=\"CFS\"),Conv_Flags!$C249,1)","v":4500},{"$f":"INDIRECT(CONCATENATE(\"'\",C$1,\"'!\",C$4,(YEAR($A249)-1921)*12+MONTH($A249)+3+IF(ISNUMBER(FIND(\"PRV\",C$6)),1,0)))*IF(AND(C$3>0,TRIM(C$9)=\"CFS\"),Conv_Flags!$C249,1)","v":4500}]
["1941-07-31",{"$f":"INDIRECT(CONCATENATE(\"'\",B$1,\"'!\",B$4,(YEAR($A250)-1921)*12+MONTH($A250)+3+IF(ISNUMBER(FIND(\"PRV\",B$6)),1,0)))*IF(AND(B$3>0,TRIM(B$9)=\"CFS\"),Conv_Flags!$C250,1)","v":4150.0000000000009},{"$f":"INDIRECT(CONCATENATE(\"'\",C$1,\"'!\",C$4,(YEAR($A250)-1921)*12+MONTH($A250)+3+IF(ISNUMBER(FIND(\"PRV\",C$6)),1,0)))*IF(AND(C$3>0,TRIM(C$9)=\"CFS\"),Conv_Flags!$C250,1)","v":4150.0000000000009}]
["1941-08-31",{"$f":"INDIRECT(CONCATENATE(\"'\",B$1,\"'!\",B$4,(YEAR($A251)-1921)*12+MONTH($A251)+3+IF(ISNUMBER(FIND(\"PRV\",B$6)),1,0)))*IF(AND(B$3>0,TRIM(B$9)=\"CFS\"),Conv_Flags!$C251,1)","v":3699.9999999999995},{"$f":"INDIRECT(CONCATENATE(\"'\",C$1,\"'!\",C$4,(YEAR($A251)-1921)*12+MONTH($A251)+3+IF(ISNUMBER(FIND(\"PRV\",C$6)),1,0)))*IF(AND(C$3>0,TRIM(C$9)=\"CFS\"),Conv_Flags!$C251,1)","v":3700}]
["1941-09-30",{"$f":"INDIRECT(CONCATENATE(\"'\",B$1,\"'!\",B$4,(YEAR($A252)-1921)*12+MONTH($A252)+3+IF(ISNUMBER(FIND(\"PRV\",B$6)),1,0)))*IF(AND(B$3>0,TRIM(B$9)=\"CFS\"),Conv_Flags!$C252,1)","v":3399.9999999999995},{"$f":"INDIRECT(CONCATENATE(\"'\",C$1,\"'!\",C$4,(YEAR($A252)-1921)*12+MONTH($A252)+3+IF(ISNUMBER(FIND(\"PRV\",C$6)),1,0)))*IF(AND(C$3>0,TRIM(C$9)=\"CFS\"),Conv_Flags!$C252,1)","v":3399.9999999999995}]
["1941-10-31",{"$f":"INDIRECT(CONCATENATE(\"'\",B$1,\"'!\",B$4,(YEAR($A253)-1921)*12+MONTH($A253)+3+IF(ISNUMBER(FIND(\"PRV\",B$6)),1,0)))*IF(AND(B$3>0,TRIM(B$9)=\"CFS\"),Conv_Flags!$C253,1)","v":3249.9999999999995},{"$f":"INDIRECT(CONCATENATE(\"'\",C$1,\"'!\",C$4,(YEAR($A253)-1921)*12+MONTH($A253)+3+IF(ISNUMBER(FIND(\"PRV\",C$6)),1,0)))*IF(AND(C$3>0,TRIM(C$9)=\"CFS\"),Conv_Flags!$C253,1)","v":3249.9999999999995}]
["1941-11-30",{"$f":"INDIRECT(CONCATENATE(\"'\",B$1,\"'!\",B$4,(YEAR($A254)-1921)*12+MONTH($A254)+3+IF(ISNUMBER(FIND(\"PRV\",B$6)),1,0)))*IF(AND(B$3>0,TRIM(B$9)=\"CFS\"),Conv_Flags!$C254,1)","v":3252.0000000000005},{"$f":"INDIRECT(CONCATENATE(\"'\",C$1,\"'!\",C$4,(YEAR($A254)-1921)*12+MONTH($A254)+3+IF(ISNUMBER(FIND(\"PRV\",C$6)),1,0)))*IF(AND(C$3>0,TRIM(C$9)=\"CFS\"),Conv_Flags!$C254,1)","v":3252.0000000000005}]
["1941-12-31",{"$f":"INDIRECT(CONCATENATE(\"'\",B$1,\"'!\",B$4,(YEAR($A255)-1921)*12+MONTH($A255)+3+IF(ISNUMBER(FIND(\"PRV\",B$6)),1,0)))*IF(AND(B$3>0,TRIM(B$9)=\"CFS\"),Conv_Flags!$C255,1)","v":3316},{"$f":"INDIRECT(CONCATENATE(\"'\",C$1,\"'!\",C$4,(YEAR($A255)-1921)*12+MONTH($A255)+3+IF(ISNUMBER(FIND(\"PRV\",C$6)),1,0)))*IF(AND(C$3>0,TRIM(C$9)=\"CFS\"),Conv_Flags!$C255,1)","v":3316}]
["1942-01-31",{"$f":"INDIRECT(CONCATENATE(\"'\",B$1,\"'!\",B$4,(YEAR($A256)-1921)*12+MONTH($A256)+3+IF(ISNUMBER(FIND(\"PRV\",B$6)),1,0)))*IF(AND(B$3>0,TRIM(B$9)=\"CFS\"),Conv_Flags!$C256,1)","v":3389},{"$f":"INDIRECT(CONCATENATE(\"'\",C$1,\"'!\",C$4,(YEAR($A256)-1921)*12+MONTH($A256)+3+IF(ISNUMBER(FIND(\"PRV\",C$6)),1,0)))*IF(AND(C$3>0,TRIM(C$9)=\"CFS\"),Conv_Flags!$C256,1)","v":3389}]
["1942-02-28",{"$f":"INDIRECT(CONCATENATE(\"'\",B$1,\"'!\",B$4,(YEAR($A257)-1921)*12+MONTH($A257)+3+IF(ISNUMBER(FIND(\"PRV\",B$6)),1,0)))*IF(AND(B$3>0,TRIM(B$9)=\"CFS\"),Conv_Flags!$C257,1)","v":3516},{"$f":"INDIRECT(CONCATENATE(\"'\",C$1,\"'!\",C$4,(YEAR($A257)-1921)*12+MONTH($A257)+3+IF(ISNUMBER(FIND(\"PRV\",C$6)),1,0)))*IF(AND(C$3>0,TRIM(C$9)=\"CFS\"),Conv_Flags!$C257,1)","v":3516}]
["1942-03-31",{"$f":"INDIRECT(CONCATENATE(\"'\",B$1,\"'!\",B$4,(YEAR($A258)-1921)*12+MONTH($A258)+3+IF(ISNUMBER(FIND(\"PRV\",B$6)),1,0)))*IF(AND(B$3>0,TRIM(B$9)=\"CFS\"),Conv_Flags!$C258,1)","v":3796.8800946642991},{"$f":"INDIRECT(CONCATENATE(\"'\",C$1,\"'!\",C$4,(YEAR($A258)-1921)*12+MONTH($A258)+3+IF(ISNUMBER(FIND(\"PRV\",C$6)),1,0)))*IF(AND(C$3>0,TRIM(C$9)=\"CFS\"),Conv_Flags!$C258,1)","v":3796.8800946642991}]
["1942-04-30",{"$f":"INDIRECT(CONCATENATE(\"'\",B$1,\"'!\",B$4,(YEAR($A259)-1921)*12+MONTH($A259)+3+IF(ISNUMBER(FIND(\"PRV\",B$6)),1,0)))*IF(AND(B$3>0,TRIM(B$9)=\"CFS\"),Conv_Flags!$C259,1)","v":4447.898207255228},{"$f":"INDIRECT(CONCATENATE(\"'\",C$1,\"'!\",C$4,(YEAR($A259)-1921)*12+MONTH($A259)+3+IF(ISNUMBER(FIND(\"PRV\",C$6)),1,0)))*IF(AND(C$3>0,TRIM(C$9)=\"CFS\"),Conv_Flags!$C259,1)","v":4447.898207255228}]
["1942-05-31",{"$f":"INDIRECT(CONCATENATE(\"'\",B$1,\"'!\",B$4,(YEAR($A260)-1921)*12+MONTH($A260)+3+IF(ISNUMBER(FIND(\"PRV\",B$6)),1,0)))*IF(AND(B$3>0,TRIM(B$9)=\"CFS\"),Conv_Flags!$C260,1)","v":4552},{"$f":"INDIRECT(CONCATENATE(\"'\",C$1,\"'!\",C$4,(YEAR($A260)-1921)*12+MONTH($A260)+3+IF(ISNUMBER(FIND(\"PRV\",C$6)),1,0)))*IF(AND(C$3>0,TRIM(C$9)=\"CFS\"),Conv_Flags!$C260,1)","v":4552}]
["1942-06-30",{"$f":"INDIRECT(CONCATENATE(\"'\",B$1,\"'!\",B$4,(YEAR($A261)-1921)*12+MONTH($A261)+3+IF(ISNUMBER(FIND(\"PRV\",B$6)),1,0)))*IF(AND(B$3>0,TRIM(B$9)=\"CFS\"),Conv_Flags!$C261,1)","v":4500},{"$f":"INDIRECT(CONCATENATE(\"'\",C$1,\"'!\",C$4,(YEAR($A261)-1921)*12+MONTH($A261)+3+IF(ISNUMBER(FIND(\"PRV\",C$6)),1,0)))*IF(AND(C$3>0,TRIM(C$9)=\"CFS\"),Conv_Flags!$C261,1)","v":4500}]
["1942-07-31",{"$f":"INDIRECT(CONCATENATE(\"'\",B$1,\"'!\",B$4,(YEAR($A262)-1921)*12+MONTH($A262)+3+IF(ISNUMBER(FIND(\"PRV\",B$6)),1,0)))*IF(AND(B$3>0,TRIM(B$9)=\"CFS\"),Conv_Flags!$C262,1)","v":4150},{"$f":"INDIRECT(CONCATENATE(\"'\",C$1,\"'!\",C$4,(YEAR($A262)-1921)*12+MONTH($A262)+3+IF(ISNUMBER(FIND(\"PRV\",C$6)),1,0)))*IF(AND(C$3>0,TRIM(C$9)=\"CFS\"),Conv_Flags!$C262,1)","v":4150}]
["1942-08-31",{"$f":"INDIRECT(CONCATENATE(\"'\",B$1,\"'!\",B$4,(YEAR($A263)-1921)*12+MONTH($A263)+3+IF(ISNUMBER(FIND(\"PRV\",B$6)),1,0)))*IF(AND(B$3>0,TRIM(B$9)=\"CFS\"),Conv_Flags!$C263,1)","v":3700},{"$f":"INDIRECT(CONCATENATE(\"'\",C$1,\"'!\",C$4,(YEAR($A263)-1921)*12+MONTH($A263)+3+IF(ISNUMBER(FIND(\"PRV\",C$6)),1,0)))*IF(AND(C$3>0,TRIM(C$9)=\"CFS\"),Conv_Flags!$C263,1)","v":3700}]
["1942-09-30",{"$f":"INDIRECT(CONCATENATE(\"'\",B$1,\"'!\",B$4,(YEAR($A264)-1921)*12+MONTH($A264)+3+IF(ISNUMBER(FIND(\"PRV\",B$6)),1,0)))*IF(AND(B$3>0,TRIM(B$9)=\"CFS\"),Conv_Flags!$C264,1)","v":3399.9999999999995},{"$f":"INDIRECT(CONCATENATE(\"'\",C$1,\"'!\",C$4,(YEAR($A264)-1921)*12+MONTH($A264)+3+IF(ISNUMBER(FIND(\"PRV\",C$6)),1,0)))*IF(AND(C$3>0,TRIM(C$9)=\"CFS\"),Conv_Flags!$C264,1)","v":3399.9999999999995}]
["1942-10-31",{"$f":"INDIRECT(CONCATENATE(\"'\",B$1,\"'!\",B$4,(YEAR($A265)-1921)*12+MONTH($A265)+3+IF(ISNUMBER(FIND(\"PRV\",B$6)),1,0)))*IF(AND(B$3>0,TRIM(B$9)=\"CFS\"),Conv_Flags!$C265,1)","v":3250},{"$f":"INDIRECT(CONCATENATE(\"'\",C$1,\"'!\",C$4,(YEAR($A265)-1921)*12+MONTH($A265)+3+IF(ISNUMBER(FIND(\"PRV\",C$6)),1,0)))*IF(AND(C$3>0,TRIM(C$9)=\"CFS\"),Conv_Flags!$C265,1)","v":3250}]
["1942-11-30",{"$f":"INDIRECT(CONCATENATE(\"'\",B$1,\"'!\",B$4,(YEAR($A266)-1921)*12+MONTH($A266)+3+IF(ISNUMBER(FIND(\"PRV\",B$6)),1,0)))*IF(AND(B$3>0,TRIM(B$9)=\"CFS\"),Conv_Flags!$C266,1)","v":3252},{"$f":"INDIRECT(CONCATENATE(\"'\",C$1,\"'!\",C$4,(YEAR($A266)-1921)*12+MONTH($A266)+3+IF(ISNUMBER(FIND(\"PRV\",C$6)),1,0)))*IF(AND(C$3>0,TRIM(C$9)=\"CFS\"),Conv_Flags!$C266,1)","v":3252}]
["1942-12-31",{"$f":"INDIRECT(CONCATENATE(\"'\",B$1,\"'!\",B$4,(YEAR($A267)-1921)*12+MONTH($A267)+3+IF(ISNUMBER(FIND(\"PRV\",B$6)),1,0)))*IF(AND(B$3>0,TRIM(B$9)=\"CFS\"),Conv_Flags!$C267,1)","v":3356},{"$f":"INDIRECT(CONCATENATE(\"'\",C$1,\"'!\",C$4,(YEAR($A267)-1921)*12+MONTH($A267)+3+IF(ISNUMBER(FIND(\"PRV\",C$6)),1,0)))*IF(AND(C$3>0,TRIM(C$9)=\"CFS\"),Conv_Flags!$C267,1)","v":3356}]
["1943-01-31",{"$f":"INDIRECT(CONCATENATE(\"'\",B$1,\"'!\",B$4,(YEAR($A268)-1921)*12+MONTH($A268)+3+IF(ISNUMBER(FIND(\"PRV\",B$6)),1,0)))*IF(AND(B$3>0,TRIM(B$9)=\"CFS\"),Conv_Flags!$C268,1)","v":3541},{"$f":"INDIRECT(CONCATENATE(\"'\",C$1,\"'!\",C$4,(YEAR($A268)-1921)*12+MONTH($A268)+3+IF(ISNUMBER(FIND(\"PRV\",C$6)),1,0)))*IF(AND(C$3>0,TRIM(C$9)=\"CFS\"),Conv_Flags!$C268,1)","v":3541}]
["1943-02-28",{"$f":"INDIRECT(CONCATENATE(\"'\",B$1,\"'!\",B$4,(YEAR($A269)-1921)*12+MONTH($A269)+3+IF(ISNUMBER(FIND(\"PRV\",B$6)),1,0)))*IF(AND(B$3>0,TRIM(B$9)=\"CFS\"),Conv_Flags!$C269,1)","v":3848},{"$f":"INDIRECT(CONCATENATE(\"'\",C$1,\"'!\",C$4,(YEAR($A269)-1921)*12+MONTH($A269)+3+IF(ISNUMBER(FIND(\"PRV\",C$6)),1,0)))*IF(AND(C$3>0,TRIM(C$9)=\"CFS\"),Conv_Flags!$C269,1)","v":3848}]
["1943-03-31",{"$f":"INDIRECT(CONCATENATE(\"'\",B$1,\"'!\",B$4,(YEAR($A270)-1921)*12+MONTH($A270)+3+IF(ISNUMBER(FIND(\"PRV\",B$6)),1,0)))*IF(AND(B$3>0,TRIM(B$9)=\"CFS\"),Conv_Flags!$C270,1)","v":4118},{"$f":"INDIRECT(CONCATENATE(\"'\",C$1,\"'!\",C$4,(YEAR($A270)-1921)*12+MONTH($A270)+3+IF(ISNUMBER(FIND(\"PRV\",C$6)),1,0)))*IF(AND(C$3>0,TRIM(C$9)=\"CFS\"),Conv_Flags!$C270,1)","v":4118}]
["1943-04-30",{"$f":"INDIRECT(CONCATENATE(\"'\",B$1,\"'!\",B$4,(YEAR($A271)-1921)*12+MONTH($A271)+3+IF(ISNUMBER(FIND(\"PRV\",B$6)),1,0)))*IF(AND(B$3>0,TRIM(B$9)=\"CFS\"),Conv_Flags!$C271,1)","v":4552},{"$f":"INDIRECT(CONCATENATE(\"'\",C$1,\"'!\",C$4,(YEAR($A271)-1921)*12+MONTH($A271)+3+IF(ISNUMBER(FIND(\"PRV\",C$6)),1,0)))*IF(AND(C$3>0,TRIM(C$9)=\"CFS\"),Conv_Flags!$C271,1)","v":4552}]
["1943-05-31",{"$f":"INDIRECT(CONCATENATE(\"'\",B$1,\"'!\",B$4,(YEAR($A272)-1921)*12+MONTH($A272)+3+IF(ISNUMBER(FIND(\"PRV\",B$6)),1,0)))*IF(AND(B$3>0,TRIM(B$9)=\"CFS\"),Conv_Flags!$C272,1)","v":4552},{"$f":"INDIRECT(CONCATENATE(\"'\",C$1,\"'!\",C$4,(YEAR($A272)-1921)*12+MONTH($A272)+3+IF(ISNUMBER(FIND(\"PRV\",C$6)),1,0)))*IF(AND(C$3>0,TRIM(C$9)=\"CFS\"),Conv_Flags!$C272,1)","v":4552}]
["1943-06-30",{"$f":"INDIRECT(CONCATENATE(\"'\",B$1,\"'!\",B$4,(YEAR($A273)-1921)*12+MONTH($A273)+3+IF(ISNUMBER(FIND(\"PRV\",B$6)),1,0)))*IF(AND(B$3>0,TRIM(B$9)=\"CFS\"),Conv_Flags!$C273,1)","v":4386.8810535712173},{"$f":"INDIRECT(CONCATENATE(\"'\",C$1,\"'!\",C$4,(YEAR($A273)-1921)*12+MONTH($A273)+3+IF(ISNUMBER(FIND(\"PRV\",C$6)),1,0)))*IF(AND(C$3>0,TRIM(C$9)=\"CFS\"),Conv_Flags!$C273,1)","v":4361.3177762238538}]
["1943-07-31",{"$f":"INDIRECT(CONCATENATE(\"'\",B$1,\"'!\",B$4,(YEAR($A274)-1921)*12+MONTH($A274)+3+IF(ISNUMBER(FIND(\"PRV\",B$6)),1,0)))*IF(AND(B$3>0,TRIM(B$9)=\"CFS\"),Conv_Flags!$C274,1)","v":3723.8337566251971},{"$f":"INDIRECT(CONCATENATE(\"'\",C$1,\"'!\",C$4,(YEAR($A274)-1921)*12+MONTH($A274)+3+IF(ISNUMBER(FIND(\"PRV\",C$6)),1,0)))*IF(AND(C$3>0,TRIM(C$9)=\"CFS\"),Conv_Flags!$C274,1)","v":3698.3945156238406}]
["1943-08-31",{"$f":"INDIRECT(CONCATENATE(\"'\",B$1,\"'!\",B$4,(YEAR($A275)-1921)*12+MONTH($A275)+3+IF(ISNUMBER(FIND(\"PRV\",B$6)),1,0)))*IF(AND(B$3>0,TRIM(B$9)=\"CFS\"),Conv_Flags!$C275,1)","v":3359.3708468366412},{"$f":"INDIRECT(CONCATENATE(\"'\",C$1,\"'!\",C$4,(YEAR($A275)-1921)*12+MONTH($A275)+3+IF(ISNUMBER(FIND(\"PRV\",C$6)),1,0)))*IF(AND(C$3>0,TRIM(C$9)=\"CFS\"),Conv_Flags!$C275,1)","v":3333.6816683259744}]
["1943-09-30",{"$f":"INDIRECT(CONCATENATE(\"'\",B$1,\"'!\",B$4,(YEAR($A276)-1921)*12+MONTH($A276)+3+IF(ISNUMBER(FIND(\"PRV\",B$6)),1,0)))*IF(AND(B$3>0,TRIM(B$9)=\"CFS\"),Conv_Flags!$C276,1)","v":3145.2619710767381},{"$f":"INDIRECT(CONCATENATE(\"'\",C$1,\"'!\",C$4,(YEAR($A276)-1921)*12+MONTH($A276)+3+IF(ISNUMBER(FIND(\"PRV\",C$6)),1,0)))*IF(AND(C$3>0,TRIM(C$9)=\"CFS\"),Conv_Flags!$C276,1)","v":3130.9540429888948}]
["1943-10-31",{"$f":"INDIRECT(CONCATENATE(\"'\",B$1,\"'!\",B$4,(YEAR($A277)-1921)*12+MONTH($A277)+3+IF(ISNUMBER(FIND(\"PRV\",B$6)),1,0)))*IF(AND(B$3>0,TRIM(B$9)=\"CFS\"),Conv_Flags!$C277,1)","v":3071.2146932772762},{"$f":"INDIRECT(CONCATENATE(\"'\",C$1,\"'!\",C$4,(YEAR($A277)-1921)*12+MONTH($A277)+3+IF(ISNUMBER(FIND(\"PRV\",C$6)),1,0)))*IF(AND(C$3>0,TRIM(C$9)=\"CFS\"),Conv_Flags!$C277,1)","v":3058.4901644862084}]
["1943-11-30",{"$f":"INDIRECT(CONCATENATE(\"'\",B$1,\"'!\",B$4,(YEAR($A278)-1921)*12+MONTH($A278)+3+IF(ISNUMBER(FIND(\"PRV\",B$6)),1,0)))*IF(AND(B$3>0,TRIM(B$9)=\"CFS\"),Conv_Flags!$C278,1)","v":2877.4138613327632},{"$f":"INDIRECT(CONCATENATE(\"'\",C$1,\"'!\",C$4,(YEAR($A278)-1921)*12+MONTH($A278)+3+IF(ISNUMBER(FIND(\"PRV\",C$6)),1,0)))*IF(AND(C$3>0,TRIM(C$9)=\"CFS\"),Conv_Flags!$C278,1)","v":2882.4887444450542}]
["1943-12-31",{"$f":"INDIRECT(CONCATENATE(\"'\",B$1,\"'!\",B$4,(YEAR($A279)-1921)*12+MONTH($A279)+3+IF(ISNUMBER(FIND(\"PRV\",B$6)),1,0)))*IF(AND(B$3>0,TRIM(B$9)=\"CFS\"),Conv_Flags!$C279,1)","v":2827.9121893816937},{"$f":"INDIRECT(CONCATENATE(\"'\",C$1,\"'!\",C$4,(YEAR($A279)-1921)*12+MONTH($A279)+3+IF(ISNUMBER(FIND(\"PRV\",C$6)),1,0)))*IF(AND(C$3>0,TRIM(C$9)=\"CFS\"),Conv_Flags!$C279,1)","v":2826.6805353622799}]
["1944-01-31",{"$f":"INDIRECT(CONCATENATE(\"'\",B$1,\"'!\",B$4,(YEAR($A280)-1921)*12+MONTH($A280)+3+IF(ISNUMBER(FIND(\"PRV\",B$6)),1,0)))*IF(AND(B$3>0,TRIM(B$9)=\"CFS\"),Conv_Flags!$C280,1)","v":2917.3855683074053},{"$f":"INDIRECT(CONCATENATE(\"'\",C$1,\"'!\",C$4,(YEAR($A280)-1921)*12+MONTH($A280)+3+IF(ISNUMBER(FIND(\"PRV\",C$6)),1,0)))*IF(AND(C$3>0,TRIM(C$9)=\"CFS\"),Conv_Flags!$C280,1)","v":2916.1547364869366}]
["1944-02-29",{"$f":"INDIRECT(CONCATENATE(\"'\",B$1,\"'!\",B$4,(YEAR($A281)-1921)*12+MONTH($A281)+3+IF(ISNUMBER(FIND(\"PRV\",B$6)),1,0)))*IF(AND(B$3>0,TRIM(B$9)=\"CFS\"),Conv_Flags!$C281,1)","v":3228.2356956441076},{"$f":"INDIRECT(CONCATENATE(\"'\",C$1,\"'!\",C$4,(YEAR($A281)-1921)*12+MONTH($A281)+3+IF(ISNUMBER(FIND(\"PRV\",C$6)),1,0)))*IF(AND(C$3>0,TRIM(C$9)=\"CFS\"),Conv_Flags!$C281,1)","v":3227.0058114115786}]
["1944-03-31",{"$f":"INDIRECT(CONCATENATE(\"'\",B$1,\"'!\",B$4,(YEAR($A282)-1921)*12+MONTH($A282)+3+IF(ISNUMBER(FIND(\"PRV\",B$6)),1,0)))*IF(AND(B$3>0,TRIM(B$9)=\"CFS\"),Conv_Flags!$C282,1)","v":3544.0791392596952},{"$f":"INDIRECT(CONCATENATE(\"'\",C$1,\"'!\",C$4,(YEAR($A282)-1921)*12+MONTH($A282)+3+IF(ISNUMBER(FIND(\"PRV\",C$6)),1,0)))*IF(AND(C$3>0,TRIM(C$9)=\"CFS\"),Conv_Flags!$C282,1)","v":3542.8509074501826}]
["1944-04-30",{"$f":"INDIRECT(CONCATENATE(\"'\",B$1,\"'!\",B$4,(YEAR($A283)-1921)*12+MONTH($A283)+3+IF(ISNUMBER(FIND(\"PRV\",B$6)),1,0)))*IF(AND(B$3>0,TRIM(B$9)=\"CFS\"),Conv_Flags!$C283,1)","v":3747.0290194788195},{"$f":"INDIRECT(CONCATENATE(\"'\",C$1,\"'!\",C$4,(YEAR($A283)-1921)*12+MONTH($A283)+3+IF(ISNUMBER(FIND(\"PRV\",C$6)),1,0)))*IF(AND(C$3>0,TRIM(C$9)=\"CFS\"),Conv_Flags!$C283,1)","v":3745.8027770152917}]
["1944-05-31",{"$f":"INDIRECT(CONCATENATE(\"'\",B$1,\"'!\",B$4,(YEAR($A284)-1921)*12+MONTH($A284)+3+IF(ISNUMBER(FIND(\"PRV\",B$6)),1,0)))*IF(AND(B$3>0,TRIM(B$9)=\"CFS\"),Conv_Flags!$C284,1)","v":3713.6559659057029},{"$f":"INDIRECT(CONCATENATE(\"'\",C$1,\"'!\",C$4,(YEAR($A284)-1921)*12+MONTH($A284)+3+IF(ISNUMBER(FIND(\"PRV\",C$6)),1,0)))*IF(AND(C$3>0,TRIM(C$9)=\"CFS\"),Conv_Flags!$C284,1)","v":3715.8384479874635}]
["1944-06-30",{"$f":"INDIRECT(CONCATENATE(\"'\",B$1,\"'!\",B$4,(YEAR($A285)-1921)*12+MONTH($A285)+3+IF(ISNUMBER(FIND(\"PRV\",B$6)),1,0)))*IF(AND(B$3>0,TRIM(B$9)=\"CFS\"),Conv_Flags!$C285,1)","v":3446.7731578756006},{"$f":"INDIRECT(CONCATENATE(\"'\",C$1,\"'!\",C$4,(YEAR($A285)-1921)*12+MONTH($A285)+3+IF(ISNUMBER(FIND(\"PRV\",C$6)),1,0)))*IF(AND(C$3>0,TRIM(C$9)=\"CFS\"),Conv_Flags!$C285,1)","v":3507.8374225551329}]
["1944-07-31",{"$f":"INDIRECT(CONCATENATE(\"'\",B$1,\"'!\",B$4,(YEAR($A286)-1921)*12+MONTH($A286)+3+IF(ISNUMBER(FIND(\"PRV\",B$6)),1,0)))*IF(AND(B$3>0,TRIM(B$9)=\"CFS\"),Conv_Flags!$C286,1)","v":3015.763565033139},{"$f":"INDIRECT(CONCATENATE(\"'\",C$1,\"'!\",C$4,(YEAR($A286)-1921)*12+MONTH($A286)+3+IF(ISNUMBER(FIND(\"PRV\",C$6)),1,0)))*IF(AND(C$3>0,TRIM(C$9)=\"CFS\"),Conv_Flags!$C286,1)","v":3092.9338233512767}]
["1944-08-31",{"$f":"INDIRECT(CONCATENATE(\"'\",B$1,\"'!\",B$4,(YEAR($A287)-1921)*12+MONTH($A287)+3+IF(ISNUMBER(FIND(\"PRV\",B$6)),1,0)))*IF(AND(B$3>0,TRIM(B$9)=\"CFS\"),Conv_Flags!$C287,1)","v":2754.5076770427195},{"$f":"INDIRECT(CONCATENATE(\"'\",C$1,\"'!\",C$4,(YEAR($A287)-1921)*12+MONTH($A287)+3+IF(ISNUMBER(FIND(\"PRV\",C$6)),1,0)))*IF(AND(C$3>0,TRIM(C$9)=\"CFS\"),Conv_Flags!$C287,1)","v":2824.8090630387414}]
["1944-09-30",{"$f":"INDIRECT(CONCATENATE(\"'\",B$1,\"'!\",B$4,(YEAR($A288)-1921)*12+MONTH($A288)+3+IF(ISNUMBER(FIND(\"PRV\",B$6)),1,0)))*IF(AND(B$3>0,TRIM(B$9)=\"CFS\"),Conv_Flags!$C288,1)","v":2702.0923582392597},{"$f":"INDIRECT(CONCATENATE(\"'\",C$1,\"'!\",C$4,(YEAR($A288)-1921)*12+MONTH($A288)+3+IF(ISNUMBER(FIND(\"PRV\",C$6)),1,0)))*IF(AND(C$3>0,TRIM(C$9)=\"CFS\"),Conv_Flags!$C288,1)","v":2786.9997894282087}]
["1944-10-31",{"$f":"INDIRECT(CONCATENATE(\"'\",B$1,\"'!\",B$4,(YEAR($A289)-1921)*12+MONTH($A289)+3+IF(ISNUMBER(FIND(\"PRV\",B$6)),1,0)))*IF(AND(B$3>0,TRIM(B$9)=\"CFS\"),Conv_Flags!$C289,1)","v":2622.5854688982986},{"$f":"INDIRECT(CONCATENATE(\"'\",C$1,\"'!\",C$4,(YEAR($A289)-1921)*12+MONTH($A289)+3+IF(ISNUMBER(FIND(\"PRV\",C$6)),1,0)))*IF(AND(C$3>0,TRIM(C$9)=\"CFS\"),Conv_Flags!$C289,1)","v":2687.574177819346}]
["1944-11-30",{"$f":"INDIRECT(CONCATENATE(\"'\",B$1,\"'!\",B$4,(YEAR($A290)-1921)*12+MONTH($A290)+3+IF(ISNUMBER(FIND(\"PRV\",B$6)),1,0)))*IF(AND(B$3>0,TRIM(B$9)=\"CFS\"),Conv_Flags!$C290,1)","v":2810.4948056440267},{"$f":"INDIRECT(CONCATENATE(\"'\",C$1,\"'!\",C$4,(YEAR($A290)-1921)*12+MONTH($A290)+3+IF(ISNUMBER(FIND(\"PRV\",C$6)),1,0)))*IF(AND(C$3>0,TRIM(C$9)=\"CFS\"),Conv_Flags!$C290,1)","v":2850.1945962130612}]
["1944-12-31",{"$f":"INDIRECT(CONCATENATE(\"'\",B$1,\"'!\",B$4,(YEAR($A291)-1921)*12+MONTH($A291)+3+IF(ISNUMBER(FIND(\"PRV\",B$6)),1,0)))*IF(AND(B$3>0,TRIM(B$9)=\"CFS\"),Conv_Flags!$C291,1)","v":3116.5501144218615},{"$f":"INDIRECT(CONCATENATE(\"'\",C$1,\"'!\",C$4,(YEAR($A291)-1921)*12+MONTH($A291)+3+IF(ISNUMBER(FIND(\"PRV\",C$6)),1,0)))*IF(AND(C$3>0,TRIM(C$9)=\"CFS\"),Conv_Flags!$C291,1)","v":3155.1125748003874}]
["1945-01-31",{"$f":"INDIRECT(CONCATENATE(\"'\",B$1,\"'!\",B$4,(YEAR($A292)-1921)*12+MONTH($A292)+3+IF(ISNUMBER(FIND(\"PRV\",B$6)),1,0)))*IF(AND(B$3>0,TRIM(B$9)=\"CFS\"),Conv_Flags!$C292,1)","v":3326.9757634990506},{"$f":"INDIRECT(CONCATENATE(\"'\",C$1,\"'!\",C$4,(YEAR($A292)-1921)*12+MONTH($A292)+3+IF(ISNUMBER(FIND(\"PRV\",C$6)),1,0)))*IF(AND(C$3>0,TRIM(C$9)=\"CFS\"),Conv_Flags!$C292,1)","v":3365.512995930857}]
["1945-02-28",{"$f":"INDIRECT(CONCATENATE(\"'\",B$1,\"'!\",B$4,(YEAR($A293)-1921)*12+MONTH($A293)+3+IF(ISNUMBER(FIND(\"PRV\",B$6)),1,0)))*IF(AND(B$3>0,TRIM(B$9)=\"CFS\"),Conv_Flags!$C293,1)","v":3948},{"$f":"INDIRECT(CONCATENATE(\"'\",C$1,\"'!\",C$4,(YEAR($A293)-1921)*12+MONTH($A293)+3+IF(ISNUMBER(FIND(\"PRV\",C$6)),1,0)))*IF(AND(C$3>0,TRIM(C$9)=\"CFS\"),Conv_Flags!$C293,1)","v":3948}]
["1945-03-31",{"$f":"INDIRECT(CONCATENATE(\"'\",B$1,\"'!\",B$4,(YEAR($A294)-1921)*12+MONTH($A294)+3+IF(ISNUMBER(FIND(\"PRV\",B$6)),1,0)))*IF(AND(B$3>0,TRIM(B$9)=\"CFS\"),Conv_Flags!$C294,1)","v":4266.6979834966178},{"$f":"INDIRECT(CONCATENATE(\"'\",C$1,\"'!\",C$4,(YEAR($A294)-1921)*12+MONTH($A294)+3+IF(ISNUMBER(FIND(\"PRV\",C$6)),1,0)))*IF(AND(C$3>0,TRIM(C$9)=\"CFS\"),Conv_Flags!$C294,1)","v":4266.6979834966178}]
["1945-04-30",{"$f":"INDIRECT(CONCATENATE(\"'\",B$1,\"'!\",B$4,(YEAR($A295)-1921)*12+MONTH($A295)+3+IF(ISNUMBER(FIND(\"PRV\",B$6)),1,0)))*IF(AND(B$3>0,TRIM(B$9)=\"CFS\"),Conv_Flags!$C295,1)","v":4530.8021073409345},{"$f":"INDIRECT(CONCATENATE(\"'\",C$1,\"'!\",C$4,(YEAR($A295)-1921)*12+MONTH($A295)+3+IF(ISNUMBER(FIND(\"PRV\",C$6)),1,0)))*IF(AND(C$3>0,TRIM(C$9)=\"CFS\"),Conv_Flags!$C295,1)","v":4530.8021073409345}]
["1945-05-31",{"$f":"INDIRECT(CONCATENATE(\"'\",B$1,\"'!\",B$4,(YEAR($A296)-1921)*12+MONTH($A296)+3+IF(ISNUMBER(FIND(\"PRV\",B$6)),1,0)))*IF(AND(B$3>0,TRIM(B$9)=\"CFS\"),Conv_Flags!$C296,1)","v":4552},{"$f":"INDIRECT(CONCATENATE(\"'\",C$1,\"'!\",C$4,(YEAR($A296)-1921)*12+MONTH($A296)+3+IF(ISNUMBER(FIND(\"PRV\",C$6)),1,0)))*IF(AND(C$3>0,TRIM(C$9)=\"CFS\"),Conv_Flags!$C296,1)","v":4552}]
["1945-06-30",{"$f":"INDIRECT(CONCATENATE(\"'\",B$1,\"'!\",B$4,(YEAR($A297)-1921)*12+MONTH($A297)+3+IF(ISNUMBER(FIND(\"PRV\",B$6)),1,0)))*IF(AND(B$3>0,TRIM(B$9)=\"CFS\"),Conv_Flags!$C297,1)","v":4286.5662522602761},{"$f":"INDIRECT(CONCATENATE(\"'\",C$1,\"'!\",C$4,(YEAR($A297)-1921)*12+MONTH($A297)+3+IF(ISNUMBER(FIND(\"PRV\",C$6)),1,0)))*IF(AND(C$3>0,TRIM(C$9)=\"CFS\"),Conv_Flags!$C297,1)","v":4299.843563282353}]
["1945-07-31",{"$f":"INDIRECT(CONCATENATE(\"'\",B$1,\"'!\",B$4,(YEAR($A298)-1921)*12+MONTH($A298)+3+IF(ISNUMBER(FIND(\"PRV\",B$6)),1,0)))*IF(AND(B$3>0,TRIM(B$9)=\"CFS\"),Conv_Flags!$C298,1)","v":3755.7748812681898},{"$f":"INDIRECT(CONCATENATE(\"'\",C$1,\"'!\",C$4,(YEAR($A298)-1921)*12+MONTH($A298)+3+IF(ISNUMBER(FIND(\"PRV\",C$6)),1,0)))*IF(AND(C$3>0,TRIM(C$9)=\"CFS\"),Conv_Flags!$C298,1)","v":3758.7683391946953}]
["1945-08-31",{"$f":"INDIRECT(CONCATENATE(\"'\",B$1,\"'!\",B$4,(YEAR($A299)-1921)*12+MONTH($A299)+3+IF(ISNUMBER(FIND(\"PRV\",B$6)),1,0)))*IF(AND(B$3>0,TRIM(B$9)=\"CFS\"),Conv_Flags!$C299,1)","v":3358.3157900443134},{"$f":"INDIRECT(CONCATENATE(\"'\",C$1,\"'!\",C$4,(YEAR($A299)-1921)*12+MONTH($A299)+3+IF(ISNUMBER(FIND(\"PRV\",C$6)),1,0)))*IF(AND(C$3>0,TRIM(C$9)=\"CFS\"),Conv_Flags!$C299,1)","v":3358.3268306074588}]
["1945-09-30",{"$f":"INDIRECT(CONCATENATE(\"'\",B$1,\"'!\",B$4,(YEAR($A300)-1921)*12+MONTH($A300)+3+IF(ISNUMBER(FIND(\"PRV\",B$6)),1,0)))*IF(AND(B$3>0,TRIM(B$9)=\"CFS\"),Conv_Flags!$C300,1)","v":3242.5116318302075},{"$f":"INDIRECT(CONCATENATE(\"'\",C$1,\"'!\",C$4,(YEAR($A300)-1921)*12+MONTH($A300)+3+IF(ISNUMBER(FIND(\"PRV\",C$6)),1,0)))*IF(AND(C$3>0,TRIM(C$9)=\"CFS\"),Conv_Flags!$C300,1)","v":3245.7576096194925}]
["1945-10-31",{"$f":"INDIRECT(CONCATENATE(\"'\",B$1,\"'!\",B$4,(YEAR($A301)-1921)*12+MONTH($A301)+3+IF(ISNUMBER(FIND(\"PRV\",B$6)),1,0)))*IF(AND(B$3>0,TRIM(B$9)=\"CFS\"),Conv_Flags!$C301,1)","v":3200},{"$f":"INDIRECT(CONCATENATE(\"'\",C$1,\"'!\",C$4,(YEAR($A301)-1921)*12+MONTH($A301)+3+IF(ISNUMBER(FIND(\"PRV\",C$6)),1,0)))*IF(AND(C$3>0,TRIM(C$9)=\"CFS\"),Conv_Flags!$C301,1)","v":3206.8372983885515}]
["1945-11-30",{"$f":"INDIRECT(CONCATENATE(\"'\",B$1,\"'!\",B$4,(YEAR($A302)-1921)*12+MONTH($A302)+3+IF(ISNUMBER(FIND(\"PRV\",B$6)),1,0)))*IF(AND(B$3>0,TRIM(B$9)=\"CFS\"),Conv_Flags!$C302,1)","v":3252},{"$f":"INDIRECT(CONCATENATE(\"'\",C$1,\"'!\",C$4,(YEAR($A302)-1921)*12+MONTH($A302)+3+IF(ISNUMBER(FIND(\"PRV\",C$6)),1,0)))*IF(AND(C$3>0,TRIM(C$9)=\"CFS\"),Conv_Flags!$C302,1)","v":3252}]
["1945-12-31",{"$f":"INDIRECT(CONCATENATE(\"'\",B$1,\"'!\",B$4,(YEAR($A303)-1921)*12+MONTH($A303)+3+IF(ISNUMBER(FIND(\"PRV\",B$6)),1,0)))*IF(AND(B$3>0,TRIM(B$9)=\"CFS\"),Conv_Flags!$C303,1)","v":3265},{"$f":"INDIRECT(CONCATENATE(\"'\",C$1,\"'!\",C$4,(YEAR($A303)-1921)*12+MONTH($A303)+3+IF(ISNUMBER(FIND(\"PRV\",C$6)),1,0)))*IF(AND(C$3>0,TRIM(C$9)=\"CFS\"),Conv_Flags!$C303,1)","v":3265}]
["1946-01-31",{"$f":"INDIRECT(CONCATENATE(\"'\",B$1,\"'!\",B$4,(YEAR($A304)-1921)*12+MONTH($A304)+3+IF(ISNUMBER(FIND(\"PRV\",B$6)),1,0)))*IF(AND(B$3>0,TRIM(B$9)=\"CFS\"),Conv_Flags!$C304,1)","v":3622},{"$f":"INDIRECT(CONCATENATE(\"'\",C$1,\"'!\",C$4,(YEAR($A304)-1921)*12+MONTH($A304)+3+IF(ISNUMBER(FIND(\"PRV\",C$6)),1,0)))*IF(AND(C$3>0,TRIM(C$9)=\"CFS\"),Conv_Flags!$C304,1)","v":3622}]
["1946-02-28",{"$f":"INDIRECT(CONCATENATE(\"'\",B$1,\"'!\",B$4,(YEAR($A305)-1921)*12+MONTH($A305)+3+IF(ISNUMBER(FIND(\"PRV\",B$6)),1,0)))*IF(AND(B$3>0,TRIM(B$9)=\"CFS\"),Conv_Flags!$C305,1)","v":3844.1937418783514},{"$f":"INDIRECT(CONCATENATE(\"'\",C$1,\"'!\",C$4,(YEAR($A305)-1921)*12+MONTH($A305)+3+IF(ISNUMBER(FIND(\"PRV\",C$6)),1,0)))*IF(AND(C$3>0,TRIM(C$9)=\"CFS\"),Conv_Flags!$C305,1)","v":3852.9956555867784}]
["1946-03-31",{"$f":"INDIRECT(CONCATENATE(\"'\",B$1,\"'!\",B$4,(YEAR($A306)-1921)*12+MONTH($A306)+3+IF(ISNUMBER(FIND(\"PRV\",B$6)),1,0)))*IF(AND(B$3>0,TRIM(B$9)=\"CFS\"),Conv_Flags!$C306,1)","v":4239.5428898487689},{"$f":"INDIRECT(CONCATENATE(\"'\",C$1,\"'!\",C$4,(YEAR($A306)-1921)*12+MONTH($A306)+3+IF(ISNUMBER(FIND(\"PRV\",C$6)),1,0)))*IF(AND(C$3>0,TRIM(C$9)=\"CFS\"),Conv_Flags!$C306,1)","v":4248.3368458312125}]
["1946-04-30",{"$f":"INDIRECT(CONCATENATE(\"'\",B$1,\"'!\",B$4,(YEAR($A307)-1921)*12+MONTH($A307)+3+IF(ISNUMBER(FIND(\"PRV\",B$6)),1,0)))*IF(AND(B$3>0,TRIM(B$9)=\"CFS\"),Conv_Flags!$C307,1)","v":4552},{"$f":"INDIRECT(CONCATENATE(\"'\",C$1,\"'!\",C$4,(YEAR($A307)-1921)*12+MONTH($A307)+3+IF(ISNUMBER(FIND(\"PRV\",C$6)),1,0)))*IF(AND(C$3>0,TRIM(C$9)=\"CFS\"),Conv_Flags!$C307,1)","v":4552}]
["1946-05-31",{"$f":"INDIRECT(CONCATENATE(\"'\",B$1,\"'!\",B$4,(YEAR($A308)-1921)*12+MONTH($A308)+3+IF(ISNUMBER(FIND(\"PRV\",B$6)),1,0)))*IF(AND(B$3>0,TRIM(B$9)=\"CFS\"),Conv_Flags!$C308,1)","v":4503.166123555503},{"$f":"INDIRECT(CONCATENATE(\"'\",C$1,\"'!\",C$4,(YEAR($A308)-1921)*12+MONTH($A308)+3+IF(ISNUMBER(FIND(\"PRV\",C$6)),1,0)))*IF(AND(C$3>0,TRIM(C$9)=\"CFS\"),Conv_Flags!$C308,1)","v":4509.2492448931434}]
["1946-06-30",{"$f":"INDIRECT(CONCATENATE(\"'\",B$1,\"'!\",B$4,(YEAR($A309)-1921)*12+MONTH($A309)+3+IF(ISNUMBER(FIND(\"PRV\",B$6)),1,0)))*IF(AND(B$3>0,TRIM(B$9)=\"CFS\"),Conv_Flags!$C309,1)","v":4114.155363564736},{"$f":"INDIRECT(CONCATENATE(\"'\",C$1,\"'!\",C$4,(YEAR($A309)-1921)*12+MONTH($A309)+3+IF(ISNUMBER(FIND(\"PRV\",C$6)),1,0)))*IF(AND(C$3>0,TRIM(C$9)=\"CFS\"),Conv_Flags!$C309,1)","v":4113.1820409953252}]
["1946-07-31",{"$f":"INDIRECT(CONCATENATE(\"'\",B$1,\"'!\",B$4,(YEAR($A310)-1921)*12+MONTH($A310)+3+IF(ISNUMBER(FIND(\"PRV\",B$6)),1,0)))*IF(AND(B$3>0,TRIM(B$9)=\"CFS\"),Conv_Flags!$C310,1)","v":3562.5489147910944},{"$f":"INDIRECT(CONCATENATE(\"'\",C$1,\"'!\",C$4,(YEAR($A310)-1921)*12+MONTH($A310)+3+IF(ISNUMBER(FIND(\"PRV\",C$6)),1,0)))*IF(AND(C$3>0,TRIM(C$9)=\"CFS\"),Conv_Flags!$C310,1)","v":3555.7343213962176}]
["1946-08-31",{"$f":"INDIRECT(CONCATENATE(\"'\",B$1,\"'!\",B$4,(YEAR($A311)-1921)*12+MONTH($A311)+3+IF(ISNUMBER(FIND(\"PRV\",B$6)),1,0)))*IF(AND(B$3>0,TRIM(B$9)=\"CFS\"),Conv_Flags!$C311,1)","v":3247.251039377526},{"$f":"INDIRECT(CONCATENATE(\"'\",C$1,\"'!\",C$4,(YEAR($A311)-1921)*12+MONTH($A311)+3+IF(ISNUMBER(FIND(\"PRV\",C$6)),1,0)))*IF(AND(C$3>0,TRIM(C$9)=\"CFS\"),Conv_Flags!$C311,1)","v":3241.3210949115751}]
["1946-09-30",{"$f":"INDIRECT(CONCATENATE(\"'\",B$1,\"'!\",B$4,(YEAR($A312)-1921)*12+MONTH($A312)+3+IF(ISNUMBER(FIND(\"PRV\",B$6)),1,0)))*IF(AND(B$3>0,TRIM(B$9)=\"CFS\"),Conv_Flags!$C312,1)","v":3200},{"$f":"INDIRECT(CONCATENATE(\"'\",C$1,\"'!\",C$4,(YEAR($A312)-1921)*12+MONTH($A312)+3+IF(ISNUMBER(FIND(\"PRV\",C$6)),1,0)))*IF(AND(C$3>0,TRIM(C$9)=\"CFS\"),Conv_Flags!$C312,1)","v":3206.7857373557504}]
["1946-10-31",{"$f":"INDIRECT(CONCATENATE(\"'\",B$1,\"'!\",B$4,(YEAR($A313)-1921)*12+MONTH($A313)+3+IF(ISNUMBER(FIND(\"PRV\",B$6)),1,0)))*IF(AND(B$3>0,TRIM(B$9)=\"CFS\"),Conv_Flags!$C313,1)","v":3020.9920811317766},{"$f":"INDIRECT(CONCATENATE(\"'\",C$1,\"'!\",C$4,(YEAR($A313)-1921)*12+MONTH($A313)+3+IF(ISNUMBER(FIND(\"PRV\",C$6)),1,0)))*IF(AND(C$3>0,TRIM(C$9)=\"CFS\"),Conv_Flags!$C313,1)","v":3020.3236641655353}]
["1946-11-30",{"$f":"INDIRECT(CONCATENATE(\"'\",B$1,\"'!\",B$4,(YEAR($A314)-1921)*12+MONTH($A314)+3+IF(ISNUMBER(FIND(\"PRV\",B$6)),1,0)))*IF(AND(B$3>0,TRIM(B$9)=\"CFS\"),Conv_Flags!$C314,1)","v":3034.9902309875993},{"$f":"INDIRECT(CONCATENATE(\"'\",C$1,\"'!\",C$4,(YEAR($A314)-1921)*12+MONTH($A314)+3+IF(ISNUMBER(FIND(\"PRV\",C$6)),1,0)))*IF(AND(C$3>0,TRIM(C$9)=\"CFS\"),Conv_Flags!$C314,1)","v":3022.9719261433747}]
["1946-12-31",{"$f":"INDIRECT(CONCATENATE(\"'\",B$1,\"'!\",B$4,(YEAR($A315)-1921)*12+MONTH($A315)+3+IF(ISNUMBER(FIND(\"PRV\",B$6)),1,0)))*IF(AND(B$3>0,TRIM(B$9)=\"CFS\"),Conv_Flags!$C315,1)","v":3141.9640196407508},{"$f":"INDIRECT(CONCATENATE(\"'\",C$1,\"'!\",C$4,(YEAR($A315)-1921)*12+MONTH($A315)+3+IF(ISNUMBER(FIND(\"PRV\",C$6)),1,0)))*IF(AND(C$3>0,TRIM(C$9)=\"CFS\"),Conv_Flags!$C315,1)","v":3120.8350392620387}]
["1947-01-31",{"$f":"INDIRECT(CONCATENATE(\"'\",B$1,\"'!\",B$4,(YEAR($A316)-1921)*12+MONTH($A316)+3+IF(ISNUMBER(FIND(\"PRV\",B$6)),1,0)))*IF(AND(B$3>0,TRIM(B$9)=\"CFS\"),Conv_Flags!$C316,1)","v":3172.4370835838163},{"$f":"INDIRECT(CONCATENATE(\"'\",C$1,\"'!\",C$4,(YEAR($A316)-1921)*12+MONTH($A316)+3+IF(ISNUMBER(FIND(\"PRV\",C$6)),1,0)))*IF(AND(C$3>0,TRIM(C$9)=\"CFS\"),Conv_Flags!$C316,1)","v":3151.3213622407338}]
["1947-02-28",{"$f":"INDIRECT(CONCATENATE(\"'\",B$1,\"'!\",B$4,(YEAR($A317)-1921)*12+MONTH($A317)+3+IF(ISNUMBER(FIND(\"PRV\",B$6)),1,0)))*IF(AND(B$3>0,TRIM(B$9)=\"CFS\"),Conv_Flags!$C317,1)","v":3437.9795109911643},{"$f":"INDIRECT(CONCATENATE(\"'\",C$1,\"'!\",C$4,(YEAR($A317)-1921)*12+MONTH($A317)+3+IF(ISNUMBER(FIND(\"PRV\",C$6)),1,0)))*IF(AND(C$3>0,TRIM(C$9)=\"CFS\"),Conv_Flags!$C317,1)","v":3416.8817368434025}]
["1947-03-31",{"$f":"INDIRECT(CONCATENATE(\"'\",B$1,\"'!\",B$4,(YEAR($A318)-1921)*12+MONTH($A318)+3+IF(ISNUMBER(FIND(\"PRV\",B$6)),1,0)))*IF(AND(B$3>0,TRIM(B$9)=\"CFS\"),Conv_Flags!$C318,1)","v":3962.5023576252056},{"$f":"INDIRECT(CONCATENATE(\"'\",C$1,\"'!\",C$4,(YEAR($A318)-1921)*12+MONTH($A318)+3+IF(ISNUMBER(FIND(\"PRV\",C$6)),1,0)))*IF(AND(C$3>0,TRIM(C$9)=\"CFS\"),Conv_Flags!$C318,1)","v":3941.4358371441986}]
["1947-04-30",{"$f":"INDIRECT(CONCATENATE(\"'\",B$1,\"'!\",B$4,(YEAR($A319)-1921)*12+MONTH($A319)+3+IF(ISNUMBER(FIND(\"PRV\",B$6)),1,0)))*IF(AND(B$3>0,TRIM(B$9)=\"CFS\"),Conv_Flags!$C319,1)","v":4202.5244017783098},{"$f":"INDIRECT(CONCATENATE(\"'\",C$1,\"'!\",C$4,(YEAR($A319)-1921)*12+MONTH($A319)+3+IF(ISNUMBER(FIND(\"PRV\",C$6)),1,0)))*IF(AND(C$3>0,TRIM(C$9)=\"CFS\"),Conv_Flags!$C319,1)","v":4181.5005438725657}]
["1947-05-31",{"$f":"INDIRECT(CONCATENATE(\"'\",B$1,\"'!\",B$4,(YEAR($A320)-1921)*12+MONTH($A320)+3+IF(ISNUMBER(FIND(\"PRV\",B$6)),1,0)))*IF(AND(B$3>0,TRIM(B$9)=\"CFS\"),Conv_Flags!$C320,1)","v":3864.6982732290317},{"$f":"INDIRECT(CONCATENATE(\"'\",C$1,\"'!\",C$4,(YEAR($A320)-1921)*12+MONTH($A320)+3+IF(ISNUMBER(FIND(\"PRV\",C$6)),1,0)))*IF(AND(C$3>0,TRIM(C$9)=\"CFS\"),Conv_Flags!$C320,1)","v":3843.3318254668848}]
["1947-06-30",{"$f":"INDIRECT(CONCATENATE(\"'\",B$1,\"'!\",B$4,(YEAR($A321)-1921)*12+MONTH($A321)+3+IF(ISNUMBER(FIND(\"PRV\",B$6)),1,0)))*IF(AND(B$3>0,TRIM(B$9)=\"CFS\"),Conv_Flags!$C321,1)","v":3510.1027009622858},{"$f":"INDIRECT(CONCATENATE(\"'\",C$1,\"'!\",C$4,(YEAR($A321)-1921)*12+MONTH($A321)+3+IF(ISNUMBER(FIND(\"PRV\",C$6)),1,0)))*IF(AND(C$3>0,TRIM(C$9)=\"CFS\"),Conv_Flags!$C321,1)","v":3505.4041886358236}]
["1947-07-31",{"$f":"INDIRECT(CONCATENATE(\"'\",B$1,\"'!\",B$4,(YEAR($A322)-1921)*12+MONTH($A322)+3+IF(ISNUMBER(FIND(\"PRV\",B$6)),1,0)))*IF(AND(B$3>0,TRIM(B$9)=\"CFS\"),Conv_Flags!$C322,1)","v":2981.5592787422747},{"$f":"INDIRECT(CONCATENATE(\"'\",C$1,\"'!\",C$4,(YEAR($A322)-1921)*12+MONTH($A322)+3+IF(ISNUMBER(FIND(\"PRV\",C$6)),1,0)))*IF(AND(C$3>0,TRIM(C$9)=\"CFS\"),Conv_Flags!$C322,1)","v":2978.3239911480282}]
["1947-08-31",{"$f":"INDIRECT(CONCATENATE(\"'\",B$1,\"'!\",B$4,(YEAR($A323)-1921)*12+MONTH($A323)+3+IF(ISNUMBER(FIND(\"PRV\",B$6)),1,0)))*IF(AND(B$3>0,TRIM(B$9)=\"CFS\"),Conv_Flags!$C323,1)","v":2685.5215183130645},{"$f":"INDIRECT(CONCATENATE(\"'\",C$1,\"'!\",C$4,(YEAR($A323)-1921)*12+MONTH($A323)+3+IF(ISNUMBER(FIND(\"PRV\",C$6)),1,0)))*IF(AND(C$3>0,TRIM(C$9)=\"CFS\"),Conv_Flags!$C323,1)","v":2639.7792071802614}]
["1947-09-30",{"$f":"INDIRECT(CONCATENATE(\"'\",B$1,\"'!\",B$4,(YEAR($A324)-1921)*12+MONTH($A324)+3+IF(ISNUMBER(FIND(\"PRV\",B$6)),1,0)))*IF(AND(B$3>0,TRIM(B$9)=\"CFS\"),Conv_Flags!$C324,1)","v":2618.7990690369811},{"$f":"INDIRECT(CONCATENATE(\"'\",C$1,\"'!\",C$4,(YEAR($A324)-1921)*12+MONTH($A324)+3+IF(ISNUMBER(FIND(\"PRV\",C$6)),1,0)))*IF(AND(C$3>0,TRIM(C$9)=\"CFS\"),Conv_Flags!$C324,1)","v":2583.4773816546108}]
["1947-10-31",{"$f":"INDIRECT(CONCATENATE(\"'\",B$1,\"'!\",B$4,(YEAR($A325)-1921)*12+MONTH($A325)+3+IF(ISNUMBER(FIND(\"PRV\",B$6)),1,0)))*IF(AND(B$3>0,TRIM(B$9)=\"CFS\"),Conv_Flags!$C325,1)","v":2663.8888110700154},{"$f":"INDIRECT(CONCATENATE(\"'\",C$1,\"'!\",C$4,(YEAR($A325)-1921)*12+MONTH($A325)+3+IF(ISNUMBER(FIND(\"PRV\",C$6)),1,0)))*IF(AND(C$3>0,TRIM(C$9)=\"CFS\"),Conv_Flags!$C325,1)","v":2633.233895461819}]
["1947-11-30",{"$f":"INDIRECT(CONCATENATE(\"'\",B$1,\"'!\",B$4,(YEAR($A326)-1921)*12+MONTH($A326)+3+IF(ISNUMBER(FIND(\"PRV\",B$6)),1,0)))*IF(AND(B$3>0,TRIM(B$9)=\"CFS\"),Conv_Flags!$C326,1)","v":2667.4148473933483},{"$f":"INDIRECT(CONCATENATE(\"'\",C$1,\"'!\",C$4,(YEAR($A326)-1921)*12+MONTH($A326)+3+IF(ISNUMBER(FIND(\"PRV\",C$6)),1,0)))*IF(AND(C$3>0,TRIM(C$9)=\"CFS\"),Conv_Flags!$C326,1)","v":2636.6657239659244}]
["1947-12-31",{"$f":"INDIRECT(CONCATENATE(\"'\",B$1,\"'!\",B$4,(YEAR($A327)-1921)*12+MONTH($A327)+3+IF(ISNUMBER(FIND(\"PRV\",B$6)),1,0)))*IF(AND(B$3>0,TRIM(B$9)=\"CFS\"),Conv_Flags!$C327,1)","v":2646.6890243227781},{"$f":"INDIRECT(CONCATENATE(\"'\",C$1,\"'!\",C$4,(YEAR($A327)-1921)*12+MONTH($A327)+3+IF(ISNUMBER(FIND(\"PRV\",C$6)),1,0)))*IF(AND(C$3>0,TRIM(C$9)=\"CFS\"),Conv_Flags!$C327,1)","v":2618.4856289534855}]
["1948-01-31",{"$f":"INDIRECT(CONCATENATE(\"'\",B$1,\"'!\",B$4,(YEAR($A328)-1921)*12+MONTH($A328)+3+IF(ISNUMBER(FIND(\"PRV\",B$6)),1,0)))*IF(AND(B$3>0,TRIM(B$9)=\"CFS\"),Conv_Flags!$C328,1)","v":3211.941293401605},{"$f":"INDIRECT(CONCATENATE(\"'\",C$1,\"'!\",C$4,(YEAR($A328)-1921)*12+MONTH($A328)+3+IF(ISNUMBER(FIND(\"PRV\",C$6)),1,0)))*IF(AND(C$3>0,TRIM(C$9)=\"CFS\"),Conv_Flags!$C328,1)","v":3183.7557944056362}]
["1948-02-29",{"$f":"INDIRECT(CONCATENATE(\"'\",B$1,\"'!\",B$4,(YEAR($A329)-1921)*12+MONTH($A329)+3+IF(ISNUMBER(FIND(\"PRV\",B$6)),1,0)))*IF(AND(B$3>0,TRIM(B$9)=\"CFS\"),Conv_Flags!$C329,1)","v":3214.8727762060635},{"$f":"INDIRECT(CONCATENATE(\"'\",C$1,\"'!\",C$4,(YEAR($A329)-1921)*12+MONTH($A329)+3+IF(ISNUMBER(FIND(\"PRV\",C$6)),1,0)))*IF(AND(C$3>0,TRIM(C$9)=\"CFS\"),Conv_Flags!$C329,1)","v":3187.7930824931259}]
["1948-03-31",{"$f":"INDIRECT(CONCATENATE(\"'\",B$1,\"'!\",B$4,(YEAR($A330)-1921)*12+MONTH($A330)+3+IF(ISNUMBER(FIND(\"PRV\",B$6)),1,0)))*IF(AND(B$3>0,TRIM(B$9)=\"CFS\"),Conv_Flags!$C330,1)","v":3541.5903071339058},{"$f":"INDIRECT(CONCATENATE(\"'\",C$1,\"'!\",C$4,(YEAR($A330)-1921)*12+MONTH($A330)+3+IF(ISNUMBER(FIND(\"PRV\",C$6)),1,0)))*IF(AND(C$3>0,TRIM(C$9)=\"CFS\"),Conv_Flags!$C330,1)","v":3514.540374148864}]
["1948-04-30",{"$f":"INDIRECT(CONCATENATE(\"'\",B$1,\"'!\",B$4,(YEAR($A331)-1921)*12+MONTH($A331)+3+IF(ISNUMBER(FIND(\"PRV\",B$6)),1,0)))*IF(AND(B$3>0,TRIM(B$9)=\"CFS\"),Conv_Flags!$C331,1)","v":4422},{"$f":"INDIRECT(CONCATENATE(\"'\",C$1,\"'!\",C$4,(YEAR($A331)-1921)*12+MONTH($A331)+3+IF(ISNUMBER(FIND(\"PRV\",C$6)),1,0)))*IF(AND(C$3>0,TRIM(C$9)=\"CFS\"),Conv_Flags!$C331,1)","v":4422.0000000000009}]
["1948-05-31",{"$f":"INDIRECT(CONCATENATE(\"'\",B$1,\"'!\",B$4,(YEAR($A332)-1921)*12+MONTH($A332)+3+IF(ISNUMBER(FIND(\"PRV\",B$6)),1,0)))*IF(AND(B$3>0,TRIM(B$9)=\"CFS\"),Conv_Flags!$C332,1)","v":4552.0000000000109},{"$f":"INDIRECT(CONCATENATE(\"'\",C$1,\"'!\",C$4,(YEAR($A332)-1921)*12+MONTH($A332)+3+IF(ISNUMBER(FIND(\"PRV\",C$6)),1,0)))*IF(AND(C$3>0,TRIM(C$9)=\"CFS\"),Conv_Flags!$C332,1)","v":4552}]
["1948-06-30",{"$f":"INDIRECT(CONCATENATE(\"'\",B$1,\"'!\",B$4,(YEAR($A333)-1921)*12+MONTH($A333)+3+IF(ISNUMBER(FIND(\"PRV\",B$6)),1,0)))*IF(AND(B$3>0,TRIM(B$9)=\"CFS\"),Conv_Flags!$C333,1)","v":4500},{"$f":"INDIRECT(CONCATENATE(\"'\",C$1,\"'!\",C$4,(YEAR($A333)-1921)*12+MONTH($A333)+3+IF(ISNUMBER(FIND(\"PRV\",C$6)),1,0)))*IF(AND(C$3>0,TRIM(C$9)=\"CFS\"),Conv_Flags!$C333,1)","v":4500}]
["1948-07-31",{"$f":"INDIRECT(CONCATENATE(\"'\",B$1,\"'!\",B$4,(YEAR($A334)-1921)*12+MONTH($A334)+3+IF(ISNUMBER(FIND(\"PRV\",B$6)),1,0)))*IF(AND(B$3>0,TRIM(B$9)=\"CFS\"),Conv_Flags!$C334,1)","v":4020.1612901486324},{"$f":"INDIRECT(CONCATENATE(\"'\",C$1,\"'!\",C$4,(YEAR($A334)-1921)*12+MONTH($A334)+3+IF(ISNUMBER(FIND(\"PRV\",C$6)),1,0)))*IF(AND(C$3>0,TRIM(C$9)=\"CFS\"),Conv_Flags!$C334,1)","v":4042.248492247144}]
["1948-08-31",{"$f":"INDIRECT(CONCATENATE(\"'\",B$1,\"'!\",B$4,(YEAR($A335)-1921)*12+MONTH($A335)+3+IF(ISNUMBER(FIND(\"PRV\",B$6)),1,0)))*IF(AND(B$3>0,TRIM(B$9)=\"CFS\"),Conv_Flags!$C335,1)","v":3681.3628342646916},{"$f":"INDIRECT(CONCATENATE(\"'\",C$1,\"'!\",C$4,(YEAR($A335)-1921)*12+MONTH($A335)+3+IF(ISNUMBER(FIND(\"PRV\",C$6)),1,0)))*IF(AND(C$3>0,TRIM(C$9)=\"CFS\"),Conv_Flags!$C335,1)","v":3697.1594524379366}]
["1948-09-30",{"$f":"INDIRECT(CONCATENATE(\"'\",B$1,\"'!\",B$4,(YEAR($A336)-1921)*12+MONTH($A336)+3+IF(ISNUMBER(FIND(\"PRV\",B$6)),1,0)))*IF(AND(B$3>0,TRIM(B$9)=\"CFS\"),Conv_Flags!$C336,1)","v":3400},{"$f":"INDIRECT(CONCATENATE(\"'\",C$1,\"'!\",C$4,(YEAR($A336)-1921)*12+MONTH($A336)+3+IF(ISNUMBER(FIND(\"PRV\",C$6)),1,0)))*IF(AND(C$3>0,TRIM(C$9)=\"CFS\"),Conv_Flags!$C336,1)","v":3400}]
["1948-10-31",{"$f":"INDIRECT(CONCATENATE(\"'\",B$1,\"'!\",B$4,(YEAR($A337)-1921)*12+MONTH($A337)+3+IF(ISNUMBER(FIND(\"PRV\",B$6)),1,0)))*IF(AND(B$3>0,TRIM(B$9)=\"CFS\"),Conv_Flags!$C337,1)","v":3226.022052205823},{"$f":"INDIRECT(CONCATENATE(\"'\",C$1,\"'!\",C$4,(YEAR($A337)-1921)*12+MONTH($A337)+3+IF(ISNUMBER(FIND(\"PRV\",C$6)),1,0)))*IF(AND(C$3>0,TRIM(C$9)=\"CFS\"),Conv_Flags!$C337,1)","v":3223.0537434842886}]
["1948-11-30",{"$f":"INDIRECT(CONCATENATE(\"'\",B$1,\"'!\",B$4,(YEAR($A338)-1921)*12+MONTH($A338)+3+IF(ISNUMBER(FIND(\"PRV\",B$6)),1,0)))*IF(AND(B$3>0,TRIM(B$9)=\"CFS\"),Conv_Flags!$C338,1)","v":3184.4016666818425},{"$f":"INDIRECT(CONCATENATE(\"'\",C$1,\"'!\",C$4,(YEAR($A338)-1921)*12+MONTH($A338)+3+IF(ISNUMBER(FIND(\"PRV\",C$6)),1,0)))*IF(AND(C$3>0,TRIM(C$9)=\"CFS\"),Conv_Flags!$C338,1)","v":3177.3391802632063}]
["1948-12-31",{"$f":"INDIRECT(CONCATENATE(\"'\",B$1,\"'!\",B$4,(YEAR($A339)-1921)*12+MONTH($A339)+3+IF(ISNUMBER(FIND(\"PRV\",B$6)),1,0)))*IF(AND(B$3>0,TRIM(B$9)=\"CFS\"),Conv_Flags!$C339,1)","v":3247.8162036473291},{"$f":"INDIRECT(CONCATENATE(\"'\",C$1,\"'!\",C$4,(YEAR($A339)-1921)*12+MONTH($A339)+3+IF(ISNUMBER(FIND(\"PRV\",C$6)),1,0)))*IF(AND(C$3>0,TRIM(C$9)=\"CFS\"),Conv_Flags!$C339,1)","v":3236.6842584690439}]
["1949-01-31",{"$f":"INDIRECT(CONCATENATE(\"'\",B$1,\"'!\",B$4,(YEAR($A340)-1921)*12+MONTH($A340)+3+IF(ISNUMBER(FIND(\"PRV\",B$6)),1,0)))*IF(AND(B$3>0,TRIM(B$9)=\"CFS\"),Conv_Flags!$C340,1)","v":3264.05848885163},{"$f":"INDIRECT(CONCATENATE(\"'\",C$1,\"'!\",C$4,(YEAR($A340)-1921)*12+MONTH($A340)+3+IF(ISNUMBER(FIND(\"PRV\",C$6)),1,0)))*IF(AND(C$3>0,TRIM(C$9)=\"CFS\"),Conv_Flags!$C340,1)","v":3252.9331824590304}]
["1949-02-28",{"$f":"INDIRECT(CONCATENATE(\"'\",B$1,\"'!\",B$4,(YEAR($A341)-1921)*12+MONTH($A341)+3+IF(ISNUMBER(FIND(\"PRV\",B$6)),1,0)))*IF(AND(B$3>0,TRIM(B$9)=\"CFS\"),Conv_Flags!$C341,1)","v":3462.9964441126663},{"$f":"INDIRECT(CONCATENATE(\"'\",C$1,\"'!\",C$4,(YEAR($A341)-1921)*12+MONTH($A341)+3+IF(ISNUMBER(FIND(\"PRV\",C$6)),1,0)))*IF(AND(C$3>0,TRIM(C$9)=\"CFS\"),Conv_Flags!$C341,1)","v":3451.8785644933591}]
["1949-03-31",{"$f":"INDIRECT(CONCATENATE(\"'\",B$1,\"'!\",B$4,(YEAR($A342)-1921)*12+MONTH($A342)+3+IF(ISNUMBER(FIND(\"PRV\",B$6)),1,0)))*IF(AND(B$3>0,TRIM(B$9)=\"CFS\"),Conv_Flags!$C342,1)","v":4071},{"$f":"INDIRECT(CONCATENATE(\"'\",C$1,\"'!\",C$4,(YEAR($A342)-1921)*12+MONTH($A342)+3+IF(ISNUMBER(FIND(\"PRV\",C$6)),1,0)))*IF(AND(C$3>0,TRIM(C$9)=\"CFS\"),Conv_Flags!$C342,1)","v":4071}]
["1949-04-30",{"$f":"INDIRECT(CONCATENATE(\"'\",B$1,\"'!\",B$4,(YEAR($A343)-1921)*12+MONTH($A343)+3+IF(ISNUMBER(FIND(\"PRV\",B$6)),1,0)))*IF(AND(B$3>0,TRIM(B$9)=\"CFS\"),Conv_Flags!$C343,1)","v":4503.4103933009328},{"$f":"INDIRECT(CONCATENATE(\"'\",C$1,\"'!\",C$4,(YEAR($A343)-1921)*12+MONTH($A343)+3+IF(ISNUMBER(FIND(\"PRV\",C$6)),1,0)))*IF(AND(C$3>0,TRIM(C$9)=\"CFS\"),Conv_Flags!$C343,1)","v":4503.4103933009328}]
["1949-05-31",{"$f":"INDIRECT(CONCATENATE(\"'\",B$1,\"'!\",B$4,(YEAR($A344)-1921)*12+MONTH($A344)+3+IF(ISNUMBER(FIND(\"PRV\",B$6)),1,0)))*IF(AND(B$3>0,TRIM(B$9)=\"CFS\"),Conv_Flags!$C344,1)","v":4422.4105749650353},{"$f":"INDIRECT(CONCATENATE(\"'\",C$1,\"'!\",C$4,(YEAR($A344)-1921)*12+MONTH($A344)+3+IF(ISNUMBER(FIND(\"PRV\",C$6)),1,0)))*IF(AND(C$3>0,TRIM(C$9)=\"CFS\"),Conv_Flags!$C344,1)","v":4428.2707760290314}]
["1949-06-30",{"$f":"INDIRECT(CONCATENATE(\"'\",B$1,\"'!\",B$4,(YEAR($A345)-1921)*12+MONTH($A345)+3+IF(ISNUMBER(FIND(\"PRV\",B$6)),1,0)))*IF(AND(B$3>0,TRIM(B$9)=\"CFS\"),Conv_Flags!$C345,1)","v":4028.0193221154691},{"$f":"INDIRECT(CONCATENATE(\"'\",C$1,\"'!\",C$4,(YEAR($A345)-1921)*12+MONTH($A345)+3+IF(ISNUMBER(FIND(\"PRV\",C$6)),1,0)))*IF(AND(C$3>0,TRIM(C$9)=\"CFS\"),Conv_Flags!$C345,1)","v":4007.4674144625187}]
["1949-07-31",{"$f":"INDIRECT(CONCATENATE(\"'\",B$1,\"'!\",B$4,(YEAR($A346)-1921)*12+MONTH($A346)+3+IF(ISNUMBER(FIND(\"PRV\",B$6)),1,0)))*IF(AND(B$3>0,TRIM(B$9)=\"CFS\"),Conv_Flags!$C346,1)","v":3423.873072757573},{"$f":"INDIRECT(CONCATENATE(\"'\",C$1,\"'!\",C$4,(YEAR($A346)-1921)*12+MONTH($A346)+3+IF(ISNUMBER(FIND(\"PRV\",C$6)),1,0)))*IF(AND(C$3>0,TRIM(C$9)=\"CFS\"),Conv_Flags!$C346,1)","v":3417.1388833056262}]
["1949-08-31",{"$f":"INDIRECT(CONCATENATE(\"'\",B$1,\"'!\",B$4,(YEAR($A347)-1921)*12+MONTH($A347)+3+IF(ISNUMBER(FIND(\"PRV\",B$6)),1,0)))*IF(AND(B$3>0,TRIM(B$9)=\"CFS\"),Conv_Flags!$C347,1)","v":3110.0897975934081},{"$f":"INDIRECT(CONCATENATE(\"'\",C$1,\"'!\",C$4,(YEAR($A347)-1921)*12+MONTH($A347)+3+IF(ISNUMBER(FIND(\"PRV\",C$6)),1,0)))*IF(AND(C$3>0,TRIM(C$9)=\"CFS\"),Conv_Flags!$C347,1)","v":3101.1036742215515}]
["1949-09-30",{"$f":"INDIRECT(CONCATENATE(\"'\",B$1,\"'!\",B$4,(YEAR($A348)-1921)*12+MONTH($A348)+3+IF(ISNUMBER(FIND(\"PRV\",B$6)),1,0)))*IF(AND(B$3>0,TRIM(B$9)=\"CFS\"),Conv_Flags!$C348,1)","v":3030.059518463891},{"$f":"INDIRECT(CONCATENATE(\"'\",C$1,\"'!\",C$4,(YEAR($A348)-1921)*12+MONTH($A348)+3+IF(ISNUMBER(FIND(\"PRV\",C$6)),1,0)))*IF(AND(C$3>0,TRIM(C$9)=\"CFS\"),Conv_Flags!$C348,1)","v":3020.1615306115327}]
["1949-10-31",{"$f":"INDIRECT(CONCATENATE(\"'\",B$1,\"'!\",B$4,(YEAR($A349)-1921)*12+MONTH($A349)+3+IF(ISNUMBER(FIND(\"PRV\",B$6)),1,0)))*IF(AND(B$3>0,TRIM(B$9)=\"CFS\"),Conv_Flags!$C349,1)","v":2910.1402346143241},{"$f":"INDIRECT(CONCATENATE(\"'\",C$1,\"'!\",C$4,(YEAR($A349)-1921)*12+MONTH($A349)+3+IF(ISNUMBER(FIND(\"PRV\",C$6)),1,0)))*IF(AND(C$3>0,TRIM(C$9)=\"CFS\"),Conv_Flags!$C349,1)","v":2900.0187586210491}]
["1949-11-30",{"$f":"INDIRECT(CONCATENATE(\"'\",B$1,\"'!\",B$4,(YEAR($A350)-1921)*12+MONTH($A350)+3+IF(ISNUMBER(FIND(\"PRV\",B$6)),1,0)))*IF(AND(B$3>0,TRIM(B$9)=\"CFS\"),Conv_Flags!$C350,1)","v":2812.2150629920134},{"$f":"INDIRECT(CONCATENATE(\"'\",C$1,\"'!\",C$4,(YEAR($A350)-1921)*12+MONTH($A350)+3+IF(ISNUMBER(FIND(\"PRV\",C$6)),1,0)))*IF(AND(C$3>0,TRIM(C$9)=\"CFS\"),Conv_Flags!$C350,1)","v":2819.8688678220947}]
["1949-12-31",{"$f":"INDIRECT(CONCATENATE(\"'\",B$1,\"'!\",B$4,(YEAR($A351)-1921)*12+MONTH($A351)+3+IF(ISNUMBER(FIND(\"PRV\",B$6)),1,0)))*IF(AND(B$3>0,TRIM(B$9)=\"CFS\"),Conv_Flags!$C351,1)","v":2668.4335321459744},{"$f":"INDIRECT(CONCATENATE(\"'\",C$1,\"'!\",C$4,(YEAR($A351)-1921)*12+MONTH($A351)+3+IF(ISNUMBER(FIND(\"PRV\",C$6)),1,0)))*IF(AND(C$3>0,TRIM(C$9)=\"CFS\"),Conv_Flags!$C351,1)","v":2731.6489912660272}]
["1950-01-31",{"$f":"INDIRECT(CONCATENATE(\"'\",B$1,\"'!\",B$4,(YEAR($A352)-1921)*12+MONTH($A352)+3+IF(ISNUMBER(FIND(\"PRV\",B$6)),1,0)))*IF(AND(B$3>0,TRIM(B$9)=\"CFS\"),Conv_Flags!$C352,1)","v":2960.2092161719447},{"$f":"INDIRECT(CONCATENATE(\"'\",C$1,\"'!\",C$4,(YEAR($A352)-1921)*12+MONTH($A352)+3+IF(ISNUMBER(FIND(\"PRV\",C$6)),1,0)))*IF(AND(C$3>0,TRIM(C$9)=\"CFS\"),Conv_Flags!$C352,1)","v":3023.3847253377317}]
["1950-02-28",{"$f":"INDIRECT(CONCATENATE(\"'\",B$1,\"'!\",B$4,(YEAR($A353)-1921)*12+MONTH($A353)+3+IF(ISNUMBER(FIND(\"PRV\",B$6)),1,0)))*IF(AND(B$3>0,TRIM(B$9)=\"CFS\"),Conv_Flags!$C353,1)","v":3368.4868532130795},{"$f":"INDIRECT(CONCATENATE(\"'\",C$1,\"'!\",C$4,(YEAR($A353)-1921)*12+MONTH($A353)+3+IF(ISNUMBER(FIND(\"PRV\",C$6)),1,0)))*IF(AND(C$3>0,TRIM(C$9)=\"CFS\"),Conv_Flags!$C353,1)","v":3426.0562332341478}]
["1950-03-31",{"$f":"INDIRECT(CONCATENATE(\"'\",B$1,\"'!\",B$4,(YEAR($A354)-1921)*12+MONTH($A354)+3+IF(ISNUMBER(FIND(\"PRV\",B$6)),1,0)))*IF(AND(B$3>0,TRIM(B$9)=\"CFS\"),Conv_Flags!$C354,1)","v":3820.6979342563554},{"$f":"INDIRECT(CONCATENATE(\"'\",C$1,\"'!\",C$4,(YEAR($A354)-1921)*12+MONTH($A354)+3+IF(ISNUMBER(FIND(\"PRV\",C$6)),1,0)))*IF(AND(C$3>0,TRIM(C$9)=\"CFS\"),Conv_Flags!$C354,1)","v":3878.1999491618244}]
["1950-04-30",{"$f":"INDIRECT(CONCATENATE(\"'\",B$1,\"'!\",B$4,(YEAR($A355)-1921)*12+MONTH($A355)+3+IF(ISNUMBER(FIND(\"PRV\",B$6)),1,0)))*IF(AND(B$3>0,TRIM(B$9)=\"CFS\"),Conv_Flags!$C355,1)","v":4232.9061392727917},{"$f":"INDIRECT(CONCATENATE(\"'\",C$1,\"'!\",C$4,(YEAR($A355)-1921)*12+MONTH($A355)+3+IF(ISNUMBER(FIND(\"PRV\",C$6)),1,0)))*IF(AND(C$3>0,TRIM(C$9)=\"CFS\"),Conv_Flags!$C355,1)","v":4285.4962997793727}]
["1950-05-31",{"$f":"INDIRECT(CONCATENATE(\"'\",B$1,\"'!\",B$4,(YEAR($A356)-1921)*12+MONTH($A356)+3+IF(ISNUMBER(FIND(\"PRV\",B$6)),1,0)))*IF(AND(B$3>0,TRIM(B$9)=\"CFS\"),Conv_Flags!$C356,1)","v":4224.1605909329419},{"$f":"INDIRECT(CONCATENATE(\"'\",C$1,\"'!\",C$4,(YEAR($A356)-1921)*12+MONTH($A356)+3+IF(ISNUMBER(FIND(\"PRV\",C$6)),1,0)))*IF(AND(C$3>0,TRIM(C$9)=\"CFS\"),Conv_Flags!$C356,1)","v":4294.7618204420623}]
["1950-06-30",{"$f":"INDIRECT(CONCATENATE(\"'\",B$1,\"'!\",B$4,(YEAR($A357)-1921)*12+MONTH($A357)+3+IF(ISNUMBER(FIND(\"PRV\",B$6)),1,0)))*IF(AND(B$3>0,TRIM(B$9)=\"CFS\"),Conv_Flags!$C357,1)","v":3991.0391085143738},{"$f":"INDIRECT(CONCATENATE(\"'\",C$1,\"'!\",C$4,(YEAR($A357)-1921)*12+MONTH($A357)+3+IF(ISNUMBER(FIND(\"PRV\",C$6)),1,0)))*IF(AND(C$3>0,TRIM(C$9)=\"CFS\"),Conv_Flags!$C357,1)","v":4060.1651969229215}]
["1950-07-31",{"$f":"INDIRECT(CONCATENATE(\"'\",B$1,\"'!\",B$4,(YEAR($A358)-1921)*12+MONTH($A358)+3+IF(ISNUMBER(FIND(\"PRV\",B$6)),1,0)))*IF(AND(B$3>0,TRIM(B$9)=\"CFS\"),Conv_Flags!$C358,1)","v":3642.1447402161866},{"$f":"INDIRECT(CONCATENATE(\"'\",C$1,\"'!\",C$4,(YEAR($A358)-1921)*12+MONTH($A358)+3+IF(ISNUMBER(FIND(\"PRV\",C$6)),1,0)))*IF(AND(C$3>0,TRIM(C$9)=\"CFS\"),Conv_Flags!$C358,1)","v":3604.3071814622335}]
["1950-08-31",{"$f":"INDIRECT(CONCATENATE(\"'\",B$1,\"'!\",B$4,(YEAR($A359)-1921)*12+MONTH($A359)+3+IF(ISNUMBER(FIND(\"PRV\",B$6)),1,0)))*IF(AND(B$3>0,TRIM(B$9)=\"CFS\"),Conv_Flags!$C359,1)","v":3271.5976648713986},{"$f":"INDIRECT(CONCATENATE(\"'\",C$1,\"'!\",C$4,(YEAR($A359)-1921)*12+MONTH($A359)+3+IF(ISNUMBER(FIND(\"PRV\",C$6)),1,0)))*IF(AND(C$3>0,TRIM(C$9)=\"CFS\"),Conv_Flags!$C359,1)","v":3228.0989057519173}]
["1950-09-30",{"$f":"INDIRECT(CONCATENATE(\"'\",B$1,\"'!\",B$4,(YEAR($A360)-1921)*12+MONTH($A360)+3+IF(ISNUMBER(FIND(\"PRV\",B$6)),1,0)))*IF(AND(B$3>0,TRIM(B$9)=\"CFS\"),Conv_Flags!$C360,1)","v":3199.2892102276437},{"$f":"INDIRECT(CONCATENATE(\"'\",C$1,\"'!\",C$4,(YEAR($A360)-1921)*12+MONTH($A360)+3+IF(ISNUMBER(FIND(\"PRV\",C$6)),1,0)))*IF(AND(C$3>0,TRIM(C$9)=\"CFS\"),Conv_Flags!$C360,1)","v":3167.5886711769481}]
["1950-10-31",{"$f":"INDIRECT(CONCATENATE(\"'\",B$1,\"'!\",B$4,(YEAR($A361)-1921)*12+MONTH($A361)+3+IF(ISNUMBER(FIND(\"PRV\",B$6)),1,0)))*IF(AND(B$3>0,TRIM(B$9)=\"CFS\"),Conv_Flags!$C361,1)","v":3250.0000000000032},{"$f":"INDIRECT(CONCATENATE(\"'\",C$1,\"'!\",C$4,(YEAR($A361)-1921)*12+MONTH($A361)+3+IF(ISNUMBER(FIND(\"PRV\",C$6)),1,0)))*IF(AND(C$3>0,TRIM(C$9)=\"CFS\"),Conv_Flags!$C361,1)","v":3250}]
["1950-11-30",{"$f":"INDIRECT(CONCATENATE(\"'\",B$1,\"'!\",B$4,(YEAR($A362)-1921)*12+MONTH($A362)+3+IF(ISNUMBER(FIND(\"PRV\",B$6)),1,0)))*IF(AND(B$3>0,TRIM(B$9)=\"CFS\"),Conv_Flags!$C362,1)","v":3252},{"$f":"INDIRECT(CONCATENATE(\"'\",C$1,\"'!\",C$4,(YEAR($A362)-1921)*12+MONTH($A362)+3+IF(ISNUMBER(FIND(\"PRV\",C$6)),1,0)))*IF(AND(C$3>0,TRIM(C$9)=\"CFS\"),Conv_Flags!$C362,1)","v":3252}]
["1950-12-31",{"$f":"INDIRECT(CONCATENATE(\"'\",B$1,\"'!\",B$4,(YEAR($A363)-1921)*12+MONTH($A363)+3+IF(ISNUMBER(FIND(\"PRV\",B$6)),1,0)))*IF(AND(B$3>0,TRIM(B$9)=\"CFS\"),Conv_Flags!$C363,1)","v":3322},{"$f":"INDIRECT(CONCATENATE(\"'\",C$1,\"'!\",C$4,(YEAR($A363)-1921)*12+MONTH($A363)+3+IF(ISNUMBER(FIND(\"PRV\",C$6)),1,0)))*IF(AND(C$3>0,TRIM(C$9)=\"CFS\"),Conv_Flags!$C363,1)","v":3322}]
["1951-01-31",{"$f":"INDIRECT(CONCATENATE(\"'\",B$1,\"'!\",B$4,(YEAR($A364)-1921)*12+MONTH($A364)+3+IF(ISNUMBER(FIND(\"PRV\",B$6)),1,0)))*IF(AND(B$3>0,TRIM(B$9)=\"CFS\"),Conv_Flags!$C364,1)","v":3624},{"$f":"INDIRECT(CONCATENATE(\"'\",C$1,\"'!\",C$4,(YEAR($A364)-1921)*12+MONTH($A364)+3+IF(ISNUMBER(FIND(\"PRV\",C$6)),1,0)))*IF(AND(C$3>0,TRIM(C$9)=\"CFS\"),Conv_Flags!$C364,1)","v":3624}]
["1951-02-28",{"$f":"INDIRECT(CONCATENATE(\"'\",B$1,\"'!\",B$4,(YEAR($A365)-1921)*12+MONTH($A365)+3+IF(ISNUMBER(FIND(\"PRV\",B$6)),1,0)))*IF(AND(B$3>0,TRIM(B$9)=\"CFS\"),Conv_Flags!$C365,1)","v":3794},{"$f":"INDIRECT(CONCATENATE(\"'\",C$1,\"'!\",C$4,(YEAR($A365)-1921)*12+MONTH($A365)+3+IF(ISNUMBER(FIND(\"PRV\",C$6)),1,0)))*IF(AND(C$3>0,TRIM(C$9)=\"CFS\"),Conv_Flags!$C365,1)","v":3794}]
["1951-03-31",{"$f":"INDIRECT(CONCATENATE(\"'\",B$1,\"'!\",B$4,(YEAR($A366)-1921)*12+MONTH($A366)+3+IF(ISNUMBER(FIND(\"PRV\",B$6)),1,0)))*IF(AND(B$3>0,TRIM(B$9)=\"CFS\"),Conv_Flags!$C366,1)","v":4196.0563624340857},{"$f":"INDIRECT(CONCATENATE(\"'\",C$1,\"'!\",C$4,(YEAR($A366)-1921)*12+MONTH($A366)+3+IF(ISNUMBER(FIND(\"PRV\",C$6)),1,0)))*IF(AND(C$3>0,TRIM(C$9)=\"CFS\"),Conv_Flags!$C366,1)","v":4196.056362224992}]
["1951-04-30",{"$f":"INDIRECT(CONCATENATE(\"'\",B$1,\"'!\",B$4,(YEAR($A367)-1921)*12+MONTH($A367)+3+IF(ISNUMBER(FIND(\"PRV\",B$6)),1,0)))*IF(AND(B$3>0,TRIM(B$9)=\"CFS\"),Conv_Flags!$C367,1)","v":4423.606449375764},{"$f":"INDIRECT(CONCATENATE(\"'\",C$1,\"'!\",C$4,(YEAR($A367)-1921)*12+MONTH($A367)+3+IF(ISNUMBER(FIND(\"PRV\",C$6)),1,0)))*IF(AND(C$3>0,TRIM(C$9)=\"CFS\"),Conv_Flags!$C367,1)","v":4423.6064488761949}]
["1951-05-31",{"$f":"INDIRECT(CONCATENATE(\"'\",B$1,\"'!\",B$4,(YEAR($A368)-1921)*12+MONTH($A368)+3+IF(ISNUMBER(FIND(\"PRV\",B$6)),1,0)))*IF(AND(B$3>0,TRIM(B$9)=\"CFS\"),Conv_Flags!$C368,1)","v":4552},{"$f":"INDIRECT(CONCATENATE(\"'\",C$1,\"'!\",C$4,(YEAR($A368)-1921)*12+MONTH($A368)+3+IF(ISNUMBER(FIND(\"PRV\",C$6)),1,0)))*IF(AND(C$3>0,TRIM(C$9)=\"CFS\"),Conv_Flags!$C368,1)","v":4552}]
["1951-06-30",{"$f":"INDIRECT(CONCATENATE(\"'\",B$1,\"'!\",B$4,(YEAR($A369)-1921)*12+MONTH($A369)+3+IF(ISNUMBER(FIND(\"PRV\",B$6)),1,0)))*IF(AND(B$3>0,TRIM(B$9)=\"CFS\"),Conv_Flags!$C369,1)","v":4187.9566892001221},{"$f":"INDIRECT(CONCATENATE(\"'\",C$1,\"'!\",C$4,(YEAR($A369)-1921)*12+MONTH($A369)+3+IF(ISNUMBER(FIND(\"PRV\",C$6)),1,0)))*IF(AND(C$3>0,TRIM(C$9)=\"CFS\"),Conv_Flags!$C369,1)","v":4233.3971507499882}]
["1951-07-31",{"$f":"INDIRECT(CONCATENATE(\"'\",B$1,\"'!\",B$4,(YEAR($A370)-1921)*12+MONTH($A370)+3+IF(ISNUMBER(FIND(\"PRV\",B$6)),1,0)))*IF(AND(B$3>0,TRIM(B$9)=\"CFS\"),Conv_Flags!$C370,1)","v":3473.3658047333333},{"$f":"INDIRECT(CONCATENATE(\"'\",C$1,\"'!\",C$4,(YEAR($A370)-1921)*12+MONTH($A370)+3+IF(ISNUMBER(FIND(\"PRV\",C$6)),1,0)))*IF(AND(C$3>0,TRIM(C$9)=\"CFS\"),Conv_Flags!$C370,1)","v":3518.6277476036453}]
["1951-08-31",{"$f":"INDIRECT(CONCATENATE(\"'\",B$1,\"'!\",B$4,(YEAR($A371)-1921)*12+MONTH($A371)+3+IF(ISNUMBER(FIND(\"PRV\",B$6)),1,0)))*IF(AND(B$3>0,TRIM(B$9)=\"CFS\"),Conv_Flags!$C371,1)","v":3053.8419152787724},{"$f":"INDIRECT(CONCATENATE(\"'\",C$1,\"'!\",C$4,(YEAR($A371)-1921)*12+MONTH($A371)+3+IF(ISNUMBER(FIND(\"PRV\",C$6)),1,0)))*IF(AND(C$3>0,TRIM(C$9)=\"CFS\"),Conv_Flags!$C371,1)","v":3094.9076072806556}]
["1951-09-30",{"$f":"INDIRECT(CONCATENATE(\"'\",B$1,\"'!\",B$4,(YEAR($A372)-1921)*12+MONTH($A372)+3+IF(ISNUMBER(FIND(\"PRV\",B$6)),1,0)))*IF(AND(B$3>0,TRIM(B$9)=\"CFS\"),Conv_Flags!$C372,1)","v":2845.8093992037916},{"$f":"INDIRECT(CONCATENATE(\"'\",C$1,\"'!\",C$4,(YEAR($A372)-1921)*12+MONTH($A372)+3+IF(ISNUMBER(FIND(\"PRV\",C$6)),1,0)))*IF(AND(C$3>0,TRIM(C$9)=\"CFS\"),Conv_Flags!$C372,1)","v":2914.9296370912634}]
["1951-10-31",{"$f":"INDIRECT(CONCATENATE(\"'\",B$1,\"'!\",B$4,(YEAR($A373)-1921)*12+MONTH($A373)+3+IF(ISNUMBER(FIND(\"PRV\",B$6)),1,0)))*IF(AND(B$3>0,TRIM(B$9)=\"CFS\"),Conv_Flags!$C373,1)","v":2813.6585107333485},{"$f":"INDIRECT(CONCATENATE(\"'\",C$1,\"'!\",C$4,(YEAR($A373)-1921)*12+MONTH($A373)+3+IF(ISNUMBER(FIND(\"PRV\",C$6)),1,0)))*IF(AND(C$3>0,TRIM(C$9)=\"CFS\"),Conv_Flags!$C373,1)","v":2898.8115939795439}]
["1951-11-30",{"$f":"INDIRECT(CONCATENATE(\"'\",B$1,\"'!\",B$4,(YEAR($A374)-1921)*12+MONTH($A374)+3+IF(ISNUMBER(FIND(\"PRV\",B$6)),1,0)))*IF(AND(B$3>0,TRIM(B$9)=\"CFS\"),Conv_Flags!$C374,1)","v":2917.2748743972729},{"$f":"INDIRECT(CONCATENATE(\"'\",C$1,\"'!\",C$4,(YEAR($A374)-1921)*12+MONTH($A374)+3+IF(ISNUMBER(FIND(\"PRV\",C$6)),1,0)))*IF(AND(C$3>0,TRIM(C$9)=\"CFS\"),Conv_Flags!$C374,1)","v":3002.6886349356614}]
["1951-12-31",{"$f":"INDIRECT(CONCATENATE(\"'\",B$1,\"'!\",B$4,(YEAR($A375)-1921)*12+MONTH($A375)+3+IF(ISNUMBER(FIND(\"PRV\",B$6)),1,0)))*IF(AND(B$3>0,TRIM(B$9)=\"CFS\"),Conv_Flags!$C375,1)","v":3306},{"$f":"INDIRECT(CONCATENATE(\"'\",C$1,\"'!\",C$4,(YEAR($A375)-1921)*12+MONTH($A375)+3+IF(ISNUMBER(FIND(\"PRV\",C$6)),1,0)))*IF(AND(C$3>0,TRIM(C$9)=\"CFS\"),Conv_Flags!$C375,1)","v":3306}]
["1952-01-31",{"$f":"INDIRECT(CONCATENATE(\"'\",B$1,\"'!\",B$4,(YEAR($A376)-1921)*12+MONTH($A376)+3+IF(ISNUMBER(FIND(\"PRV\",B$6)),1,0)))*IF(AND(B$3>0,TRIM(B$9)=\"CFS\"),Conv_Flags!$C376,1)","v":3604},{"$f":"INDIRECT(CONCATENATE(\"'\",C$1,\"'!\",C$4,(YEAR($A376)-1921)*12+MONTH($A376)+3+IF(ISNUMBER(FIND(\"PRV\",C$6)),1,0)))*IF(AND(C$3>0,TRIM(C$9)=\"CFS\"),Conv_Flags!$C376,1)","v":3604}]
["1952-02-29",{"$f":"INDIRECT(CONCATENATE(\"'\",B$1,\"'!\",B$4,(YEAR($A377)-1921)*12+MONTH($A377)+3+IF(ISNUMBER(FIND(\"PRV\",B$6)),1,0)))*IF(AND(B$3>0,TRIM(B$9)=\"CFS\"),Conv_Flags!$C377,1)","v":3739},{"$f":"INDIRECT(CONCATENATE(\"'\",C$1,\"'!\",C$4,(YEAR($A377)-1921)*12+MONTH($A377)+3+IF(ISNUMBER(FIND(\"PRV\",C$6)),1,0)))*IF(AND(C$3>0,TRIM(C$9)=\"CFS\"),Conv_Flags!$C377,1)","v":3739}]
["1952-03-31",{"$f":"INDIRECT(CONCATENATE(\"'\",B$1,\"'!\",B$4,(YEAR($A378)-1921)*12+MONTH($A378)+3+IF(ISNUMBER(FIND(\"PRV\",B$6)),1,0)))*IF(AND(B$3>0,TRIM(B$9)=\"CFS\"),Conv_Flags!$C378,1)","v":4022},{"$f":"INDIRECT(CONCATENATE(\"'\",C$1,\"'!\",C$4,(YEAR($A378)-1921)*12+MONTH($A378)+3+IF(ISNUMBER(FIND(\"PRV\",C$6)),1,0)))*IF(AND(C$3>0,TRIM(C$9)=\"CFS\"),Conv_Flags!$C378,1)","v":4022}]
["1952-04-30",{"$f":"INDIRECT(CONCATENATE(\"'\",B$1,\"'!\",B$4,(YEAR($A379)-1921)*12+MONTH($A379)+3+IF(ISNUMBER(FIND(\"PRV\",B$6)),1,0)))*IF(AND(B$3>0,TRIM(B$9)=\"CFS\"),Conv_Flags!$C379,1)","v":4290},{"$f":"INDIRECT(CONCATENATE(\"'\",C$1,\"'!\",C$4,(YEAR($A379)-1921)*12+MONTH($A379)+3+IF(ISNUMBER(FIND(\"PRV\",C$6)),1,0)))*IF(AND(C$3>0,TRIM(C$9)=\"CFS\"),Conv_Flags!$C379,1)","v":4290}]
["1952-05-31",{"$f":"INDIRECT(CONCATENATE(\"'\",B$1,\"'!\",B$4,(YEAR($A380)-1921)*12+MONTH($A380)+3+IF(ISNUMBER(FIND(\"PRV\",B$6)),1,0)))*IF(AND(B$3>0,TRIM(B$9)=\"CFS\"),Conv_Flags!$C380,1)","v":4552},{"$f":"INDIRECT(CONCATENATE(\"'\",C$1,\"'!\",C$4,(YEAR($A380)-1921)*12+MONTH($A380)+3+IF(ISNUMBER(FIND(\"PRV\",C$6)),1,0)))*IF(AND(C$3>0,TRIM(C$9)=\"CFS\"),Conv_Flags!$C380,1)","v":4552}]
["1952-06-30",{"$f":"INDIRECT(CONCATENATE(\"'\",B$1,\"'!\",B$4,(YEAR($A381)-1921)*12+MONTH($A381)+3+IF(ISNUMBER(FIND(\"PRV\",B$6)),1,0)))*IF(AND(B$3>0,TRIM(B$9)=\"CFS\"),Conv_Flags!$C381,1)","v":4500},{"$f":"INDIRECT(CONCATENATE(\"'\",C$1,\"'!\",C$4,(YEAR($A381)-1921)*12+MONTH($A381)+3+IF(ISNUMBER(FIND(\"PRV\",C$6)),1,0)))*IF(AND(C$3>0,TRIM(C$9)=\"CFS\"),Conv_Flags!$C381,1)","v":4500}]
["1952-07-31",{"$f":"INDIRECT(CONCATENATE(\"'\",B$1,\"'!\",B$4,(YEAR($A382)-1921)*12+MONTH($A382)+3+IF(ISNUMBER(FIND(\"PRV\",B$6)),1,0)))*IF(AND(B$3>0,TRIM(B$9)=\"CFS\"),Conv_Flags!$C382,1)","v":4150},{"$f":"INDIRECT(CONCATENATE(\"'\",C$1,\"'!\",C$4,(YEAR($A382)-1921)*12+MONTH($A382)+3+IF(ISNUMBER(FIND(\"PRV\",C$6)),1,0)))*IF(AND(C$3>0,TRIM(C$9)=\"CFS\"),Conv_Flags!$C382,1)","v":4150}]
["1952-08-31",{"$f":"INDIRECT(CONCATENATE(\"'\",B$1,\"'!\",B$4,(YEAR($A383)-1921)*12+MONTH($A383)+3+IF(ISNUMBER(FIND(\"PRV\",B$6)),1,0)))*IF(AND(B$3>0,TRIM(B$9)=\"CFS\"),Conv_Flags!$C383,1)","v":3700},{"$f":"INDIRECT(CONCATENATE(\"'\",C$1,\"'!\",C$4,(YEAR($A383)-1921)*12+MONTH($A383)+3+IF(ISNUMBER(FIND(\"PRV\",C$6)),1,0)))*IF(AND(C$3>0,TRIM(C$9)=\"CFS\"),Conv_Flags!$C383,1)","v":3700}]
["1952-09-30",{"$f":"INDIRECT(CONCATENATE(\"'\",B$1,\"'!\",B$4,(YEAR($A384)-1921)*12+MONTH($A384)+3+IF(ISNUMBER(FIND(\"PRV\",B$6)),1,0)))*IF(AND(B$3>0,TRIM(B$9)=\"CFS\"),Conv_Flags!$C384,1)","v":3399.9999999999995},{"$f":"INDIRECT(CONCATENATE(\"'\",C$1,\"'!\",C$4,(YEAR($A384)-1921)*12+MONTH($A384)+3+IF(ISNUMBER(FIND(\"PRV\",C$6)),1,0)))*IF(AND(C$3>0,TRIM(C$9)=\"CFS\"),Conv_Flags!$C384,1)","v":3399.9999999999995}]
["1952-10-31",{"$f":"INDIRECT(CONCATENATE(\"'\",B$1,\"'!\",B$4,(YEAR($A385)-1921)*12+MONTH($A385)+3+IF(ISNUMBER(FIND(\"PRV\",B$6)),1,0)))*IF(AND(B$3>0,TRIM(B$9)=\"CFS\"),Conv_Flags!$C385,1)","v":3250},{"$f":"INDIRECT(CONCATENATE(\"'\",C$1,\"'!\",C$4,(YEAR($A385)-1921)*12+MONTH($A385)+3+IF(ISNUMBER(FIND(\"PRV\",C$6)),1,0)))*IF(AND(C$3>0,TRIM(C$9)=\"CFS\"),Conv_Flags!$C385,1)","v":3250.0000000000005}]
["1952-11-30",{"$f":"INDIRECT(CONCATENATE(\"'\",B$1,\"'!\",B$4,(YEAR($A386)-1921)*12+MONTH($A386)+3+IF(ISNUMBER(FIND(\"PRV\",B$6)),1,0)))*IF(AND(B$3>0,TRIM(B$9)=\"CFS\"),Conv_Flags!$C386,1)","v":3174.1422803205442},{"$f":"INDIRECT(CONCATENATE(\"'\",C$1,\"'!\",C$4,(YEAR($A386)-1921)*12+MONTH($A386)+3+IF(ISNUMBER(FIND(\"PRV\",C$6)),1,0)))*IF(AND(C$3>0,TRIM(C$9)=\"CFS\"),Conv_Flags!$C386,1)","v":3188.4594215152247}]
["1952-12-31",{"$f":"INDIRECT(CONCATENATE(\"'\",B$1,\"'!\",B$4,(YEAR($A387)-1921)*12+MONTH($A387)+3+IF(ISNUMBER(FIND(\"PRV\",B$6)),1,0)))*IF(AND(B$3>0,TRIM(B$9)=\"CFS\"),Conv_Flags!$C387,1)","v":3345},{"$f":"INDIRECT(CONCATENATE(\"'\",C$1,\"'!\",C$4,(YEAR($A387)-1921)*12+MONTH($A387)+3+IF(ISNUMBER(FIND(\"PRV\",C$6)),1,0)))*IF(AND(C$3>0,TRIM(C$9)=\"CFS\"),Conv_Flags!$C387,1)","v":3345}]
["1953-01-31",{"$f":"INDIRECT(CONCATENATE(\"'\",B$1,\"'!\",B$4,(YEAR($A388)-1921)*12+MONTH($A388)+3+IF(ISNUMBER(FIND(\"PRV\",B$6)),1,0)))*IF(AND(B$3>0,TRIM(B$9)=\"CFS\"),Conv_Flags!$C388,1)","v":3366},{"$f":"INDIRECT(CONCATENATE(\"'\",C$1,\"'!\",C$4,(YEAR($A388)-1921)*12+MONTH($A388)+3+IF(ISNUMBER(FIND(\"PRV\",C$6)),1,0)))*IF(AND(C$3>0,TRIM(C$9)=\"CFS\"),Conv_Flags!$C388,1)","v":3366}]
["1953-02-28",{"$f":"INDIRECT(CONCATENATE(\"'\",B$1,\"'!\",B$4,(YEAR($A389)-1921)*12+MONTH($A389)+3+IF(ISNUMBER(FIND(\"PRV\",B$6)),1,0)))*IF(AND(B$3>0,TRIM(B$9)=\"CFS\"),Conv_Flags!$C389,1)","v":3713.3586565432374},{"$f":"INDIRECT(CONCATENATE(\"'\",C$1,\"'!\",C$4,(YEAR($A389)-1921)*12+MONTH($A389)+3+IF(ISNUMBER(FIND(\"PRV\",C$6)),1,0)))*IF(AND(C$3>0,TRIM(C$9)=\"CFS\"),Conv_Flags!$C389,1)","v":3713.3586573540638}]
["1953-03-31",{"$f":"INDIRECT(CONCATENATE(\"'\",B$1,\"'!\",B$4,(YEAR($A390)-1921)*12+MONTH($A390)+3+IF(ISNUMBER(FIND(\"PRV\",B$6)),1,0)))*IF(AND(B$3>0,TRIM(B$9)=\"CFS\"),Conv_Flags!$C390,1)","v":4147.3133950118427},{"$f":"INDIRECT(CONCATENATE(\"'\",C$1,\"'!\",C$4,(YEAR($A390)-1921)*12+MONTH($A390)+3+IF(ISNUMBER(FIND(\"PRV\",C$6)),1,0)))*IF(AND(C$3>0,TRIM(C$9)=\"CFS\"),Conv_Flags!$C390,1)","v":4147.3133949202756}]
["1953-04-30",{"$f":"INDIRECT(CONCATENATE(\"'\",B$1,\"'!\",B$4,(YEAR($A391)-1921)*12+MONTH($A391)+3+IF(ISNUMBER(FIND(\"PRV\",B$6)),1,0)))*IF(AND(B$3>0,TRIM(B$9)=\"CFS\"),Conv_Flags!$C391,1)","v":4512.312480886163},{"$f":"INDIRECT(CONCATENATE(\"'\",C$1,\"'!\",C$4,(YEAR($A391)-1921)*12+MONTH($A391)+3+IF(ISNUMBER(FIND(\"PRV\",C$6)),1,0)))*IF(AND(C$3>0,TRIM(C$9)=\"CFS\"),Conv_Flags!$C391,1)","v":4512.3124807488766}]
["1953-05-31",{"$f":"INDIRECT(CONCATENATE(\"'\",B$1,\"'!\",B$4,(YEAR($A392)-1921)*12+MONTH($A392)+3+IF(ISNUMBER(FIND(\"PRV\",B$6)),1,0)))*IF(AND(B$3>0,TRIM(B$9)=\"CFS\"),Conv_Flags!$C392,1)","v":4552},{"$f":"INDIRECT(CONCATENATE(\"'\",C$1,\"'!\",C$4,(YEAR($A392)-1921)*12+MONTH($A392)+3+IF(ISNUMBER(FIND(\"PRV\",C$6)),1,0)))*IF(AND(C$3>0,TRIM(C$9)=\"CFS\"),Conv_Flags!$C392,1)","v":4552}]
["1953-06-30",{"$f":"INDIRECT(CONCATENATE(\"'\",B$1,\"'!\",B$4,(YEAR($A393)-1921)*12+MONTH($A393)+3+IF(ISNUMBER(FIND(\"PRV\",B$6)),1,0)))*IF(AND(B$3>0,TRIM(B$9)=\"CFS\"),Conv_Flags!$C393,1)","v":4500},{"$f":"INDIRECT(CONCATENATE(\"'\",C$1,\"'!\",C$4,(YEAR($A393)-1921)*12+MONTH($A393)+3+IF(ISNUMBER(FIND(\"PRV\",C$6)),1,0)))*IF(AND(C$3>0,TRIM(C$9)=\"CFS\"),Conv_Flags!$C393,1)","v":4500}]
["1953-07-31",{"$f":"INDIRECT(CONCATENATE(\"'\",B$1,\"'!\",B$4,(YEAR($A394)-1921)*12+MONTH($A394)+3+IF(ISNUMBER(FIND(\"PRV\",B$6)),1,0)))*IF(AND(B$3>0,TRIM(B$9)=\"CFS\"),Conv_Flags!$C394,1)","v":4058.9786407655679},{"$f":"INDIRECT(CONCATENATE(\"'\",C$1,\"'!\",C$4,(YEAR($A394)-1921)*12+MONTH($A394)+3+IF(ISNUMBER(FIND(\"PRV\",C$6)),1,0)))*IF(AND(C$3>0,TRIM(C$9)=\"CFS\"),Conv_Flags!$C394,1)","v":4053.9823458114593}]
["1953-08-31",{"$f":"INDIRECT(CONCATENATE(\"'\",B$1,\"'!\",B$4,(YEAR($A395)-1921)*12+MONTH($A395)+3+IF(ISNUMBER(FIND(\"PRV\",B$6)),1,0)))*IF(AND(B$3>0,TRIM(B$9)=\"CFS\"),Conv_Flags!$C395,1)","v":3700},{"$f":"INDIRECT(CONCATENATE(\"'\",C$1,\"'!\",C$4,(YEAR($A395)-1921)*12+MONTH($A395)+3+IF(ISNUMBER(FIND(\"PRV\",C$6)),1,0)))*IF(AND(C$3>0,TRIM(C$9)=\"CFS\"),Conv_Flags!$C395,1)","v":3700}]
["1953-09-30",{"$f":"INDIRECT(CONCATENATE(\"'\",B$1,\"'!\",B$4,(YEAR($A396)-1921)*12+MONTH($A396)+3+IF(ISNUMBER(FIND(\"PRV\",B$6)),1,0)))*IF(AND(B$3>0,TRIM(B$9)=\"CFS\"),Conv_Flags!$C396,1)","v":3399.9999999999991},{"$f":"INDIRECT(CONCATENATE(\"'\",C$1,\"'!\",C$4,(YEAR($A396)-1921)*12+MONTH($A396)+3+IF(ISNUMBER(FIND(\"PRV\",C$6)),1,0)))*IF(AND(C$3>0,TRIM(C$9)=\"CFS\"),Conv_Flags!$C396,1)","v":3399.9999999999991}]
["1953-10-31",{"$f":"INDIRECT(CONCATENATE(\"'\",B$1,\"'!\",B$4,(YEAR($A397)-1921)*12+MONTH($A397)+3+IF(ISNUMBER(FIND(\"PRV\",B$6)),1,0)))*IF(AND(B$3>0,TRIM(B$9)=\"CFS\"),Conv_Flags!$C397,1)","v":3250.0000000000005},{"$f":"INDIRECT(CONCATENATE(\"'\",C$1,\"'!\",C$4,(YEAR($A397)-1921)*12+MONTH($A397)+3+IF(ISNUMBER(FIND(\"PRV\",C$6)),1,0)))*IF(AND(C$3>0,TRIM(C$9)=\"CFS\"),Conv_Flags!$C397,1)","v":3250.0000000000005}]
["1953-11-30",{"$f":"INDIRECT(CONCATENATE(\"'\",B$1,\"'!\",B$4,(YEAR($A398)-1921)*12+MONTH($A398)+3+IF(ISNUMBER(FIND(\"PRV\",B$6)),1,0)))*IF(AND(B$3>0,TRIM(B$9)=\"CFS\"),Conv_Flags!$C398,1)","v":3252},{"$f":"INDIRECT(CONCATENATE(\"'\",C$1,\"'!\",C$4,(YEAR($A398)-1921)*12+MONTH($A398)+3+IF(ISNUMBER(FIND(\"PRV\",C$6)),1,0)))*IF(AND(C$3>0,TRIM(C$9)=\"CFS\"),Conv_Flags!$C398,1)","v":3252}]
["1953-12-31",{"$f":"INDIRECT(CONCATENATE(\"'\",B$1,\"'!\",B$4,(YEAR($A399)-1921)*12+MONTH($A399)+3+IF(ISNUMBER(FIND(\"PRV\",B$6)),1,0)))*IF(AND(B$3>0,TRIM(B$9)=\"CFS\"),Conv_Flags!$C399,1)","v":3312.0105890082564},{"$f":"INDIRECT(CONCATENATE(\"'\",C$1,\"'!\",C$4,(YEAR($A399)-1921)*12+MONTH($A399)+3+IF(ISNUMBER(FIND(\"PRV\",C$6)),1,0)))*IF(AND(C$3>0,TRIM(C$9)=\"CFS\"),Conv_Flags!$C399,1)","v":3315.5914340858808}]
["1954-01-31",{"$f":"INDIRECT(CONCATENATE(\"'\",B$1,\"'!\",B$4,(YEAR($A400)-1921)*12+MONTH($A400)+3+IF(ISNUMBER(FIND(\"PRV\",B$6)),1,0)))*IF(AND(B$3>0,TRIM(B$9)=\"CFS\"),Conv_Flags!$C400,1)","v":3552},{"$f":"INDIRECT(CONCATENATE(\"'\",C$1,\"'!\",C$4,(YEAR($A400)-1921)*12+MONTH($A400)+3+IF(ISNUMBER(FIND(\"PRV\",C$6)),1,0)))*IF(AND(C$3>0,TRIM(C$9)=\"CFS\"),Conv_Flags!$C400,1)","v":3552}]
["1954-02-28",{"$f":"INDIRECT(CONCATENATE(\"'\",B$1,\"'!\",B$4,(YEAR($A401)-1921)*12+MONTH($A401)+3+IF(ISNUMBER(FIND(\"PRV\",B$6)),1,0)))*IF(AND(B$3>0,TRIM(B$9)=\"CFS\"),Conv_Flags!$C401,1)","v":3661},{"$f":"INDIRECT(CONCATENATE(\"'\",C$1,\"'!\",C$4,(YEAR($A401)-1921)*12+MONTH($A401)+3+IF(ISNUMBER(FIND(\"PRV\",C$6)),1,0)))*IF(AND(C$3>0,TRIM(C$9)=\"CFS\"),Conv_Flags!$C401,1)","v":3661}]
["1954-03-31",{"$f":"INDIRECT(CONCATENATE(\"'\",B$1,\"'!\",B$4,(YEAR($A402)-1921)*12+MONTH($A402)+3+IF(ISNUMBER(FIND(\"PRV\",B$6)),1,0)))*IF(AND(B$3>0,TRIM(B$9)=\"CFS\"),Conv_Flags!$C402,1)","v":4106},{"$f":"INDIRECT(CONCATENATE(\"'\",C$1,\"'!\",C$4,(YEAR($A402)-1921)*12+MONTH($A402)+3+IF(ISNUMBER(FIND(\"PRV\",C$6)),1,0)))*IF(AND(C$3>0,TRIM(C$9)=\"CFS\"),Conv_Flags!$C402,1)","v":4106}]
["1954-04-30",{"$f":"INDIRECT(CONCATENATE(\"'\",B$1,\"'!\",B$4,(YEAR($A403)-1921)*12+MONTH($A403)+3+IF(ISNUMBER(FIND(\"PRV\",B$6)),1,0)))*IF(AND(B$3>0,TRIM(B$9)=\"CFS\"),Conv_Flags!$C403,1)","v":4546},{"$f":"INDIRECT(CONCATENATE(\"'\",C$1,\"'!\",C$4,(YEAR($A403)-1921)*12+MONTH($A403)+3+IF(ISNUMBER(FIND(\"PRV\",C$6)),1,0)))*IF(AND(C$3>0,TRIM(C$9)=\"CFS\"),Conv_Flags!$C403,1)","v":4546}]
["1954-05-31",{"$f":"INDIRECT(CONCATENATE(\"'\",B$1,\"'!\",B$4,(YEAR($A404)-1921)*12+MONTH($A404)+3+IF(ISNUMBER(FIND(\"PRV\",B$6)),1,0)))*IF(AND(B$3>0,TRIM(B$9)=\"CFS\"),Conv_Flags!$C404,1)","v":4506.4877496101117},{"$f":"INDIRECT(CONCATENATE(\"'\",C$1,\"'!\",C$4,(YEAR($A404)-1921)*12+MONTH($A404)+3+IF(ISNUMBER(FIND(\"PRV\",C$6)),1,0)))*IF(AND(C$3>0,TRIM(C$9)=\"CFS\"),Conv_Flags!$C404,1)","v":4552}]
["1954-06-30",{"$f":"INDIRECT(CONCATENATE(\"'\",B$1,\"'!\",B$4,(YEAR($A405)-1921)*12+MONTH($A405)+3+IF(ISNUMBER(FIND(\"PRV\",B$6)),1,0)))*IF(AND(B$3>0,TRIM(B$9)=\"CFS\"),Conv_Flags!$C405,1)","v":4162.4166991057373},{"$f":"INDIRECT(CONCATENATE(\"'\",C$1,\"'!\",C$4,(YEAR($A405)-1921)*12+MONTH($A405)+3+IF(ISNUMBER(FIND(\"PRV\",C$6)),1,0)))*IF(AND(C$3>0,TRIM(C$9)=\"CFS\"),Conv_Flags!$C405,1)","v":4255.8441465939868}]
["1954-07-31",{"$f":"INDIRECT(CONCATENATE(\"'\",B$1,\"'!\",B$4,(YEAR($A406)-1921)*12+MONTH($A406)+3+IF(ISNUMBER(FIND(\"PRV\",B$6)),1,0)))*IF(AND(B$3>0,TRIM(B$9)=\"CFS\"),Conv_Flags!$C406,1)","v":3494.096049553888},{"$f":"INDIRECT(CONCATENATE(\"'\",C$1,\"'!\",C$4,(YEAR($A406)-1921)*12+MONTH($A406)+3+IF(ISNUMBER(FIND(\"PRV\",C$6)),1,0)))*IF(AND(C$3>0,TRIM(C$9)=\"CFS\"),Conv_Flags!$C406,1)","v":3587.125850451122}]
["1954-08-31",{"$f":"INDIRECT(CONCATENATE(\"'\",B$1,\"'!\",B$4,(YEAR($A407)-1921)*12+MONTH($A407)+3+IF(ISNUMBER(FIND(\"PRV\",B$6)),1,0)))*IF(AND(B$3>0,TRIM(B$9)=\"CFS\"),Conv_Flags!$C407,1)","v":3181.6663826748118},{"$f":"INDIRECT(CONCATENATE(\"'\",C$1,\"'!\",C$4,(YEAR($A407)-1921)*12+MONTH($A407)+3+IF(ISNUMBER(FIND(\"PRV\",C$6)),1,0)))*IF(AND(C$3>0,TRIM(C$9)=\"CFS\"),Conv_Flags!$C407,1)","v":3277.8387355152217}]
["1954-09-30",{"$f":"INDIRECT(CONCATENATE(\"'\",B$1,\"'!\",B$4,(YEAR($A408)-1921)*12+MONTH($A408)+3+IF(ISNUMBER(FIND(\"PRV\",B$6)),1,0)))*IF(AND(B$3>0,TRIM(B$9)=\"CFS\"),Conv_Flags!$C408,1)","v":3050.7155104505387},{"$f":"INDIRECT(CONCATENATE(\"'\",C$1,\"'!\",C$4,(YEAR($A408)-1921)*12+MONTH($A408)+3+IF(ISNUMBER(FIND(\"PRV\",C$6)),1,0)))*IF(AND(C$3>0,TRIM(C$9)=\"CFS\"),Conv_Flags!$C408,1)","v":3158.0062561747077}]
["1954-10-31",{"$f":"INDIRECT(CONCATENATE(\"'\",B$1,\"'!\",B$4,(YEAR($A409)-1921)*12+MONTH($A409)+3+IF(ISNUMBER(FIND(\"PRV\",B$6)),1,0)))*IF(AND(B$3>0,TRIM(B$9)=\"CFS\"),Conv_Flags!$C409,1)","v":2976.2393091191439},{"$f":"INDIRECT(CONCATENATE(\"'\",C$1,\"'!\",C$4,(YEAR($A409)-1921)*12+MONTH($A409)+3+IF(ISNUMBER(FIND(\"PRV\",C$6)),1,0)))*IF(AND(C$3>0,TRIM(C$9)=\"CFS\"),Conv_Flags!$C409,1)","v":3099.184800238615}]
["1954-11-30",{"$f":"INDIRECT(CONCATENATE(\"'\",B$1,\"'!\",B$4,(YEAR($A410)-1921)*12+MONTH($A410)+3+IF(ISNUMBER(FIND(\"PRV\",B$6)),1,0)))*IF(AND(B$3>0,TRIM(B$9)=\"CFS\"),Conv_Flags!$C410,1)","v":3098.3890151290871},{"$f":"INDIRECT(CONCATENATE(\"'\",C$1,\"'!\",C$4,(YEAR($A410)-1921)*12+MONTH($A410)+3+IF(ISNUMBER(FIND(\"PRV\",C$6)),1,0)))*IF(AND(C$3>0,TRIM(C$9)=\"CFS\"),Conv_Flags!$C410,1)","v":3221.1370456156696}]
["1954-12-31",{"$f":"INDIRECT(CONCATENATE(\"'\",B$1,\"'!\",B$4,(YEAR($A411)-1921)*12+MONTH($A411)+3+IF(ISNUMBER(FIND(\"PRV\",B$6)),1,0)))*IF(AND(B$3>0,TRIM(B$9)=\"CFS\"),Conv_Flags!$C411,1)","v":3360},{"$f":"INDIRECT(CONCATENATE(\"'\",C$1,\"'!\",C$4,(YEAR($A411)-1921)*12+MONTH($A411)+3+IF(ISNUMBER(FIND(\"PRV\",C$6)),1,0)))*IF(AND(C$3>0,TRIM(C$9)=\"CFS\"),Conv_Flags!$C411,1)","v":3360}]
["1955-01-31",{"$f":"INDIRECT(CONCATENATE(\"'\",B$1,\"'!\",B$4,(YEAR($A412)-1921)*12+MONTH($A412)+3+IF(ISNUMBER(FIND(\"PRV\",B$6)),1,0)))*IF(AND(B$3>0,TRIM(B$9)=\"CFS\"),Conv_Flags!$C412,1)","v":3506.5732605657431},{"$f":"INDIRECT(CONCATENATE(\"'\",C$1,\"'!\",C$4,(YEAR($A412)-1921)*12+MONTH($A412)+3+IF(ISNUMBER(FIND(\"PRV\",C$6)),1,0)))*IF(AND(C$3>0,TRIM(C$9)=\"CFS\"),Conv_Flags!$C412,1)","v":3506.5732605657431}]
["1955-02-28",{"$f":"INDIRECT(CONCATENATE(\"'\",B$1,\"'!\",B$4,(YEAR($A413)-1921)*12+MONTH($A413)+3+IF(ISNUMBER(FIND(\"PRV\",B$6)),1,0)))*IF(AND(B$3>0,TRIM(B$9)=\"CFS\"),Conv_Flags!$C413,1)","v":3659.1228380315656},{"$f":"INDIRECT(CONCATENATE(\"'\",C$1,\"'!\",C$4,(YEAR($A413)-1921)*12+MONTH($A413)+3+IF(ISNUMBER(FIND(\"PRV\",C$6)),1,0)))*IF(AND(C$3>0,TRIM(C$9)=\"CFS\"),Conv_Flags!$C413,1)","v":3659.1228380315656}]
["1955-03-31",{"$f":"INDIRECT(CONCATENATE(\"'\",B$1,\"'!\",B$4,(YEAR($A414)-1921)*12+MONTH($A414)+3+IF(ISNUMBER(FIND(\"PRV\",B$6)),1,0)))*IF(AND(B$3>0,TRIM(B$9)=\"CFS\"),Conv_Flags!$C414,1)","v":3827.5649433029998},{"$f":"INDIRECT(CONCATENATE(\"'\",C$1,\"'!\",C$4,(YEAR($A414)-1921)*12+MONTH($A414)+3+IF(ISNUMBER(FIND(\"PRV\",C$6)),1,0)))*IF(AND(C$3>0,TRIM(C$9)=\"CFS\"),Conv_Flags!$C414,1)","v":3827.5649433707667}]
["1955-04-30",{"$f":"INDIRECT(CONCATENATE(\"'\",B$1,\"'!\",B$4,(YEAR($A415)-1921)*12+MONTH($A415)+3+IF(ISNUMBER(FIND(\"PRV\",B$6)),1,0)))*IF(AND(B$3>0,TRIM(B$9)=\"CFS\"),Conv_Flags!$C415,1)","v":4199.7216108621969},{"$f":"INDIRECT(CONCATENATE(\"'\",C$1,\"'!\",C$4,(YEAR($A415)-1921)*12+MONTH($A415)+3+IF(ISNUMBER(FIND(\"PRV\",C$6)),1,0)))*IF(AND(C$3>0,TRIM(C$9)=\"CFS\"),Conv_Flags!$C415,1)","v":4199.7216112591932}]
["1955-05-31",{"$f":"INDIRECT(CONCATENATE(\"'\",B$1,\"'!\",B$4,(YEAR($A416)-1921)*12+MONTH($A416)+3+IF(ISNUMBER(FIND(\"PRV\",B$6)),1,0)))*IF(AND(B$3>0,TRIM(B$9)=\"CFS\"),Conv_Flags!$C416,1)","v":4308.1468141776249},{"$f":"INDIRECT(CONCATENATE(\"'\",C$1,\"'!\",C$4,(YEAR($A416)-1921)*12+MONTH($A416)+3+IF(ISNUMBER(FIND(\"PRV\",C$6)),1,0)))*IF(AND(C$3>0,TRIM(C$9)=\"CFS\"),Conv_Flags!$C416,1)","v":4324.6970258737301}]
["1955-06-30",{"$f":"INDIRECT(CONCATENATE(\"'\",B$1,\"'!\",B$4,(YEAR($A417)-1921)*12+MONTH($A417)+3+IF(ISNUMBER(FIND(\"PRV\",B$6)),1,0)))*IF(AND(B$3>0,TRIM(B$9)=\"CFS\"),Conv_Flags!$C417,1)","v":3823.1026904186019},{"$f":"INDIRECT(CONCATENATE(\"'\",C$1,\"'!\",C$4,(YEAR($A417)-1921)*12+MONTH($A417)+3+IF(ISNUMBER(FIND(\"PRV\",C$6)),1,0)))*IF(AND(C$3>0,TRIM(C$9)=\"CFS\"),Conv_Flags!$C417,1)","v":3859.4897502304802}]
["1955-07-31",{"$f":"INDIRECT(CONCATENATE(\"'\",B$1,\"'!\",B$4,(YEAR($A418)-1921)*12+MONTH($A418)+3+IF(ISNUMBER(FIND(\"PRV\",B$6)),1,0)))*IF(AND(B$3>0,TRIM(B$9)=\"CFS\"),Conv_Flags!$C418,1)","v":3319.6478290586861},{"$f":"INDIRECT(CONCATENATE(\"'\",C$1,\"'!\",C$4,(YEAR($A418)-1921)*12+MONTH($A418)+3+IF(ISNUMBER(FIND(\"PRV\",C$6)),1,0)))*IF(AND(C$3>0,TRIM(C$9)=\"CFS\"),Conv_Flags!$C418,1)","v":3345.3601817831013}]
["1955-08-31",{"$f":"INDIRECT(CONCATENATE(\"'\",B$1,\"'!\",B$4,(YEAR($A419)-1921)*12+MONTH($A419)+3+IF(ISNUMBER(FIND(\"PRV\",B$6)),1,0)))*IF(AND(B$3>0,TRIM(B$9)=\"CFS\"),Conv_Flags!$C419,1)","v":3069.7133206155127},{"$f":"INDIRECT(CONCATENATE(\"'\",C$1,\"'!\",C$4,(YEAR($A419)-1921)*12+MONTH($A419)+3+IF(ISNUMBER(FIND(\"PRV\",C$6)),1,0)))*IF(AND(C$3>0,TRIM(C$9)=\"CFS\"),Conv_Flags!$C419,1)","v":3075.3492884970401}]
["1955-09-30",{"$f":"INDIRECT(CONCATENATE(\"'\",B$1,\"'!\",B$4,(YEAR($A420)-1921)*12+MONTH($A420)+3+IF(ISNUMBER(FIND(\"PRV\",B$6)),1,0)))*IF(AND(B$3>0,TRIM(B$9)=\"CFS\"),Conv_Flags!$C420,1)","v":3051.8647740473402},{"$f":"INDIRECT(CONCATENATE(\"'\",C$1,\"'!\",C$4,(YEAR($A420)-1921)*12+MONTH($A420)+3+IF(ISNUMBER(FIND(\"PRV\",C$6)),1,0)))*IF(AND(C$3>0,TRIM(C$9)=\"CFS\"),Conv_Flags!$C420,1)","v":3054.5733231976137}]
["1955-10-31",{"$f":"INDIRECT(CONCATENATE(\"'\",B$1,\"'!\",B$4,(YEAR($A421)-1921)*12+MONTH($A421)+3+IF(ISNUMBER(FIND(\"PRV\",B$6)),1,0)))*IF(AND(B$3>0,TRIM(B$9)=\"CFS\"),Conv_Flags!$C421,1)","v":2948.6253360701648},{"$f":"INDIRECT(CONCATENATE(\"'\",C$1,\"'!\",C$4,(YEAR($A421)-1921)*12+MONTH($A421)+3+IF(ISNUMBER(FIND(\"PRV\",C$6)),1,0)))*IF(AND(C$3>0,TRIM(C$9)=\"CFS\"),Conv_Flags!$C421,1)","v":2940.522212304083}]
["1955-11-30",{"$f":"INDIRECT(CONCATENATE(\"'\",B$1,\"'!\",B$4,(YEAR($A422)-1921)*12+MONTH($A422)+3+IF(ISNUMBER(FIND(\"PRV\",B$6)),1,0)))*IF(AND(B$3>0,TRIM(B$9)=\"CFS\"),Conv_Flags!$C422,1)","v":2974.8400976164558},{"$f":"INDIRECT(CONCATENATE(\"'\",C$1,\"'!\",C$4,(YEAR($A422)-1921)*12+MONTH($A422)+3+IF(ISNUMBER(FIND(\"PRV\",C$6)),1,0)))*IF(AND(C$3>0,TRIM(C$9)=\"CFS\"),Conv_Flags!$C422,1)","v":2964.7575985229023}]
["1955-12-31",{"$f":"INDIRECT(CONCATENATE(\"'\",B$1,\"'!\",B$4,(YEAR($A423)-1921)*12+MONTH($A423)+3+IF(ISNUMBER(FIND(\"PRV\",B$6)),1,0)))*IF(AND(B$3>0,TRIM(B$9)=\"CFS\"),Conv_Flags!$C423,1)","v":3252},{"$f":"INDIRECT(CONCATENATE(\"'\",C$1,\"'!\",C$4,(YEAR($A423)-1921)*12+MONTH($A423)+3+IF(ISNUMBER(FIND(\"PRV\",C$6)),1,0)))*IF(AND(C$3>0,TRIM(C$9)=\"CFS\"),Conv_Flags!$C423,1)","v":3252}]
["1956-01-31",{"$f":"INDIRECT(CONCATENATE(\"'\",B$1,\"'!\",B$4,(YEAR($A424)-1921)*12+MONTH($A424)+3+IF(ISNUMBER(FIND(\"PRV\",B$6)),1,0)))*IF(AND(B$3>0,TRIM(B$9)=\"CFS\"),Conv_Flags!$C424,1)","v":3252},{"$f":"INDIRECT(CONCATENATE(\"'\",C$1,\"'!\",C$4,(YEAR($A424)-1921)*12+MONTH($A424)+3+IF(ISNUMBER(FIND(\"PRV\",C$6)),1,0)))*IF(AND(C$3>0,TRIM(C$9)=\"CFS\"),Conv_Flags!$C424,1)","v":3252}]
["1956-02-29",{"$f":"INDIRECT(CONCATENATE(\"'\",B$1,\"'!\",B$4,(YEAR($A425)-1921)*12+MONTH($A425)+3+IF(ISNUMBER(FIND(\"PRV\",B$6)),1,0)))*IF(AND(B$3>0,TRIM(B$9)=\"CFS\"),Conv_Flags!$C425,1)","v":3288},{"$f":"INDIRECT(CONCATENATE(\"'\",C$1,\"'!\",C$4,(YEAR($A425)-1921)*12+MONTH($A425)+3+IF(ISNUMBER(FIND(\"PRV\",C$6)),1,0)))*IF(AND(C$3>0,TRIM(C$9)=\"CFS\"),Conv_Flags!$C425,1)","v":3288}]
["1956-03-31",{"$f":"INDIRECT(CONCATENATE(\"'\",B$1,\"'!\",B$4,(YEAR($A426)-1921)*12+MONTH($A426)+3+IF(ISNUMBER(FIND(\"PRV\",B$6)),1,0)))*IF(AND(B$3>0,TRIM(B$9)=\"CFS\"),Conv_Flags!$C426,1)","v":3971.4022266969519},{"$f":"INDIRECT(CONCATENATE(\"'\",C$1,\"'!\",C$4,(YEAR($A426)-1921)*12+MONTH($A426)+3+IF(ISNUMBER(FIND(\"PRV\",C$6)),1,0)))*IF(AND(C$3>0,TRIM(C$9)=\"CFS\"),Conv_Flags!$C426,1)","v":3971.4022272897364}]
["1956-04-30",{"$f":"INDIRECT(CONCATENATE(\"'\",B$1,\"'!\",B$4,(YEAR($A427)-1921)*12+MONTH($A427)+3+IF(ISNUMBER(FIND(\"PRV\",B$6)),1,0)))*IF(AND(B$3>0,TRIM(B$9)=\"CFS\"),Conv_Flags!$C427,1)","v":4487.0189046219884},{"$f":"INDIRECT(CONCATENATE(\"'\",C$1,\"'!\",C$4,(YEAR($A427)-1921)*12+MONTH($A427)+3+IF(ISNUMBER(FIND(\"PRV\",C$6)),1,0)))*IF(AND(C$3>0,TRIM(C$9)=\"CFS\"),Conv_Flags!$C427,1)","v":4487.0189016080731}]
["1956-05-31",{"$f":"INDIRECT(CONCATENATE(\"'\",B$1,\"'!\",B$4,(YEAR($A428)-1921)*12+MONTH($A428)+3+IF(ISNUMBER(FIND(\"PRV\",B$6)),1,0)))*IF(AND(B$3>0,TRIM(B$9)=\"CFS\"),Conv_Flags!$C428,1)","v":4552},{"$f":"INDIRECT(CONCATENATE(\"'\",C$1,\"'!\",C$4,(YEAR($A428)-1921)*12+MONTH($A428)+3+IF(ISNUMBER(FIND(\"PRV\",C$6)),1,0)))*IF(AND(C$3>0,TRIM(C$9)=\"CFS\"),Conv_Flags!$C428,1)","v":4552}]
["1956-06-30",{"$f":"INDIRECT(CONCATENATE(\"'\",B$1,\"'!\",B$4,(YEAR($A429)-1921)*12+MONTH($A429)+3+IF(ISNUMBER(FIND(\"PRV\",B$6)),1,0)))*IF(AND(B$3>0,TRIM(B$9)=\"CFS\"),Conv_Flags!$C429,1)","v":4461.9995723362354},{"$f":"INDIRECT(CONCATENATE(\"'\",C$1,\"'!\",C$4,(YEAR($A429)-1921)*12+MONTH($A429)+3+IF(ISNUMBER(FIND(\"PRV\",C$6)),1,0)))*IF(AND(C$3>0,TRIM(C$9)=\"CFS\"),Conv_Flags!$C429,1)","v":4464.4480845144608}]
["1956-07-31",{"$f":"INDIRECT(CONCATENATE(\"'\",B$1,\"'!\",B$4,(YEAR($A430)-1921)*12+MONTH($A430)+3+IF(ISNUMBER(FIND(\"PRV\",B$6)),1,0)))*IF(AND(B$3>0,TRIM(B$9)=\"CFS\"),Conv_Flags!$C430,1)","v":4115.1220977205166},{"$f":"INDIRECT(CONCATENATE(\"'\",C$1,\"'!\",C$4,(YEAR($A430)-1921)*12+MONTH($A430)+3+IF(ISNUMBER(FIND(\"PRV\",C$6)),1,0)))*IF(AND(C$3>0,TRIM(C$9)=\"CFS\"),Conv_Flags!$C430,1)","v":4115.6650734755358}]
["1956-08-31",{"$f":"INDIRECT(CONCATENATE(\"'\",B$1,\"'!\",B$4,(YEAR($A431)-1921)*12+MONTH($A431)+3+IF(ISNUMBER(FIND(\"PRV\",B$6)),1,0)))*IF(AND(B$3>0,TRIM(B$9)=\"CFS\"),Conv_Flags!$C431,1)","v":3700.0000000000005},{"$f":"INDIRECT(CONCATENATE(\"'\",C$1,\"'!\",C$4,(YEAR($A431)-1921)*12+MONTH($A431)+3+IF(ISNUMBER(FIND(\"PRV\",C$6)),1,0)))*IF(AND(C$3>0,TRIM(C$9)=\"CFS\"),Conv_Flags!$C431,1)","v":3700.0000000000005}]
["1956-09-30",{"$f":"INDIRECT(CONCATENATE(\"'\",B$1,\"'!\",B$4,(YEAR($A432)-1921)*12+MONTH($A432)+3+IF(ISNUMBER(FIND(\"PRV\",B$6)),1,0)))*IF(AND(B$3>0,TRIM(B$9)=\"CFS\"),Conv_Flags!$C432,1)","v":3399.9999999999995},{"$f":"INDIRECT(CONCATENATE(\"'\",C$1,\"'!\",C$4,(YEAR($A432)-1921)*12+MONTH($A432)+3+IF(ISNUMBER(FIND(\"PRV\",C$6)),1,0)))*IF(AND(C$3>0,TRIM(C$9)=\"CFS\"),Conv_Flags!$C432,1)","v":3399.9999999999995}]
["1956-10-31",{"$f":"INDIRECT(CONCATENATE(\"'\",B$1,\"'!\",B$4,(YEAR($A433)-1921)*12+MONTH($A433)+3+IF(ISNUMBER(FIND(\"PRV\",B$6)),1,0)))*IF(AND(B$3>0,TRIM(B$9)=\"CFS\"),Conv_Flags!$C433,1)","v":3249.9999999999995},{"$f":"INDIRECT(CONCATENATE(\"'\",C$1,\"'!\",C$4,(YEAR($A433)-1921)*12+MONTH($A433)+3+IF(ISNUMBER(FIND(\"PRV\",C$6)),1,0)))*IF(AND(C$3>0,TRIM(C$9)=\"CFS\"),Conv_Flags!$C433,1)","v":3249.9999999999995}]
["1956-11-30",{"$f":"INDIRECT(CONCATENATE(\"'\",B$1,\"'!\",B$4,(YEAR($A434)-1921)*12+MONTH($A434)+3+IF(ISNUMBER(FIND(\"PRV\",B$6)),1,0)))*IF(AND(B$3>0,TRIM(B$9)=\"CFS\"),Conv_Flags!$C434,1)","v":3144.5892733543883},{"$f":"INDIRECT(CONCATENATE(\"'\",C$1,\"'!\",C$4,(YEAR($A434)-1921)*12+MONTH($A434)+3+IF(ISNUMBER(FIND(\"PRV\",C$6)),1,0)))*IF(AND(C$3>0,TRIM(C$9)=\"CFS\"),Conv_Flags!$C434,1)","v":3158.497050785812}]
["1956-12-31",{"$f":"INDIRECT(CONCATENATE(\"'\",B$1,\"'!\",B$4,(YEAR($A435)-1921)*12+MONTH($A435)+3+IF(ISNUMBER(FIND(\"PRV\",B$6)),1,0)))*IF(AND(B$3>0,TRIM(B$9)=\"CFS\"),Conv_Flags!$C435,1)","v":3134.2578817414537},{"$f":"INDIRECT(CONCATENATE(\"'\",C$1,\"'!\",C$4,(YEAR($A435)-1921)*12+MONTH($A435)+3+IF(ISNUMBER(FIND(\"PRV\",C$6)),1,0)))*IF(AND(C$3>0,TRIM(C$9)=\"CFS\"),Conv_Flags!$C435,1)","v":3149.1104443203722}]
["1957-01-31",{"$f":"INDIRECT(CONCATENATE(\"'\",B$1,\"'!\",B$4,(YEAR($A436)-1921)*12+MONTH($A436)+3+IF(ISNUMBER(FIND(\"PRV\",B$6)),1,0)))*IF(AND(B$3>0,TRIM(B$9)=\"CFS\"),Conv_Flags!$C436,1)","v":3249.8571138520829},{"$f":"INDIRECT(CONCATENATE(\"'\",C$1,\"'!\",C$4,(YEAR($A436)-1921)*12+MONTH($A436)+3+IF(ISNUMBER(FIND(\"PRV\",C$6)),1,0)))*IF(AND(C$3>0,TRIM(C$9)=\"CFS\"),Conv_Flags!$C436,1)","v":3264.7000258146491}]
["1957-02-28",{"$f":"INDIRECT(CONCATENATE(\"'\",B$1,\"'!\",B$4,(YEAR($A437)-1921)*12+MONTH($A437)+3+IF(ISNUMBER(FIND(\"PRV\",B$6)),1,0)))*IF(AND(B$3>0,TRIM(B$9)=\"CFS\"),Conv_Flags!$C437,1)","v":3675},{"$f":"INDIRECT(CONCATENATE(\"'\",C$1,\"'!\",C$4,(YEAR($A437)-1921)*12+MONTH($A437)+3+IF(ISNUMBER(FIND(\"PRV\",C$6)),1,0)))*IF(AND(C$3>0,TRIM(C$9)=\"CFS\"),Conv_Flags!$C437,1)","v":3675}]
["1957-03-31",{"$f":"INDIRECT(CONCATENATE(\"'\",B$1,\"'!\",B$4,(YEAR($A438)-1921)*12+MONTH($A438)+3+IF(ISNUMBER(FIND(\"PRV\",B$6)),1,0)))*IF(AND(B$3>0,TRIM(B$9)=\"CFS\"),Conv_Flags!$C438,1)","v":4129},{"$f":"INDIRECT(CONCATENATE(\"'\",C$1,\"'!\",C$4,(YEAR($A438)-1921)*12+MONTH($A438)+3+IF(ISNUMBER(FIND(\"PRV\",C$6)),1,0)))*IF(AND(C$3>0,TRIM(C$9)=\"CFS\"),Conv_Flags!$C438,1)","v":4129}]
["1957-04-30",{"$f":"INDIRECT(CONCATENATE(\"'\",B$1,\"'!\",B$4,(YEAR($A439)-1921)*12+MONTH($A439)+3+IF(ISNUMBER(FIND(\"PRV\",B$6)),1,0)))*IF(AND(B$3>0,TRIM(B$9)=\"CFS\"),Conv_Flags!$C439,1)","v":4538.9204290728067},{"$f":"INDIRECT(CONCATENATE(\"'\",C$1,\"'!\",C$4,(YEAR($A439)-1921)*12+MONTH($A439)+3+IF(ISNUMBER(FIND(\"PRV\",C$6)),1,0)))*IF(AND(C$3>0,TRIM(C$9)=\"CFS\"),Conv_Flags!$C439,1)","v":4538.9204292656013}]
["1957-05-31",{"$f":"INDIRECT(CONCATENATE(\"'\",B$1,\"'!\",B$4,(YEAR($A440)-1921)*12+MONTH($A440)+3+IF(ISNUMBER(FIND(\"PRV\",B$6)),1,0)))*IF(AND(B$3>0,TRIM(B$9)=\"CFS\"),Conv_Flags!$C440,1)","v":4552},{"$f":"INDIRECT(CONCATENATE(\"'\",C$1,\"'!\",C$4,(YEAR($A440)-1921)*12+MONTH($A440)+3+IF(ISNUMBER(FIND(\"PRV\",C$6)),1,0)))*IF(AND(C$3>0,TRIM(C$9)=\"CFS\"),Conv_Flags!$C440,1)","v":4552}]
["1957-06-30",{"$f":"INDIRECT(CONCATENATE(\"'\",B$1,\"'!\",B$4,(YEAR($A441)-1921)*12+MONTH($A441)+3+IF(ISNUMBER(FIND(\"PRV\",B$6)),1,0)))*IF(AND(B$3>0,TRIM(B$9)=\"CFS\"),Conv_Flags!$C441,1)","v":4318.3930290624739},{"$f":"INDIRECT(CONCATENATE(\"'\",C$1,\"'!\",C$4,(YEAR($A441)-1921)*12+MONTH($A441)+3+IF(ISNUMBER(FIND(\"PRV\",C$6)),1,0)))*IF(AND(C$3>0,TRIM(C$9)=\"CFS\"),Conv_Flags!$C441,1)","v":4379.3072950906962}]
["1957-07-31",{"$f":"INDIRECT(CONCATENATE(\"'\",B$1,\"'!\",B$4,(YEAR($A442)-1921)*12+MONTH($A442)+3+IF(ISNUMBER(FIND(\"PRV\",B$6)),1,0)))*IF(AND(B$3>0,TRIM(B$9)=\"CFS\"),Conv_Flags!$C442,1)","v":3650.4460168247419},{"$f":"INDIRECT(CONCATENATE(\"'\",C$1,\"'!\",C$4,(YEAR($A442)-1921)*12+MONTH($A442)+3+IF(ISNUMBER(FIND(\"PRV\",C$6)),1,0)))*IF(AND(C$3>0,TRIM(C$9)=\"CFS\"),Conv_Flags!$C442,1)","v":3711.075772566915}]
["1957-08-31",{"$f":"INDIRECT(CONCATENATE(\"'\",B$1,\"'!\",B$4,(YEAR($A443)-1921)*12+MONTH($A443)+3+IF(ISNUMBER(FIND(\"PRV\",B$6)),1,0)))*IF(AND(B$3>0,TRIM(B$9)=\"CFS\"),Conv_Flags!$C443,1)","v":3274.7733208007239},{"$f":"INDIRECT(CONCATENATE(\"'\",C$1,\"'!\",C$4,(YEAR($A443)-1921)*12+MONTH($A443)+3+IF(ISNUMBER(FIND(\"PRV\",C$6)),1,0)))*IF(AND(C$3>0,TRIM(C$9)=\"CFS\"),Conv_Flags!$C443,1)","v":3343.2174389044376}]
["1957-09-30",{"$f":"INDIRECT(CONCATENATE(\"'\",B$1,\"'!\",B$4,(YEAR($A444)-1921)*12+MONTH($A444)+3+IF(ISNUMBER(FIND(\"PRV\",B$6)),1,0)))*IF(AND(B$3>0,TRIM(B$9)=\"CFS\"),Conv_Flags!$C444,1)","v":3189.6856180594659},{"$f":"INDIRECT(CONCATENATE(\"'\",C$1,\"'!\",C$4,(YEAR($A444)-1921)*12+MONTH($A444)+3+IF(ISNUMBER(FIND(\"PRV\",C$6)),1,0)))*IF(AND(C$3>0,TRIM(C$9)=\"CFS\"),Conv_Flags!$C444,1)","v":3279.9043539889403}]
["1957-10-31",{"$f":"INDIRECT(CONCATENATE(\"'\",B$1,\"'!\",B$4,(YEAR($A445)-1921)*12+MONTH($A445)+3+IF(ISNUMBER(FIND(\"PRV\",B$6)),1,0)))*IF(AND(B$3>0,TRIM(B$9)=\"CFS\"),Conv_Flags!$C445,1)","v":3249.9999999999995},{"$f":"INDIRECT(CONCATENATE(\"'\",C$1,\"'!\",C$4,(YEAR($A445)-1921)*12+MONTH($A445)+3+IF(ISNUMBER(FIND(\"PRV\",C$6)),1,0)))*IF(AND(C$3>0,TRIM(C$9)=\"CFS\"),Conv_Flags!$C445,1)","v":3249.9999999999995}]
["1957-11-30",{"$f":"INDIRECT(CONCATENATE(\"'\",B$1,\"'!\",B$4,(YEAR($A446)-1921)*12+MONTH($A446)+3+IF(ISNUMBER(FIND(\"PRV\",B$6)),1,0)))*IF(AND(B$3>0,TRIM(B$9)=\"CFS\"),Conv_Flags!$C446,1)","v":3252},{"$f":"INDIRECT(CONCATENATE(\"'\",C$1,\"'!\",C$4,(YEAR($A446)-1921)*12+MONTH($A446)+3+IF(ISNUMBER(FIND(\"PRV\",C$6)),1,0)))*IF(AND(C$3>0,TRIM(C$9)=\"CFS\"),Conv_Flags!$C446,1)","v":3252}]
["1957-12-31",{"$f":"INDIRECT(CONCATENATE(\"'\",B$1,\"'!\",B$4,(YEAR($A447)-1921)*12+MONTH($A447)+3+IF(ISNUMBER(FIND(\"PRV\",B$6)),1,0)))*IF(AND(B$3>0,TRIM(B$9)=\"CFS\"),Conv_Flags!$C447,1)","v":3338},{"$f":"INDIRECT(CONCATENATE(\"'\",C$1,\"'!\",C$4,(YEAR($A447)-1921)*12+MONTH($A447)+3+IF(ISNUMBER(FIND(\"PRV\",C$6)),1,0)))*IF(AND(C$3>0,TRIM(C$9)=\"CFS\"),Conv_Flags!$C447,1)","v":3338}]
["1958-01-31",{"$f":"INDIRECT(CONCATENATE(\"'\",B$1,\"'!\",B$4,(YEAR($A448)-1921)*12+MONTH($A448)+3+IF(ISNUMBER(FIND(\"PRV\",B$6)),1,0)))*IF(AND(B$3>0,TRIM(B$9)=\"CFS\"),Conv_Flags!$C448,1)","v":3531},{"$f":"INDIRECT(CONCATENATE(\"'\",C$1,\"'!\",C$4,(YEAR($A448)-1921)*12+MONTH($A448)+3+IF(ISNUMBER(FIND(\"PRV\",C$6)),1,0)))*IF(AND(C$3>0,TRIM(C$9)=\"CFS\"),Conv_Flags!$C448,1)","v":3531}]
["1958-02-28",{"$f":"INDIRECT(CONCATENATE(\"'\",B$1,\"'!\",B$4,(YEAR($A449)-1921)*12+MONTH($A449)+3+IF(ISNUMBER(FIND(\"PRV\",B$6)),1,0)))*IF(AND(B$3>0,TRIM(B$9)=\"CFS\"),Conv_Flags!$C449,1)","v":3252},{"$f":"INDIRECT(CONCATENATE(\"'\",C$1,\"'!\",C$4,(YEAR($A449)-1921)*12+MONTH($A449)+3+IF(ISNUMBER(FIND(\"PRV\",C$6)),1,0)))*IF(AND(C$3>0,TRIM(C$9)=\"CFS\"),Conv_Flags!$C449,1)","v":3252}]
["1958-03-31",{"$f":"INDIRECT(CONCATENATE(\"'\",B$1,\"'!\",B$4,(YEAR($A450)-1921)*12+MONTH($A450)+3+IF(ISNUMBER(FIND(\"PRV\",B$6)),1,0)))*IF(AND(B$3>0,TRIM(B$9)=\"CFS\"),Conv_Flags!$C450,1)","v":3416},{"$f":"INDIRECT(CONCATENATE(\"'\",C$1,\"'!\",C$4,(YEAR($A450)-1921)*12+MONTH($A450)+3+IF(ISNUMBER(FIND(\"PRV\",C$6)),1,0)))*IF(AND(C$3>0,TRIM(C$9)=\"CFS\"),Conv_Flags!$C450,1)","v":3416}]
["1958-04-30",{"$f":"INDIRECT(CONCATENATE(\"'\",B$1,\"'!\",B$4,(YEAR($A451)-1921)*12+MONTH($A451)+3+IF(ISNUMBER(FIND(\"PRV\",B$6)),1,0)))*IF(AND(B$3>0,TRIM(B$9)=\"CFS\"),Conv_Flags!$C451,1)","v":4173},{"$f":"INDIRECT(CONCATENATE(\"'\",C$1,\"'!\",C$4,(YEAR($A451)-1921)*12+MONTH($A451)+3+IF(ISNUMBER(FIND(\"PRV\",C$6)),1,0)))*IF(AND(C$3>0,TRIM(C$9)=\"CFS\"),Conv_Flags!$C451,1)","v":4173}]
["1958-05-31",{"$f":"INDIRECT(CONCATENATE(\"'\",B$1,\"'!\",B$4,(YEAR($A452)-1921)*12+MONTH($A452)+3+IF(ISNUMBER(FIND(\"PRV\",B$6)),1,0)))*IF(AND(B$3>0,TRIM(B$9)=\"CFS\"),Conv_Flags!$C452,1)","v":4552},{"$f":"INDIRECT(CONCATENATE(\"'\",C$1,\"'!\",C$4,(YEAR($A452)-1921)*12+MONTH($A452)+3+IF(ISNUMBER(FIND(\"PRV\",C$6)),1,0)))*IF(AND(C$3>0,TRIM(C$9)=\"CFS\"),Conv_Flags!$C452,1)","v":4552}]
["1958-06-30",{"$f":"INDIRECT(CONCATENATE(\"'\",B$1,\"'!\",B$4,(YEAR($A453)-1921)*12+MONTH($A453)+3+IF(ISNUMBER(FIND(\"PRV\",B$6)),1,0)))*IF(AND(B$3>0,TRIM(B$9)=\"CFS\"),Conv_Flags!$C453,1)","v":4500},{"$f":"INDIRECT(CONCATENATE(\"'\",C$1,\"'!\",C$4,(YEAR($A453)-1921)*12+MONTH($A453)+3+IF(ISNUMBER(FIND(\"PRV\",C$6)),1,0)))*IF(AND(C$3>0,TRIM(C$9)=\"CFS\"),Conv_Flags!$C453,1)","v":4500}]
["1958-07-31",{"$f":"INDIRECT(CONCATENATE(\"'\",B$1,\"'!\",B$4,(YEAR($A454)-1921)*12+MONTH($A454)+3+IF(ISNUMBER(FIND(\"PRV\",B$6)),1,0)))*IF(AND(B$3>0,TRIM(B$9)=\"CFS\"),Conv_Flags!$C454,1)","v":4150},{"$f":"INDIRECT(CONCATENATE(\"'\",C$1,\"'!\",C$4,(YEAR($A454)-1921)*12+MONTH($A454)+3+IF(ISNUMBER(FIND(\"PRV\",C$6)),1,0)))*IF(AND(C$3>0,TRIM(C$9)=\"CFS\"),Conv_Flags!$C454,1)","v":4150}]
["1958-08-31",{"$f":"INDIRECT(CONCATENATE(\"'\",B$1,\"'!\",B$4,(YEAR($A455)-1921)*12+MONTH($A455)+3+IF(ISNUMBER(FIND(\"PRV\",B$6)),1,0)))*IF(AND(B$3>0,TRIM(B$9)=\"CFS\"),Conv_Flags!$C455,1)","v":3700},{"$f":"INDIRECT(CONCATENATE(\"'\",C$1,\"'!\",C$4,(YEAR($A455)-1921)*12+MONTH($A455)+3+IF(ISNUMBER(FIND(\"PRV\",C$6)),1,0)))*IF(AND(C$3>0,TRIM(C$9)=\"CFS\"),Conv_Flags!$C455,1)","v":3700}]
["1958-09-30",{"$f":"INDIRECT(CONCATENATE(\"'\",B$1,\"'!\",B$4,(YEAR($A456)-1921)*12+MONTH($A456)+3+IF(ISNUMBER(FIND(\"PRV\",B$6)),1,0)))*IF(AND(B$3>0,TRIM(B$9)=\"CFS\"),Conv_Flags!$C456,1)","v":3399.9999999999995},{"$f":"INDIRECT(CONCATENATE(\"'\",C$1,\"'!\",C$4,(YEAR($A456)-1921)*12+MONTH($A456)+3+IF(ISNUMBER(FIND(\"PRV\",C$6)),1,0)))*IF(AND(C$3>0,TRIM(C$9)=\"CFS\"),Conv_Flags!$C456,1)","v":3399.9999999999995}]
["1958-10-31",{"$f":"INDIRECT(CONCATENATE(\"'\",B$1,\"'!\",B$4,(YEAR($A457)-1921)*12+MONTH($A457)+3+IF(ISNUMBER(FIND(\"PRV\",B$6)),1,0)))*IF(AND(B$3>0,TRIM(B$9)=\"CFS\"),Conv_Flags!$C457,1)","v":3249.9999999999995},{"$f":"INDIRECT(CONCATENATE(\"'\",C$1,\"'!\",C$4,(YEAR($A457)-1921)*12+MONTH($A457)+3+IF(ISNUMBER(FIND(\"PRV\",C$6)),1,0)))*IF(AND(C$3>0,TRIM(C$9)=\"CFS\"),Conv_Flags!$C457,1)","v":3249.9999999999995}]
["1958-11-30",{"$f":"INDIRECT(CONCATENATE(\"'\",B$1,\"'!\",B$4,(YEAR($A458)-1921)*12+MONTH($A458)+3+IF(ISNUMBER(FIND(\"PRV\",B$6)),1,0)))*IF(AND(B$3>0,TRIM(B$9)=\"CFS\"),Conv_Flags!$C458,1)","v":3156.2545466041192},{"$f":"INDIRECT(CONCATENATE(\"'\",C$1,\"'!\",C$4,(YEAR($A458)-1921)*12+MONTH($A458)+3+IF(ISNUMBER(FIND(\"PRV\",C$6)),1,0)))*IF(AND(C$3>0,TRIM(C$9)=\"CFS\"),Conv_Flags!$C458,1)","v":3170.6440359248004}]
["1958-12-31",{"$f":"INDIRECT(CONCATENATE(\"'\",B$1,\"'!\",B$4,(YEAR($A459)-1921)*12+MONTH($A459)+3+IF(ISNUMBER(FIND(\"PRV\",B$6)),1,0)))*IF(AND(B$3>0,TRIM(B$9)=\"CFS\"),Conv_Flags!$C459,1)","v":3239.488516928936},{"$f":"INDIRECT(CONCATENATE(\"'\",C$1,\"'!\",C$4,(YEAR($A459)-1921)*12+MONTH($A459)+3+IF(ISNUMBER(FIND(\"PRV\",C$6)),1,0)))*IF(AND(C$3>0,TRIM(C$9)=\"CFS\"),Conv_Flags!$C459,1)","v":3253.5210796392985}]
["1959-01-31",{"$f":"INDIRECT(CONCATENATE(\"'\",B$1,\"'!\",B$4,(YEAR($A460)-1921)*12+MONTH($A460)+3+IF(ISNUMBER(FIND(\"PRV\",B$6)),1,0)))*IF(AND(B$3>0,TRIM(B$9)=\"CFS\"),Conv_Flags!$C460,1)","v":3648},{"$f":"INDIRECT(CONCATENATE(\"'\",C$1,\"'!\",C$4,(YEAR($A460)-1921)*12+MONTH($A460)+3+IF(ISNUMBER(FIND(\"PRV\",C$6)),1,0)))*IF(AND(C$3>0,TRIM(C$9)=\"CFS\"),Conv_Flags!$C460,1)","v":3648}]
["1959-02-28",{"$f":"INDIRECT(CONCATENATE(\"'\",B$1,\"'!\",B$4,(YEAR($A461)-1921)*12+MONTH($A461)+3+IF(ISNUMBER(FIND(\"PRV\",B$6)),1,0)))*IF(AND(B$3>0,TRIM(B$9)=\"CFS\"),Conv_Flags!$C461,1)","v":3777},{"$f":"INDIRECT(CONCATENATE(\"'\",C$1,\"'!\",C$4,(YEAR($A461)-1921)*12+MONTH($A461)+3+IF(ISNUMBER(FIND(\"PRV\",C$6)),1,0)))*IF(AND(C$3>0,TRIM(C$9)=\"CFS\"),Conv_Flags!$C461,1)","v":3777}]
["1959-03-31",{"$f":"INDIRECT(CONCATENATE(\"'\",B$1,\"'!\",B$4,(YEAR($A462)-1921)*12+MONTH($A462)+3+IF(ISNUMBER(FIND(\"PRV\",B$6)),1,0)))*IF(AND(B$3>0,TRIM(B$9)=\"CFS\"),Conv_Flags!$C462,1)","v":4221.0812314040368},{"$f":"INDIRECT(CONCATENATE(\"'\",C$1,\"'!\",C$4,(YEAR($A462)-1921)*12+MONTH($A462)+3+IF(ISNUMBER(FIND(\"PRV\",C$6)),1,0)))*IF(AND(C$3>0,TRIM(C$9)=\"CFS\"),Conv_Flags!$C462,1)","v":4221.0812319328188}]
["1959-04-30",{"$f":"INDIRECT(CONCATENATE(\"'\",B$1,\"'!\",B$4,(YEAR($A463)-1921)*12+MONTH($A463)+3+IF(ISNUMBER(FIND(\"PRV\",B$6)),1,0)))*IF(AND(B$3>0,TRIM(B$9)=\"CFS\"),Conv_Flags!$C463,1)","v":4513.1061213962212},{"$f":"INDIRECT(CONCATENATE(\"'\",C$1,\"'!\",C$4,(YEAR($A463)-1921)*12+MONTH($A463)+3+IF(ISNUMBER(FIND(\"PRV\",C$6)),1,0)))*IF(AND(C$3>0,TRIM(C$9)=\"CFS\"),Conv_Flags!$C463,1)","v":4523.5519737614622}]
["1959-05-31",{"$f":"INDIRECT(CONCATENATE(\"'\",B$1,\"'!\",B$4,(YEAR($A464)-1921)*12+MONTH($A464)+3+IF(ISNUMBER(FIND(\"PRV\",B$6)),1,0)))*IF(AND(B$3>0,TRIM(B$9)=\"CFS\"),Conv_Flags!$C464,1)","v":4322.1117344385912},{"$f":"INDIRECT(CONCATENATE(\"'\",C$1,\"'!\",C$4,(YEAR($A464)-1921)*12+MONTH($A464)+3+IF(ISNUMBER(FIND(\"PRV\",C$6)),1,0)))*IF(AND(C$3>0,TRIM(C$9)=\"CFS\"),Conv_Flags!$C464,1)","v":4413.2909090230478}]
["1959-06-30",{"$f":"INDIRECT(CONCATENATE(\"'\",B$1,\"'!\",B$4,(YEAR($A465)-1921)*12+MONTH($A465)+3+IF(ISNUMBER(FIND(\"PRV\",B$6)),1,0)))*IF(AND(B$3>0,TRIM(B$9)=\"CFS\"),Conv_Flags!$C465,1)","v":3759.76157603504},{"$f":"INDIRECT(CONCATENATE(\"'\",C$1,\"'!\",C$4,(YEAR($A465)-1921)*12+MONTH($A465)+3+IF(ISNUMBER(FIND(\"PRV\",C$6)),1,0)))*IF(AND(C$3>0,TRIM(C$9)=\"CFS\"),Conv_Flags!$C465,1)","v":3847.0213660574536}]
["1959-07-31",{"$f":"INDIRECT(CONCATENATE(\"'\",B$1,\"'!\",B$4,(YEAR($A466)-1921)*12+MONTH($A466)+3+IF(ISNUMBER(FIND(\"PRV\",B$6)),1,0)))*IF(AND(B$3>0,TRIM(B$9)=\"CFS\"),Conv_Flags!$C466,1)","v":3145.0546419631942},{"$f":"INDIRECT(CONCATENATE(\"'\",C$1,\"'!\",C$4,(YEAR($A466)-1921)*12+MONTH($A466)+3+IF(ISNUMBER(FIND(\"PRV\",C$6)),1,0)))*IF(AND(C$3>0,TRIM(C$9)=\"CFS\"),Conv_Flags!$C466,1)","v":3230.2012936121318}]
["1959-08-31",{"$f":"INDIRECT(CONCATENATE(\"'\",B$1,\"'!\",B$4,(YEAR($A467)-1921)*12+MONTH($A467)+3+IF(ISNUMBER(FIND(\"PRV\",B$6)),1,0)))*IF(AND(B$3>0,TRIM(B$9)=\"CFS\"),Conv_Flags!$C467,1)","v":2727.8834327964064},{"$f":"INDIRECT(CONCATENATE(\"'\",C$1,\"'!\",C$4,(YEAR($A467)-1921)*12+MONTH($A467)+3+IF(ISNUMBER(FIND(\"PRV\",C$6)),1,0)))*IF(AND(C$3>0,TRIM(C$9)=\"CFS\"),Conv_Flags!$C467,1)","v":2888.3440248796542}]
["1959-09-30",{"$f":"INDIRECT(CONCATENATE(\"'\",B$1,\"'!\",B$4,(YEAR($A468)-1921)*12+MONTH($A468)+3+IF(ISNUMBER(FIND(\"PRV\",B$6)),1,0)))*IF(AND(B$3>0,TRIM(B$9)=\"CFS\"),Conv_Flags!$C468,1)","v":2864.7475087002013},{"$f":"INDIRECT(CONCATENATE(\"'\",C$1,\"'!\",C$4,(YEAR($A468)-1921)*12+MONTH($A468)+3+IF(ISNUMBER(FIND(\"PRV\",C$6)),1,0)))*IF(AND(C$3>0,TRIM(C$9)=\"CFS\"),Conv_Flags!$C468,1)","v":2896.5736425824757}]
["1959-10-31",{"$f":"INDIRECT(CONCATENATE(\"'\",B$1,\"'!\",B$4,(YEAR($A469)-1921)*12+MONTH($A469)+3+IF(ISNUMBER(FIND(\"PRV\",B$6)),1,0)))*IF(AND(B$3>0,TRIM(B$9)=\"CFS\"),Conv_Flags!$C469,1)","v":2729.1137723831444},{"$f":"INDIRECT(CONCATENATE(\"'\",C$1,\"'!\",C$4,(YEAR($A469)-1921)*12+MONTH($A469)+3+IF(ISNUMBER(FIND(\"PRV\",C$6)),1,0)))*IF(AND(C$3>0,TRIM(C$9)=\"CFS\"),Conv_Flags!$C469,1)","v":2722.9892300282072}]
["1959-11-30",{"$f":"INDIRECT(CONCATENATE(\"'\",B$1,\"'!\",B$4,(YEAR($A470)-1921)*12+MONTH($A470)+3+IF(ISNUMBER(FIND(\"PRV\",B$6)),1,0)))*IF(AND(B$3>0,TRIM(B$9)=\"CFS\"),Conv_Flags!$C470,1)","v":2538.8508837566224},{"$f":"INDIRECT(CONCATENATE(\"'\",C$1,\"'!\",C$4,(YEAR($A470)-1921)*12+MONTH($A470)+3+IF(ISNUMBER(FIND(\"PRV\",C$6)),1,0)))*IF(AND(C$3>0,TRIM(C$9)=\"CFS\"),Conv_Flags!$C470,1)","v":2531.3976954841073}]
["1959-12-31",{"$f":"INDIRECT(CONCATENATE(\"'\",B$1,\"'!\",B$4,(YEAR($A471)-1921)*12+MONTH($A471)+3+IF(ISNUMBER(FIND(\"PRV\",B$6)),1,0)))*IF(AND(B$3>0,TRIM(B$9)=\"CFS\"),Conv_Flags!$C471,1)","v":2478.2216980540015},{"$f":"INDIRECT(CONCATENATE(\"'\",C$1,\"'!\",C$4,(YEAR($A471)-1921)*12+MONTH($A471)+3+IF(ISNUMBER(FIND(\"PRV\",C$6)),1,0)))*IF(AND(C$3>0,TRIM(C$9)=\"CFS\"),Conv_Flags!$C471,1)","v":2441.8475345113261}]
["1960-01-31",{"$f":"INDIRECT(CONCATENATE(\"'\",B$1,\"'!\",B$4,(YEAR($A472)-1921)*12+MONTH($A472)+3+IF(ISNUMBER(FIND(\"PRV\",B$6)),1,0)))*IF(AND(B$3>0,TRIM(B$9)=\"CFS\"),Conv_Flags!$C472,1)","v":2702.714336438326},{"$f":"INDIRECT(CONCATENATE(\"'\",C$1,\"'!\",C$4,(YEAR($A472)-1921)*12+MONTH($A472)+3+IF(ISNUMBER(FIND(\"PRV\",C$6)),1,0)))*IF(AND(C$3>0,TRIM(C$9)=\"CFS\"),Conv_Flags!$C472,1)","v":2666.3657092414178}]
["1960-02-29",{"$f":"INDIRECT(CONCATENATE(\"'\",B$1,\"'!\",B$4,(YEAR($A473)-1921)*12+MONTH($A473)+3+IF(ISNUMBER(FIND(\"PRV\",B$6)),1,0)))*IF(AND(B$3>0,TRIM(B$9)=\"CFS\"),Conv_Flags!$C473,1)","v":3425.8399600740822},{"$f":"INDIRECT(CONCATENATE(\"'\",C$1,\"'!\",C$4,(YEAR($A473)-1921)*12+MONTH($A473)+3+IF(ISNUMBER(FIND(\"PRV\",C$6)),1,0)))*IF(AND(C$3>0,TRIM(C$9)=\"CFS\"),Conv_Flags!$C473,1)","v":3389.5248140136887}]
["1960-03-31",{"$f":"INDIRECT(CONCATENATE(\"'\",B$1,\"'!\",B$4,(YEAR($A474)-1921)*12+MONTH($A474)+3+IF(ISNUMBER(FIND(\"PRV\",B$6)),1,0)))*IF(AND(B$3>0,TRIM(B$9)=\"CFS\"),Conv_Flags!$C474,1)","v":4119.2249259285991},{"$f":"INDIRECT(CONCATENATE(\"'\",C$1,\"'!\",C$4,(YEAR($A474)-1921)*12+MONTH($A474)+3+IF(ISNUMBER(FIND(\"PRV\",C$6)),1,0)))*IF(AND(C$3>0,TRIM(C$9)=\"CFS\"),Conv_Flags!$C474,1)","v":4082.9661589349275}]
["1960-04-30",{"$f":"INDIRECT(CONCATENATE(\"'\",B$1,\"'!\",B$4,(YEAR($A475)-1921)*12+MONTH($A475)+3+IF(ISNUMBER(FIND(\"PRV\",B$6)),1,0)))*IF(AND(B$3>0,TRIM(B$9)=\"CFS\"),Conv_Flags!$C475,1)","v":4199.5298883425667},{"$f":"INDIRECT(CONCATENATE(\"'\",C$1,\"'!\",C$4,(YEAR($A475)-1921)*12+MONTH($A475)+3+IF(ISNUMBER(FIND(\"PRV\",C$6)),1,0)))*IF(AND(C$3>0,TRIM(C$9)=\"CFS\"),Conv_Flags!$C475,1)","v":4168.1577003501516}]
["1960-05-31",{"$f":"INDIRECT(CONCATENATE(\"'\",B$1,\"'!\",B$4,(YEAR($A476)-1921)*12+MONTH($A476)+3+IF(ISNUMBER(FIND(\"PRV\",B$6)),1,0)))*IF(AND(B$3>0,TRIM(B$9)=\"CFS\"),Conv_Flags!$C476,1)","v":4313.710151423712},{"$f":"INDIRECT(CONCATENATE(\"'\",C$1,\"'!\",C$4,(YEAR($A476)-1921)*12+MONTH($A476)+3+IF(ISNUMBER(FIND(\"PRV\",C$6)),1,0)))*IF(AND(C$3>0,TRIM(C$9)=\"CFS\"),Conv_Flags!$C476,1)","v":4282.5579801744698}]
["1960-06-30",{"$f":"INDIRECT(CONCATENATE(\"'\",B$1,\"'!\",B$4,(YEAR($A477)-1921)*12+MONTH($A477)+3+IF(ISNUMBER(FIND(\"PRV\",B$6)),1,0)))*IF(AND(B$3>0,TRIM(B$9)=\"CFS\"),Conv_Flags!$C477,1)","v":3804.9987039329908},{"$f":"INDIRECT(CONCATENATE(\"'\",C$1,\"'!\",C$4,(YEAR($A477)-1921)*12+MONTH($A477)+3+IF(ISNUMBER(FIND(\"PRV\",C$6)),1,0)))*IF(AND(C$3>0,TRIM(C$9)=\"CFS\"),Conv_Flags!$C477,1)","v":3788.1076691973776}]
["1960-07-31",{"$f":"INDIRECT(CONCATENATE(\"'\",B$1,\"'!\",B$4,(YEAR($A478)-1921)*12+MONTH($A478)+3+IF(ISNUMBER(FIND(\"PRV\",B$6)),1,0)))*IF(AND(B$3>0,TRIM(B$9)=\"CFS\"),Conv_Flags!$C478,1)","v":3293.2383680334442},{"$f":"INDIRECT(CONCATENATE(\"'\",C$1,\"'!\",C$4,(YEAR($A478)-1921)*12+MONTH($A478)+3+IF(ISNUMBER(FIND(\"PRV\",C$6)),1,0)))*IF(AND(C$3>0,TRIM(C$9)=\"CFS\"),Conv_Flags!$C478,1)","v":3269.3424004985386}]
["1960-08-31",{"$f":"INDIRECT(CONCATENATE(\"'\",B$1,\"'!\",B$4,(YEAR($A479)-1921)*12+MONTH($A479)+3+IF(ISNUMBER(FIND(\"PRV\",B$6)),1,0)))*IF(AND(B$3>0,TRIM(B$9)=\"CFS\"),Conv_Flags!$C479,1)","v":3030.4185576409122},{"$f":"INDIRECT(CONCATENATE(\"'\",C$1,\"'!\",C$4,(YEAR($A479)-1921)*12+MONTH($A479)+3+IF(ISNUMBER(FIND(\"PRV\",C$6)),1,0)))*IF(AND(C$3>0,TRIM(C$9)=\"CFS\"),Conv_Flags!$C479,1)","v":2990.1714385688215}]
["1960-09-30",{"$f":"INDIRECT(CONCATENATE(\"'\",B$1,\"'!\",B$4,(YEAR($A480)-1921)*12+MONTH($A480)+3+IF(ISNUMBER(FIND(\"PRV\",B$6)),1,0)))*IF(AND(B$3>0,TRIM(B$9)=\"CFS\"),Conv_Flags!$C480,1)","v":2965.4085768069745},{"$f":"INDIRECT(CONCATENATE(\"'\",C$1,\"'!\",C$4,(YEAR($A480)-1921)*12+MONTH($A480)+3+IF(ISNUMBER(FIND(\"PRV\",C$6)),1,0)))*IF(AND(C$3>0,TRIM(C$9)=\"CFS\"),Conv_Flags!$C480,1)","v":2915.1499372944754}]
["1960-10-31",{"$f":"INDIRECT(CONCATENATE(\"'\",B$1,\"'!\",B$4,(YEAR($A481)-1921)*12+MONTH($A481)+3+IF(ISNUMBER(FIND(\"PRV\",B$6)),1,0)))*IF(AND(B$3>0,TRIM(B$9)=\"CFS\"),Conv_Flags!$C481,1)","v":2834.4095606816081},{"$f":"INDIRECT(CONCATENATE(\"'\",C$1,\"'!\",C$4,(YEAR($A481)-1921)*12+MONTH($A481)+3+IF(ISNUMBER(FIND(\"PRV\",C$6)),1,0)))*IF(AND(C$3>0,TRIM(C$9)=\"CFS\"),Conv_Flags!$C481,1)","v":2763.3944007464506}]
["1960-11-30",{"$f":"INDIRECT(CONCATENATE(\"'\",B$1,\"'!\",B$4,(YEAR($A482)-1921)*12+MONTH($A482)+3+IF(ISNUMBER(FIND(\"PRV\",B$6)),1,0)))*IF(AND(B$3>0,TRIM(B$9)=\"CFS\"),Conv_Flags!$C482,1)","v":3002.8927298924586},{"$f":"INDIRECT(CONCATENATE(\"'\",C$1,\"'!\",C$4,(YEAR($A482)-1921)*12+MONTH($A482)+3+IF(ISNUMBER(FIND(\"PRV\",C$6)),1,0)))*IF(AND(C$3>0,TRIM(C$9)=\"CFS\"),Conv_Flags!$C482,1)","v":2866.6845698975048}]
["1960-12-31",{"$f":"INDIRECT(CONCATENATE(\"'\",B$1,\"'!\",B$4,(YEAR($A483)-1921)*12+MONTH($A483)+3+IF(ISNUMBER(FIND(\"PRV\",B$6)),1,0)))*IF(AND(B$3>0,TRIM(B$9)=\"CFS\"),Conv_Flags!$C483,1)","v":3350},{"$f":"INDIRECT(CONCATENATE(\"'\",C$1,\"'!\",C$4,(YEAR($A483)-1921)*12+MONTH($A483)+3+IF(ISNUMBER(FIND(\"PRV\",C$6)),1,0)))*IF(AND(C$3>0,TRIM(C$9)=\"CFS\"),Conv_Flags!$C483,1)","v":3300.8896974551612}]
["1961-01-31",{"$f":"INDIRECT(CONCATENATE(\"'\",B$1,\"'!\",B$4,(YEAR($A484)-1921)*12+MONTH($A484)+3+IF(ISNUMBER(FIND(\"PRV\",B$6)),1,0)))*IF(AND(B$3>0,TRIM(B$9)=\"CFS\"),Conv_Flags!$C484,1)","v":3549.556535256314},{"$f":"INDIRECT(CONCATENATE(\"'\",C$1,\"'!\",C$4,(YEAR($A484)-1921)*12+MONTH($A484)+3+IF(ISNUMBER(FIND(\"PRV\",C$6)),1,0)))*IF(AND(C$3>0,TRIM(C$9)=\"CFS\"),Conv_Flags!$C484,1)","v":3500.4774871947729}]
["1961-02-28",{"$f":"INDIRECT(CONCATENATE(\"'\",B$1,\"'!\",B$4,(YEAR($A485)-1921)*12+MONTH($A485)+3+IF(ISNUMBER(FIND(\"PRV\",B$6)),1,0)))*IF(AND(B$3>0,TRIM(B$9)=\"CFS\"),Conv_Flags!$C485,1)","v":3914},{"$f":"INDIRECT(CONCATENATE(\"'\",C$1,\"'!\",C$4,(YEAR($A485)-1921)*12+MONTH($A485)+3+IF(ISNUMBER(FIND(\"PRV\",C$6)),1,0)))*IF(AND(C$3>0,TRIM(C$9)=\"CFS\"),Conv_Flags!$C485,1)","v":3914}]
["1961-03-31",{"$f":"INDIRECT(CONCATENATE(\"'\",B$1,\"'!\",B$4,(YEAR($A486)-1921)*12+MONTH($A486)+3+IF(ISNUMBER(FIND(\"PRV\",B$6)),1,0)))*IF(AND(B$3>0,TRIM(B$9)=\"CFS\"),Conv_Flags!$C486,1)","v":4280},{"$f":"INDIRECT(CONCATENATE(\"'\",C$1,\"'!\",C$4,(YEAR($A486)-1921)*12+MONTH($A486)+3+IF(ISNUMBER(FIND(\"PRV\",C$6)),1,0)))*IF(AND(C$3>0,TRIM(C$9)=\"CFS\"),Conv_Flags!$C486,1)","v":4280}]
["1961-04-30",{"$f":"INDIRECT(CONCATENATE(\"'\",B$1,\"'!\",B$4,(YEAR($A487)-1921)*12+MONTH($A487)+3+IF(ISNUMBER(FIND(\"PRV\",B$6)),1,0)))*IF(AND(B$3>0,TRIM(B$9)=\"CFS\"),Conv_Flags!$C487,1)","v":4551.9999999999991},{"$f":"INDIRECT(CONCATENATE(\"'\",C$1,\"'!\",C$4,(YEAR($A487)-1921)*12+MONTH($A487)+3+IF(ISNUMBER(FIND(\"PRV\",C$6)),1,0)))*IF(AND(C$3>0,TRIM(C$9)=\"CFS\"),Conv_Flags!$C487,1)","v":4552}]
["1961-05-31",{"$f":"INDIRECT(CONCATENATE(\"'\",B$1,\"'!\",B$4,(YEAR($A488)-1921)*12+MONTH($A488)+3+IF(ISNUMBER(FIND(\"PRV\",B$6)),1,0)))*IF(AND(B$3>0,TRIM(B$9)=\"CFS\"),Conv_Flags!$C488,1)","v":4502.1341317810411},{"$f":"INDIRECT(CONCATENATE(\"'\",C$1,\"'!\",C$4,(YEAR($A488)-1921)*12+MONTH($A488)+3+IF(ISNUMBER(FIND(\"PRV\",C$6)),1,0)))*IF(AND(C$3>0,TRIM(C$9)=\"CFS\"),Conv_Flags!$C488,1)","v":4505.8331884519348}]
["1961-06-30",{"$f":"INDIRECT(CONCATENATE(\"'\",B$1,\"'!\",B$4,(YEAR($A489)-1921)*12+MONTH($A489)+3+IF(ISNUMBER(FIND(\"PRV\",B$6)),1,0)))*IF(AND(B$3>0,TRIM(B$9)=\"CFS\"),Conv_Flags!$C489,1)","v":4044.5084626516691},{"$f":"INDIRECT(CONCATENATE(\"'\",C$1,\"'!\",C$4,(YEAR($A489)-1921)*12+MONTH($A489)+3+IF(ISNUMBER(FIND(\"PRV\",C$6)),1,0)))*IF(AND(C$3>0,TRIM(C$9)=\"CFS\"),Conv_Flags!$C489,1)","v":4041.412076142421}]
["1961-07-31",{"$f":"INDIRECT(CONCATENATE(\"'\",B$1,\"'!\",B$4,(YEAR($A490)-1921)*12+MONTH($A490)+3+IF(ISNUMBER(FIND(\"PRV\",B$6)),1,0)))*IF(AND(B$3>0,TRIM(B$9)=\"CFS\"),Conv_Flags!$C490,1)","v":3432.2512482295588},{"$f":"INDIRECT(CONCATENATE(\"'\",C$1,\"'!\",C$4,(YEAR($A490)-1921)*12+MONTH($A490)+3+IF(ISNUMBER(FIND(\"PRV\",C$6)),1,0)))*IF(AND(C$3>0,TRIM(C$9)=\"CFS\"),Conv_Flags!$C490,1)","v":3431.3363562650802}]
["1961-08-31",{"$f":"INDIRECT(CONCATENATE(\"'\",B$1,\"'!\",B$4,(YEAR($A491)-1921)*12+MONTH($A491)+3+IF(ISNUMBER(FIND(\"PRV\",B$6)),1,0)))*IF(AND(B$3>0,TRIM(B$9)=\"CFS\"),Conv_Flags!$C491,1)","v":3142.9376120397546},{"$f":"INDIRECT(CONCATENATE(\"'\",C$1,\"'!\",C$4,(YEAR($A491)-1921)*12+MONTH($A491)+3+IF(ISNUMBER(FIND(\"PRV\",C$6)),1,0)))*IF(AND(C$3>0,TRIM(C$9)=\"CFS\"),Conv_Flags!$C491,1)","v":3117.9703782757133}]
["1961-09-30",{"$f":"INDIRECT(CONCATENATE(\"'\",B$1,\"'!\",B$4,(YEAR($A492)-1921)*12+MONTH($A492)+3+IF(ISNUMBER(FIND(\"PRV\",B$6)),1,0)))*IF(AND(B$3>0,TRIM(B$9)=\"CFS\"),Conv_Flags!$C492,1)","v":3084.113827364718},{"$f":"INDIRECT(CONCATENATE(\"'\",C$1,\"'!\",C$4,(YEAR($A492)-1921)*12+MONTH($A492)+3+IF(ISNUMBER(FIND(\"PRV\",C$6)),1,0)))*IF(AND(C$3>0,TRIM(C$9)=\"CFS\"),Conv_Flags!$C492,1)","v":3086.4181128032546}]
["1961-10-31",{"$f":"INDIRECT(CONCATENATE(\"'\",B$1,\"'!\",B$4,(YEAR($A493)-1921)*12+MONTH($A493)+3+IF(ISNUMBER(FIND(\"PRV\",B$6)),1,0)))*IF(AND(B$3>0,TRIM(B$9)=\"CFS\"),Conv_Flags!$C493,1)","v":2859.6681216695661},{"$f":"INDIRECT(CONCATENATE(\"'\",C$1,\"'!\",C$4,(YEAR($A493)-1921)*12+MONTH($A493)+3+IF(ISNUMBER(FIND(\"PRV\",C$6)),1,0)))*IF(AND(C$3>0,TRIM(C$9)=\"CFS\"),Conv_Flags!$C493,1)","v":2864.6286825995344}]
["1961-11-30",{"$f":"INDIRECT(CONCATENATE(\"'\",B$1,\"'!\",B$4,(YEAR($A494)-1921)*12+MONTH($A494)+3+IF(ISNUMBER(FIND(\"PRV\",B$6)),1,0)))*IF(AND(B$3>0,TRIM(B$9)=\"CFS\"),Conv_Flags!$C494,1)","v":2869.0895569573759},{"$f":"INDIRECT(CONCATENATE(\"'\",C$1,\"'!\",C$4,(YEAR($A494)-1921)*12+MONTH($A494)+3+IF(ISNUMBER(FIND(\"PRV\",C$6)),1,0)))*IF(AND(C$3>0,TRIM(C$9)=\"CFS\"),Conv_Flags!$C494,1)","v":2846.8748885854616}]
["1961-12-31",{"$f":"INDIRECT(CONCATENATE(\"'\",B$1,\"'!\",B$4,(YEAR($A495)-1921)*12+MONTH($A495)+3+IF(ISNUMBER(FIND(\"PRV\",B$6)),1,0)))*IF(AND(B$3>0,TRIM(B$9)=\"CFS\"),Conv_Flags!$C495,1)","v":3208.8410247251063},{"$f":"INDIRECT(CONCATENATE(\"'\",C$1,\"'!\",C$4,(YEAR($A495)-1921)*12+MONTH($A495)+3+IF(ISNUMBER(FIND(\"PRV\",C$6)),1,0)))*IF(AND(C$3>0,TRIM(C$9)=\"CFS\"),Conv_Flags!$C495,1)","v":3167.0613730386731}]
["1962-01-31",{"$f":"INDIRECT(CONCATENATE(\"'\",B$1,\"'!\",B$4,(YEAR($A496)-1921)*12+MONTH($A496)+3+IF(ISNUMBER(FIND(\"PRV\",B$6)),1,0)))*IF(AND(B$3>0,TRIM(B$9)=\"CFS\"),Conv_Flags!$C496,1)","v":3283.0173383451024},{"$f":"INDIRECT(CONCATENATE(\"'\",C$1,\"'!\",C$4,(YEAR($A496)-1921)*12+MONTH($A496)+3+IF(ISNUMBER(FIND(\"PRV\",C$6)),1,0)))*IF(AND(C$3>0,TRIM(C$9)=\"CFS\"),Conv_Flags!$C496,1)","v":3245.046145289924}]
["1962-02-28",{"$f":"INDIRECT(CONCATENATE(\"'\",B$1,\"'!\",B$4,(YEAR($A497)-1921)*12+MONTH($A497)+3+IF(ISNUMBER(FIND(\"PRV\",B$6)),1,0)))*IF(AND(B$3>0,TRIM(B$9)=\"CFS\"),Conv_Flags!$C497,1)","v":3675},{"$f":"INDIRECT(CONCATENATE(\"'\",C$1,\"'!\",C$4,(YEAR($A497)-1921)*12+MONTH($A497)+3+IF(ISNUMBER(FIND(\"PRV\",C$6)),1,0)))*IF(AND(C$3>0,TRIM(C$9)=\"CFS\"),Conv_Flags!$C497,1)","v":3675}]
["1962-03-31",{"$f":"INDIRECT(CONCATENATE(\"'\",B$1,\"'!\",B$4,(YEAR($A498)-1921)*12+MONTH($A498)+3+IF(ISNUMBER(FIND(\"PRV\",B$6)),1,0)))*IF(AND(B$3>0,TRIM(B$9)=\"CFS\"),Conv_Flags!$C498,1)","v":4209.3343553099467},{"$f":"INDIRECT(CONCATENATE(\"'\",C$1,\"'!\",C$4,(YEAR($A498)-1921)*12+MONTH($A498)+3+IF(ISNUMBER(FIND(\"PRV\",C$6)),1,0)))*IF(AND(C$3>0,TRIM(C$9)=\"CFS\"),Conv_Flags!$C498,1)","v":4209.3343553099467}]
["1962-04-30",{"$f":"INDIRECT(CONCATENATE(\"'\",B$1,\"'!\",B$4,(YEAR($A499)-1921)*12+MONTH($A499)+3+IF(ISNUMBER(FIND(\"PRV\",B$6)),1,0)))*IF(AND(B$3>0,TRIM(B$9)=\"CFS\"),Conv_Flags!$C499,1)","v":4552},{"$f":"INDIRECT(CONCATENATE(\"'\",C$1,\"'!\",C$4,(YEAR($A499)-1921)*12+MONTH($A499)+3+IF(ISNUMBER(FIND(\"PRV\",C$6)),1,0)))*IF(AND(C$3>0,TRIM(C$9)=\"CFS\"),Conv_Flags!$C499,1)","v":4552}]
["1962-05-31",{"$f":"INDIRECT(CONCATENATE(\"'\",B$1,\"'!\",B$4,(YEAR($A500)-1921)*12+MONTH($A500)+3+IF(ISNUMBER(FIND(\"PRV\",B$6)),1,0)))*IF(AND(B$3>0,TRIM(B$9)=\"CFS\"),Conv_Flags!$C500,1)","v":4448.1338405761499},{"$f":"INDIRECT(CONCATENATE(\"'\",C$1,\"'!\",C$4,(YEAR($A500)-1921)*12+MONTH($A500)+3+IF(ISNUMBER(FIND(\"PRV\",C$6)),1,0)))*IF(AND(C$3>0,TRIM(C$9)=\"CFS\"),Conv_Flags!$C500,1)","v":4464.8899088359858}]
["1962-06-30",{"$f":"INDIRECT(CONCATENATE(\"'\",B$1,\"'!\",B$4,(YEAR($A501)-1921)*12+MONTH($A501)+3+IF(ISNUMBER(FIND(\"PRV\",B$6)),1,0)))*IF(AND(B$3>0,TRIM(B$9)=\"CFS\"),Conv_Flags!$C501,1)","v":4125.6097518409615},{"$f":"INDIRECT(CONCATENATE(\"'\",C$1,\"'!\",C$4,(YEAR($A501)-1921)*12+MONTH($A501)+3+IF(ISNUMBER(FIND(\"PRV\",C$6)),1,0)))*IF(AND(C$3>0,TRIM(C$9)=\"CFS\"),Conv_Flags!$C501,1)","v":4111.2263040986909}]
["1962-07-31",{"$f":"INDIRECT(CONCATENATE(\"'\",B$1,\"'!\",B$4,(YEAR($A502)-1921)*12+MONTH($A502)+3+IF(ISNUMBER(FIND(\"PRV\",B$6)),1,0)))*IF(AND(B$3>0,TRIM(B$9)=\"CFS\"),Conv_Flags!$C502,1)","v":3509.8179403532899},{"$f":"INDIRECT(CONCATENATE(\"'\",C$1,\"'!\",C$4,(YEAR($A502)-1921)*12+MONTH($A502)+3+IF(ISNUMBER(FIND(\"PRV\",C$6)),1,0)))*IF(AND(C$3>0,TRIM(C$9)=\"CFS\"),Conv_Flags!$C502,1)","v":3508.2549309341525}]
["1962-08-31",{"$f":"INDIRECT(CONCATENATE(\"'\",B$1,\"'!\",B$4,(YEAR($A503)-1921)*12+MONTH($A503)+3+IF(ISNUMBER(FIND(\"PRV\",B$6)),1,0)))*IF(AND(B$3>0,TRIM(B$9)=\"CFS\"),Conv_Flags!$C503,1)","v":3149.4679241562812},{"$f":"INDIRECT(CONCATENATE(\"'\",C$1,\"'!\",C$4,(YEAR($A503)-1921)*12+MONTH($A503)+3+IF(ISNUMBER(FIND(\"PRV\",C$6)),1,0)))*IF(AND(C$3>0,TRIM(C$9)=\"CFS\"),Conv_Flags!$C503,1)","v":3133.2225914088649}]
["1962-09-30",{"$f":"INDIRECT(CONCATENATE(\"'\",B$1,\"'!\",B$4,(YEAR($A504)-1921)*12+MONTH($A504)+3+IF(ISNUMBER(FIND(\"PRV\",B$6)),1,0)))*IF(AND(B$3>0,TRIM(B$9)=\"CFS\"),Conv_Flags!$C504,1)","v":3102.6034747700287},{"$f":"INDIRECT(CONCATENATE(\"'\",C$1,\"'!\",C$4,(YEAR($A504)-1921)*12+MONTH($A504)+3+IF(ISNUMBER(FIND(\"PRV\",C$6)),1,0)))*IF(AND(C$3>0,TRIM(C$9)=\"CFS\"),Conv_Flags!$C504,1)","v":3082.2084199929295}]
["1962-10-31",{"$f":"INDIRECT(CONCATENATE(\"'\",B$1,\"'!\",B$4,(YEAR($A505)-1921)*12+MONTH($A505)+3+IF(ISNUMBER(FIND(\"PRV\",B$6)),1,0)))*IF(AND(B$3>0,TRIM(B$9)=\"CFS\"),Conv_Flags!$C505,1)","v":3250},{"$f":"INDIRECT(CONCATENATE(\"'\",C$1,\"'!\",C$4,(YEAR($A505)-1921)*12+MONTH($A505)+3+IF(ISNUMBER(FIND(\"PRV\",C$6)),1,0)))*IF(AND(C$3>0,TRIM(C$9)=\"CFS\"),Conv_Flags!$C505,1)","v":3250}]
["1962-11-30",{"$f":"INDIRECT(CONCATENATE(\"'\",B$1,\"'!\",B$4,(YEAR($A506)-1921)*12+MONTH($A506)+3+IF(ISNUMBER(FIND(\"PRV\",B$6)),1,0)))*IF(AND(B$3>0,TRIM(B$9)=\"CFS\"),Conv_Flags!$C506,1)","v":3252},{"$f":"INDIRECT(CONCATENATE(\"'\",C$1,\"'!\",C$4,(YEAR($A506)-1921)*12+MONTH($A506)+3+IF(ISNUMBER(FIND(\"PRV\",C$6)),1,0)))*IF(AND(C$3>0,TRIM(C$9)=\"CFS\"),Conv_Flags!$C506,1)","v":3252}]
["1962-12-31",{"$f":"INDIRECT(CONCATENATE(\"'\",B$1,\"'!\",B$4,(YEAR($A507)-1921)*12+MONTH($A507)+3+IF(ISNUMBER(FIND(\"PRV\",B$6)),1,0)))*IF(AND(B$3>0,TRIM(B$9)=\"CFS\"),Conv_Flags!$C507,1)","v":3349},{"$f":"INDIRECT(CONCATENATE(\"'\",C$1,\"'!\",C$4,(YEAR($A507)-1921)*12+MONTH($A507)+3+IF(ISNUMBER(FIND(\"PRV\",C$6)),1,0)))*IF(AND(C$3>0,TRIM(C$9)=\"CFS\"),Conv_Flags!$C507,1)","v":3349}]
["1963-01-31",{"$f":"INDIRECT(CONCATENATE(\"'\",B$1,\"'!\",B$4,(YEAR($A508)-1921)*12+MONTH($A508)+3+IF(ISNUMBER(FIND(\"PRV\",B$6)),1,0)))*IF(AND(B$3>0,TRIM(B$9)=\"CFS\"),Conv_Flags!$C508,1)","v":3538.2302725873933},{"$f":"INDIRECT(CONCATENATE(\"'\",C$1,\"'!\",C$4,(YEAR($A508)-1921)*12+MONTH($A508)+3+IF(ISNUMBER(FIND(\"PRV\",C$6)),1,0)))*IF(AND(C$3>0,TRIM(C$9)=\"CFS\"),Conv_Flags!$C508,1)","v":3538.2302725873933}]
["1963-02-28",{"$f":"INDIRECT(CONCATENATE(\"'\",B$1,\"'!\",B$4,(YEAR($A509)-1921)*12+MONTH($A509)+3+IF(ISNUMBER(FIND(\"PRV\",B$6)),1,0)))*IF(AND(B$3>0,TRIM(B$9)=\"CFS\"),Conv_Flags!$C509,1)","v":3944},{"$f":"INDIRECT(CONCATENATE(\"'\",C$1,\"'!\",C$4,(YEAR($A509)-1921)*12+MONTH($A509)+3+IF(ISNUMBER(FIND(\"PRV\",C$6)),1,0)))*IF(AND(C$3>0,TRIM(C$9)=\"CFS\"),Conv_Flags!$C509,1)","v":3944}]
["1963-03-31",{"$f":"INDIRECT(CONCATENATE(\"'\",B$1,\"'!\",B$4,(YEAR($A510)-1921)*12+MONTH($A510)+3+IF(ISNUMBER(FIND(\"PRV\",B$6)),1,0)))*IF(AND(B$3>0,TRIM(B$9)=\"CFS\"),Conv_Flags!$C510,1)","v":4226},{"$f":"INDIRECT(CONCATENATE(\"'\",C$1,\"'!\",C$4,(YEAR($A510)-1921)*12+MONTH($A510)+3+IF(ISNUMBER(FIND(\"PRV\",C$6)),1,0)))*IF(AND(C$3>0,TRIM(C$9)=\"CFS\"),Conv_Flags!$C510,1)","v":4226}]
["1963-04-30",{"$f":"INDIRECT(CONCATENATE(\"'\",B$1,\"'!\",B$4,(YEAR($A511)-1921)*12+MONTH($A511)+3+IF(ISNUMBER(FIND(\"PRV\",B$6)),1,0)))*IF(AND(B$3>0,TRIM(B$9)=\"CFS\"),Conv_Flags!$C511,1)","v":4137},{"$f":"INDIRECT(CONCATENATE(\"'\",C$1,\"'!\",C$4,(YEAR($A511)-1921)*12+MONTH($A511)+3+IF(ISNUMBER(FIND(\"PRV\",C$6)),1,0)))*IF(AND(C$3>0,TRIM(C$9)=\"CFS\"),Conv_Flags!$C511,1)","v":4137}]
["1963-05-31",{"$f":"INDIRECT(CONCATENATE(\"'\",B$1,\"'!\",B$4,(YEAR($A512)-1921)*12+MONTH($A512)+3+IF(ISNUMBER(FIND(\"PRV\",B$6)),1,0)))*IF(AND(B$3>0,TRIM(B$9)=\"CFS\"),Conv_Flags!$C512,1)","v":4552},{"$f":"INDIRECT(CONCATENATE(\"'\",C$1,\"'!\",C$4,(YEAR($A512)-1921)*12+MONTH($A512)+3+IF(ISNUMBER(FIND(\"PRV\",C$6)),1,0)))*IF(AND(C$3>0,TRIM(C$9)=\"CFS\"),Conv_Flags!$C512,1)","v":4552}]
["1963-06-30",{"$f":"INDIRECT(CONCATENATE(\"'\",B$1,\"'!\",B$4,(YEAR($A513)-1921)*12+MONTH($A513)+3+IF(ISNUMBER(FIND(\"PRV\",B$6)),1,0)))*IF(AND(B$3>0,TRIM(B$9)=\"CFS\"),Conv_Flags!$C513,1)","v":4386.2046865251195},{"$f":"INDIRECT(CONCATENATE(\"'\",C$1,\"'!\",C$4,(YEAR($A513)-1921)*12+MONTH($A513)+3+IF(ISNUMBER(FIND(\"PRV\",C$6)),1,0)))*IF(AND(C$3>0,TRIM(C$9)=\"CFS\"),Conv_Flags!$C513,1)","v":4383.5907749643466}]
["1963-07-31",{"$f":"INDIRECT(CONCATENATE(\"'\",B$1,\"'!\",B$4,(YEAR($A514)-1921)*12+MONTH($A514)+3+IF(ISNUMBER(FIND(\"PRV\",B$6)),1,0)))*IF(AND(B$3>0,TRIM(B$9)=\"CFS\"),Conv_Flags!$C514,1)","v":3782.1218604752967},{"$f":"INDIRECT(CONCATENATE(\"'\",C$1,\"'!\",C$4,(YEAR($A514)-1921)*12+MONTH($A514)+3+IF(ISNUMBER(FIND(\"PRV\",C$6)),1,0)))*IF(AND(C$3>0,TRIM(C$9)=\"CFS\"),Conv_Flags!$C514,1)","v":3770.0991742003307}]
["1963-08-31",{"$f":"INDIRECT(CONCATENATE(\"'\",B$1,\"'!\",B$4,(YEAR($A515)-1921)*12+MONTH($A515)+3+IF(ISNUMBER(FIND(\"PRV\",B$6)),1,0)))*IF(AND(B$3>0,TRIM(B$9)=\"CFS\"),Conv_Flags!$C515,1)","v":3463.7728776722975},{"$f":"INDIRECT(CONCATENATE(\"'\",C$1,\"'!\",C$4,(YEAR($A515)-1921)*12+MONTH($A515)+3+IF(ISNUMBER(FIND(\"PRV\",C$6)),1,0)))*IF(AND(C$3>0,TRIM(C$9)=\"CFS\"),Conv_Flags!$C515,1)","v":3453.5082304066941}]
["1963-09-30",{"$f":"INDIRECT(CONCATENATE(\"'\",B$1,\"'!\",B$4,(YEAR($A516)-1921)*12+MONTH($A516)+3+IF(ISNUMBER(FIND(\"PRV\",B$6)),1,0)))*IF(AND(B$3>0,TRIM(B$9)=\"CFS\"),Conv_Flags!$C516,1)","v":3244.4129816523596},{"$f":"INDIRECT(CONCATENATE(\"'\",C$1,\"'!\",C$4,(YEAR($A516)-1921)*12+MONTH($A516)+3+IF(ISNUMBER(FIND(\"PRV\",C$6)),1,0)))*IF(AND(C$3>0,TRIM(C$9)=\"CFS\"),Conv_Flags!$C516,1)","v":3236.5985663925303}]
["1963-10-31",{"$f":"INDIRECT(CONCATENATE(\"'\",B$1,\"'!\",B$4,(YEAR($A517)-1921)*12+MONTH($A517)+3+IF(ISNUMBER(FIND(\"PRV\",B$6)),1,0)))*IF(AND(B$3>0,TRIM(B$9)=\"CFS\"),Conv_Flags!$C517,1)","v":3241.8452285040253},{"$f":"INDIRECT(CONCATENATE(\"'\",C$1,\"'!\",C$4,(YEAR($A517)-1921)*12+MONTH($A517)+3+IF(ISNUMBER(FIND(\"PRV\",C$6)),1,0)))*IF(AND(C$3>0,TRIM(C$9)=\"CFS\"),Conv_Flags!$C517,1)","v":3234.0457928094088}]
["1963-11-30",{"$f":"INDIRECT(CONCATENATE(\"'\",B$1,\"'!\",B$4,(YEAR($A518)-1921)*12+MONTH($A518)+3+IF(ISNUMBER(FIND(\"PRV\",B$6)),1,0)))*IF(AND(B$3>0,TRIM(B$9)=\"CFS\"),Conv_Flags!$C518,1)","v":3252},{"$f":"INDIRECT(CONCATENATE(\"'\",C$1,\"'!\",C$4,(YEAR($A518)-1921)*12+MONTH($A518)+3+IF(ISNUMBER(FIND(\"PRV\",C$6)),1,0)))*IF(AND(C$3>0,TRIM(C$9)=\"CFS\"),Conv_Flags!$C518,1)","v":3252}]
["1963-12-31",{"$f":"INDIRECT(CONCATENATE(\"'\",B$1,\"'!\",B$4,(YEAR($A519)-1921)*12+MONTH($A519)+3+IF(ISNUMBER(FIND(\"PRV\",B$6)),1,0)))*IF(AND(B$3>0,TRIM(B$9)=\"CFS\"),Conv_Flags!$C519,1)","v":3241.417071765311},{"$f":"INDIRECT(CONCATENATE(\"'\",C$1,\"'!\",C$4,(YEAR($A519)-1921)*12+MONTH($A519)+3+IF(ISNUMBER(FIND(\"PRV\",C$6)),1,0)))*IF(AND(C$3>0,TRIM(C$9)=\"CFS\"),Conv_Flags!$C519,1)","v":3258.1278006935777}]
["1964-01-31",{"$f":"INDIRECT(CONCATENATE(\"'\",B$1,\"'!\",B$4,(YEAR($A520)-1921)*12+MONTH($A520)+3+IF(ISNUMBER(FIND(\"PRV\",B$6)),1,0)))*IF(AND(B$3>0,TRIM(B$9)=\"CFS\"),Conv_Flags!$C520,1)","v":3688.2825157828447},{"$f":"INDIRECT(CONCATENATE(\"'\",C$1,\"'!\",C$4,(YEAR($A520)-1921)*12+MONTH($A520)+3+IF(ISNUMBER(FIND(\"PRV\",C$6)),1,0)))*IF(AND(C$3>0,TRIM(C$9)=\"CFS\"),Conv_Flags!$C520,1)","v":3696.6603438112706}]
["1964-02-29",{"$f":"INDIRECT(CONCATENATE(\"'\",B$1,\"'!\",B$4,(YEAR($A521)-1921)*12+MONTH($A521)+3+IF(ISNUMBER(FIND(\"PRV\",B$6)),1,0)))*IF(AND(B$3>0,TRIM(B$9)=\"CFS\"),Conv_Flags!$C521,1)","v":3918.9530824217172},{"$f":"INDIRECT(CONCATENATE(\"'\",C$1,\"'!\",C$4,(YEAR($A521)-1921)*12+MONTH($A521)+3+IF(ISNUMBER(FIND(\"PRV\",C$6)),1,0)))*IF(AND(C$3>0,TRIM(C$9)=\"CFS\"),Conv_Flags!$C521,1)","v":3928.3281745838103}]
["1964-03-31",{"$f":"INDIRECT(CONCATENATE(\"'\",B$1,\"'!\",B$4,(YEAR($A522)-1921)*12+MONTH($A522)+3+IF(ISNUMBER(FIND(\"PRV\",B$6)),1,0)))*IF(AND(B$3>0,TRIM(B$9)=\"CFS\"),Conv_Flags!$C522,1)","v":4067.1046791373683},{"$f":"INDIRECT(CONCATENATE(\"'\",C$1,\"'!\",C$4,(YEAR($A522)-1921)*12+MONTH($A522)+3+IF(ISNUMBER(FIND(\"PRV\",C$6)),1,0)))*IF(AND(C$3>0,TRIM(C$9)=\"CFS\"),Conv_Flags!$C522,1)","v":4076.4704913022097}]
["1964-04-30",{"$f":"INDIRECT(CONCATENATE(\"'\",B$1,\"'!\",B$4,(YEAR($A523)-1921)*12+MONTH($A523)+3+IF(ISNUMBER(FIND(\"PRV\",B$6)),1,0)))*IF(AND(B$3>0,TRIM(B$9)=\"CFS\"),Conv_Flags!$C523,1)","v":4023.8923042700189},{"$f":"INDIRECT(CONCATENATE(\"'\",C$1,\"'!\",C$4,(YEAR($A523)-1921)*12+MONTH($A523)+3+IF(ISNUMBER(FIND(\"PRV\",C$6)),1,0)))*IF(AND(C$3>0,TRIM(C$9)=\"CFS\"),Conv_Flags!$C523,1)","v":4045.8427365877264}]
["1964-05-31",{"$f":"INDIRECT(CONCATENATE(\"'\",B$1,\"'!\",B$4,(YEAR($A524)-1921)*12+MONTH($A524)+3+IF(ISNUMBER(FIND(\"PRV\",B$6)),1,0)))*IF(AND(B$3>0,TRIM(B$9)=\"CFS\"),Conv_Flags!$C524,1)","v":3878.1724984794237},{"$f":"INDIRECT(CONCATENATE(\"'\",C$1,\"'!\",C$4,(YEAR($A524)-1921)*12+MONTH($A524)+3+IF(ISNUMBER(FIND(\"PRV\",C$6)),1,0)))*IF(AND(C$3>0,TRIM(C$9)=\"CFS\"),Conv_Flags!$C524,1)","v":3896.5504164649042}]
["1964-06-30",{"$f":"INDIRECT(CONCATENATE(\"'\",B$1,\"'!\",B$4,(YEAR($A525)-1921)*12+MONTH($A525)+3+IF(ISNUMBER(FIND(\"PRV\",B$6)),1,0)))*IF(AND(B$3>0,TRIM(B$9)=\"CFS\"),Conv_Flags!$C525,1)","v":3578.6352140076251},{"$f":"INDIRECT(CONCATENATE(\"'\",C$1,\"'!\",C$4,(YEAR($A525)-1921)*12+MONTH($A525)+3+IF(ISNUMBER(FIND(\"PRV\",C$6)),1,0)))*IF(AND(C$3>0,TRIM(C$9)=\"CFS\"),Conv_Flags!$C525,1)","v":3600.8684686539241}]
["1964-07-31",{"$f":"INDIRECT(CONCATENATE(\"'\",B$1,\"'!\",B$4,(YEAR($A526)-1921)*12+MONTH($A526)+3+IF(ISNUMBER(FIND(\"PRV\",B$6)),1,0)))*IF(AND(B$3>0,TRIM(B$9)=\"CFS\"),Conv_Flags!$C526,1)","v":3196.6396276887285},{"$f":"INDIRECT(CONCATENATE(\"'\",C$1,\"'!\",C$4,(YEAR($A526)-1921)*12+MONTH($A526)+3+IF(ISNUMBER(FIND(\"PRV\",C$6)),1,0)))*IF(AND(C$3>0,TRIM(C$9)=\"CFS\"),Conv_Flags!$C526,1)","v":3200.238625364912}]
["1964-08-31",{"$f":"INDIRECT(CONCATENATE(\"'\",B$1,\"'!\",B$4,(YEAR($A527)-1921)*12+MONTH($A527)+3+IF(ISNUMBER(FIND(\"PRV\",B$6)),1,0)))*IF(AND(B$3>0,TRIM(B$9)=\"CFS\"),Conv_Flags!$C527,1)","v":2902.2629920511117},{"$f":"INDIRECT(CONCATENATE(\"'\",C$1,\"'!\",C$4,(YEAR($A527)-1921)*12+MONTH($A527)+3+IF(ISNUMBER(FIND(\"PRV\",C$6)),1,0)))*IF(AND(C$3>0,TRIM(C$9)=\"CFS\"),Conv_Flags!$C527,1)","v":2879.8722217492709}]
["1964-09-30",{"$f":"INDIRECT(CONCATENATE(\"'\",B$1,\"'!\",B$4,(YEAR($A528)-1921)*12+MONTH($A528)+3+IF(ISNUMBER(FIND(\"PRV\",B$6)),1,0)))*IF(AND(B$3>0,TRIM(B$9)=\"CFS\"),Conv_Flags!$C528,1)","v":2858.8194245961022},{"$f":"INDIRECT(CONCATENATE(\"'\",C$1,\"'!\",C$4,(YEAR($A528)-1921)*12+MONTH($A528)+3+IF(ISNUMBER(FIND(\"PRV\",C$6)),1,0)))*IF(AND(C$3>0,TRIM(C$9)=\"CFS\"),Conv_Flags!$C528,1)","v":2852.5216453764165}]
["1964-10-31",{"$f":"INDIRECT(CONCATENATE(\"'\",B$1,\"'!\",B$4,(YEAR($A529)-1921)*12+MONTH($A529)+3+IF(ISNUMBER(FIND(\"PRV\",B$6)),1,0)))*IF(AND(B$3>0,TRIM(B$9)=\"CFS\"),Conv_Flags!$C529,1)","v":2786.333662371384},{"$f":"INDIRECT(CONCATENATE(\"'\",C$1,\"'!\",C$4,(YEAR($A529)-1921)*12+MONTH($A529)+3+IF(ISNUMBER(FIND(\"PRV\",C$6)),1,0)))*IF(AND(C$3>0,TRIM(C$9)=\"CFS\"),Conv_Flags!$C529,1)","v":2785.3142523452038}]
["1964-11-30",{"$f":"INDIRECT(CONCATENATE(\"'\",B$1,\"'!\",B$4,(YEAR($A530)-1921)*12+MONTH($A530)+3+IF(ISNUMBER(FIND(\"PRV\",B$6)),1,0)))*IF(AND(B$3>0,TRIM(B$9)=\"CFS\"),Conv_Flags!$C530,1)","v":2940.4742219757959},{"$f":"INDIRECT(CONCATENATE(\"'\",C$1,\"'!\",C$4,(YEAR($A530)-1921)*12+MONTH($A530)+3+IF(ISNUMBER(FIND(\"PRV\",C$6)),1,0)))*IF(AND(C$3>0,TRIM(C$9)=\"CFS\"),Conv_Flags!$C530,1)","v":2931.7990917176817}]
["1964-12-31",{"$f":"INDIRECT(CONCATENATE(\"'\",B$1,\"'!\",B$4,(YEAR($A531)-1921)*12+MONTH($A531)+3+IF(ISNUMBER(FIND(\"PRV\",B$6)),1,0)))*IF(AND(B$3>0,TRIM(B$9)=\"CFS\"),Conv_Flags!$C531,1)","v":3252},{"$f":"INDIRECT(CONCATENATE(\"'\",C$1,\"'!\",C$4,(YEAR($A531)-1921)*12+MONTH($A531)+3+IF(ISNUMBER(FIND(\"PRV\",C$6)),1,0)))*IF(AND(C$3>0,TRIM(C$9)=\"CFS\"),Conv_Flags!$C531,1)","v":3252}]
["1965-01-31",{"$f":"INDIRECT(CONCATENATE(\"'\",B$1,\"'!\",B$4,(YEAR($A532)-1921)*12+MONTH($A532)+3+IF(ISNUMBER(FIND(\"PRV\",B$6)),1,0)))*IF(AND(B$3>0,TRIM(B$9)=\"CFS\"),Conv_Flags!$C532,1)","v":3368},{"$f":"INDIRECT(CONCATENATE(\"'\",C$1,\"'!\",C$4,(YEAR($A532)-1921)*12+MONTH($A532)+3+IF(ISNUMBER(FIND(\"PRV\",C$6)),1,0)))*IF(AND(C$3>0,TRIM(C$9)=\"CFS\"),Conv_Flags!$C532,1)","v":3368}]
["1965-02-28",{"$f":"INDIRECT(CONCATENATE(\"'\",B$1,\"'!\",B$4,(YEAR($A533)-1921)*12+MONTH($A533)+3+IF(ISNUMBER(FIND(\"PRV\",B$6)),1,0)))*IF(AND(B$3>0,TRIM(B$9)=\"CFS\"),Conv_Flags!$C533,1)","v":3772.4335342625091},{"$f":"INDIRECT(CONCATENATE(\"'\",C$1,\"'!\",C$4,(YEAR($A533)-1921)*12+MONTH($A533)+3+IF(ISNUMBER(FIND(\"PRV\",C$6)),1,0)))*IF(AND(C$3>0,TRIM(C$9)=\"CFS\"),Conv_Flags!$C533,1)","v":3772.4335342625091}]
["1965-03-31",{"$f":"INDIRECT(CONCATENATE(\"'\",B$1,\"'!\",B$4,(YEAR($A534)-1921)*12+MONTH($A534)+3+IF(ISNUMBER(FIND(\"PRV\",B$6)),1,0)))*IF(AND(B$3>0,TRIM(B$9)=\"CFS\"),Conv_Flags!$C534,1)","v":4010.5754010548076},{"$f":"INDIRECT(CONCATENATE(\"'\",C$1,\"'!\",C$4,(YEAR($A534)-1921)*12+MONTH($A534)+3+IF(ISNUMBER(FIND(\"PRV\",C$6)),1,0)))*IF(AND(C$3>0,TRIM(C$9)=\"CFS\"),Conv_Flags!$C534,1)","v":4010.5754014661698}]
["1965-04-30",{"$f":"INDIRECT(CONCATENATE(\"'\",B$1,\"'!\",B$4,(YEAR($A535)-1921)*12+MONTH($A535)+3+IF(ISNUMBER(FIND(\"PRV\",B$6)),1,0)))*IF(AND(B$3>0,TRIM(B$9)=\"CFS\"),Conv_Flags!$C535,1)","v":4500},{"$f":"INDIRECT(CONCATENATE(\"'\",C$1,\"'!\",C$4,(YEAR($A535)-1921)*12+MONTH($A535)+3+IF(ISNUMBER(FIND(\"PRV\",C$6)),1,0)))*IF(AND(C$3>0,TRIM(C$9)=\"CFS\"),Conv_Flags!$C535,1)","v":4500}]
["1965-05-31",{"$f":"INDIRECT(CONCATENATE(\"'\",B$1,\"'!\",B$4,(YEAR($A536)-1921)*12+MONTH($A536)+3+IF(ISNUMBER(FIND(\"PRV\",B$6)),1,0)))*IF(AND(B$3>0,TRIM(B$9)=\"CFS\"),Conv_Flags!$C536,1)","v":4539.5838566371058},{"$f":"INDIRECT(CONCATENATE(\"'\",C$1,\"'!\",C$4,(YEAR($A536)-1921)*12+MONTH($A536)+3+IF(ISNUMBER(FIND(\"PRV\",C$6)),1,0)))*IF(AND(C$3>0,TRIM(C$9)=\"CFS\"),Conv_Flags!$C536,1)","v":4540.8383364680058}]
["1965-06-30",{"$f":"INDIRECT(CONCATENATE(\"'\",B$1,\"'!\",B$4,(YEAR($A537)-1921)*12+MONTH($A537)+3+IF(ISNUMBER(FIND(\"PRV\",B$6)),1,0)))*IF(AND(B$3>0,TRIM(B$9)=\"CFS\"),Conv_Flags!$C537,1)","v":4308.8549002805466},{"$f":"INDIRECT(CONCATENATE(\"'\",C$1,\"'!\",C$4,(YEAR($A537)-1921)*12+MONTH($A537)+3+IF(ISNUMBER(FIND(\"PRV\",C$6)),1,0)))*IF(AND(C$3>0,TRIM(C$9)=\"CFS\"),Conv_Flags!$C537,1)","v":4307.8768167344588}]
["1965-07-31",{"$f":"INDIRECT(CONCATENATE(\"'\",B$1,\"'!\",B$4,(YEAR($A538)-1921)*12+MONTH($A538)+3+IF(ISNUMBER(FIND(\"PRV\",B$6)),1,0)))*IF(AND(B$3>0,TRIM(B$9)=\"CFS\"),Conv_Flags!$C538,1)","v":3856.6604356530133},{"$f":"INDIRECT(CONCATENATE(\"'\",C$1,\"'!\",C$4,(YEAR($A538)-1921)*12+MONTH($A538)+3+IF(ISNUMBER(FIND(\"PRV\",C$6)),1,0)))*IF(AND(C$3>0,TRIM(C$9)=\"CFS\"),Conv_Flags!$C538,1)","v":3850.405061342145}]
["1965-08-31",{"$f":"INDIRECT(CONCATENATE(\"'\",B$1,\"'!\",B$4,(YEAR($A539)-1921)*12+MONTH($A539)+3+IF(ISNUMBER(FIND(\"PRV\",B$6)),1,0)))*IF(AND(B$3>0,TRIM(B$9)=\"CFS\"),Conv_Flags!$C539,1)","v":3590.4062239720647},{"$f":"INDIRECT(CONCATENATE(\"'\",C$1,\"'!\",C$4,(YEAR($A539)-1921)*12+MONTH($A539)+3+IF(ISNUMBER(FIND(\"PRV\",C$6)),1,0)))*IF(AND(C$3>0,TRIM(C$9)=\"CFS\"),Conv_Flags!$C539,1)","v":3583.7786400876034}]
["1965-09-30",{"$f":"INDIRECT(CONCATENATE(\"'\",B$1,\"'!\",B$4,(YEAR($A540)-1921)*12+MONTH($A540)+3+IF(ISNUMBER(FIND(\"PRV\",B$6)),1,0)))*IF(AND(B$3>0,TRIM(B$9)=\"CFS\"),Conv_Flags!$C540,1)","v":3400},{"$f":"INDIRECT(CONCATENATE(\"'\",C$1,\"'!\",C$4,(YEAR($A540)-1921)*12+MONTH($A540)+3+IF(ISNUMBER(FIND(\"PRV\",C$6)),1,0)))*IF(AND(C$3>0,TRIM(C$9)=\"CFS\"),Conv_Flags!$C540,1)","v":3399.9999999999995}]
["1965-10-31",{"$f":"INDIRECT(CONCATENATE(\"'\",B$1,\"'!\",B$4,(YEAR($A541)-1921)*12+MONTH($A541)+3+IF(ISNUMBER(FIND(\"PRV\",B$6)),1,0)))*IF(AND(B$3>0,TRIM(B$9)=\"CFS\"),Conv_Flags!$C541,1)","v":3250},{"$f":"INDIRECT(CONCATENATE(\"'\",C$1,\"'!\",C$4,(YEAR($A541)-1921)*12+MONTH($A541)+3+IF(ISNUMBER(FIND(\"PRV\",C$6)),1,0)))*IF(AND(C$3>0,TRIM(C$9)=\"CFS\"),Conv_Flags!$C541,1)","v":3250}]
["1965-11-30",{"$f":"INDIRECT(CONCATENATE(\"'\",B$1,\"'!\",B$4,(YEAR($A542)-1921)*12+MONTH($A542)+3+IF(ISNUMBER(FIND(\"PRV\",B$6)),1,0)))*IF(AND(B$3>0,TRIM(B$9)=\"CFS\"),Conv_Flags!$C542,1)","v":3252},{"$f":"INDIRECT(CONCATENATE(\"'\",C$1,\"'!\",C$4,(YEAR($A542)-1921)*12+MONTH($A542)+3+IF(ISNUMBER(FIND(\"PRV\",C$6)),1,0)))*IF(AND(C$3>0,TRIM(C$9)=\"CFS\"),Conv_Flags!$C542,1)","v":3252}]
["1965-12-31",{"$f":"INDIRECT(CONCATENATE(\"'\",B$1,\"'!\",B$4,(YEAR($A543)-1921)*12+MONTH($A543)+3+IF(ISNUMBER(FIND(\"PRV\",B$6)),1,0)))*IF(AND(B$3>0,TRIM(B$9)=\"CFS\"),Conv_Flags!$C543,1)","v":3359},{"$f":"INDIRECT(CONCATENATE(\"'\",C$1,\"'!\",C$4,(YEAR($A543)-1921)*12+MONTH($A543)+3+IF(ISNUMBER(FIND(\"PRV\",C$6)),1,0)))*IF(AND(C$3>0,TRIM(C$9)=\"CFS\"),Conv_Flags!$C543,1)","v":3359}]
["1966-01-31",{"$f":"INDIRECT(CONCATENATE(\"'\",B$1,\"'!\",B$4,(YEAR($A544)-1921)*12+MONTH($A544)+3+IF(ISNUMBER(FIND(\"PRV\",B$6)),1,0)))*IF(AND(B$3>0,TRIM(B$9)=\"CFS\"),Conv_Flags!$C544,1)","v":3725},{"$f":"INDIRECT(CONCATENATE(\"'\",C$1,\"'!\",C$4,(YEAR($A544)-1921)*12+MONTH($A544)+3+IF(ISNUMBER(FIND(\"PRV\",C$6)),1,0)))*IF(AND(C$3>0,TRIM(C$9)=\"CFS\"),Conv_Flags!$C544,1)","v":3725}]
["1966-02-28",{"$f":"INDIRECT(CONCATENATE(\"'\",B$1,\"'!\",B$4,(YEAR($A545)-1921)*12+MONTH($A545)+3+IF(ISNUMBER(FIND(\"PRV\",B$6)),1,0)))*IF(AND(B$3>0,TRIM(B$9)=\"CFS\"),Conv_Flags!$C545,1)","v":4037},{"$f":"INDIRECT(CONCATENATE(\"'\",C$1,\"'!\",C$4,(YEAR($A545)-1921)*12+MONTH($A545)+3+IF(ISNUMBER(FIND(\"PRV\",C$6)),1,0)))*IF(AND(C$3>0,TRIM(C$9)=\"CFS\"),Conv_Flags!$C545,1)","v":4037}]
["1966-03-31",{"$f":"INDIRECT(CONCATENATE(\"'\",B$1,\"'!\",B$4,(YEAR($A546)-1921)*12+MONTH($A546)+3+IF(ISNUMBER(FIND(\"PRV\",B$6)),1,0)))*IF(AND(B$3>0,TRIM(B$9)=\"CFS\"),Conv_Flags!$C546,1)","v":4229},{"$f":"INDIRECT(CONCATENATE(\"'\",C$1,\"'!\",C$4,(YEAR($A546)-1921)*12+MONTH($A546)+3+IF(ISNUMBER(FIND(\"PRV\",C$6)),1,0)))*IF(AND(C$3>0,TRIM(C$9)=\"CFS\"),Conv_Flags!$C546,1)","v":4229}]
["1966-04-30",{"$f":"INDIRECT(CONCATENATE(\"'\",B$1,\"'!\",B$4,(YEAR($A547)-1921)*12+MONTH($A547)+3+IF(ISNUMBER(FIND(\"PRV\",B$6)),1,0)))*IF(AND(B$3>0,TRIM(B$9)=\"CFS\"),Conv_Flags!$C547,1)","v":4552},{"$f":"INDIRECT(CONCATENATE(\"'\",C$1,\"'!\",C$4,(YEAR($A547)-1921)*12+MONTH($A547)+3+IF(ISNUMBER(FIND(\"PRV\",C$6)),1,0)))*IF(AND(C$3>0,TRIM(C$9)=\"CFS\"),Conv_Flags!$C547,1)","v":4552}]
["1966-05-31",{"$f":"INDIRECT(CONCATENATE(\"'\",B$1,\"'!\",B$4,(YEAR($A548)-1921)*12+MONTH($A548)+3+IF(ISNUMBER(FIND(\"PRV\",B$6)),1,0)))*IF(AND(B$3>0,TRIM(B$9)=\"CFS\"),Conv_Flags!$C548,1)","v":4410.215737658199},{"$f":"INDIRECT(CONCATENATE(\"'\",C$1,\"'!\",C$4,(YEAR($A548)-1921)*12+MONTH($A548)+3+IF(ISNUMBER(FIND(\"PRV\",C$6)),1,0)))*IF(AND(C$3>0,TRIM(C$9)=\"CFS\"),Conv_Flags!$C548,1)","v":4450.6019177659191}]
["1966-06-30",{"$f":"INDIRECT(CONCATENATE(\"'\",B$1,\"'!\",B$4,(YEAR($A549)-1921)*12+MONTH($A549)+3+IF(ISNUMBER(FIND(\"PRV\",B$6)),1,0)))*IF(AND(B$3>0,TRIM(B$9)=\"CFS\"),Conv_Flags!$C549,1)","v":3786.7032040132863},{"$f":"INDIRECT(CONCATENATE(\"'\",C$1,\"'!\",C$4,(YEAR($A549)-1921)*12+MONTH($A549)+3+IF(ISNUMBER(FIND(\"PRV\",C$6)),1,0)))*IF(AND(C$3>0,TRIM(C$9)=\"CFS\"),Conv_Flags!$C549,1)","v":3813.93909797776}]
["1966-07-31",{"$f":"INDIRECT(CONCATENATE(\"'\",B$1,\"'!\",B$4,(YEAR($A550)-1921)*12+MONTH($A550)+3+IF(ISNUMBER(FIND(\"PRV\",B$6)),1,0)))*IF(AND(B$3>0,TRIM(B$9)=\"CFS\"),Conv_Flags!$C550,1)","v":3243.9796388128148},{"$f":"INDIRECT(CONCATENATE(\"'\",C$1,\"'!\",C$4,(YEAR($A550)-1921)*12+MONTH($A550)+3+IF(ISNUMBER(FIND(\"PRV\",C$6)),1,0)))*IF(AND(C$3>0,TRIM(C$9)=\"CFS\"),Conv_Flags!$C550,1)","v":3197.8909456588185}]
["1966-08-31",{"$f":"INDIRECT(CONCATENATE(\"'\",B$1,\"'!\",B$4,(YEAR($A551)-1921)*12+MONTH($A551)+3+IF(ISNUMBER(FIND(\"PRV\",B$6)),1,0)))*IF(AND(B$3>0,TRIM(B$9)=\"CFS\"),Conv_Flags!$C551,1)","v":3016.0097129662645},{"$f":"INDIRECT(CONCATENATE(\"'\",C$1,\"'!\",C$4,(YEAR($A551)-1921)*12+MONTH($A551)+3+IF(ISNUMBER(FIND(\"PRV\",C$6)),1,0)))*IF(AND(C$3>0,TRIM(C$9)=\"CFS\"),Conv_Flags!$C551,1)","v":2948.8156161751331}]
["1966-09-30",{"$f":"INDIRECT(CONCATENATE(\"'\",B$1,\"'!\",B$4,(YEAR($A552)-1921)*12+MONTH($A552)+3+IF(ISNUMBER(FIND(\"PRV\",B$6)),1,0)))*IF(AND(B$3>0,TRIM(B$9)=\"CFS\"),Conv_Flags!$C552,1)","v":2946.0294380606024},{"$f":"INDIRECT(CONCATENATE(\"'\",C$1,\"'!\",C$4,(YEAR($A552)-1921)*12+MONTH($A552)+3+IF(ISNUMBER(FIND(\"PRV\",C$6)),1,0)))*IF(AND(C$3>0,TRIM(C$9)=\"CFS\"),Conv_Flags!$C552,1)","v":2849.8082047741595}]
["1966-10-31",{"$f":"INDIRECT(CONCATENATE(\"'\",B$1,\"'!\",B$4,(YEAR($A553)-1921)*12+MONTH($A553)+3+IF(ISNUMBER(FIND(\"PRV\",B$6)),1,0)))*IF(AND(B$3>0,TRIM(B$9)=\"CFS\"),Conv_Flags!$C553,1)","v":2812.9186747108029},{"$f":"INDIRECT(CONCATENATE(\"'\",C$1,\"'!\",C$4,(YEAR($A553)-1921)*12+MONTH($A553)+3+IF(ISNUMBER(FIND(\"PRV\",C$6)),1,0)))*IF(AND(C$3>0,TRIM(C$9)=\"CFS\"),Conv_Flags!$C553,1)","v":2738.6004326235279}]
["1966-11-30",{"$f":"INDIRECT(CONCATENATE(\"'\",B$1,\"'!\",B$4,(YEAR($A554)-1921)*12+MONTH($A554)+3+IF(ISNUMBER(FIND(\"PRV\",B$6)),1,0)))*IF(AND(B$3>0,TRIM(B$9)=\"CFS\"),Conv_Flags!$C554,1)","v":3207.7299236028475},{"$f":"INDIRECT(CONCATENATE(\"'\",C$1,\"'!\",C$4,(YEAR($A554)-1921)*12+MONTH($A554)+3+IF(ISNUMBER(FIND(\"PRV\",C$6)),1,0)))*IF(AND(C$3>0,TRIM(C$9)=\"CFS\"),Conv_Flags!$C554,1)","v":3133.490713752793}]
["1966-12-31",{"$f":"INDIRECT(CONCATENATE(\"'\",B$1,\"'!\",B$4,(YEAR($A555)-1921)*12+MONTH($A555)+3+IF(ISNUMBER(FIND(\"PRV\",B$6)),1,0)))*IF(AND(B$3>0,TRIM(B$9)=\"CFS\"),Conv_Flags!$C555,1)","v":3335},{"$f":"INDIRECT(CONCATENATE(\"'\",C$1,\"'!\",C$4,(YEAR($A555)-1921)*12+MONTH($A555)+3+IF(ISNUMBER(FIND(\"PRV\",C$6)),1,0)))*IF(AND(C$3>0,TRIM(C$9)=\"CFS\"),Conv_Flags!$C555,1)","v":3335}]
["1967-01-31",{"$f":"INDIRECT(CONCATENATE(\"'\",B$1,\"'!\",B$4,(YEAR($A556)-1921)*12+MONTH($A556)+3+IF(ISNUMBER(FIND(\"PRV\",B$6)),1,0)))*IF(AND(B$3>0,TRIM(B$9)=\"CFS\"),Conv_Flags!$C556,1)","v":3551},{"$f":"INDIRECT(CONCATENATE(\"'\",C$1,\"'!\",C$4,(YEAR($A556)-1921)*12+MONTH($A556)+3+IF(ISNUMBER(FIND(\"PRV\",C$6)),1,0)))*IF(AND(C$3>0,TRIM(C$9)=\"CFS\"),Conv_Flags!$C556,1)","v":3551}]
["1967-02-28",{"$f":"INDIRECT(CONCATENATE(\"'\",B$1,\"'!\",B$4,(YEAR($A557)-1921)*12+MONTH($A557)+3+IF(ISNUMBER(FIND(\"PRV\",B$6)),1,0)))*IF(AND(B$3>0,TRIM(B$9)=\"CFS\"),Conv_Flags!$C557,1)","v":3920},{"$f":"INDIRECT(CONCATENATE(\"'\",C$1,\"'!\",C$4,(YEAR($A557)-1921)*12+MONTH($A557)+3+IF(ISNUMBER(FIND(\"PRV\",C$6)),1,0)))*IF(AND(C$3>0,TRIM(C$9)=\"CFS\"),Conv_Flags!$C557,1)","v":3920}]
["1967-03-31",{"$f":"INDIRECT(CONCATENATE(\"'\",B$1,\"'!\",B$4,(YEAR($A558)-1921)*12+MONTH($A558)+3+IF(ISNUMBER(FIND(\"PRV\",B$6)),1,0)))*IF(AND(B$3>0,TRIM(B$9)=\"CFS\"),Conv_Flags!$C558,1)","v":4033},{"$f":"INDIRECT(CONCATENATE(\"'\",C$1,\"'!\",C$4,(YEAR($A558)-1921)*12+MONTH($A558)+3+IF(ISNUMBER(FIND(\"PRV\",C$6)),1,0)))*IF(AND(C$3>0,TRIM(C$9)=\"CFS\"),Conv_Flags!$C558,1)","v":4033}]
["1967-04-30",{"$f":"INDIRECT(CONCATENATE(\"'\",B$1,\"'!\",B$4,(YEAR($A559)-1921)*12+MONTH($A559)+3+IF(ISNUMBER(FIND(\"PRV\",B$6)),1,0)))*IF(AND(B$3>0,TRIM(B$9)=\"CFS\"),Conv_Flags!$C559,1)","v":4479},{"$f":"INDIRECT(CONCATENATE(\"'\",C$1,\"'!\",C$4,(YEAR($A559)-1921)*12+MONTH($A559)+3+IF(ISNUMBER(FIND(\"PRV\",C$6)),1,0)))*IF(AND(C$3>0,TRIM(C$9)=\"CFS\"),Conv_Flags!$C559,1)","v":4479}]
["1967-05-31",{"$f":"INDIRECT(CONCATENATE(\"'\",B$1,\"'!\",B$4,(YEAR($A560)-1921)*12+MONTH($A560)+3+IF(ISNUMBER(FIND(\"PRV\",B$6)),1,0)))*IF(AND(B$3>0,TRIM(B$9)=\"CFS\"),Conv_Flags!$C560,1)","v":4552},{"$f":"INDIRECT(CONCATENATE(\"'\",C$1,\"'!\",C$4,(YEAR($A560)-1921)*12+MONTH($A560)+3+IF(ISNUMBER(FIND(\"PRV\",C$6)),1,0)))*IF(AND(C$3>0,TRIM(C$9)=\"CFS\"),Conv_Flags!$C560,1)","v":4552}]
["1967-06-30",{"$f":"INDIRECT(CONCATENATE(\"'\",B$1,\"'!\",B$4,(YEAR($A561)-1921)*12+MONTH($A561)+3+IF(ISNUMBER(FIND(\"PRV\",B$6)),1,0)))*IF(AND(B$3>0,TRIM(B$9)=\"CFS\"),Conv_Flags!$C561,1)","v":4500},{"$f":"INDIRECT(CONCATENATE(\"'\",C$1,\"'!\",C$4,(YEAR($A561)-1921)*12+MONTH($A561)+3+IF(ISNUMBER(FIND(\"PRV\",C$6)),1,0)))*IF(AND(C$3>0,TRIM(C$9)=\"CFS\"),Conv_Flags!$C561,1)","v":4500}]
["1967-07-31",{"$f":"INDIRECT(CONCATENATE(\"'\",B$1,\"'!\",B$4,(YEAR($A562)-1921)*12+MONTH($A562)+3+IF(ISNUMBER(FIND(\"PRV\",B$6)),1,0)))*IF(AND(B$3>0,TRIM(B$9)=\"CFS\"),Conv_Flags!$C562,1)","v":4150},{"$f":"INDIRECT(CONCATENATE(\"'\",C$1,\"'!\",C$4,(YEAR($A562)-1921)*12+MONTH($A562)+3+IF(ISNUMBER(FIND(\"PRV\",C$6)),1,0)))*IF(AND(C$3>0,TRIM(C$9)=\"CFS\"),Conv_Flags!$C562,1)","v":4150}]
["1967-08-31",{"$f":"INDIRECT(CONCATENATE(\"'\",B$1,\"'!\",B$4,(YEAR($A563)-1921)*12+MONTH($A563)+3+IF(ISNUMBER(FIND(\"PRV\",B$6)),1,0)))*IF(AND(B$3>0,TRIM(B$9)=\"CFS\"),Conv_Flags!$C563,1)","v":3699.9999999999995},{"$f":"INDIRECT(CONCATENATE(\"'\",C$1,\"'!\",C$4,(YEAR($A563)-1921)*12+MONTH($A563)+3+IF(ISNUMBER(FIND(\"PRV\",C$6)),1,0)))*IF(AND(C$3>0,TRIM(C$9)=\"CFS\"),Conv_Flags!$C563,1)","v":3699.9999999999995}]
["1967-09-30",{"$f":"INDIRECT(CONCATENATE(\"'\",B$1,\"'!\",B$4,(YEAR($A564)-1921)*12+MONTH($A564)+3+IF(ISNUMBER(FIND(\"PRV\",B$6)),1,0)))*IF(AND(B$3>0,TRIM(B$9)=\"CFS\"),Conv_Flags!$C564,1)","v":3399.9999999999991},{"$f":"INDIRECT(CONCATENATE(\"'\",C$1,\"'!\",C$4,(YEAR($A564)-1921)*12+MONTH($A564)+3+IF(ISNUMBER(FIND(\"PRV\",C$6)),1,0)))*IF(AND(C$3>0,TRIM(C$9)=\"CFS\"),Conv_Flags!$C564,1)","v":3399.9999999999991}]
["1967-10-31",{"$f":"INDIRECT(CONCATENATE(\"'\",B$1,\"'!\",B$4,(YEAR($A565)-1921)*12+MONTH($A565)+3+IF(ISNUMBER(FIND(\"PRV\",B$6)),1,0)))*IF(AND(B$3>0,TRIM(B$9)=\"CFS\"),Conv_Flags!$C565,1)","v":3250},{"$f":"INDIRECT(CONCATENATE(\"'\",C$1,\"'!\",C$4,(YEAR($A565)-1921)*12+MONTH($A565)+3+IF(ISNUMBER(FIND(\"PRV\",C$6)),1,0)))*IF(AND(C$3>0,TRIM(C$9)=\"CFS\"),Conv_Flags!$C565,1)","v":3250}]
["1967-11-30",{"$f":"INDIRECT(CONCATENATE(\"'\",B$1,\"'!\",B$4,(YEAR($A566)-1921)*12+MONTH($A566)+3+IF(ISNUMBER(FIND(\"PRV\",B$6)),1,0)))*IF(AND(B$3>0,TRIM(B$9)=\"CFS\"),Conv_Flags!$C566,1)","v":3209.7851999195213},{"$f":"INDIRECT(CONCATENATE(\"'\",C$1,\"'!\",C$4,(YEAR($A566)-1921)*12+MONTH($A566)+3+IF(ISNUMBER(FIND(\"PRV\",C$6)),1,0)))*IF(AND(C$3>0,TRIM(C$9)=\"CFS\"),Conv_Flags!$C566,1)","v":3202.4502320359156}]
["1967-12-31",{"$f":"INDIRECT(CONCATENATE(\"'\",B$1,\"'!\",B$4,(YEAR($A567)-1921)*12+MONTH($A567)+3+IF(ISNUMBER(FIND(\"PRV\",B$6)),1,0)))*IF(AND(B$3>0,TRIM(B$9)=\"CFS\"),Conv_Flags!$C567,1)","v":3240.0393936169003},{"$f":"INDIRECT(CONCATENATE(\"'\",C$1,\"'!\",C$4,(YEAR($A567)-1921)*12+MONTH($A567)+3+IF(ISNUMBER(FIND(\"PRV\",C$6)),1,0)))*IF(AND(C$3>0,TRIM(C$9)=\"CFS\"),Conv_Flags!$C567,1)","v":3235.3087638007282}]
["1968-01-31",{"$f":"INDIRECT(CONCATENATE(\"'\",B$1,\"'!\",B$4,(YEAR($A568)-1921)*12+MONTH($A568)+3+IF(ISNUMBER(FIND(\"PRV\",B$6)),1,0)))*IF(AND(B$3>0,TRIM(B$9)=\"CFS\"),Conv_Flags!$C568,1)","v":3493.6389867995586},{"$f":"INDIRECT(CONCATENATE(\"'\",C$1,\"'!\",C$4,(YEAR($A568)-1921)*12+MONTH($A568)+3+IF(ISNUMBER(FIND(\"PRV\",C$6)),1,0)))*IF(AND(C$3>0,TRIM(C$9)=\"CFS\"),Conv_Flags!$C568,1)","v":3488.9113871589425}]
["1968-02-29",{"$f":"INDIRECT(CONCATENATE(\"'\",B$1,\"'!\",B$4,(YEAR($A569)-1921)*12+MONTH($A569)+3+IF(ISNUMBER(FIND(\"PRV\",B$6)),1,0)))*IF(AND(B$3>0,TRIM(B$9)=\"CFS\"),Conv_Flags!$C569,1)","v":3654},{"$f":"INDIRECT(CONCATENATE(\"'\",C$1,\"'!\",C$4,(YEAR($A569)-1921)*12+MONTH($A569)+3+IF(ISNUMBER(FIND(\"PRV\",C$6)),1,0)))*IF(AND(C$3>0,TRIM(C$9)=\"CFS\"),Conv_Flags!$C569,1)","v":3654}]
["1968-03-31",{"$f":"INDIRECT(CONCATENATE(\"'\",B$1,\"'!\",B$4,(YEAR($A570)-1921)*12+MONTH($A570)+3+IF(ISNUMBER(FIND(\"PRV\",B$6)),1,0)))*IF(AND(B$3>0,TRIM(B$9)=\"CFS\"),Conv_Flags!$C570,1)","v":4242.4410290080023},{"$f":"INDIRECT(CONCATENATE(\"'\",C$1,\"'!\",C$4,(YEAR($A570)-1921)*12+MONTH($A570)+3+IF(ISNUMBER(FIND(\"PRV\",C$6)),1,0)))*IF(AND(C$3>0,TRIM(C$9)=\"CFS\"),Conv_Flags!$C570,1)","v":4242.4410291618942}]
["1968-04-30",{"$f":"INDIRECT(CONCATENATE(\"'\",B$1,\"'!\",B$4,(YEAR($A571)-1921)*12+MONTH($A571)+3+IF(ISNUMBER(FIND(\"PRV\",B$6)),1,0)))*IF(AND(B$3>0,TRIM(B$9)=\"CFS\"),Conv_Flags!$C571,1)","v":4481.1532266702879},{"$f":"INDIRECT(CONCATENATE(\"'\",C$1,\"'!\",C$4,(YEAR($A571)-1921)*12+MONTH($A571)+3+IF(ISNUMBER(FIND(\"PRV\",C$6)),1,0)))*IF(AND(C$3>0,TRIM(C$9)=\"CFS\"),Conv_Flags!$C571,1)","v":4481.153227195563}]
["1968-05-31",{"$f":"INDIRECT(CONCATENATE(\"'\",B$1,\"'!\",B$4,(YEAR($A572)-1921)*12+MONTH($A572)+3+IF(ISNUMBER(FIND(\"PRV\",B$6)),1,0)))*IF(AND(B$3>0,TRIM(B$9)=\"CFS\"),Conv_Flags!$C572,1)","v":4384.3690812540717},{"$f":"INDIRECT(CONCATENATE(\"'\",C$1,\"'!\",C$4,(YEAR($A572)-1921)*12+MONTH($A572)+3+IF(ISNUMBER(FIND(\"PRV\",C$6)),1,0)))*IF(AND(C$3>0,TRIM(C$9)=\"CFS\"),Conv_Flags!$C572,1)","v":4384.2184333312025}]
["1968-06-30",{"$f":"INDIRECT(CONCATENATE(\"'\",B$1,\"'!\",B$4,(YEAR($A573)-1921)*12+MONTH($A573)+3+IF(ISNUMBER(FIND(\"PRV\",B$6)),1,0)))*IF(AND(B$3>0,TRIM(B$9)=\"CFS\"),Conv_Flags!$C573,1)","v":3829.218778464141},{"$f":"INDIRECT(CONCATENATE(\"'\",C$1,\"'!\",C$4,(YEAR($A573)-1921)*12+MONTH($A573)+3+IF(ISNUMBER(FIND(\"PRV\",C$6)),1,0)))*IF(AND(C$3>0,TRIM(C$9)=\"CFS\"),Conv_Flags!$C573,1)","v":3920.9666125176295}]
["1968-07-31",{"$f":"INDIRECT(CONCATENATE(\"'\",B$1,\"'!\",B$4,(YEAR($A574)-1921)*12+MONTH($A574)+3+IF(ISNUMBER(FIND(\"PRV\",B$6)),1,0)))*IF(AND(B$3>0,TRIM(B$9)=\"CFS\"),Conv_Flags!$C574,1)","v":3139.9077501222669},{"$f":"INDIRECT(CONCATENATE(\"'\",C$1,\"'!\",C$4,(YEAR($A574)-1921)*12+MONTH($A574)+3+IF(ISNUMBER(FIND(\"PRV\",C$6)),1,0)))*IF(AND(C$3>0,TRIM(C$9)=\"CFS\"),Conv_Flags!$C574,1)","v":3231.2179458104215}]
["1968-08-31",{"$f":"INDIRECT(CONCATENATE(\"'\",B$1,\"'!\",B$4,(YEAR($A575)-1921)*12+MONTH($A575)+3+IF(ISNUMBER(FIND(\"PRV\",B$6)),1,0)))*IF(AND(B$3>0,TRIM(B$9)=\"CFS\"),Conv_Flags!$C575,1)","v":2987.8851300275724},{"$f":"INDIRECT(CONCATENATE(\"'\",C$1,\"'!\",C$4,(YEAR($A575)-1921)*12+MONTH($A575)+3+IF(ISNUMBER(FIND(\"PRV\",C$6)),1,0)))*IF(AND(C$3>0,TRIM(C$9)=\"CFS\"),Conv_Flags!$C575,1)","v":3080.8755504852365}]
["1968-09-30",{"$f":"INDIRECT(CONCATENATE(\"'\",B$1,\"'!\",B$4,(YEAR($A576)-1921)*12+MONTH($A576)+3+IF(ISNUMBER(FIND(\"PRV\",B$6)),1,0)))*IF(AND(B$3>0,TRIM(B$9)=\"CFS\"),Conv_Flags!$C576,1)","v":2882.6880020154736},{"$f":"INDIRECT(CONCATENATE(\"'\",C$1,\"'!\",C$4,(YEAR($A576)-1921)*12+MONTH($A576)+3+IF(ISNUMBER(FIND(\"PRV\",C$6)),1,0)))*IF(AND(C$3>0,TRIM(C$9)=\"CFS\"),Conv_Flags!$C576,1)","v":2978.8188281728426}]
["1968-10-31",{"$f":"INDIRECT(CONCATENATE(\"'\",B$1,\"'!\",B$4,(YEAR($A577)-1921)*12+MONTH($A577)+3+IF(ISNUMBER(FIND(\"PRV\",B$6)),1,0)))*IF(AND(B$3>0,TRIM(B$9)=\"CFS\"),Conv_Flags!$C577,1)","v":2917.5363944853907},{"$f":"INDIRECT(CONCATENATE(\"'\",C$1,\"'!\",C$4,(YEAR($A577)-1921)*12+MONTH($A577)+3+IF(ISNUMBER(FIND(\"PRV\",C$6)),1,0)))*IF(AND(C$3>0,TRIM(C$9)=\"CFS\"),Conv_Flags!$C577,1)","v":2990.951347162907}]
["1968-11-30",{"$f":"INDIRECT(CONCATENATE(\"'\",B$1,\"'!\",B$4,(YEAR($A578)-1921)*12+MONTH($A578)+3+IF(ISNUMBER(FIND(\"PRV\",B$6)),1,0)))*IF(AND(B$3>0,TRIM(B$9)=\"CFS\"),Conv_Flags!$C578,1)","v":2984.5346044407447},{"$f":"INDIRECT(CONCATENATE(\"'\",C$1,\"'!\",C$4,(YEAR($A578)-1921)*12+MONTH($A578)+3+IF(ISNUMBER(FIND(\"PRV\",C$6)),1,0)))*IF(AND(C$3>0,TRIM(C$9)=\"CFS\"),Conv_Flags!$C578,1)","v":3004.2486844146874}]
["1968-12-31",{"$f":"INDIRECT(CONCATENATE(\"'\",B$1,\"'!\",B$4,(YEAR($A579)-1921)*12+MONTH($A579)+3+IF(ISNUMBER(FIND(\"PRV\",B$6)),1,0)))*IF(AND(B$3>0,TRIM(B$9)=\"CFS\"),Conv_Flags!$C579,1)","v":3341.6570163129741},{"$f":"INDIRECT(CONCATENATE(\"'\",C$1,\"'!\",C$4,(YEAR($A579)-1921)*12+MONTH($A579)+3+IF(ISNUMBER(FIND(\"PRV\",C$6)),1,0)))*IF(AND(C$3>0,TRIM(C$9)=\"CFS\"),Conv_Flags!$C579,1)","v":3354}]
["1969-01-31",{"$f":"INDIRECT(CONCATENATE(\"'\",B$1,\"'!\",B$4,(YEAR($A580)-1921)*12+MONTH($A580)+3+IF(ISNUMBER(FIND(\"PRV\",B$6)),1,0)))*IF(AND(B$3>0,TRIM(B$9)=\"CFS\"),Conv_Flags!$C580,1)","v":3358},{"$f":"INDIRECT(CONCATENATE(\"'\",C$1,\"'!\",C$4,(YEAR($A580)-1921)*12+MONTH($A580)+3+IF(ISNUMBER(FIND(\"PRV\",C$6)),1,0)))*IF(AND(C$3>0,TRIM(C$9)=\"CFS\"),Conv_Flags!$C580,1)","v":3358}]
["1969-02-28",{"$f":"INDIRECT(CONCATENATE(\"'\",B$1,\"'!\",B$4,(YEAR($A581)-1921)*12+MONTH($A581)+3+IF(ISNUMBER(FIND(\"PRV\",B$6)),1,0)))*IF(AND(B$3>0,TRIM(B$9)=\"CFS\"),Conv_Flags!$C581,1)","v":3480},{"$f":"INDIRECT(CONCATENATE(\"'\",C$1,\"'!\",C$4,(YEAR($A581)-1921)*12+MONTH($A581)+3+IF(ISNUMBER(FIND(\"PRV\",C$6)),1,0)))*IF(AND(C$3>0,TRIM(C$9)=\"CFS\"),Conv_Flags!$C581,1)","v":3480}]
["1969-03-31",{"$f":"INDIRECT(CONCATENATE(\"'\",B$1,\"'!\",B$4,(YEAR($A582)-1921)*12+MONTH($A582)+3+IF(ISNUMBER(FIND(\"PRV\",B$6)),1,0)))*IF(AND(B$3>0,TRIM(B$9)=\"CFS\"),Conv_Flags!$C582,1)","v":4029.9999999999995},{"$f":"INDIRECT(CONCATENATE(\"'\",C$1,\"'!\",C$4,(YEAR($A582)-1921)*12+MONTH($A582)+3+IF(ISNUMBER(FIND(\"PRV\",C$6)),1,0)))*IF(AND(C$3>0,TRIM(C$9)=\"CFS\"),Conv_Flags!$C582,1)","v":4030}]
["1969-04-30",{"$f":"INDIRECT(CONCATENATE(\"'\",B$1,\"'!\",B$4,(YEAR($A583)-1921)*12+MONTH($A583)+3+IF(ISNUMBER(FIND(\"PRV\",B$6)),1,0)))*IF(AND(B$3>0,TRIM(B$9)=\"CFS\"),Conv_Flags!$C583,1)","v":4434},{"$f":"INDIRECT(CONCATENATE(\"'\",C$1,\"'!\",C$4,(YEAR($A583)-1921)*12+MONTH($A583)+3+IF(ISNUMBER(FIND(\"PRV\",C$6)),1,0)))*IF(AND(C$3>0,TRIM(C$9)=\"CFS\"),Conv_Flags!$C583,1)","v":4434}]
["1969-05-31",{"$f":"INDIRECT(CONCATENATE(\"'\",B$1,\"'!\",B$4,(YEAR($A584)-1921)*12+MONTH($A584)+3+IF(ISNUMBER(FIND(\"PRV\",B$6)),1,0)))*IF(AND(B$3>0,TRIM(B$9)=\"CFS\"),Conv_Flags!$C584,1)","v":4552},{"$f":"INDIRECT(CONCATENATE(\"'\",C$1,\"'!\",C$4,(YEAR($A584)-1921)*12+MONTH($A584)+3+IF(ISNUMBER(FIND(\"PRV\",C$6)),1,0)))*IF(AND(C$3>0,TRIM(C$9)=\"CFS\"),Conv_Flags!$C584,1)","v":4552}]
["1969-06-30",{"$f":"INDIRECT(CONCATENATE(\"'\",B$1,\"'!\",B$4,(YEAR($A585)-1921)*12+MONTH($A585)+3+IF(ISNUMBER(FIND(\"PRV\",B$6)),1,0)))*IF(AND(B$3>0,TRIM(B$9)=\"CFS\"),Conv_Flags!$C585,1)","v":4454.5612717101912},{"$f":"INDIRECT(CONCATENATE(\"'\",C$1,\"'!\",C$4,(YEAR($A585)-1921)*12+MONTH($A585)+3+IF(ISNUMBER(FIND(\"PRV\",C$6)),1,0)))*IF(AND(C$3>0,TRIM(C$9)=\"CFS\"),Conv_Flags!$C585,1)","v":4454.3173474874566}]
["1969-07-31",{"$f":"INDIRECT(CONCATENATE(\"'\",B$1,\"'!\",B$4,(YEAR($A586)-1921)*12+MONTH($A586)+3+IF(ISNUMBER(FIND(\"PRV\",B$6)),1,0)))*IF(AND(B$3>0,TRIM(B$9)=\"CFS\"),Conv_Flags!$C586,1)","v":4061.9534912867121},{"$f":"INDIRECT(CONCATENATE(\"'\",C$1,\"'!\",C$4,(YEAR($A586)-1921)*12+MONTH($A586)+3+IF(ISNUMBER(FIND(\"PRV\",C$6)),1,0)))*IF(AND(C$3>0,TRIM(C$9)=\"CFS\"),Conv_Flags!$C586,1)","v":4061.3330658704831}]
["1969-08-31",{"$f":"INDIRECT(CONCATENATE(\"'\",B$1,\"'!\",B$4,(YEAR($A587)-1921)*12+MONTH($A587)+3+IF(ISNUMBER(FIND(\"PRV\",B$6)),1,0)))*IF(AND(B$3>0,TRIM(B$9)=\"CFS\"),Conv_Flags!$C587,1)","v":3700.0000000000005},{"$f":"INDIRECT(CONCATENATE(\"'\",C$1,\"'!\",C$4,(YEAR($A587)-1921)*12+MONTH($A587)+3+IF(ISNUMBER(FIND(\"PRV\",C$6)),1,0)))*IF(AND(C$3>0,TRIM(C$9)=\"CFS\"),Conv_Flags!$C587,1)","v":3700}]
["1969-09-30",{"$f":"INDIRECT(CONCATENATE(\"'\",B$1,\"'!\",B$4,(YEAR($A588)-1921)*12+MONTH($A588)+3+IF(ISNUMBER(FIND(\"PRV\",B$6)),1,0)))*IF(AND(B$3>0,TRIM(B$9)=\"CFS\"),Conv_Flags!$C588,1)","v":3399.9999999999995},{"$f":"INDIRECT(CONCATENATE(\"'\",C$1,\"'!\",C$4,(YEAR($A588)-1921)*12+MONTH($A588)+3+IF(ISNUMBER(FIND(\"PRV\",C$6)),1,0)))*IF(AND(C$3>0,TRIM(C$9)=\"CFS\"),Conv_Flags!$C588,1)","v":3399.9999999999995}]
["1969-10-31",{"$f":"INDIRECT(CONCATENATE(\"'\",B$1,\"'!\",B$4,(YEAR($A589)-1921)*12+MONTH($A589)+3+IF(ISNUMBER(FIND(\"PRV\",B$6)),1,0)))*IF(AND(B$3>0,TRIM(B$9)=\"CFS\"),Conv_Flags!$C589,1)","v":3249.9999999999995},{"$f":"INDIRECT(CONCATENATE(\"'\",C$1,\"'!\",C$4,(YEAR($A589)-1921)*12+MONTH($A589)+3+IF(ISNUMBER(FIND(\"PRV\",C$6)),1,0)))*IF(AND(C$3>0,TRIM(C$9)=\"CFS\"),Conv_Flags!$C589,1)","v":3249.9999999999995}]
["1969-11-30",{"$f":"INDIRECT(CONCATENATE(\"'\",B$1,\"'!\",B$4,(YEAR($A590)-1921)*12+MONTH($A590)+3+IF(ISNUMBER(FIND(\"PRV\",B$6)),1,0)))*IF(AND(B$3>0,TRIM(B$9)=\"CFS\"),Conv_Flags!$C590,1)","v":3182.2554541745271},{"$f":"INDIRECT(CONCATENATE(\"'\",C$1,\"'!\",C$4,(YEAR($A590)-1921)*12+MONTH($A590)+3+IF(ISNUMBER(FIND(\"PRV\",C$6)),1,0)))*IF(AND(C$3>0,TRIM(C$9)=\"CFS\"),Conv_Flags!$C590,1)","v":3182.5834022475256}]
["1969-12-31",{"$f":"INDIRECT(CONCATENATE(\"'\",B$1,\"'!\",B$4,(YEAR($A591)-1921)*12+MONTH($A591)+3+IF(ISNUMBER(FIND(\"PRV\",B$6)),1,0)))*IF(AND(B$3>0,TRIM(B$9)=\"CFS\"),Conv_Flags!$C591,1)","v":3317},{"$f":"INDIRECT(CONCATENATE(\"'\",C$1,\"'!\",C$4,(YEAR($A591)-1921)*12+MONTH($A591)+3+IF(ISNUMBER(FIND(\"PRV\",C$6)),1,0)))*IF(AND(C$3>0,TRIM(C$9)=\"CFS\"),Conv_Flags!$C591,1)","v":3317}]
["1970-01-31",{"$f":"INDIRECT(CONCATENATE(\"'\",B$1,\"'!\",B$4,(YEAR($A592)-1921)*12+MONTH($A592)+3+IF(ISNUMBER(FIND(\"PRV\",B$6)),1,0)))*IF(AND(B$3>0,TRIM(B$9)=\"CFS\"),Conv_Flags!$C592,1)","v":3252},{"$f":"INDIRECT(CONCATENATE(\"'\",C$1,\"'!\",C$4,(YEAR($A592)-1921)*12+MONTH($A592)+3+IF(ISNUMBER(FIND(\"PRV\",C$6)),1,0)))*IF(AND(C$3>0,TRIM(C$9)=\"CFS\"),Conv_Flags!$C592,1)","v":3252}]
["1970-02-28",{"$f":"INDIRECT(CONCATENATE(\"'\",B$1,\"'!\",B$4,(YEAR($A593)-1921)*12+MONTH($A593)+3+IF(ISNUMBER(FIND(\"PRV\",B$6)),1,0)))*IF(AND(B$3>0,TRIM(B$9)=\"CFS\"),Conv_Flags!$C593,1)","v":3431},{"$f":"INDIRECT(CONCATENATE(\"'\",C$1,\"'!\",C$4,(YEAR($A593)-1921)*12+MONTH($A593)+3+IF(ISNUMBER(FIND(\"PRV\",C$6)),1,0)))*IF(AND(C$3>0,TRIM(C$9)=\"CFS\"),Conv_Flags!$C593,1)","v":3431}]
["1970-03-31",{"$f":"INDIRECT(CONCATENATE(\"'\",B$1,\"'!\",B$4,(YEAR($A594)-1921)*12+MONTH($A594)+3+IF(ISNUMBER(FIND(\"PRV\",B$6)),1,0)))*IF(AND(B$3>0,TRIM(B$9)=\"CFS\"),Conv_Flags!$C594,1)","v":4098.2630271489743},{"$f":"INDIRECT(CONCATENATE(\"'\",C$1,\"'!\",C$4,(YEAR($A594)-1921)*12+MONTH($A594)+3+IF(ISNUMBER(FIND(\"PRV\",C$6)),1,0)))*IF(AND(C$3>0,TRIM(C$9)=\"CFS\"),Conv_Flags!$C594,1)","v":4098.2630258204526}]
["1970-04-30",{"$f":"INDIRECT(CONCATENATE(\"'\",B$1,\"'!\",B$4,(YEAR($A595)-1921)*12+MONTH($A595)+3+IF(ISNUMBER(FIND(\"PRV\",B$6)),1,0)))*IF(AND(B$3>0,TRIM(B$9)=\"CFS\"),Conv_Flags!$C595,1)","v":4185.3399588863795},{"$f":"INDIRECT(CONCATENATE(\"'\",C$1,\"'!\",C$4,(YEAR($A595)-1921)*12+MONTH($A595)+3+IF(ISNUMBER(FIND(\"PRV\",C$6)),1,0)))*IF(AND(C$3>0,TRIM(C$9)=\"CFS\"),Conv_Flags!$C595,1)","v":4185.3399575597696}]
["1970-05-31",{"$f":"INDIRECT(CONCATENATE(\"'\",B$1,\"'!\",B$4,(YEAR($A596)-1921)*12+MONTH($A596)+3+IF(ISNUMBER(FIND(\"PRV\",B$6)),1,0)))*IF(AND(B$3>0,TRIM(B$9)=\"CFS\"),Conv_Flags!$C596,1)","v":4112.1718834263738},{"$f":"INDIRECT(CONCATENATE(\"'\",C$1,\"'!\",C$4,(YEAR($A596)-1921)*12+MONTH($A596)+3+IF(ISNUMBER(FIND(\"PRV\",C$6)),1,0)))*IF(AND(C$3>0,TRIM(C$9)=\"CFS\"),Conv_Flags!$C596,1)","v":4112.0707900236102}]
["1970-06-30",{"$f":"INDIRECT(CONCATENATE(\"'\",B$1,\"'!\",B$4,(YEAR($A597)-1921)*12+MONTH($A597)+3+IF(ISNUMBER(FIND(\"PRV\",B$6)),1,0)))*IF(AND(B$3>0,TRIM(B$9)=\"CFS\"),Conv_Flags!$C597,1)","v":3759.8959935556077},{"$f":"INDIRECT(CONCATENATE(\"'\",C$1,\"'!\",C$4,(YEAR($A597)-1921)*12+MONTH($A597)+3+IF(ISNUMBER(FIND(\"PRV\",C$6)),1,0)))*IF(AND(C$3>0,TRIM(C$9)=\"CFS\"),Conv_Flags!$C597,1)","v":3754.1305679325401}]
["1970-07-31",{"$f":"INDIRECT(CONCATENATE(\"'\",B$1,\"'!\",B$4,(YEAR($A598)-1921)*12+MONTH($A598)+3+IF(ISNUMBER(FIND(\"PRV\",B$6)),1,0)))*IF(AND(B$3>0,TRIM(B$9)=\"CFS\"),Conv_Flags!$C598,1)","v":3119.0719588030083},{"$f":"INDIRECT(CONCATENATE(\"'\",C$1,\"'!\",C$4,(YEAR($A598)-1921)*12+MONTH($A598)+3+IF(ISNUMBER(FIND(\"PRV\",C$6)),1,0)))*IF(AND(C$3>0,TRIM(C$9)=\"CFS\"),Conv_Flags!$C598,1)","v":3113.3352457511733}]
["1970-08-31",{"$f":"INDIRECT(CONCATENATE(\"'\",B$1,\"'!\",B$4,(YEAR($A599)-1921)*12+MONTH($A599)+3+IF(ISNUMBER(FIND(\"PRV\",B$6)),1,0)))*IF(AND(B$3>0,TRIM(B$9)=\"CFS\"),Conv_Flags!$C599,1)","v":2761.3528439421079},{"$f":"INDIRECT(CONCATENATE(\"'\",C$1,\"'!\",C$4,(YEAR($A599)-1921)*12+MONTH($A599)+3+IF(ISNUMBER(FIND(\"PRV\",C$6)),1,0)))*IF(AND(C$3>0,TRIM(C$9)=\"CFS\"),Conv_Flags!$C599,1)","v":2754.0256244185457}]
["1970-09-30",{"$f":"INDIRECT(CONCATENATE(\"'\",B$1,\"'!\",B$4,(YEAR($A600)-1921)*12+MONTH($A600)+3+IF(ISNUMBER(FIND(\"PRV\",B$6)),1,0)))*IF(AND(B$3>0,TRIM(B$9)=\"CFS\"),Conv_Flags!$C600,1)","v":2623.2239654634745},{"$f":"INDIRECT(CONCATENATE(\"'\",C$1,\"'!\",C$4,(YEAR($A600)-1921)*12+MONTH($A600)+3+IF(ISNUMBER(FIND(\"PRV\",C$6)),1,0)))*IF(AND(C$3>0,TRIM(C$9)=\"CFS\"),Conv_Flags!$C600,1)","v":2599.9519494661813}]
["1970-10-31",{"$f":"INDIRECT(CONCATENATE(\"'\",B$1,\"'!\",B$4,(YEAR($A601)-1921)*12+MONTH($A601)+3+IF(ISNUMBER(FIND(\"PRV\",B$6)),1,0)))*IF(AND(B$3>0,TRIM(B$9)=\"CFS\"),Conv_Flags!$C601,1)","v":2591.8591370557542},{"$f":"INDIRECT(CONCATENATE(\"'\",C$1,\"'!\",C$4,(YEAR($A601)-1921)*12+MONTH($A601)+3+IF(ISNUMBER(FIND(\"PRV\",C$6)),1,0)))*IF(AND(C$3>0,TRIM(C$9)=\"CFS\"),Conv_Flags!$C601,1)","v":2571.1224411303388}]
["1970-11-30",{"$f":"INDIRECT(CONCATENATE(\"'\",B$1,\"'!\",B$4,(YEAR($A602)-1921)*12+MONTH($A602)+3+IF(ISNUMBER(FIND(\"PRV\",B$6)),1,0)))*IF(AND(B$3>0,TRIM(B$9)=\"CFS\"),Conv_Flags!$C602,1)","v":3102.5452514064696},{"$f":"INDIRECT(CONCATENATE(\"'\",C$1,\"'!\",C$4,(YEAR($A602)-1921)*12+MONTH($A602)+3+IF(ISNUMBER(FIND(\"PRV\",C$6)),1,0)))*IF(AND(C$3>0,TRIM(C$9)=\"CFS\"),Conv_Flags!$C602,1)","v":3081.8300971129288}]
["1970-12-31",{"$f":"INDIRECT(CONCATENATE(\"'\",B$1,\"'!\",B$4,(YEAR($A603)-1921)*12+MONTH($A603)+3+IF(ISNUMBER(FIND(\"PRV\",B$6)),1,0)))*IF(AND(B$3>0,TRIM(B$9)=\"CFS\"),Conv_Flags!$C603,1)","v":3319},{"$f":"INDIRECT(CONCATENATE(\"'\",C$1,\"'!\",C$4,(YEAR($A603)-1921)*12+MONTH($A603)+3+IF(ISNUMBER(FIND(\"PRV\",C$6)),1,0)))*IF(AND(C$3>0,TRIM(C$9)=\"CFS\"),Conv_Flags!$C603,1)","v":3319}]
["1971-01-31",{"$f":"INDIRECT(CONCATENATE(\"'\",B$1,\"'!\",B$4,(YEAR($A604)-1921)*12+MONTH($A604)+3+IF(ISNUMBER(FIND(\"PRV\",B$6)),1,0)))*IF(AND(B$3>0,TRIM(B$9)=\"CFS\"),Conv_Flags!$C604,1)","v":3515},{"$f":"INDIRECT(CONCATENATE(\"'\",C$1,\"'!\",C$4,(YEAR($A604)-1921)*12+MONTH($A604)+3+IF(ISNUMBER(FIND(\"PRV\",C$6)),1,0)))*IF(AND(C$3>0,TRIM(C$9)=\"CFS\"),Conv_Flags!$C604,1)","v":3515}]
["1971-02-28",{"$f":"INDIRECT(CONCATENATE(\"'\",B$1,\"'!\",B$4,(YEAR($A605)-1921)*12+MONTH($A605)+3+IF(ISNUMBER(FIND(\"PRV\",B$6)),1,0)))*IF(AND(B$3>0,TRIM(B$9)=\"CFS\"),Conv_Flags!$C605,1)","v":3907.3550764703737},{"$f":"INDIRECT(CONCATENATE(\"'\",C$1,\"'!\",C$4,(YEAR($A605)-1921)*12+MONTH($A605)+3+IF(ISNUMBER(FIND(\"PRV\",C$6)),1,0)))*IF(AND(C$3>0,TRIM(C$9)=\"CFS\"),Conv_Flags!$C605,1)","v":3907.3550764703737}]
["1971-03-31",{"$f":"INDIRECT(CONCATENATE(\"'\",B$1,\"'!\",B$4,(YEAR($A606)-1921)*12+MONTH($A606)+3+IF(ISNUMBER(FIND(\"PRV\",B$6)),1,0)))*IF(AND(B$3>0,TRIM(B$9)=\"CFS\"),Conv_Flags!$C606,1)","v":3873},{"$f":"INDIRECT(CONCATENATE(\"'\",C$1,\"'!\",C$4,(YEAR($A606)-1921)*12+MONTH($A606)+3+IF(ISNUMBER(FIND(\"PRV\",C$6)),1,0)))*IF(AND(C$3>0,TRIM(C$9)=\"CFS\"),Conv_Flags!$C606,1)","v":3873}]
["1971-04-30",{"$f":"INDIRECT(CONCATENATE(\"'\",B$1,\"'!\",B$4,(YEAR($A607)-1921)*12+MONTH($A607)+3+IF(ISNUMBER(FIND(\"PRV\",B$6)),1,0)))*IF(AND(B$3>0,TRIM(B$9)=\"CFS\"),Conv_Flags!$C607,1)","v":4518.1403881054102},{"$f":"INDIRECT(CONCATENATE(\"'\",C$1,\"'!\",C$4,(YEAR($A607)-1921)*12+MONTH($A607)+3+IF(ISNUMBER(FIND(\"PRV\",C$6)),1,0)))*IF(AND(C$3>0,TRIM(C$9)=\"CFS\"),Conv_Flags!$C607,1)","v":4518.1403881054102}]
["1971-05-31",{"$f":"INDIRECT(CONCATENATE(\"'\",B$1,\"'!\",B$4,(YEAR($A608)-1921)*12+MONTH($A608)+3+IF(ISNUMBER(FIND(\"PRV\",B$6)),1,0)))*IF(AND(B$3>0,TRIM(B$9)=\"CFS\"),Conv_Flags!$C608,1)","v":4552},{"$f":"INDIRECT(CONCATENATE(\"'\",C$1,\"'!\",C$4,(YEAR($A608)-1921)*12+MONTH($A608)+3+IF(ISNUMBER(FIND(\"PRV\",C$6)),1,0)))*IF(AND(C$3>0,TRIM(C$9)=\"CFS\"),Conv_Flags!$C608,1)","v":4552}]
["1971-06-30",{"$f":"INDIRECT(CONCATENATE(\"'\",B$1,\"'!\",B$4,(YEAR($A609)-1921)*12+MONTH($A609)+3+IF(ISNUMBER(FIND(\"PRV\",B$6)),1,0)))*IF(AND(B$3>0,TRIM(B$9)=\"CFS\"),Conv_Flags!$C609,1)","v":4500},{"$f":"INDIRECT(CONCATENATE(\"'\",C$1,\"'!\",C$4,(YEAR($A609)-1921)*12+MONTH($A609)+3+IF(ISNUMBER(FIND(\"PRV\",C$6)),1,0)))*IF(AND(C$3>0,TRIM(C$9)=\"CFS\"),Conv_Flags!$C609,1)","v":4500}]
["1971-07-31",{"$f":"INDIRECT(CONCATENATE(\"'\",B$1,\"'!\",B$4,(YEAR($A610)-1921)*12+MONTH($A610)+3+IF(ISNUMBER(FIND(\"PRV\",B$6)),1,0)))*IF(AND(B$3>0,TRIM(B$9)=\"CFS\"),Conv_Flags!$C610,1)","v":3994.6467605336215},{"$f":"INDIRECT(CONCATENATE(\"'\",C$1,\"'!\",C$4,(YEAR($A610)-1921)*12+MONTH($A610)+3+IF(ISNUMBER(FIND(\"PRV\",C$6)),1,0)))*IF(AND(C$3>0,TRIM(C$9)=\"CFS\"),Conv_Flags!$C610,1)","v":3989.6062799085025}]
["1971-08-31",{"$f":"INDIRECT(CONCATENATE(\"'\",B$1,\"'!\",B$4,(YEAR($A611)-1921)*12+MONTH($A611)+3+IF(ISNUMBER(FIND(\"PRV\",B$6)),1,0)))*IF(AND(B$3>0,TRIM(B$9)=\"CFS\"),Conv_Flags!$C611,1)","v":3700},{"$f":"INDIRECT(CONCATENATE(\"'\",C$1,\"'!\",C$4,(YEAR($A611)-1921)*12+MONTH($A611)+3+IF(ISNUMBER(FIND(\"PRV\",C$6)),1,0)))*IF(AND(C$3>0,TRIM(C$9)=\"CFS\"),Conv_Flags!$C611,1)","v":3694.0568163357957}]
["1971-09-30",{"$f":"INDIRECT(CONCATENATE(\"'\",B$1,\"'!\",B$4,(YEAR($A612)-1921)*12+MONTH($A612)+3+IF(ISNUMBER(FIND(\"PRV\",B$6)),1,0)))*IF(AND(B$3>0,TRIM(B$9)=\"CFS\"),Conv_Flags!$C612,1)","v":3399.9999999999995},{"$f":"INDIRECT(CONCATENATE(\"'\",C$1,\"'!\",C$4,(YEAR($A612)-1921)*12+MONTH($A612)+3+IF(ISNUMBER(FIND(\"PRV\",C$6)),1,0)))*IF(AND(C$3>0,TRIM(C$9)=\"CFS\"),Conv_Flags!$C612,1)","v":3399.9999999999995}]
["1971-10-31",{"$f":"INDIRECT(CONCATENATE(\"'\",B$1,\"'!\",B$4,(YEAR($A613)-1921)*12+MONTH($A613)+3+IF(ISNUMBER(FIND(\"PRV\",B$6)),1,0)))*IF(AND(B$3>0,TRIM(B$9)=\"CFS\"),Conv_Flags!$C613,1)","v":3250},{"$f":"INDIRECT(CONCATENATE(\"'\",C$1,\"'!\",C$4,(YEAR($A613)-1921)*12+MONTH($A613)+3+IF(ISNUMBER(FIND(\"PRV\",C$6)),1,0)))*IF(AND(C$3>0,TRIM(C$9)=\"CFS\"),Conv_Flags!$C613,1)","v":3250}]
["1971-11-30",{"$f":"INDIRECT(CONCATENATE(\"'\",B$1,\"'!\",B$4,(YEAR($A614)-1921)*12+MONTH($A614)+3+IF(ISNUMBER(FIND(\"PRV\",B$6)),1,0)))*IF(AND(B$3>0,TRIM(B$9)=\"CFS\"),Conv_Flags!$C614,1)","v":3177.4708036840034},{"$f":"INDIRECT(CONCATENATE(\"'\",C$1,\"'!\",C$4,(YEAR($A614)-1921)*12+MONTH($A614)+3+IF(ISNUMBER(FIND(\"PRV\",C$6)),1,0)))*IF(AND(C$3>0,TRIM(C$9)=\"CFS\"),Conv_Flags!$C614,1)","v":3161.316774064544}]
["1971-12-31",{"$f":"INDIRECT(CONCATENATE(\"'\",B$1,\"'!\",B$4,(YEAR($A615)-1921)*12+MONTH($A615)+3+IF(ISNUMBER(FIND(\"PRV\",B$6)),1,0)))*IF(AND(B$3>0,TRIM(B$9)=\"CFS\"),Conv_Flags!$C615,1)","v":3365},{"$f":"INDIRECT(CONCATENATE(\"'\",C$1,\"'!\",C$4,(YEAR($A615)-1921)*12+MONTH($A615)+3+IF(ISNUMBER(FIND(\"PRV\",C$6)),1,0)))*IF(AND(C$3>0,TRIM(C$9)=\"CFS\"),Conv_Flags!$C615,1)","v":3350.8579154597273}]
["1972-01-31",{"$f":"INDIRECT(CONCATENATE(\"'\",B$1,\"'!\",B$4,(YEAR($A616)-1921)*12+MONTH($A616)+3+IF(ISNUMBER(FIND(\"PRV\",B$6)),1,0)))*IF(AND(B$3>0,TRIM(B$9)=\"CFS\"),Conv_Flags!$C616,1)","v":3714},{"$f":"INDIRECT(CONCATENATE(\"'\",C$1,\"'!\",C$4,(YEAR($A616)-1921)*12+MONTH($A616)+3+IF(ISNUMBER(FIND(\"PRV\",C$6)),1,0)))*IF(AND(C$3>0,TRIM(C$9)=\"CFS\"),Conv_Flags!$C616,1)","v":3714}]
["1972-02-29",{"$f":"INDIRECT(CONCATENATE(\"'\",B$1,\"'!\",B$4,(YEAR($A617)-1921)*12+MONTH($A617)+3+IF(ISNUMBER(FIND(\"PRV\",B$6)),1,0)))*IF(AND(B$3>0,TRIM(B$9)=\"CFS\"),Conv_Flags!$C617,1)","v":3979},{"$f":"INDIRECT(CONCATENATE(\"'\",C$1,\"'!\",C$4,(YEAR($A617)-1921)*12+MONTH($A617)+3+IF(ISNUMBER(FIND(\"PRV\",C$6)),1,0)))*IF(AND(C$3>0,TRIM(C$9)=\"CFS\"),Conv_Flags!$C617,1)","v":3979}]
["1972-03-31",{"$f":"INDIRECT(CONCATENATE(\"'\",B$1,\"'!\",B$4,(YEAR($A618)-1921)*12+MONTH($A618)+3+IF(ISNUMBER(FIND(\"PRV\",B$6)),1,0)))*IF(AND(B$3>0,TRIM(B$9)=\"CFS\"),Conv_Flags!$C618,1)","v":4249},{"$f":"INDIRECT(CONCATENATE(\"'\",C$1,\"'!\",C$4,(YEAR($A618)-1921)*12+MONTH($A618)+3+IF(ISNUMBER(FIND(\"PRV\",C$6)),1,0)))*IF(AND(C$3>0,TRIM(C$9)=\"CFS\"),Conv_Flags!$C618,1)","v":4249}]
["1972-04-30",{"$f":"INDIRECT(CONCATENATE(\"'\",B$1,\"'!\",B$4,(YEAR($A619)-1921)*12+MONTH($A619)+3+IF(ISNUMBER(FIND(\"PRV\",B$6)),1,0)))*IF(AND(B$3>0,TRIM(B$9)=\"CFS\"),Conv_Flags!$C619,1)","v":4552},{"$f":"INDIRECT(CONCATENATE(\"'\",C$1,\"'!\",C$4,(YEAR($A619)-1921)*12+MONTH($A619)+3+IF(ISNUMBER(FIND(\"PRV\",C$6)),1,0)))*IF(AND(C$3>0,TRIM(C$9)=\"CFS\"),Conv_Flags!$C619,1)","v":4551.5113874467024}]
["1972-05-31",{"$f":"INDIRECT(CONCATENATE(\"'\",B$1,\"'!\",B$4,(YEAR($A620)-1921)*12+MONTH($A620)+3+IF(ISNUMBER(FIND(\"PRV\",B$6)),1,0)))*IF(AND(B$3>0,TRIM(B$9)=\"CFS\"),Conv_Flags!$C620,1)","v":4461.5769541317495},{"$f":"INDIRECT(CONCATENATE(\"'\",C$1,\"'!\",C$4,(YEAR($A620)-1921)*12+MONTH($A620)+3+IF(ISNUMBER(FIND(\"PRV\",C$6)),1,0)))*IF(AND(C$3>0,TRIM(C$9)=\"CFS\"),Conv_Flags!$C620,1)","v":4455.0842093985457}]
["1972-06-30",{"$f":"INDIRECT(CONCATENATE(\"'\",B$1,\"'!\",B$4,(YEAR($A621)-1921)*12+MONTH($A621)+3+IF(ISNUMBER(FIND(\"PRV\",B$6)),1,0)))*IF(AND(B$3>0,TRIM(B$9)=\"CFS\"),Conv_Flags!$C621,1)","v":3915.1940922749559},{"$f":"INDIRECT(CONCATENATE(\"'\",C$1,\"'!\",C$4,(YEAR($A621)-1921)*12+MONTH($A621)+3+IF(ISNUMBER(FIND(\"PRV\",C$6)),1,0)))*IF(AND(C$3>0,TRIM(C$9)=\"CFS\"),Conv_Flags!$C621,1)","v":3990.4386781973817}]
["1972-07-31",{"$f":"INDIRECT(CONCATENATE(\"'\",B$1,\"'!\",B$4,(YEAR($A622)-1921)*12+MONTH($A622)+3+IF(ISNUMBER(FIND(\"PRV\",B$6)),1,0)))*IF(AND(B$3>0,TRIM(B$9)=\"CFS\"),Conv_Flags!$C622,1)","v":3235.9651446295916},{"$f":"INDIRECT(CONCATENATE(\"'\",C$1,\"'!\",C$4,(YEAR($A622)-1921)*12+MONTH($A622)+3+IF(ISNUMBER(FIND(\"PRV\",C$6)),1,0)))*IF(AND(C$3>0,TRIM(C$9)=\"CFS\"),Conv_Flags!$C622,1)","v":3310.9066199646259}]
["1972-08-31",{"$f":"INDIRECT(CONCATENATE(\"'\",B$1,\"'!\",B$4,(YEAR($A623)-1921)*12+MONTH($A623)+3+IF(ISNUMBER(FIND(\"PRV\",B$6)),1,0)))*IF(AND(B$3>0,TRIM(B$9)=\"CFS\"),Conv_Flags!$C623,1)","v":2915.2613340857097},{"$f":"INDIRECT(CONCATENATE(\"'\",C$1,\"'!\",C$4,(YEAR($A623)-1921)*12+MONTH($A623)+3+IF(ISNUMBER(FIND(\"PRV\",C$6)),1,0)))*IF(AND(C$3>0,TRIM(C$9)=\"CFS\"),Conv_Flags!$C623,1)","v":2971.5098519010348}]
["1972-09-30",{"$f":"INDIRECT(CONCATENATE(\"'\",B$1,\"'!\",B$4,(YEAR($A624)-1921)*12+MONTH($A624)+3+IF(ISNUMBER(FIND(\"PRV\",B$6)),1,0)))*IF(AND(B$3>0,TRIM(B$9)=\"CFS\"),Conv_Flags!$C624,1)","v":2896.0719087262919},{"$f":"INDIRECT(CONCATENATE(\"'\",C$1,\"'!\",C$4,(YEAR($A624)-1921)*12+MONTH($A624)+3+IF(ISNUMBER(FIND(\"PRV\",C$6)),1,0)))*IF(AND(C$3>0,TRIM(C$9)=\"CFS\"),Conv_Flags!$C624,1)","v":2980.4305778301036}]
["1972-10-31",{"$f":"INDIRECT(CONCATENATE(\"'\",B$1,\"'!\",B$4,(YEAR($A625)-1921)*12+MONTH($A625)+3+IF(ISNUMBER(FIND(\"PRV\",B$6)),1,0)))*IF(AND(B$3>0,TRIM(B$9)=\"CFS\"),Conv_Flags!$C625,1)","v":3013.193444961873},{"$f":"INDIRECT(CONCATENATE(\"'\",C$1,\"'!\",C$4,(YEAR($A625)-1921)*12+MONTH($A625)+3+IF(ISNUMBER(FIND(\"PRV\",C$6)),1,0)))*IF(AND(C$3>0,TRIM(C$9)=\"CFS\"),Conv_Flags!$C625,1)","v":3064.2007142116054}]
["1972-11-30",{"$f":"INDIRECT(CONCATENATE(\"'\",B$1,\"'!\",B$4,(YEAR($A626)-1921)*12+MONTH($A626)+3+IF(ISNUMBER(FIND(\"PRV\",B$6)),1,0)))*IF(AND(B$3>0,TRIM(B$9)=\"CFS\"),Conv_Flags!$C626,1)","v":3252},{"$f":"INDIRECT(CONCATENATE(\"'\",C$1,\"'!\",C$4,(YEAR($A626)-1921)*12+MONTH($A626)+3+IF(ISNUMBER(FIND(\"PRV\",C$6)),1,0)))*IF(AND(C$3>0,TRIM(C$9)=\"CFS\"),Conv_Flags!$C626,1)","v":3252}]
["1972-12-31",{"$f":"INDIRECT(CONCATENATE(\"'\",B$1,\"'!\",B$4,(YEAR($A627)-1921)*12+MONTH($A627)+3+IF(ISNUMBER(FIND(\"PRV\",B$6)),1,0)))*IF(AND(B$3>0,TRIM(B$9)=\"CFS\"),Conv_Flags!$C627,1)","v":3346},{"$f":"INDIRECT(CONCATENATE(\"'\",C$1,\"'!\",C$4,(YEAR($A627)-1921)*12+MONTH($A627)+3+IF(ISNUMBER(FIND(\"PRV\",C$6)),1,0)))*IF(AND(C$3>0,TRIM(C$9)=\"CFS\"),Conv_Flags!$C627,1)","v":3346}]
["1973-01-31",{"$f":"INDIRECT(CONCATENATE(\"'\",B$1,\"'!\",B$4,(YEAR($A628)-1921)*12+MONTH($A628)+3+IF(ISNUMBER(FIND(\"PRV\",B$6)),1,0)))*IF(AND(B$3>0,TRIM(B$9)=\"CFS\"),Conv_Flags!$C628,1)","v":3552},{"$f":"INDIRECT(CONCATENATE(\"'\",C$1,\"'!\",C$4,(YEAR($A628)-1921)*12+MONTH($A628)+3+IF(ISNUMBER(FIND(\"PRV\",C$6)),1,0)))*IF(AND(C$3>0,TRIM(C$9)=\"CFS\"),Conv_Flags!$C628,1)","v":3552}]
["1973-02-28",{"$f":"INDIRECT(CONCATENATE(\"'\",B$1,\"'!\",B$4,(YEAR($A629)-1921)*12+MONTH($A629)+3+IF(ISNUMBER(FIND(\"PRV\",B$6)),1,0)))*IF(AND(B$3>0,TRIM(B$9)=\"CFS\"),Conv_Flags!$C629,1)","v":3636},{"$f":"INDIRECT(CONCATENATE(\"'\",C$1,\"'!\",C$4,(YEAR($A629)-1921)*12+MONTH($A629)+3+IF(ISNUMBER(FIND(\"PRV\",C$6)),1,0)))*IF(AND(C$3>0,TRIM(C$9)=\"CFS\"),Conv_Flags!$C629,1)","v":3636}]
["1973-03-31",{"$f":"INDIRECT(CONCATENATE(\"'\",B$1,\"'!\",B$4,(YEAR($A630)-1921)*12+MONTH($A630)+3+IF(ISNUMBER(FIND(\"PRV\",B$6)),1,0)))*IF(AND(B$3>0,TRIM(B$9)=\"CFS\"),Conv_Flags!$C630,1)","v":4162},{"$f":"INDIRECT(CONCATENATE(\"'\",C$1,\"'!\",C$4,(YEAR($A630)-1921)*12+MONTH($A630)+3+IF(ISNUMBER(FIND(\"PRV\",C$6)),1,0)))*IF(AND(C$3>0,TRIM(C$9)=\"CFS\"),Conv_Flags!$C630,1)","v":4162}]
["1973-04-30",{"$f":"INDIRECT(CONCATENATE(\"'\",B$1,\"'!\",B$4,(YEAR($A631)-1921)*12+MONTH($A631)+3+IF(ISNUMBER(FIND(\"PRV\",B$6)),1,0)))*IF(AND(B$3>0,TRIM(B$9)=\"CFS\"),Conv_Flags!$C631,1)","v":4516.0051072040324},{"$f":"INDIRECT(CONCATENATE(\"'\",C$1,\"'!\",C$4,(YEAR($A631)-1921)*12+MONTH($A631)+3+IF(ISNUMBER(FIND(\"PRV\",C$6)),1,0)))*IF(AND(C$3>0,TRIM(C$9)=\"CFS\"),Conv_Flags!$C631,1)","v":4516.0051072040324}]
["1973-05-31",{"$f":"INDIRECT(CONCATENATE(\"'\",B$1,\"'!\",B$4,(YEAR($A632)-1921)*12+MONTH($A632)+3+IF(ISNUMBER(FIND(\"PRV\",B$6)),1,0)))*IF(AND(B$3>0,TRIM(B$9)=\"CFS\"),Conv_Flags!$C632,1)","v":4552},{"$f":"INDIRECT(CONCATENATE(\"'\",C$1,\"'!\",C$4,(YEAR($A632)-1921)*12+MONTH($A632)+3+IF(ISNUMBER(FIND(\"PRV\",C$6)),1,0)))*IF(AND(C$3>0,TRIM(C$9)=\"CFS\"),Conv_Flags!$C632,1)","v":4552}]
["1973-06-30",{"$f":"INDIRECT(CONCATENATE(\"'\",B$1,\"'!\",B$4,(YEAR($A633)-1921)*12+MONTH($A633)+3+IF(ISNUMBER(FIND(\"PRV\",B$6)),1,0)))*IF(AND(B$3>0,TRIM(B$9)=\"CFS\"),Conv_Flags!$C633,1)","v":4058.2133041803249},{"$f":"INDIRECT(CONCATENATE(\"'\",C$1,\"'!\",C$4,(YEAR($A633)-1921)*12+MONTH($A633)+3+IF(ISNUMBER(FIND(\"PRV\",C$6)),1,0)))*IF(AND(C$3>0,TRIM(C$9)=\"CFS\"),Conv_Flags!$C633,1)","v":4121.0110556584686}]
["1973-07-31",{"$f":"INDIRECT(CONCATENATE(\"'\",B$1,\"'!\",B$4,(YEAR($A634)-1921)*12+MONTH($A634)+3+IF(ISNUMBER(FIND(\"PRV\",B$6)),1,0)))*IF(AND(B$3>0,TRIM(B$9)=\"CFS\"),Conv_Flags!$C634,1)","v":3405.3744350321927},{"$f":"INDIRECT(CONCATENATE(\"'\",C$1,\"'!\",C$4,(YEAR($A634)-1921)*12+MONTH($A634)+3+IF(ISNUMBER(FIND(\"PRV\",C$6)),1,0)))*IF(AND(C$3>0,TRIM(C$9)=\"CFS\"),Conv_Flags!$C634,1)","v":3472.8203643399193}]
["1973-08-31",{"$f":"INDIRECT(CONCATENATE(\"'\",B$1,\"'!\",B$4,(YEAR($A635)-1921)*12+MONTH($A635)+3+IF(ISNUMBER(FIND(\"PRV\",B$6)),1,0)))*IF(AND(B$3>0,TRIM(B$9)=\"CFS\"),Conv_Flags!$C635,1)","v":3193.3692763572767},{"$f":"INDIRECT(CONCATENATE(\"'\",C$1,\"'!\",C$4,(YEAR($A635)-1921)*12+MONTH($A635)+3+IF(ISNUMBER(FIND(\"PRV\",C$6)),1,0)))*IF(AND(C$3>0,TRIM(C$9)=\"CFS\"),Conv_Flags!$C635,1)","v":3264.5723028747943}]
["1973-09-30",{"$f":"INDIRECT(CONCATENATE(\"'\",B$1,\"'!\",B$4,(YEAR($A636)-1921)*12+MONTH($A636)+3+IF(ISNUMBER(FIND(\"PRV\",B$6)),1,0)))*IF(AND(B$3>0,TRIM(B$9)=\"CFS\"),Conv_Flags!$C636,1)","v":3073.6548231923975},{"$f":"INDIRECT(CONCATENATE(\"'\",C$1,\"'!\",C$4,(YEAR($A636)-1921)*12+MONTH($A636)+3+IF(ISNUMBER(FIND(\"PRV\",C$6)),1,0)))*IF(AND(C$3>0,TRIM(C$9)=\"CFS\"),Conv_Flags!$C636,1)","v":3169.4170388458965}]
["1973-10-31",{"$f":"INDIRECT(CONCATENATE(\"'\",B$1,\"'!\",B$4,(YEAR($A637)-1921)*12+MONTH($A637)+3+IF(ISNUMBER(FIND(\"PRV\",B$6)),1,0)))*IF(AND(B$3>0,TRIM(B$9)=\"CFS\"),Conv_Flags!$C637,1)","v":3133.1671661275122},{"$f":"INDIRECT(CONCATENATE(\"'\",C$1,\"'!\",C$4,(YEAR($A637)-1921)*12+MONTH($A637)+3+IF(ISNUMBER(FIND(\"PRV\",C$6)),1,0)))*IF(AND(C$3>0,TRIM(C$9)=\"CFS\"),Conv_Flags!$C637,1)","v":3226.3542375851334}]
["1973-11-30",{"$f":"INDIRECT(CONCATENATE(\"'\",B$1,\"'!\",B$4,(YEAR($A638)-1921)*12+MONTH($A638)+3+IF(ISNUMBER(FIND(\"PRV\",B$6)),1,0)))*IF(AND(B$3>0,TRIM(B$9)=\"CFS\"),Conv_Flags!$C638,1)","v":3252},{"$f":"INDIRECT(CONCATENATE(\"'\",C$1,\"'!\",C$4,(YEAR($A638)-1921)*12+MONTH($A638)+3+IF(ISNUMBER(FIND(\"PRV\",C$6)),1,0)))*IF(AND(C$3>0,TRIM(C$9)=\"CFS\"),Conv_Flags!$C638,1)","v":3252}]
["1973-12-31",{"$f":"INDIRECT(CONCATENATE(\"'\",B$1,\"'!\",B$4,(YEAR($A639)-1921)*12+MONTH($A639)+3+IF(ISNUMBER(FIND(\"PRV\",B$6)),1,0)))*IF(AND(B$3>0,TRIM(B$9)=\"CFS\"),Conv_Flags!$C639,1)","v":3267},{"$f":"INDIRECT(CONCATENATE(\"'\",C$1,\"'!\",C$4,(YEAR($A639)-1921)*12+MONTH($A639)+3+IF(ISNUMBER(FIND(\"PRV\",C$6)),1,0)))*IF(AND(C$3>0,TRIM(C$9)=\"CFS\"),Conv_Flags!$C639,1)","v":3267}]
["1974-01-31",{"$f":"INDIRECT(CONCATENATE(\"'\",B$1,\"'!\",B$4,(YEAR($A640)-1921)*12+MONTH($A640)+3+IF(ISNUMBER(FIND(\"PRV\",B$6)),1,0)))*IF(AND(B$3>0,TRIM(B$9)=\"CFS\"),Conv_Flags!$C640,1)","v":3252},{"$f":"INDIRECT(CONCATENATE(\"'\",C$1,\"'!\",C$4,(YEAR($A640)-1921)*12+MONTH($A640)+3+IF(ISNUMBER(FIND(\"PRV\",C$6)),1,0)))*IF(AND(C$3>0,TRIM(C$9)=\"CFS\"),Conv_Flags!$C640,1)","v":3252}]
["1974-02-28",{"$f":"INDIRECT(CONCATENATE(\"'\",B$1,\"'!\",B$4,(YEAR($A641)-1921)*12+MONTH($A641)+3+IF(ISNUMBER(FIND(\"PRV\",B$6)),1,0)))*IF(AND(B$3>0,TRIM(B$9)=\"CFS\"),Conv_Flags!$C641,1)","v":3694},{"$f":"INDIRECT(CONCATENATE(\"'\",C$1,\"'!\",C$4,(YEAR($A641)-1921)*12+MONTH($A641)+3+IF(ISNUMBER(FIND(\"PRV\",C$6)),1,0)))*IF(AND(C$3>0,TRIM(C$9)=\"CFS\"),Conv_Flags!$C641,1)","v":3694}]
["1974-03-31",{"$f":"INDIRECT(CONCATENATE(\"'\",B$1,\"'!\",B$4,(YEAR($A642)-1921)*12+MONTH($A642)+3+IF(ISNUMBER(FIND(\"PRV\",B$6)),1,0)))*IF(AND(B$3>0,TRIM(B$9)=\"CFS\"),Conv_Flags!$C642,1)","v":3416},{"$f":"INDIRECT(CONCATENATE(\"'\",C$1,\"'!\",C$4,(YEAR($A642)-1921)*12+MONTH($A642)+3+IF(ISNUMBER(FIND(\"PRV\",C$6)),1,0)))*IF(AND(C$3>0,TRIM(C$9)=\"CFS\"),Conv_Flags!$C642,1)","v":3416}]
["1974-04-30",{"$f":"INDIRECT(CONCATENATE(\"'\",B$1,\"'!\",B$4,(YEAR($A643)-1921)*12+MONTH($A643)+3+IF(ISNUMBER(FIND(\"PRV\",B$6)),1,0)))*IF(AND(B$3>0,TRIM(B$9)=\"CFS\"),Conv_Flags!$C643,1)","v":4289},{"$f":"INDIRECT(CONCATENATE(\"'\",C$1,\"'!\",C$4,(YEAR($A643)-1921)*12+MONTH($A643)+3+IF(ISNUMBER(FIND(\"PRV\",C$6)),1,0)))*IF(AND(C$3>0,TRIM(C$9)=\"CFS\"),Conv_Flags!$C643,1)","v":4289}]
["1974-05-31",{"$f":"INDIRECT(CONCATENATE(\"'\",B$1,\"'!\",B$4,(YEAR($A644)-1921)*12+MONTH($A644)+3+IF(ISNUMBER(FIND(\"PRV\",B$6)),1,0)))*IF(AND(B$3>0,TRIM(B$9)=\"CFS\"),Conv_Flags!$C644,1)","v":4552},{"$f":"INDIRECT(CONCATENATE(\"'\",C$1,\"'!\",C$4,(YEAR($A644)-1921)*12+MONTH($A644)+3+IF(ISNUMBER(FIND(\"PRV\",C$6)),1,0)))*IF(AND(C$3>0,TRIM(C$9)=\"CFS\"),Conv_Flags!$C644,1)","v":4552}]
["1974-06-30",{"$f":"INDIRECT(CONCATENATE(\"'\",B$1,\"'!\",B$4,(YEAR($A645)-1921)*12+MONTH($A645)+3+IF(ISNUMBER(FIND(\"PRV\",B$6)),1,0)))*IF(AND(B$3>0,TRIM(B$9)=\"CFS\"),Conv_Flags!$C645,1)","v":4473.8816391558394},{"$f":"INDIRECT(CONCATENATE(\"'\",C$1,\"'!\",C$4,(YEAR($A645)-1921)*12+MONTH($A645)+3+IF(ISNUMBER(FIND(\"PRV\",C$6)),1,0)))*IF(AND(C$3>0,TRIM(C$9)=\"CFS\"),Conv_Flags!$C645,1)","v":4473.8891501407834}]
["1974-07-31",{"$f":"INDIRECT(CONCATENATE(\"'\",B$1,\"'!\",B$4,(YEAR($A646)-1921)*12+MONTH($A646)+3+IF(ISNUMBER(FIND(\"PRV\",B$6)),1,0)))*IF(AND(B$3>0,TRIM(B$9)=\"CFS\"),Conv_Flags!$C646,1)","v":4150.0000000000009},{"$f":"INDIRECT(CONCATENATE(\"'\",C$1,\"'!\",C$4,(YEAR($A646)-1921)*12+MONTH($A646)+3+IF(ISNUMBER(FIND(\"PRV\",C$6)),1,0)))*IF(AND(C$3>0,TRIM(C$9)=\"CFS\"),Conv_Flags!$C646,1)","v":4150.0000000000009}]
["1974-08-31",{"$f":"INDIRECT(CONCATENATE(\"'\",B$1,\"'!\",B$4,(YEAR($A647)-1921)*12+MONTH($A647)+3+IF(ISNUMBER(FIND(\"PRV\",B$6)),1,0)))*IF(AND(B$3>0,TRIM(B$9)=\"CFS\"),Conv_Flags!$C647,1)","v":3700},{"$f":"INDIRECT(CONCATENATE(\"'\",C$1,\"'!\",C$4,(YEAR($A647)-1921)*12+MONTH($A647)+3+IF(ISNUMBER(FIND(\"PRV\",C$6)),1,0)))*IF(AND(C$3>0,TRIM(C$9)=\"CFS\"),Conv_Flags!$C647,1)","v":3700.0000000000005}]
["1974-09-30",{"$f":"INDIRECT(CONCATENATE(\"'\",B$1,\"'!\",B$4,(YEAR($A648)-1921)*12+MONTH($A648)+3+IF(ISNUMBER(FIND(\"PRV\",B$6)),1,0)))*IF(AND(B$3>0,TRIM(B$9)=\"CFS\"),Conv_Flags!$C648,1)","v":3399.9999999999995},{"$f":"INDIRECT(CONCATENATE(\"'\",C$1,\"'!\",C$4,(YEAR($A648)-1921)*12+MONTH($A648)+3+IF(ISNUMBER(FIND(\"PRV\",C$6)),1,0)))*IF(AND(C$3>0,TRIM(C$9)=\"CFS\"),Conv_Flags!$C648,1)","v":3399.9999999999995}]
["1974-10-31",{"$f":"INDIRECT(CONCATENATE(\"'\",B$1,\"'!\",B$4,(YEAR($A649)-1921)*12+MONTH($A649)+3+IF(ISNUMBER(FIND(\"PRV\",B$6)),1,0)))*IF(AND(B$3>0,TRIM(B$9)=\"CFS\"),Conv_Flags!$C649,1)","v":3250},{"$f":"INDIRECT(CONCATENATE(\"'\",C$1,\"'!\",C$4,(YEAR($A649)-1921)*12+MONTH($A649)+3+IF(ISNUMBER(FIND(\"PRV\",C$6)),1,0)))*IF(AND(C$3>0,TRIM(C$9)=\"CFS\"),Conv_Flags!$C649,1)","v":3250}]
["1974-11-30",{"$f":"INDIRECT(CONCATENATE(\"'\",B$1,\"'!\",B$4,(YEAR($A650)-1921)*12+MONTH($A650)+3+IF(ISNUMBER(FIND(\"PRV\",B$6)),1,0)))*IF(AND(B$3>0,TRIM(B$9)=\"CFS\"),Conv_Flags!$C650,1)","v":3175.7018312623923},{"$f":"INDIRECT(CONCATENATE(\"'\",C$1,\"'!\",C$4,(YEAR($A650)-1921)*12+MONTH($A650)+3+IF(ISNUMBER(FIND(\"PRV\",C$6)),1,0)))*IF(AND(C$3>0,TRIM(C$9)=\"CFS\"),Conv_Flags!$C650,1)","v":3176.0905461292809}]
["1974-12-31",{"$f":"INDIRECT(CONCATENATE(\"'\",B$1,\"'!\",B$4,(YEAR($A651)-1921)*12+MONTH($A651)+3+IF(ISNUMBER(FIND(\"PRV\",B$6)),1,0)))*IF(AND(B$3>0,TRIM(B$9)=\"CFS\"),Conv_Flags!$C651,1)","v":3347.3834727889034},{"$f":"INDIRECT(CONCATENATE(\"'\",C$1,\"'!\",C$4,(YEAR($A651)-1921)*12+MONTH($A651)+3+IF(ISNUMBER(FIND(\"PRV\",C$6)),1,0)))*IF(AND(C$3>0,TRIM(C$9)=\"CFS\"),Conv_Flags!$C651,1)","v":3347.7719175899201}]
["1975-01-31",{"$f":"INDIRECT(CONCATENATE(\"'\",B$1,\"'!\",B$4,(YEAR($A652)-1921)*12+MONTH($A652)+3+IF(ISNUMBER(FIND(\"PRV\",B$6)),1,0)))*IF(AND(B$3>0,TRIM(B$9)=\"CFS\"),Conv_Flags!$C652,1)","v":3437.9404034330373},{"$f":"INDIRECT(CONCATENATE(\"'\",C$1,\"'!\",C$4,(YEAR($A652)-1921)*12+MONTH($A652)+3+IF(ISNUMBER(FIND(\"PRV\",C$6)),1,0)))*IF(AND(C$3>0,TRIM(C$9)=\"CFS\"),Conv_Flags!$C652,1)","v":3445.3216736920881}]
["1975-02-28",{"$f":"INDIRECT(CONCATENATE(\"'\",B$1,\"'!\",B$4,(YEAR($A653)-1921)*12+MONTH($A653)+3+IF(ISNUMBER(FIND(\"PRV\",B$6)),1,0)))*IF(AND(B$3>0,TRIM(B$9)=\"CFS\"),Conv_Flags!$C653,1)","v":3936},{"$f":"INDIRECT(CONCATENATE(\"'\",C$1,\"'!\",C$4,(YEAR($A653)-1921)*12+MONTH($A653)+3+IF(ISNUMBER(FIND(\"PRV\",C$6)),1,0)))*IF(AND(C$3>0,TRIM(C$9)=\"CFS\"),Conv_Flags!$C653,1)","v":3936}]
["1975-03-31",{"$f":"INDIRECT(CONCATENATE(\"'\",B$1,\"'!\",B$4,(YEAR($A654)-1921)*12+MONTH($A654)+3+IF(ISNUMBER(FIND(\"PRV\",B$6)),1,0)))*IF(AND(B$3>0,TRIM(B$9)=\"CFS\"),Conv_Flags!$C654,1)","v":3756},{"$f":"INDIRECT(CONCATENATE(\"'\",C$1,\"'!\",C$4,(YEAR($A654)-1921)*12+MONTH($A654)+3+IF(ISNUMBER(FIND(\"PRV\",C$6)),1,0)))*IF(AND(C$3>0,TRIM(C$9)=\"CFS\"),Conv_Flags!$C654,1)","v":3756}]
["1975-04-30",{"$f":"INDIRECT(CONCATENATE(\"'\",B$1,\"'!\",B$4,(YEAR($A655)-1921)*12+MONTH($A655)+3+IF(ISNUMBER(FIND(\"PRV\",B$6)),1,0)))*IF(AND(B$3>0,TRIM(B$9)=\"CFS\"),Conv_Flags!$C655,1)","v":4415.8293137917199},{"$f":"INDIRECT(CONCATENATE(\"'\",C$1,\"'!\",C$4,(YEAR($A655)-1921)*12+MONTH($A655)+3+IF(ISNUMBER(FIND(\"PRV\",C$6)),1,0)))*IF(AND(C$3>0,TRIM(C$9)=\"CFS\"),Conv_Flags!$C655,1)","v":4415.8293137917199}]
["1975-05-31",{"$f":"INDIRECT(CONCATENATE(\"'\",B$1,\"'!\",B$4,(YEAR($A656)-1921)*12+MONTH($A656)+3+IF(ISNUMBER(FIND(\"PRV\",B$6)),1,0)))*IF(AND(B$3>0,TRIM(B$9)=\"CFS\"),Conv_Flags!$C656,1)","v":4552},{"$f":"INDIRECT(CONCATENATE(\"'\",C$1,\"'!\",C$4,(YEAR($A656)-1921)*12+MONTH($A656)+3+IF(ISNUMBER(FIND(\"PRV\",C$6)),1,0)))*IF(AND(C$3>0,TRIM(C$9)=\"CFS\"),Conv_Flags!$C656,1)","v":4552}]
["1975-06-30",{"$f":"INDIRECT(CONCATENATE(\"'\",B$1,\"'!\",B$4,(YEAR($A657)-1921)*12+MONTH($A657)+3+IF(ISNUMBER(FIND(\"PRV\",B$6)),1,0)))*IF(AND(B$3>0,TRIM(B$9)=\"CFS\"),Conv_Flags!$C657,1)","v":4469.7749699012438},{"$f":"INDIRECT(CONCATENATE(\"'\",C$1,\"'!\",C$4,(YEAR($A657)-1921)*12+MONTH($A657)+3+IF(ISNUMBER(FIND(\"PRV\",C$6)),1,0)))*IF(AND(C$3>0,TRIM(C$9)=\"CFS\"),Conv_Flags!$C657,1)","v":4469.9058055746445}]
["1975-07-31",{"$f":"INDIRECT(CONCATENATE(\"'\",B$1,\"'!\",B$4,(YEAR($A658)-1921)*12+MONTH($A658)+3+IF(ISNUMBER(FIND(\"PRV\",B$6)),1,0)))*IF(AND(B$3>0,TRIM(B$9)=\"CFS\"),Conv_Flags!$C658,1)","v":4150},{"$f":"INDIRECT(CONCATENATE(\"'\",C$1,\"'!\",C$4,(YEAR($A658)-1921)*12+MONTH($A658)+3+IF(ISNUMBER(FIND(\"PRV\",C$6)),1,0)))*IF(AND(C$3>0,TRIM(C$9)=\"CFS\"),Conv_Flags!$C658,1)","v":4150}]
["1975-08-31",{"$f":"INDIRECT(CONCATENATE(\"'\",B$1,\"'!\",B$4,(YEAR($A659)-1921)*12+MONTH($A659)+3+IF(ISNUMBER(FIND(\"PRV\",B$6)),1,0)))*IF(AND(B$3>0,TRIM(B$9)=\"CFS\"),Conv_Flags!$C659,1)","v":3699.9999999999995},{"$f":"INDIRECT(CONCATENATE(\"'\",C$1,\"'!\",C$4,(YEAR($A659)-1921)*12+MONTH($A659)+3+IF(ISNUMBER(FIND(\"PRV\",C$6)),1,0)))*IF(AND(C$3>0,TRIM(C$9)=\"CFS\"),Conv_Flags!$C659,1)","v":3699.9999999999995}]
["1975-09-30",{"$f":"INDIRECT(CONCATENATE(\"'\",B$1,\"'!\",B$4,(YEAR($A660)-1921)*12+MONTH($A660)+3+IF(ISNUMBER(FIND(\"PRV\",B$6)),1,0)))*IF(AND(B$3>0,TRIM(B$9)=\"CFS\"),Conv_Flags!$C660,1)","v":3400},{"$f":"INDIRECT(CONCATENATE(\"'\",C$1,\"'!\",C$4,(YEAR($A660)-1921)*12+MONTH($A660)+3+IF(ISNUMBER(FIND(\"PRV\",C$6)),1,0)))*IF(AND(C$3>0,TRIM(C$9)=\"CFS\"),Conv_Flags!$C660,1)","v":3400}]
["1975-10-31",{"$f":"INDIRECT(CONCATENATE(\"'\",B$1,\"'!\",B$4,(YEAR($A661)-1921)*12+MONTH($A661)+3+IF(ISNUMBER(FIND(\"PRV\",B$6)),1,0)))*IF(AND(B$3>0,TRIM(B$9)=\"CFS\"),Conv_Flags!$C661,1)","v":3250},{"$f":"INDIRECT(CONCATENATE(\"'\",C$1,\"'!\",C$4,(YEAR($A661)-1921)*12+MONTH($A661)+3+IF(ISNUMBER(FIND(\"PRV\",C$6)),1,0)))*IF(AND(C$3>0,TRIM(C$9)=\"CFS\"),Conv_Flags!$C661,1)","v":3250}]
["1975-11-30",{"$f":"INDIRECT(CONCATENATE(\"'\",B$1,\"'!\",B$4,(YEAR($A662)-1921)*12+MONTH($A662)+3+IF(ISNUMBER(FIND(\"PRV\",B$6)),1,0)))*IF(AND(B$3>0,TRIM(B$9)=\"CFS\"),Conv_Flags!$C662,1)","v":3252},{"$f":"INDIRECT(CONCATENATE(\"'\",C$1,\"'!\",C$4,(YEAR($A662)-1921)*12+MONTH($A662)+3+IF(ISNUMBER(FIND(\"PRV\",C$6)),1,0)))*IF(AND(C$3>0,TRIM(C$9)=\"CFS\"),Conv_Flags!$C662,1)","v":3252}]
["1975-12-31",{"$f":"INDIRECT(CONCATENATE(\"'\",B$1,\"'!\",B$4,(YEAR($A663)-1921)*12+MONTH($A663)+3+IF(ISNUMBER(FIND(\"PRV\",B$6)),1,0)))*IF(AND(B$3>0,TRIM(B$9)=\"CFS\"),Conv_Flags!$C663,1)","v":3263.7840754747444},{"$f":"INDIRECT(CONCATENATE(\"'\",C$1,\"'!\",C$4,(YEAR($A663)-1921)*12+MONTH($A663)+3+IF(ISNUMBER(FIND(\"PRV\",C$6)),1,0)))*IF(AND(C$3>0,TRIM(C$9)=\"CFS\"),Conv_Flags!$C663,1)","v":3269.1318031176252}]
["1976-01-31",{"$f":"INDIRECT(CONCATENATE(\"'\",B$1,\"'!\",B$4,(YEAR($A664)-1921)*12+MONTH($A664)+3+IF(ISNUMBER(FIND(\"PRV\",B$6)),1,0)))*IF(AND(B$3>0,TRIM(B$9)=\"CFS\"),Conv_Flags!$C664,1)","v":3517.2366719482029},{"$f":"INDIRECT(CONCATENATE(\"'\",C$1,\"'!\",C$4,(YEAR($A664)-1921)*12+MONTH($A664)+3+IF(ISNUMBER(FIND(\"PRV\",C$6)),1,0)))*IF(AND(C$3>0,TRIM(C$9)=\"CFS\"),Conv_Flags!$C664,1)","v":3499.8881421043911}]
["1976-02-29",{"$f":"INDIRECT(CONCATENATE(\"'\",B$1,\"'!\",B$4,(YEAR($A665)-1921)*12+MONTH($A665)+3+IF(ISNUMBER(FIND(\"PRV\",B$6)),1,0)))*IF(AND(B$3>0,TRIM(B$9)=\"CFS\"),Conv_Flags!$C665,1)","v":3670.4837392057248},{"$f":"INDIRECT(CONCATENATE(\"'\",C$1,\"'!\",C$4,(YEAR($A665)-1921)*12+MONTH($A665)+3+IF(ISNUMBER(FIND(\"PRV\",C$6)),1,0)))*IF(AND(C$3>0,TRIM(C$9)=\"CFS\"),Conv_Flags!$C665,1)","v":3652.8411679805545}]
["1976-03-31",{"$f":"INDIRECT(CONCATENATE(\"'\",B$1,\"'!\",B$4,(YEAR($A666)-1921)*12+MONTH($A666)+3+IF(ISNUMBER(FIND(\"PRV\",B$6)),1,0)))*IF(AND(B$3>0,TRIM(B$9)=\"CFS\"),Conv_Flags!$C666,1)","v":3902.7167531076043},{"$f":"INDIRECT(CONCATENATE(\"'\",C$1,\"'!\",C$4,(YEAR($A666)-1921)*12+MONTH($A666)+3+IF(ISNUMBER(FIND(\"PRV\",C$6)),1,0)))*IF(AND(C$3>0,TRIM(C$9)=\"CFS\"),Conv_Flags!$C666,1)","v":3885.0959450978798}]
["1976-04-30",{"$f":"INDIRECT(CONCATENATE(\"'\",B$1,\"'!\",B$4,(YEAR($A667)-1921)*12+MONTH($A667)+3+IF(ISNUMBER(FIND(\"PRV\",B$6)),1,0)))*IF(AND(B$3>0,TRIM(B$9)=\"CFS\"),Conv_Flags!$C667,1)","v":4093.2760739027208},{"$f":"INDIRECT(CONCATENATE(\"'\",C$1,\"'!\",C$4,(YEAR($A667)-1921)*12+MONTH($A667)+3+IF(ISNUMBER(FIND(\"PRV\",C$6)),1,0)))*IF(AND(C$3>0,TRIM(C$9)=\"CFS\"),Conv_Flags!$C667,1)","v":4075.679659037643}]
["1976-05-31",{"$f":"INDIRECT(CONCATENATE(\"'\",B$1,\"'!\",B$4,(YEAR($A668)-1921)*12+MONTH($A668)+3+IF(ISNUMBER(FIND(\"PRV\",B$6)),1,0)))*IF(AND(B$3>0,TRIM(B$9)=\"CFS\"),Conv_Flags!$C668,1)","v":3858.3364799238902},{"$f":"INDIRECT(CONCATENATE(\"'\",C$1,\"'!\",C$4,(YEAR($A668)-1921)*12+MONTH($A668)+3+IF(ISNUMBER(FIND(\"PRV\",C$6)),1,0)))*IF(AND(C$3>0,TRIM(C$9)=\"CFS\"),Conv_Flags!$C668,1)","v":3857.6357972064775}]
["1976-06-30",{"$f":"INDIRECT(CONCATENATE(\"'\",B$1,\"'!\",B$4,(YEAR($A669)-1921)*12+MONTH($A669)+3+IF(ISNUMBER(FIND(\"PRV\",B$6)),1,0)))*IF(AND(B$3>0,TRIM(B$9)=\"CFS\"),Conv_Flags!$C669,1)","v":3363.5750237877096},{"$f":"INDIRECT(CONCATENATE(\"'\",C$1,\"'!\",C$4,(YEAR($A669)-1921)*12+MONTH($A669)+3+IF(ISNUMBER(FIND(\"PRV\",C$6)),1,0)))*IF(AND(C$3>0,TRIM(C$9)=\"CFS\"),Conv_Flags!$C669,1)","v":3419.490590002441}]
["1976-07-31",{"$f":"INDIRECT(CONCATENATE(\"'\",B$1,\"'!\",B$4,(YEAR($A670)-1921)*12+MONTH($A670)+3+IF(ISNUMBER(FIND(\"PRV\",B$6)),1,0)))*IF(AND(B$3>0,TRIM(B$9)=\"CFS\"),Conv_Flags!$C670,1)","v":3038.4825111005948},{"$f":"INDIRECT(CONCATENATE(\"'\",C$1,\"'!\",C$4,(YEAR($A670)-1921)*12+MONTH($A670)+3+IF(ISNUMBER(FIND(\"PRV\",C$6)),1,0)))*IF(AND(C$3>0,TRIM(C$9)=\"CFS\"),Conv_Flags!$C670,1)","v":3080.6947210077324}]
["1976-08-31",{"$f":"INDIRECT(CONCATENATE(\"'\",B$1,\"'!\",B$4,(YEAR($A671)-1921)*12+MONTH($A671)+3+IF(ISNUMBER(FIND(\"PRV\",B$6)),1,0)))*IF(AND(B$3>0,TRIM(B$9)=\"CFS\"),Conv_Flags!$C671,1)","v":2943.9643467466503},{"$f":"INDIRECT(CONCATENATE(\"'\",C$1,\"'!\",C$4,(YEAR($A671)-1921)*12+MONTH($A671)+3+IF(ISNUMBER(FIND(\"PRV\",C$6)),1,0)))*IF(AND(C$3>0,TRIM(C$9)=\"CFS\"),Conv_Flags!$C671,1)","v":2968.1436089354934}]
["1976-09-30",{"$f":"INDIRECT(CONCATENATE(\"'\",B$1,\"'!\",B$4,(YEAR($A672)-1921)*12+MONTH($A672)+3+IF(ISNUMBER(FIND(\"PRV\",B$6)),1,0)))*IF(AND(B$3>0,TRIM(B$9)=\"CFS\"),Conv_Flags!$C672,1)","v":2911.5899342072898},{"$f":"INDIRECT(CONCATENATE(\"'\",C$1,\"'!\",C$4,(YEAR($A672)-1921)*12+MONTH($A672)+3+IF(ISNUMBER(FIND(\"PRV\",C$6)),1,0)))*IF(AND(C$3>0,TRIM(C$9)=\"CFS\"),Conv_Flags!$C672,1)","v":2930.8682201796432}]
["1976-10-31",{"$f":"INDIRECT(CONCATENATE(\"'\",B$1,\"'!\",B$4,(YEAR($A673)-1921)*12+MONTH($A673)+3+IF(ISNUMBER(FIND(\"PRV\",B$6)),1,0)))*IF(AND(B$3>0,TRIM(B$9)=\"CFS\"),Conv_Flags!$C673,1)","v":2709.5394814798733},{"$f":"INDIRECT(CONCATENATE(\"'\",C$1,\"'!\",C$4,(YEAR($A673)-1921)*12+MONTH($A673)+3+IF(ISNUMBER(FIND(\"PRV\",C$6)),1,0)))*IF(AND(C$3>0,TRIM(C$9)=\"CFS\"),Conv_Flags!$C673,1)","v":2758.3870997573467}]
["1976-11-30",{"$f":"INDIRECT(CONCATENATE(\"'\",B$1,\"'!\",B$4,(YEAR($A674)-1921)*12+MONTH($A674)+3+IF(ISNUMBER(FIND(\"PRV\",B$6)),1,0)))*IF(AND(B$3>0,TRIM(B$9)=\"CFS\"),Conv_Flags!$C674,1)","v":2588.9847284478674},{"$f":"INDIRECT(CONCATENATE(\"'\",C$1,\"'!\",C$4,(YEAR($A674)-1921)*12+MONTH($A674)+3+IF(ISNUMBER(FIND(\"PRV\",C$6)),1,0)))*IF(AND(C$3>0,TRIM(C$9)=\"CFS\"),Conv_Flags!$C674,1)","v":2577.2910540106277}]
["1976-12-31",{"$f":"INDIRECT(CONCATENATE(\"'\",B$1,\"'!\",B$4,(YEAR($A675)-1921)*12+MONTH($A675)+3+IF(ISNUMBER(FIND(\"PRV\",B$6)),1,0)))*IF(AND(B$3>0,TRIM(B$9)=\"CFS\"),Conv_Flags!$C675,1)","v":2402.2200501735638},{"$f":"INDIRECT(CONCATENATE(\"'\",C$1,\"'!\",C$4,(YEAR($A675)-1921)*12+MONTH($A675)+3+IF(ISNUMBER(FIND(\"PRV\",C$6)),1,0)))*IF(AND(C$3>0,TRIM(C$9)=\"CFS\"),Conv_Flags!$C675,1)","v":2428.8963121818629}]
["1977-01-31",{"$f":"INDIRECT(CONCATENATE(\"'\",B$1,\"'!\",B$4,(YEAR($A676)-1921)*12+MONTH($A676)+3+IF(ISNUMBER(FIND(\"PRV\",B$6)),1,0)))*IF(AND(B$3>0,TRIM(B$9)=\"CFS\"),Conv_Flags!$C676,1)","v":2083.6888146090878},{"$f":"INDIRECT(CONCATENATE(\"'\",C$1,\"'!\",C$4,(YEAR($A676)-1921)*12+MONTH($A676)+3+IF(ISNUMBER(FIND(\"PRV\",C$6)),1,0)))*IF(AND(C$3>0,TRIM(C$9)=\"CFS\"),Conv_Flags!$C676,1)","v":2408.4546769555282}]
["1977-02-28",{"$f":"INDIRECT(CONCATENATE(\"'\",B$1,\"'!\",B$4,(YEAR($A677)-1921)*12+MONTH($A677)+3+IF(ISNUMBER(FIND(\"PRV\",B$6)),1,0)))*IF(AND(B$3>0,TRIM(B$9)=\"CFS\"),Conv_Flags!$C677,1)","v":2022.2963660377436},{"$f":"INDIRECT(CONCATENATE(\"'\",C$1,\"'!\",C$4,(YEAR($A677)-1921)*12+MONTH($A677)+3+IF(ISNUMBER(FIND(\"PRV\",C$6)),1,0)))*IF(AND(C$3>0,TRIM(C$9)=\"CFS\"),Conv_Flags!$C677,1)","v":2273.2263526882252}]
["1977-03-31",{"$f":"INDIRECT(CONCATENATE(\"'\",B$1,\"'!\",B$4,(YEAR($A678)-1921)*12+MONTH($A678)+3+IF(ISNUMBER(FIND(\"PRV\",B$6)),1,0)))*IF(AND(B$3>0,TRIM(B$9)=\"CFS\"),Conv_Flags!$C678,1)","v":1902.1196602988023},{"$f":"INDIRECT(CONCATENATE(\"'\",C$1,\"'!\",C$4,(YEAR($A678)-1921)*12+MONTH($A678)+3+IF(ISNUMBER(FIND(\"PRV\",C$6)),1,0)))*IF(AND(C$3>0,TRIM(C$9)=\"CFS\"),Conv_Flags!$C678,1)","v":2081.3127958849223}]
["1977-04-30",{"$f":"INDIRECT(CONCATENATE(\"'\",B$1,\"'!\",B$4,(YEAR($A679)-1921)*12+MONTH($A679)+3+IF(ISNUMBER(FIND(\"PRV\",B$6)),1,0)))*IF(AND(B$3>0,TRIM(B$9)=\"CFS\"),Conv_Flags!$C679,1)","v":1692.1584874328016},{"$f":"INDIRECT(CONCATENATE(\"'\",C$1,\"'!\",C$4,(YEAR($A679)-1921)*12+MONTH($A679)+3+IF(ISNUMBER(FIND(\"PRV\",C$6)),1,0)))*IF(AND(C$3>0,TRIM(C$9)=\"CFS\"),Conv_Flags!$C679,1)","v":1822.2781340065349}]
["1977-05-31",{"$f":"INDIRECT(CONCATENATE(\"'\",B$1,\"'!\",B$4,(YEAR($A680)-1921)*12+MONTH($A680)+3+IF(ISNUMBER(FIND(\"PRV\",B$6)),1,0)))*IF(AND(B$3>0,TRIM(B$9)=\"CFS\"),Conv_Flags!$C680,1)","v":1546.8862229232827},{"$f":"INDIRECT(CONCATENATE(\"'\",C$1,\"'!\",C$4,(YEAR($A680)-1921)*12+MONTH($A680)+3+IF(ISNUMBER(FIND(\"PRV\",C$6)),1,0)))*IF(AND(C$3>0,TRIM(C$9)=\"CFS\"),Conv_Flags!$C680,1)","v":1674.8084207138941}]
["1977-06-30",{"$f":"INDIRECT(CONCATENATE(\"'\",B$1,\"'!\",B$4,(YEAR($A681)-1921)*12+MONTH($A681)+3+IF(ISNUMBER(FIND(\"PRV\",B$6)),1,0)))*IF(AND(B$3>0,TRIM(B$9)=\"CFS\"),Conv_Flags!$C681,1)","v":1059.0408317339711},{"$f":"INDIRECT(CONCATENATE(\"'\",C$1,\"'!\",C$4,(YEAR($A681)-1921)*12+MONTH($A681)+3+IF(ISNUMBER(FIND(\"PRV\",C$6)),1,0)))*IF(AND(C$3>0,TRIM(C$9)=\"CFS\"),Conv_Flags!$C681,1)","v":1151.3156912613506}]
["1977-07-31",{"$f":"INDIRECT(CONCATENATE(\"'\",B$1,\"'!\",B$4,(YEAR($A682)-1921)*12+MONTH($A682)+3+IF(ISNUMBER(FIND(\"PRV\",B$6)),1,0)))*IF(AND(B$3>0,TRIM(B$9)=\"CFS\"),Conv_Flags!$C682,1)","v":622.31898373184322},{"$f":"INDIRECT(CONCATENATE(\"'\",C$1,\"'!\",C$4,(YEAR($A682)-1921)*12+MONTH($A682)+3+IF(ISNUMBER(FIND(\"PRV\",C$6)),1,0)))*IF(AND(C$3>0,TRIM(C$9)=\"CFS\"),Conv_Flags!$C682,1)","v":650.0625283175533}]
["1977-08-31",{"$f":"INDIRECT(CONCATENATE(\"'\",B$1,\"'!\",B$4,(YEAR($A683)-1921)*12+MONTH($A683)+3+IF(ISNUMBER(FIND(\"PRV\",B$6)),1,0)))*IF(AND(B$3>0,TRIM(B$9)=\"CFS\"),Conv_Flags!$C683,1)","v":550},{"$f":"INDIRECT(CONCATENATE(\"'\",C$1,\"'!\",C$4,(YEAR($A683)-1921)*12+MONTH($A683)+3+IF(ISNUMBER(FIND(\"PRV\",C$6)),1,0)))*IF(AND(C$3>0,TRIM(C$9)=\"CFS\"),Conv_Flags!$C683,1)","v":550}]
["1977-09-30",{"$f":"INDIRECT(CONCATENATE(\"'\",B$1,\"'!\",B$4,(YEAR($A684)-1921)*12+MONTH($A684)+3+IF(ISNUMBER(FIND(\"PRV\",B$6)),1,0)))*IF(AND(B$3>0,TRIM(B$9)=\"CFS\"),Conv_Flags!$C684,1)","v":550},{"$f":"INDIRECT(CONCATENATE(\"'\",C$1,\"'!\",C$4,(YEAR($A684)-1921)*12+MONTH($A684)+3+IF(ISNUMBER(FIND(\"PRV\",C$6)),1,0)))*IF(AND(C$3>0,TRIM(C$9)=\"CFS\"),Conv_Flags!$C684,1)","v":550}]
["1977-10-31",{"$f":"INDIRECT(CONCATENATE(\"'\",B$1,\"'!\",B$4,(YEAR($A685)-1921)*12+MONTH($A685)+3+IF(ISNUMBER(FIND(\"PRV\",B$6)),1,0)))*IF(AND(B$3>0,TRIM(B$9)=\"CFS\"),Conv_Flags!$C685,1)","v":550.00000000000011},{"$f":"INDIRECT(CONCATENATE(\"'\",C$1,\"'!\",C$4,(YEAR($A685)-1921)*12+MONTH($A685)+3+IF(ISNUMBER(FIND(\"PRV\",C$6)),1,0)))*IF(AND(C$3>0,TRIM(C$9)=\"CFS\"),Conv_Flags!$C685,1)","v":550}]
["1977-11-30",{"$f":"INDIRECT(CONCATENATE(\"'\",B$1,\"'!\",B$4,(YEAR($A686)-1921)*12+MONTH($A686)+3+IF(ISNUMBER(FIND(\"PRV\",B$6)),1,0)))*IF(AND(B$3>0,TRIM(B$9)=\"CFS\"),Conv_Flags!$C686,1)","v":550},{"$f":"INDIRECT(CONCATENATE(\"'\",C$1,\"'!\",C$4,(YEAR($A686)-1921)*12+MONTH($A686)+3+IF(ISNUMBER(FIND(\"PRV\",C$6)),1,0)))*IF(AND(C$3>0,TRIM(C$9)=\"CFS\"),Conv_Flags!$C686,1)","v":550}]
["1977-12-31",{"$f":"INDIRECT(CONCATENATE(\"'\",B$1,\"'!\",B$4,(YEAR($A687)-1921)*12+MONTH($A687)+3+IF(ISNUMBER(FIND(\"PRV\",B$6)),1,0)))*IF(AND(B$3>0,TRIM(B$9)=\"CFS\"),Conv_Flags!$C687,1)","v":964.51806884288408},{"$f":"INDIRECT(CONCATENATE(\"'\",C$1,\"'!\",C$4,(YEAR($A687)-1921)*12+MONTH($A687)+3+IF(ISNUMBER(FIND(\"PRV\",C$6)),1,0)))*IF(AND(C$3>0,TRIM(C$9)=\"CFS\"),Conv_Flags!$C687,1)","v":973.82822643416148}]
["1978-01-31",{"$f":"INDIRECT(CONCATENATE(\"'\",B$1,\"'!\",B$4,(YEAR($A688)-1921)*12+MONTH($A688)+3+IF(ISNUMBER(FIND(\"PRV\",B$6)),1,0)))*IF(AND(B$3>0,TRIM(B$9)=\"CFS\"),Conv_Flags!$C688,1)","v":2874.4169273451766},{"$f":"INDIRECT(CONCATENATE(\"'\",C$1,\"'!\",C$4,(YEAR($A688)-1921)*12+MONTH($A688)+3+IF(ISNUMBER(FIND(\"PRV\",C$6)),1,0)))*IF(AND(C$3>0,TRIM(C$9)=\"CFS\"),Conv_Flags!$C688,1)","v":2875.4815778174684}]
["1978-02-28",{"$f":"INDIRECT(CONCATENATE(\"'\",B$1,\"'!\",B$4,(YEAR($A689)-1921)*12+MONTH($A689)+3+IF(ISNUMBER(FIND(\"PRV\",B$6)),1,0)))*IF(AND(B$3>0,TRIM(B$9)=\"CFS\"),Conv_Flags!$C689,1)","v":3567},{"$f":"INDIRECT(CONCATENATE(\"'\",C$1,\"'!\",C$4,(YEAR($A689)-1921)*12+MONTH($A689)+3+IF(ISNUMBER(FIND(\"PRV\",C$6)),1,0)))*IF(AND(C$3>0,TRIM(C$9)=\"CFS\"),Conv_Flags!$C689,1)","v":3567}]
["1978-03-31",{"$f":"INDIRECT(CONCATENATE(\"'\",B$1,\"'!\",B$4,(YEAR($A690)-1921)*12+MONTH($A690)+3+IF(ISNUMBER(FIND(\"PRV\",B$6)),1,0)))*IF(AND(B$3>0,TRIM(B$9)=\"CFS\"),Conv_Flags!$C690,1)","v":4000},{"$f":"INDIRECT(CONCATENATE(\"'\",C$1,\"'!\",C$4,(YEAR($A690)-1921)*12+MONTH($A690)+3+IF(ISNUMBER(FIND(\"PRV\",C$6)),1,0)))*IF(AND(C$3>0,TRIM(C$9)=\"CFS\"),Conv_Flags!$C690,1)","v":4000}]
["1978-04-30",{"$f":"INDIRECT(CONCATENATE(\"'\",B$1,\"'!\",B$4,(YEAR($A691)-1921)*12+MONTH($A691)+3+IF(ISNUMBER(FIND(\"PRV\",B$6)),1,0)))*IF(AND(B$3>0,TRIM(B$9)=\"CFS\"),Conv_Flags!$C691,1)","v":4552},{"$f":"INDIRECT(CONCATENATE(\"'\",C$1,\"'!\",C$4,(YEAR($A691)-1921)*12+MONTH($A691)+3+IF(ISNUMBER(FIND(\"PRV\",C$6)),1,0)))*IF(AND(C$3>0,TRIM(C$9)=\"CFS\"),Conv_Flags!$C691,1)","v":4552}]
["1978-05-31",{"$f":"INDIRECT(CONCATENATE(\"'\",B$1,\"'!\",B$4,(YEAR($A692)-1921)*12+MONTH($A692)+3+IF(ISNUMBER(FIND(\"PRV\",B$6)),1,0)))*IF(AND(B$3>0,TRIM(B$9)=\"CFS\"),Conv_Flags!$C692,1)","v":4552},{"$f":"INDIRECT(CONCATENATE(\"'\",C$1,\"'!\",C$4,(YEAR($A692)-1921)*12+MONTH($A692)+3+IF(ISNUMBER(FIND(\"PRV\",C$6)),1,0)))*IF(AND(C$3>0,TRIM(C$9)=\"CFS\"),Conv_Flags!$C692,1)","v":4552}]
["1978-06-30",{"$f":"INDIRECT(CONCATENATE(\"'\",B$1,\"'!\",B$4,(YEAR($A693)-1921)*12+MONTH($A693)+3+IF(ISNUMBER(FIND(\"PRV\",B$6)),1,0)))*IF(AND(B$3>0,TRIM(B$9)=\"CFS\"),Conv_Flags!$C693,1)","v":4288.7981397819294},{"$f":"INDIRECT(CONCATENATE(\"'\",C$1,\"'!\",C$4,(YEAR($A693)-1921)*12+MONTH($A693)+3+IF(ISNUMBER(FIND(\"PRV\",C$6)),1,0)))*IF(AND(C$3>0,TRIM(C$9)=\"CFS\"),Conv_Flags!$C693,1)","v":4287.6756698662712}]
["1978-07-31",{"$f":"INDIRECT(CONCATENATE(\"'\",B$1,\"'!\",B$4,(YEAR($A694)-1921)*12+MONTH($A694)+3+IF(ISNUMBER(FIND(\"PRV\",B$6)),1,0)))*IF(AND(B$3>0,TRIM(B$9)=\"CFS\"),Conv_Flags!$C694,1)","v":3884.5777781371507},{"$f":"INDIRECT(CONCATENATE(\"'\",C$1,\"'!\",C$4,(YEAR($A694)-1921)*12+MONTH($A694)+3+IF(ISNUMBER(FIND(\"PRV\",C$6)),1,0)))*IF(AND(C$3>0,TRIM(C$9)=\"CFS\"),Conv_Flags!$C694,1)","v":3933.5247401505758}]
["1978-08-31",{"$f":"INDIRECT(CONCATENATE(\"'\",B$1,\"'!\",B$4,(YEAR($A695)-1921)*12+MONTH($A695)+3+IF(ISNUMBER(FIND(\"PRV\",B$6)),1,0)))*IF(AND(B$3>0,TRIM(B$9)=\"CFS\"),Conv_Flags!$C695,1)","v":3570.3395342719691},{"$f":"INDIRECT(CONCATENATE(\"'\",C$1,\"'!\",C$4,(YEAR($A695)-1921)*12+MONTH($A695)+3+IF(ISNUMBER(FIND(\"PRV\",C$6)),1,0)))*IF(AND(C$3>0,TRIM(C$9)=\"CFS\"),Conv_Flags!$C695,1)","v":3617.8988905665983}]
["1978-09-30",{"$f":"INDIRECT(CONCATENATE(\"'\",B$1,\"'!\",B$4,(YEAR($A696)-1921)*12+MONTH($A696)+3+IF(ISNUMBER(FIND(\"PRV\",B$6)),1,0)))*IF(AND(B$3>0,TRIM(B$9)=\"CFS\"),Conv_Flags!$C696,1)","v":3400.0000000000005},{"$f":"INDIRECT(CONCATENATE(\"'\",C$1,\"'!\",C$4,(YEAR($A696)-1921)*12+MONTH($A696)+3+IF(ISNUMBER(FIND(\"PRV\",C$6)),1,0)))*IF(AND(C$3>0,TRIM(C$9)=\"CFS\"),Conv_Flags!$C696,1)","v":3399.9999999999995}]
["1978-10-31",{"$f":"INDIRECT(CONCATENATE(\"'\",B$1,\"'!\",B$4,(YEAR($A697)-1921)*12+MONTH($A697)+3+IF(ISNUMBER(FIND(\"PRV\",B$6)),1,0)))*IF(AND(B$3>0,TRIM(B$9)=\"CFS\"),Conv_Flags!$C697,1)","v":3239.4116583313471},{"$f":"INDIRECT(CONCATENATE(\"'\",C$1,\"'!\",C$4,(YEAR($A697)-1921)*12+MONTH($A697)+3+IF(ISNUMBER(FIND(\"PRV\",C$6)),1,0)))*IF(AND(C$3>0,TRIM(C$9)=\"CFS\"),Conv_Flags!$C697,1)","v":3237.5834803968355}]
["1978-11-30",{"$f":"INDIRECT(CONCATENATE(\"'\",B$1,\"'!\",B$4,(YEAR($A698)-1921)*12+MONTH($A698)+3+IF(ISNUMBER(FIND(\"PRV\",B$6)),1,0)))*IF(AND(B$3>0,TRIM(B$9)=\"CFS\"),Conv_Flags!$C698,1)","v":3201.3776521808213},{"$f":"INDIRECT(CONCATENATE(\"'\",C$1,\"'!\",C$4,(YEAR($A698)-1921)*12+MONTH($A698)+3+IF(ISNUMBER(FIND(\"PRV\",C$6)),1,0)))*IF(AND(C$3>0,TRIM(C$9)=\"CFS\"),Conv_Flags!$C698,1)","v":3186.014189679473}]
["1978-12-31",{"$f":"INDIRECT(CONCATENATE(\"'\",B$1,\"'!\",B$4,(YEAR($A699)-1921)*12+MONTH($A699)+3+IF(ISNUMBER(FIND(\"PRV\",B$6)),1,0)))*IF(AND(B$3>0,TRIM(B$9)=\"CFS\"),Conv_Flags!$C699,1)","v":3128.7149356945824},{"$f":"INDIRECT(CONCATENATE(\"'\",C$1,\"'!\",C$4,(YEAR($A699)-1921)*12+MONTH($A699)+3+IF(ISNUMBER(FIND(\"PRV\",C$6)),1,0)))*IF(AND(C$3>0,TRIM(C$9)=\"CFS\"),Conv_Flags!$C699,1)","v":3187.8172592397395}]
["1979-01-31",{"$f":"INDIRECT(CONCATENATE(\"'\",B$1,\"'!\",B$4,(YEAR($A700)-1921)*12+MONTH($A700)+3+IF(ISNUMBER(FIND(\"PRV\",B$6)),1,0)))*IF(AND(B$3>0,TRIM(B$9)=\"CFS\"),Conv_Flags!$C700,1)","v":3285.235346223958},{"$f":"INDIRECT(CONCATENATE(\"'\",C$1,\"'!\",C$4,(YEAR($A700)-1921)*12+MONTH($A700)+3+IF(ISNUMBER(FIND(\"PRV\",C$6)),1,0)))*IF(AND(C$3>0,TRIM(C$9)=\"CFS\"),Conv_Flags!$C700,1)","v":3344.2990044387716}]
["1979-02-28",{"$f":"INDIRECT(CONCATENATE(\"'\",B$1,\"'!\",B$4,(YEAR($A701)-1921)*12+MONTH($A701)+3+IF(ISNUMBER(FIND(\"PRV\",B$6)),1,0)))*IF(AND(B$3>0,TRIM(B$9)=\"CFS\"),Conv_Flags!$C701,1)","v":3626.4723070388059},{"$f":"INDIRECT(CONCATENATE(\"'\",C$1,\"'!\",C$4,(YEAR($A701)-1921)*12+MONTH($A701)+3+IF(ISNUMBER(FIND(\"PRV\",C$6)),1,0)))*IF(AND(C$3>0,TRIM(C$9)=\"CFS\"),Conv_Flags!$C701,1)","v":3685.490756299087}]
["1979-03-31",{"$f":"INDIRECT(CONCATENATE(\"'\",B$1,\"'!\",B$4,(YEAR($A702)-1921)*12+MONTH($A702)+3+IF(ISNUMBER(FIND(\"PRV\",B$6)),1,0)))*IF(AND(B$3>0,TRIM(B$9)=\"CFS\"),Conv_Flags!$C702,1)","v":4132.7877544813891},{"$f":"INDIRECT(CONCATENATE(\"'\",C$1,\"'!\",C$4,(YEAR($A702)-1921)*12+MONTH($A702)+3+IF(ISNUMBER(FIND(\"PRV\",C$6)),1,0)))*IF(AND(C$3>0,TRIM(C$9)=\"CFS\"),Conv_Flags!$C702,1)","v":4191.7376600393163}]
["1979-04-30",{"$f":"INDIRECT(CONCATENATE(\"'\",B$1,\"'!\",B$4,(YEAR($A703)-1921)*12+MONTH($A703)+3+IF(ISNUMBER(FIND(\"PRV\",B$6)),1,0)))*IF(AND(B$3>0,TRIM(B$9)=\"CFS\"),Conv_Flags!$C703,1)","v":4394.9463706209845},{"$f":"INDIRECT(CONCATENATE(\"'\",C$1,\"'!\",C$4,(YEAR($A703)-1921)*12+MONTH($A703)+3+IF(ISNUMBER(FIND(\"PRV\",C$6)),1,0)))*IF(AND(C$3>0,TRIM(C$9)=\"CFS\"),Conv_Flags!$C703,1)","v":4453.8042456170579}]
["1979-05-31",{"$f":"INDIRECT(CONCATENATE(\"'\",B$1,\"'!\",B$4,(YEAR($A704)-1921)*12+MONTH($A704)+3+IF(ISNUMBER(FIND(\"PRV\",B$6)),1,0)))*IF(AND(B$3>0,TRIM(B$9)=\"CFS\"),Conv_Flags!$C704,1)","v":4508.7451324563635},{"$f":"INDIRECT(CONCATENATE(\"'\",C$1,\"'!\",C$4,(YEAR($A704)-1921)*12+MONTH($A704)+3+IF(ISNUMBER(FIND(\"PRV\",C$6)),1,0)))*IF(AND(C$3>0,TRIM(C$9)=\"CFS\"),Conv_Flags!$C704,1)","v":4552}]
["1979-06-30",{"$f":"INDIRECT(CONCATENATE(\"'\",B$1,\"'!\",B$4,(YEAR($A705)-1921)*12+MONTH($A705)+3+IF(ISNUMBER(FIND(\"PRV\",B$6)),1,0)))*IF(AND(B$3>0,TRIM(B$9)=\"CFS\"),Conv_Flags!$C705,1)","v":3897.050699469135},{"$f":"INDIRECT(CONCATENATE(\"'\",C$1,\"'!\",C$4,(YEAR($A705)-1921)*12+MONTH($A705)+3+IF(ISNUMBER(FIND(\"PRV\",C$6)),1,0)))*IF(AND(C$3>0,TRIM(C$9)=\"CFS\"),Conv_Flags!$C705,1)","v":3943.1047804512336}]
["1979-07-31",{"$f":"INDIRECT(CONCATENATE(\"'\",B$1,\"'!\",B$4,(YEAR($A706)-1921)*12+MONTH($A706)+3+IF(ISNUMBER(FIND(\"PRV\",B$6)),1,0)))*IF(AND(B$3>0,TRIM(B$9)=\"CFS\"),Conv_Flags!$C706,1)","v":3304.0446877139657},{"$f":"INDIRECT(CONCATENATE(\"'\",C$1,\"'!\",C$4,(YEAR($A706)-1921)*12+MONTH($A706)+3+IF(ISNUMBER(FIND(\"PRV\",C$6)),1,0)))*IF(AND(C$3>0,TRIM(C$9)=\"CFS\"),Conv_Flags!$C706,1)","v":3335.4738777016846}]
["1979-08-31",{"$f":"INDIRECT(CONCATENATE(\"'\",B$1,\"'!\",B$4,(YEAR($A707)-1921)*12+MONTH($A707)+3+IF(ISNUMBER(FIND(\"PRV\",B$6)),1,0)))*IF(AND(B$3>0,TRIM(B$9)=\"CFS\"),Conv_Flags!$C707,1)","v":3083.9957067851842},{"$f":"INDIRECT(CONCATENATE(\"'\",C$1,\"'!\",C$4,(YEAR($A707)-1921)*12+MONTH($A707)+3+IF(ISNUMBER(FIND(\"PRV\",C$6)),1,0)))*IF(AND(C$3>0,TRIM(C$9)=\"CFS\"),Conv_Flags!$C707,1)","v":3118.0147622777217}]
["1979-09-30",{"$f":"INDIRECT(CONCATENATE(\"'\",B$1,\"'!\",B$4,(YEAR($A708)-1921)*12+MONTH($A708)+3+IF(ISNUMBER(FIND(\"PRV\",B$6)),1,0)))*IF(AND(B$3>0,TRIM(B$9)=\"CFS\"),Conv_Flags!$C708,1)","v":3050.150694958234},{"$f":"INDIRECT(CONCATENATE(\"'\",C$1,\"'!\",C$4,(YEAR($A708)-1921)*12+MONTH($A708)+3+IF(ISNUMBER(FIND(\"PRV\",C$6)),1,0)))*IF(AND(C$3>0,TRIM(C$9)=\"CFS\"),Conv_Flags!$C708,1)","v":3083.8021481477981}]
["1979-10-31",{"$f":"INDIRECT(CONCATENATE(\"'\",B$1,\"'!\",B$4,(YEAR($A709)-1921)*12+MONTH($A709)+3+IF(ISNUMBER(FIND(\"PRV\",B$6)),1,0)))*IF(AND(B$3>0,TRIM(B$9)=\"CFS\"),Conv_Flags!$C709,1)","v":3137.3680056680687},{"$f":"INDIRECT(CONCATENATE(\"'\",C$1,\"'!\",C$4,(YEAR($A709)-1921)*12+MONTH($A709)+3+IF(ISNUMBER(FIND(\"PRV\",C$6)),1,0)))*IF(AND(C$3>0,TRIM(C$9)=\"CFS\"),Conv_Flags!$C709,1)","v":3177.8089414676592}]
["1979-11-30",{"$f":"INDIRECT(CONCATENATE(\"'\",B$1,\"'!\",B$4,(YEAR($A710)-1921)*12+MONTH($A710)+3+IF(ISNUMBER(FIND(\"PRV\",B$6)),1,0)))*IF(AND(B$3>0,TRIM(B$9)=\"CFS\"),Conv_Flags!$C710,1)","v":3252},{"$f":"INDIRECT(CONCATENATE(\"'\",C$1,\"'!\",C$4,(YEAR($A710)-1921)*12+MONTH($A710)+3+IF(ISNUMBER(FIND(\"PRV\",C$6)),1,0)))*IF(AND(C$3>0,TRIM(C$9)=\"CFS\"),Conv_Flags!$C710,1)","v":3252}]
["1979-12-31",{"$f":"INDIRECT(CONCATENATE(\"'\",B$1,\"'!\",B$4,(YEAR($A711)-1921)*12+MONTH($A711)+3+IF(ISNUMBER(FIND(\"PRV\",B$6)),1,0)))*IF(AND(B$3>0,TRIM(B$9)=\"CFS\"),Conv_Flags!$C711,1)","v":3367},{"$f":"INDIRECT(CONCATENATE(\"'\",C$1,\"'!\",C$4,(YEAR($A711)-1921)*12+MONTH($A711)+3+IF(ISNUMBER(FIND(\"PRV\",C$6)),1,0)))*IF(AND(C$3>0,TRIM(C$9)=\"CFS\"),Conv_Flags!$C711,1)","v":3367}]
["1980-01-31",{"$f":"INDIRECT(CONCATENATE(\"'\",B$1,\"'!\",B$4,(YEAR($A712)-1921)*12+MONTH($A712)+3+IF(ISNUMBER(FIND(\"PRV\",B$6)),1,0)))*IF(AND(B$3>0,TRIM(B$9)=\"CFS\"),Conv_Flags!$C712,1)","v":3528},{"$f":"INDIRECT(CONCATENATE(\"'\",C$1,\"'!\",C$4,(YEAR($A712)-1921)*12+MONTH($A712)+3+IF(ISNUMBER(FIND(\"PRV\",C$6)),1,0)))*IF(AND(C$3>0,TRIM(C$9)=\"CFS\"),Conv_Flags!$C712,1)","v":3528}]
["1980-02-29",{"$f":"INDIRECT(CONCATENATE(\"'\",B$1,\"'!\",B$4,(YEAR($A713)-1921)*12+MONTH($A713)+3+IF(ISNUMBER(FIND(\"PRV\",B$6)),1,0)))*IF(AND(B$3>0,TRIM(B$9)=\"CFS\"),Conv_Flags!$C713,1)","v":3292},{"$f":"INDIRECT(CONCATENATE(\"'\",C$1,\"'!\",C$4,(YEAR($A713)-1921)*12+MONTH($A713)+3+IF(ISNUMBER(FIND(\"PRV\",C$6)),1,0)))*IF(AND(C$3>0,TRIM(C$9)=\"CFS\"),Conv_Flags!$C713,1)","v":3292}]
["1980-03-31",{"$f":"INDIRECT(CONCATENATE(\"'\",B$1,\"'!\",B$4,(YEAR($A714)-1921)*12+MONTH($A714)+3+IF(ISNUMBER(FIND(\"PRV\",B$6)),1,0)))*IF(AND(B$3>0,TRIM(B$9)=\"CFS\"),Conv_Flags!$C714,1)","v":4016.8630267426579},{"$f":"INDIRECT(CONCATENATE(\"'\",C$1,\"'!\",C$4,(YEAR($A714)-1921)*12+MONTH($A714)+3+IF(ISNUMBER(FIND(\"PRV\",C$6)),1,0)))*IF(AND(C$3>0,TRIM(C$9)=\"CFS\"),Conv_Flags!$C714,1)","v":4016.8630267426579}]
["1980-04-30",{"$f":"INDIRECT(CONCATENATE(\"'\",B$1,\"'!\",B$4,(YEAR($A715)-1921)*12+MONTH($A715)+3+IF(ISNUMBER(FIND(\"PRV\",B$6)),1,0)))*IF(AND(B$3>0,TRIM(B$9)=\"CFS\"),Conv_Flags!$C715,1)","v":4231.6965744630206},{"$f":"INDIRECT(CONCATENATE(\"'\",C$1,\"'!\",C$4,(YEAR($A715)-1921)*12+MONTH($A715)+3+IF(ISNUMBER(FIND(\"PRV\",C$6)),1,0)))*IF(AND(C$3>0,TRIM(C$9)=\"CFS\"),Conv_Flags!$C715,1)","v":4231.6965744630206}]
["1980-05-31",{"$f":"INDIRECT(CONCATENATE(\"'\",B$1,\"'!\",B$4,(YEAR($A716)-1921)*12+MONTH($A716)+3+IF(ISNUMBER(FIND(\"PRV\",B$6)),1,0)))*IF(AND(B$3>0,TRIM(B$9)=\"CFS\"),Conv_Flags!$C716,1)","v":4249.4166541457071},{"$f":"INDIRECT(CONCATENATE(\"'\",C$1,\"'!\",C$4,(YEAR($A716)-1921)*12+MONTH($A716)+3+IF(ISNUMBER(FIND(\"PRV\",C$6)),1,0)))*IF(AND(C$3>0,TRIM(C$9)=\"CFS\"),Conv_Flags!$C716,1)","v":4247.4519058473334}]
["1980-06-30",{"$f":"INDIRECT(CONCATENATE(\"'\",B$1,\"'!\",B$4,(YEAR($A717)-1921)*12+MONTH($A717)+3+IF(ISNUMBER(FIND(\"PRV\",B$6)),1,0)))*IF(AND(B$3>0,TRIM(B$9)=\"CFS\"),Conv_Flags!$C717,1)","v":4032.3296424360515},{"$f":"INDIRECT(CONCATENATE(\"'\",C$1,\"'!\",C$4,(YEAR($A717)-1921)*12+MONTH($A717)+3+IF(ISNUMBER(FIND(\"PRV\",C$6)),1,0)))*IF(AND(C$3>0,TRIM(C$9)=\"CFS\"),Conv_Flags!$C717,1)","v":4029.2907327060034}]
["1980-07-31",{"$f":"INDIRECT(CONCATENATE(\"'\",B$1,\"'!\",B$4,(YEAR($A718)-1921)*12+MONTH($A718)+3+IF(ISNUMBER(FIND(\"PRV\",B$6)),1,0)))*IF(AND(B$3>0,TRIM(B$9)=\"CFS\"),Conv_Flags!$C718,1)","v":3645.0917239997893},{"$f":"INDIRECT(CONCATENATE(\"'\",C$1,\"'!\",C$4,(YEAR($A718)-1921)*12+MONTH($A718)+3+IF(ISNUMBER(FIND(\"PRV\",C$6)),1,0)))*IF(AND(C$3>0,TRIM(C$9)=\"CFS\"),Conv_Flags!$C718,1)","v":3741.1110597168899}]
["1980-08-31",{"$f":"INDIRECT(CONCATENATE(\"'\",B$1,\"'!\",B$4,(YEAR($A719)-1921)*12+MONTH($A719)+3+IF(ISNUMBER(FIND(\"PRV\",B$6)),1,0)))*IF(AND(B$3>0,TRIM(B$9)=\"CFS\"),Conv_Flags!$C719,1)","v":3348.024605011768},{"$f":"INDIRECT(CONCATENATE(\"'\",C$1,\"'!\",C$4,(YEAR($A719)-1921)*12+MONTH($A719)+3+IF(ISNUMBER(FIND(\"PRV\",C$6)),1,0)))*IF(AND(C$3>0,TRIM(C$9)=\"CFS\"),Conv_Flags!$C719,1)","v":3443.8583389649366}]
["1980-09-30",{"$f":"INDIRECT(CONCATENATE(\"'\",B$1,\"'!\",B$4,(YEAR($A720)-1921)*12+MONTH($A720)+3+IF(ISNUMBER(FIND(\"PRV\",B$6)),1,0)))*IF(AND(B$3>0,TRIM(B$9)=\"CFS\"),Conv_Flags!$C720,1)","v":3380.4455670882503},{"$f":"INDIRECT(CONCATENATE(\"'\",C$1,\"'!\",C$4,(YEAR($A720)-1921)*12+MONTH($A720)+3+IF(ISNUMBER(FIND(\"PRV\",C$6)),1,0)))*IF(AND(C$3>0,TRIM(C$9)=\"CFS\"),Conv_Flags!$C720,1)","v":3399.9999999999995}]
["1980-10-31",{"$f":"INDIRECT(CONCATENATE(\"'\",B$1,\"'!\",B$4,(YEAR($A721)-1921)*12+MONTH($A721)+3+IF(ISNUMBER(FIND(\"PRV\",B$6)),1,0)))*IF(AND(B$3>0,TRIM(B$9)=\"CFS\"),Conv_Flags!$C721,1)","v":3236.5485014285441},{"$f":"INDIRECT(CONCATENATE(\"'\",C$1,\"'!\",C$4,(YEAR($A721)-1921)*12+MONTH($A721)+3+IF(ISNUMBER(FIND(\"PRV\",C$6)),1,0)))*IF(AND(C$3>0,TRIM(C$9)=\"CFS\"),Conv_Flags!$C721,1)","v":3250.0000000000005}]
["1980-11-30",{"$f":"INDIRECT(CONCATENATE(\"'\",B$1,\"'!\",B$4,(YEAR($A722)-1921)*12+MONTH($A722)+3+IF(ISNUMBER(FIND(\"PRV\",B$6)),1,0)))*IF(AND(B$3>0,TRIM(B$9)=\"CFS\"),Conv_Flags!$C722,1)","v":3022.6604938369251},{"$f":"INDIRECT(CONCATENATE(\"'\",C$1,\"'!\",C$4,(YEAR($A722)-1921)*12+MONTH($A722)+3+IF(ISNUMBER(FIND(\"PRV\",C$6)),1,0)))*IF(AND(C$3>0,TRIM(C$9)=\"CFS\"),Conv_Flags!$C722,1)","v":3051.6636064883101}]
["1980-12-31",{"$f":"INDIRECT(CONCATENATE(\"'\",B$1,\"'!\",B$4,(YEAR($A723)-1921)*12+MONTH($A723)+3+IF(ISNUMBER(FIND(\"PRV\",B$6)),1,0)))*IF(AND(B$3>0,TRIM(B$9)=\"CFS\"),Conv_Flags!$C723,1)","v":3173.1794511364992},{"$f":"INDIRECT(CONCATENATE(\"'\",C$1,\"'!\",C$4,(YEAR($A723)-1921)*12+MONTH($A723)+3+IF(ISNUMBER(FIND(\"PRV\",C$6)),1,0)))*IF(AND(C$3>0,TRIM(C$9)=\"CFS\"),Conv_Flags!$C723,1)","v":3203.4696777006639}]
["1981-01-31",{"$f":"INDIRECT(CONCATENATE(\"'\",B$1,\"'!\",B$4,(YEAR($A724)-1921)*12+MONTH($A724)+3+IF(ISNUMBER(FIND(\"PRV\",B$6)),1,0)))*IF(AND(B$3>0,TRIM(B$9)=\"CFS\"),Conv_Flags!$C724,1)","v":3491.9686318293498},{"$f":"INDIRECT(CONCATENATE(\"'\",C$1,\"'!\",C$4,(YEAR($A724)-1921)*12+MONTH($A724)+3+IF(ISNUMBER(FIND(\"PRV\",C$6)),1,0)))*IF(AND(C$3>0,TRIM(C$9)=\"CFS\"),Conv_Flags!$C724,1)","v":3522.2382336777123}]
["1981-02-28",{"$f":"INDIRECT(CONCATENATE(\"'\",B$1,\"'!\",B$4,(YEAR($A725)-1921)*12+MONTH($A725)+3+IF(ISNUMBER(FIND(\"PRV\",B$6)),1,0)))*IF(AND(B$3>0,TRIM(B$9)=\"CFS\"),Conv_Flags!$C725,1)","v":3899.1738320457312},{"$f":"INDIRECT(CONCATENATE(\"'\",C$1,\"'!\",C$4,(YEAR($A725)-1921)*12+MONTH($A725)+3+IF(ISNUMBER(FIND(\"PRV\",C$6)),1,0)))*IF(AND(C$3>0,TRIM(C$9)=\"CFS\"),Conv_Flags!$C725,1)","v":3929.4162253845507}]
["1981-03-31",{"$f":"INDIRECT(CONCATENATE(\"'\",B$1,\"'!\",B$4,(YEAR($A726)-1921)*12+MONTH($A726)+3+IF(ISNUMBER(FIND(\"PRV\",B$6)),1,0)))*IF(AND(B$3>0,TRIM(B$9)=\"CFS\"),Conv_Flags!$C726,1)","v":4256},{"$f":"INDIRECT(CONCATENATE(\"'\",C$1,\"'!\",C$4,(YEAR($A726)-1921)*12+MONTH($A726)+3+IF(ISNUMBER(FIND(\"PRV\",C$6)),1,0)))*IF(AND(C$3>0,TRIM(C$9)=\"CFS\"),Conv_Flags!$C726,1)","v":4256}]
["1981-04-30",{"$f":"INDIRECT(CONCATENATE(\"'\",B$1,\"'!\",B$4,(YEAR($A727)-1921)*12+MONTH($A727)+3+IF(ISNUMBER(FIND(\"PRV\",B$6)),1,0)))*IF(AND(B$3>0,TRIM(B$9)=\"CFS\"),Conv_Flags!$C727,1)","v":4492.3457842470852},{"$f":"INDIRECT(CONCATENATE(\"'\",C$1,\"'!\",C$4,(YEAR($A727)-1921)*12+MONTH($A727)+3+IF(ISNUMBER(FIND(\"PRV\",C$6)),1,0)))*IF(AND(C$3>0,TRIM(C$9)=\"CFS\"),Conv_Flags!$C727,1)","v":4492.3457846581932}]
["1981-05-31",{"$f":"INDIRECT(CONCATENATE(\"'\",B$1,\"'!\",B$4,(YEAR($A728)-1921)*12+MONTH($A728)+3+IF(ISNUMBER(FIND(\"PRV\",B$6)),1,0)))*IF(AND(B$3>0,TRIM(B$9)=\"CFS\"),Conv_Flags!$C728,1)","v":4286.1395711632576},{"$f":"INDIRECT(CONCATENATE(\"'\",C$1,\"'!\",C$4,(YEAR($A728)-1921)*12+MONTH($A728)+3+IF(ISNUMBER(FIND(\"PRV\",C$6)),1,0)))*IF(AND(C$3>0,TRIM(C$9)=\"CFS\"),Conv_Flags!$C728,1)","v":4285.2449722721494}]
["1981-06-30",{"$f":"INDIRECT(CONCATENATE(\"'\",B$1,\"'!\",B$4,(YEAR($A729)-1921)*12+MONTH($A729)+3+IF(ISNUMBER(FIND(\"PRV\",B$6)),1,0)))*IF(AND(B$3>0,TRIM(B$9)=\"CFS\"),Conv_Flags!$C729,1)","v":3625.9529714565128},{"$f":"INDIRECT(CONCATENATE(\"'\",C$1,\"'!\",C$4,(YEAR($A729)-1921)*12+MONTH($A729)+3+IF(ISNUMBER(FIND(\"PRV\",C$6)),1,0)))*IF(AND(C$3>0,TRIM(C$9)=\"CFS\"),Conv_Flags!$C729,1)","v":3715.5509333051523}]
["1981-07-31",{"$f":"INDIRECT(CONCATENATE(\"'\",B$1,\"'!\",B$4,(YEAR($A730)-1921)*12+MONTH($A730)+3+IF(ISNUMBER(FIND(\"PRV\",B$6)),1,0)))*IF(AND(B$3>0,TRIM(B$9)=\"CFS\"),Conv_Flags!$C730,1)","v":3155.8818815117716},{"$f":"INDIRECT(CONCATENATE(\"'\",C$1,\"'!\",C$4,(YEAR($A730)-1921)*12+MONTH($A730)+3+IF(ISNUMBER(FIND(\"PRV\",C$6)),1,0)))*IF(AND(C$3>0,TRIM(C$9)=\"CFS\"),Conv_Flags!$C730,1)","v":3235.5898857669795}]
["1981-08-31",{"$f":"INDIRECT(CONCATENATE(\"'\",B$1,\"'!\",B$4,(YEAR($A731)-1921)*12+MONTH($A731)+3+IF(ISNUMBER(FIND(\"PRV\",B$6)),1,0)))*IF(AND(B$3>0,TRIM(B$9)=\"CFS\"),Conv_Flags!$C731,1)","v":2873.4473937648163},{"$f":"INDIRECT(CONCATENATE(\"'\",C$1,\"'!\",C$4,(YEAR($A731)-1921)*12+MONTH($A731)+3+IF(ISNUMBER(FIND(\"PRV\",C$6)),1,0)))*IF(AND(C$3>0,TRIM(C$9)=\"CFS\"),Conv_Flags!$C731,1)","v":2944.3456766424933}]
["1981-09-30",{"$f":"INDIRECT(CONCATENATE(\"'\",B$1,\"'!\",B$4,(YEAR($A732)-1921)*12+MONTH($A732)+3+IF(ISNUMBER(FIND(\"PRV\",B$6)),1,0)))*IF(AND(B$3>0,TRIM(B$9)=\"CFS\"),Conv_Flags!$C732,1)","v":2856.7774492297785},{"$f":"INDIRECT(CONCATENATE(\"'\",C$1,\"'!\",C$4,(YEAR($A732)-1921)*12+MONTH($A732)+3+IF(ISNUMBER(FIND(\"PRV\",C$6)),1,0)))*IF(AND(C$3>0,TRIM(C$9)=\"CFS\"),Conv_Flags!$C732,1)","v":2916.3720160174889}]
["1981-10-31",{"$f":"INDIRECT(CONCATENATE(\"'\",B$1,\"'!\",B$4,(YEAR($A733)-1921)*12+MONTH($A733)+3+IF(ISNUMBER(FIND(\"PRV\",B$6)),1,0)))*IF(AND(B$3>0,TRIM(B$9)=\"CFS\"),Conv_Flags!$C733,1)","v":2913.0291269635532},{"$f":"INDIRECT(CONCATENATE(\"'\",C$1,\"'!\",C$4,(YEAR($A733)-1921)*12+MONTH($A733)+3+IF(ISNUMBER(FIND(\"PRV\",C$6)),1,0)))*IF(AND(C$3>0,TRIM(C$9)=\"CFS\"),Conv_Flags!$C733,1)","v":2941.5598233610604}]
["1981-11-30",{"$f":"INDIRECT(CONCATENATE(\"'\",B$1,\"'!\",B$4,(YEAR($A734)-1921)*12+MONTH($A734)+3+IF(ISNUMBER(FIND(\"PRV\",B$6)),1,0)))*IF(AND(B$3>0,TRIM(B$9)=\"CFS\"),Conv_Flags!$C734,1)","v":3252},{"$f":"INDIRECT(CONCATENATE(\"'\",C$1,\"'!\",C$4,(YEAR($A734)-1921)*12+MONTH($A734)+3+IF(ISNUMBER(FIND(\"PRV\",C$6)),1,0)))*IF(AND(C$3>0,TRIM(C$9)=\"CFS\"),Conv_Flags!$C734,1)","v":3252}]
["1981-12-31",{"$f":"INDIRECT(CONCATENATE(\"'\",B$1,\"'!\",B$4,(YEAR($A735)-1921)*12+MONTH($A735)+3+IF(ISNUMBER(FIND(\"PRV\",B$6)),1,0)))*IF(AND(B$3>0,TRIM(B$9)=\"CFS\"),Conv_Flags!$C735,1)","v":3276},{"$f":"INDIRECT(CONCATENATE(\"'\",C$1,\"'!\",C$4,(YEAR($A735)-1921)*12+MONTH($A735)+3+IF(ISNUMBER(FIND(\"PRV\",C$6)),1,0)))*IF(AND(C$3>0,TRIM(C$9)=\"CFS\"),Conv_Flags!$C735,1)","v":3276}]
["1982-01-31",{"$f":"INDIRECT(CONCATENATE(\"'\",B$1,\"'!\",B$4,(YEAR($A736)-1921)*12+MONTH($A736)+3+IF(ISNUMBER(FIND(\"PRV\",B$6)),1,0)))*IF(AND(B$3>0,TRIM(B$9)=\"CFS\"),Conv_Flags!$C736,1)","v":3616},{"$f":"INDIRECT(CONCATENATE(\"'\",C$1,\"'!\",C$4,(YEAR($A736)-1921)*12+MONTH($A736)+3+IF(ISNUMBER(FIND(\"PRV\",C$6)),1,0)))*IF(AND(C$3>0,TRIM(C$9)=\"CFS\"),Conv_Flags!$C736,1)","v":3616}]
["1982-02-28",{"$f":"INDIRECT(CONCATENATE(\"'\",B$1,\"'!\",B$4,(YEAR($A737)-1921)*12+MONTH($A737)+3+IF(ISNUMBER(FIND(\"PRV\",B$6)),1,0)))*IF(AND(B$3>0,TRIM(B$9)=\"CFS\"),Conv_Flags!$C737,1)","v":3530},{"$f":"INDIRECT(CONCATENATE(\"'\",C$1,\"'!\",C$4,(YEAR($A737)-1921)*12+MONTH($A737)+3+IF(ISNUMBER(FIND(\"PRV\",C$6)),1,0)))*IF(AND(C$3>0,TRIM(C$9)=\"CFS\"),Conv_Flags!$C737,1)","v":3530}]
["1982-03-31",{"$f":"INDIRECT(CONCATENATE(\"'\",B$1,\"'!\",B$4,(YEAR($A738)-1921)*12+MONTH($A738)+3+IF(ISNUMBER(FIND(\"PRV\",B$6)),1,0)))*IF(AND(B$3>0,TRIM(B$9)=\"CFS\"),Conv_Flags!$C738,1)","v":3953},{"$f":"INDIRECT(CONCATENATE(\"'\",C$1,\"'!\",C$4,(YEAR($A738)-1921)*12+MONTH($A738)+3+IF(ISNUMBER(FIND(\"PRV\",C$6)),1,0)))*IF(AND(C$3>0,TRIM(C$9)=\"CFS\"),Conv_Flags!$C738,1)","v":3953}]
["1982-04-30",{"$f":"INDIRECT(CONCATENATE(\"'\",B$1,\"'!\",B$4,(YEAR($A739)-1921)*12+MONTH($A739)+3+IF(ISNUMBER(FIND(\"PRV\",B$6)),1,0)))*IF(AND(B$3>0,TRIM(B$9)=\"CFS\"),Conv_Flags!$C739,1)","v":4094},{"$f":"INDIRECT(CONCATENATE(\"'\",C$1,\"'!\",C$4,(YEAR($A739)-1921)*12+MONTH($A739)+3+IF(ISNUMBER(FIND(\"PRV\",C$6)),1,0)))*IF(AND(C$3>0,TRIM(C$9)=\"CFS\"),Conv_Flags!$C739,1)","v":4094}]
["1982-05-31",{"$f":"INDIRECT(CONCATENATE(\"'\",B$1,\"'!\",B$4,(YEAR($A740)-1921)*12+MONTH($A740)+3+IF(ISNUMBER(FIND(\"PRV\",B$6)),1,0)))*IF(AND(B$3>0,TRIM(B$9)=\"CFS\"),Conv_Flags!$C740,1)","v":4541.6954884821535},{"$f":"INDIRECT(CONCATENATE(\"'\",C$1,\"'!\",C$4,(YEAR($A740)-1921)*12+MONTH($A740)+3+IF(ISNUMBER(FIND(\"PRV\",C$6)),1,0)))*IF(AND(C$3>0,TRIM(C$9)=\"CFS\"),Conv_Flags!$C740,1)","v":4540.1693337718616}]
["1982-06-30",{"$f":"INDIRECT(CONCATENATE(\"'\",B$1,\"'!\",B$4,(YEAR($A741)-1921)*12+MONTH($A741)+3+IF(ISNUMBER(FIND(\"PRV\",B$6)),1,0)))*IF(AND(B$3>0,TRIM(B$9)=\"CFS\"),Conv_Flags!$C741,1)","v":4500},{"$f":"INDIRECT(CONCATENATE(\"'\",C$1,\"'!\",C$4,(YEAR($A741)-1921)*12+MONTH($A741)+3+IF(ISNUMBER(FIND(\"PRV\",C$6)),1,0)))*IF(AND(C$3>0,TRIM(C$9)=\"CFS\"),Conv_Flags!$C741,1)","v":4500}]
["1982-07-31",{"$f":"INDIRECT(CONCATENATE(\"'\",B$1,\"'!\",B$4,(YEAR($A742)-1921)*12+MONTH($A742)+3+IF(ISNUMBER(FIND(\"PRV\",B$6)),1,0)))*IF(AND(B$3>0,TRIM(B$9)=\"CFS\"),Conv_Flags!$C742,1)","v":4150},{"$f":"INDIRECT(CONCATENATE(\"'\",C$1,\"'!\",C$4,(YEAR($A742)-1921)*12+MONTH($A742)+3+IF(ISNUMBER(FIND(\"PRV\",C$6)),1,0)))*IF(AND(C$3>0,TRIM(C$9)=\"CFS\"),Conv_Flags!$C742,1)","v":4150}]
["1982-08-31",{"$f":"INDIRECT(CONCATENATE(\"'\",B$1,\"'!\",B$4,(YEAR($A743)-1921)*12+MONTH($A743)+3+IF(ISNUMBER(FIND(\"PRV\",B$6)),1,0)))*IF(AND(B$3>0,TRIM(B$9)=\"CFS\"),Conv_Flags!$C743,1)","v":3700.0000000000005},{"$f":"INDIRECT(CONCATENATE(\"'\",C$1,\"'!\",C$4,(YEAR($A743)-1921)*12+MONTH($A743)+3+IF(ISNUMBER(FIND(\"PRV\",C$6)),1,0)))*IF(AND(C$3>0,TRIM(C$9)=\"CFS\"),Conv_Flags!$C743,1)","v":3700.0000000000005}]
["1982-09-30",{"$f":"INDIRECT(CONCATENATE(\"'\",B$1,\"'!\",B$4,(YEAR($A744)-1921)*12+MONTH($A744)+3+IF(ISNUMBER(FIND(\"PRV\",B$6)),1,0)))*IF(AND(B$3>0,TRIM(B$9)=\"CFS\"),Conv_Flags!$C744,1)","v":3400},{"$f":"INDIRECT(CONCATENATE(\"'\",C$1,\"'!\",C$4,(YEAR($A744)-1921)*12+MONTH($A744)+3+IF(ISNUMBER(FIND(\"PRV\",C$6)),1,0)))*IF(AND(C$3>0,TRIM(C$9)=\"CFS\"),Conv_Flags!$C744,1)","v":3400}]
["1982-10-31",{"$f":"INDIRECT(CONCATENATE(\"'\",B$1,\"'!\",B$4,(YEAR($A745)-1921)*12+MONTH($A745)+3+IF(ISNUMBER(FIND(\"PRV\",B$6)),1,0)))*IF(AND(B$3>0,TRIM(B$9)=\"CFS\"),Conv_Flags!$C745,1)","v":3250},{"$f":"INDIRECT(CONCATENATE(\"'\",C$1,\"'!\",C$4,(YEAR($A745)-1921)*12+MONTH($A745)+3+IF(ISNUMBER(FIND(\"PRV\",C$6)),1,0)))*IF(AND(C$3>0,TRIM(C$9)=\"CFS\"),Conv_Flags!$C745,1)","v":3250}]
["1982-11-30",{"$f":"INDIRECT(CONCATENATE(\"'\",B$1,\"'!\",B$4,(YEAR($A746)-1921)*12+MONTH($A746)+3+IF(ISNUMBER(FIND(\"PRV\",B$6)),1,0)))*IF(AND(B$3>0,TRIM(B$9)=\"CFS\"),Conv_Flags!$C746,1)","v":3252},{"$f":"INDIRECT(CONCATENATE(\"'\",C$1,\"'!\",C$4,(YEAR($A746)-1921)*12+MONTH($A746)+3+IF(ISNUMBER(FIND(\"PRV\",C$6)),1,0)))*IF(AND(C$3>0,TRIM(C$9)=\"CFS\"),Conv_Flags!$C746,1)","v":3252}]
["1982-12-31",{"$f":"INDIRECT(CONCATENATE(\"'\",B$1,\"'!\",B$4,(YEAR($A747)-1921)*12+MONTH($A747)+3+IF(ISNUMBER(FIND(\"PRV\",B$6)),1,0)))*IF(AND(B$3>0,TRIM(B$9)=\"CFS\"),Conv_Flags!$C747,1)","v":3328},{"$f":"INDIRECT(CONCATENATE(\"'\",C$1,\"'!\",C$4,(YEAR($A747)-1921)*12+MONTH($A747)+3+IF(ISNUMBER(FIND(\"PRV\",C$6)),1,0)))*IF(AND(C$3>0,TRIM(C$9)=\"CFS\"),Conv_Flags!$C747,1)","v":3328}]
["1983-01-31",{"$f":"INDIRECT(CONCATENATE(\"'\",B$1,\"'!\",B$4,(YEAR($A748)-1921)*12+MONTH($A748)+3+IF(ISNUMBER(FIND(\"PRV\",B$6)),1,0)))*IF(AND(B$3>0,TRIM(B$9)=\"CFS\"),Conv_Flags!$C748,1)","v":3371},{"$f":"INDIRECT(CONCATENATE(\"'\",C$1,\"'!\",C$4,(YEAR($A748)-1921)*12+MONTH($A748)+3+IF(ISNUMBER(FIND(\"PRV\",C$6)),1,0)))*IF(AND(C$3>0,TRIM(C$9)=\"CFS\"),Conv_Flags!$C748,1)","v":3371}]
["1983-02-28",{"$f":"INDIRECT(CONCATENATE(\"'\",B$1,\"'!\",B$4,(YEAR($A749)-1921)*12+MONTH($A749)+3+IF(ISNUMBER(FIND(\"PRV\",B$6)),1,0)))*IF(AND(B$3>0,TRIM(B$9)=\"CFS\"),Conv_Flags!$C749,1)","v":3252},{"$f":"INDIRECT(CONCATENATE(\"'\",C$1,\"'!\",C$4,(YEAR($A749)-1921)*12+MONTH($A749)+3+IF(ISNUMBER(FIND(\"PRV\",C$6)),1,0)))*IF(AND(C$3>0,TRIM(C$9)=\"CFS\"),Conv_Flags!$C749,1)","v":3252}]
["1983-03-31",{"$f":"INDIRECT(CONCATENATE(\"'\",B$1,\"'!\",B$4,(YEAR($A750)-1921)*12+MONTH($A750)+3+IF(ISNUMBER(FIND(\"PRV\",B$6)),1,0)))*IF(AND(B$3>0,TRIM(B$9)=\"CFS\"),Conv_Flags!$C750,1)","v":3417},{"$f":"INDIRECT(CONCATENATE(\"'\",C$1,\"'!\",C$4,(YEAR($A750)-1921)*12+MONTH($A750)+3+IF(ISNUMBER(FIND(\"PRV\",C$6)),1,0)))*IF(AND(C$3>0,TRIM(C$9)=\"CFS\"),Conv_Flags!$C750,1)","v":3417}]
["1983-04-30",{"$f":"INDIRECT(CONCATENATE(\"'\",B$1,\"'!\",B$4,(YEAR($A751)-1921)*12+MONTH($A751)+3+IF(ISNUMBER(FIND(\"PRV\",B$6)),1,0)))*IF(AND(B$3>0,TRIM(B$9)=\"CFS\"),Conv_Flags!$C751,1)","v":4074},{"$f":"INDIRECT(CONCATENATE(\"'\",C$1,\"'!\",C$4,(YEAR($A751)-1921)*12+MONTH($A751)+3+IF(ISNUMBER(FIND(\"PRV\",C$6)),1,0)))*IF(AND(C$3>0,TRIM(C$9)=\"CFS\"),Conv_Flags!$C751,1)","v":4074}]
["1983-05-31",{"$f":"INDIRECT(CONCATENATE(\"'\",B$1,\"'!\",B$4,(YEAR($A752)-1921)*12+MONTH($A752)+3+IF(ISNUMBER(FIND(\"PRV\",B$6)),1,0)))*IF(AND(B$3>0,TRIM(B$9)=\"CFS\"),Conv_Flags!$C752,1)","v":4552},{"$f":"INDIRECT(CONCATENATE(\"'\",C$1,\"'!\",C$4,(YEAR($A752)-1921)*12+MONTH($A752)+3+IF(ISNUMBER(FIND(\"PRV\",C$6)),1,0)))*IF(AND(C$3>0,TRIM(C$9)=\"CFS\"),Conv_Flags!$C752,1)","v":4552}]
["1983-06-30",{"$f":"INDIRECT(CONCATENATE(\"'\",B$1,\"'!\",B$4,(YEAR($A753)-1921)*12+MONTH($A753)+3+IF(ISNUMBER(FIND(\"PRV\",B$6)),1,0)))*IF(AND(B$3>0,TRIM(B$9)=\"CFS\"),Conv_Flags!$C753,1)","v":4500},{"$f":"INDIRECT(CONCATENATE(\"'\",C$1,\"'!\",C$4,(YEAR($A753)-1921)*12+MONTH($A753)+3+IF(ISNUMBER(FIND(\"PRV\",C$6)),1,0)))*IF(AND(C$3>0,TRIM(C$9)=\"CFS\"),Conv_Flags!$C753,1)","v":4500}]
["1983-07-31",{"$f":"INDIRECT(CONCATENATE(\"'\",B$1,\"'!\",B$4,(YEAR($A754)-1921)*12+MONTH($A754)+3+IF(ISNUMBER(FIND(\"PRV\",B$6)),1,0)))*IF(AND(B$3>0,TRIM(B$9)=\"CFS\"),Conv_Flags!$C754,1)","v":4150},{"$f":"INDIRECT(CONCATENATE(\"'\",C$1,\"'!\",C$4,(YEAR($A754)-1921)*12+MONTH($A754)+3+IF(ISNUMBER(FIND(\"PRV\",C$6)),1,0)))*IF(AND(C$3>0,TRIM(C$9)=\"CFS\"),Conv_Flags!$C754,1)","v":4150}]
["1983-08-31",{"$f":"INDIRECT(CONCATENATE(\"'\",B$1,\"'!\",B$4,(YEAR($A755)-1921)*12+MONTH($A755)+3+IF(ISNUMBER(FIND(\"PRV\",B$6)),1,0)))*IF(AND(B$3>0,TRIM(B$9)=\"CFS\"),Conv_Flags!$C755,1)","v":3700},{"$f":"INDIRECT(CONCATENATE(\"'\",C$1,\"'!\",C$4,(YEAR($A755)-1921)*12+MONTH($A755)+3+IF(ISNUMBER(FIND(\"PRV\",C$6)),1,0)))*IF(AND(C$3>0,TRIM(C$9)=\"CFS\"),Conv_Flags!$C755,1)","v":3700}]
["1983-09-30",{"$f":"INDIRECT(CONCATENATE(\"'\",B$1,\"'!\",B$4,(YEAR($A756)-1921)*12+MONTH($A756)+3+IF(ISNUMBER(FIND(\"PRV\",B$6)),1,0)))*IF(AND(B$3>0,TRIM(B$9)=\"CFS\"),Conv_Flags!$C756,1)","v":3400},{"$f":"INDIRECT(CONCATENATE(\"'\",C$1,\"'!\",C$4,(YEAR($A756)-1921)*12+MONTH($A756)+3+IF(ISNUMBER(FIND(\"PRV\",C$6)),1,0)))*IF(AND(C$3>0,TRIM(C$9)=\"CFS\"),Conv_Flags!$C756,1)","v":3400}]
["1983-10-31",{"$f":"INDIRECT(CONCATENATE(\"'\",B$1,\"'!\",B$4,(YEAR($A757)-1921)*12+MONTH($A757)+3+IF(ISNUMBER(FIND(\"PRV\",B$6)),1,0)))*IF(AND(B$3>0,TRIM(B$9)=\"CFS\"),Conv_Flags!$C757,1)","v":3250},{"$f":"INDIRECT(CONCATENATE(\"'\",C$1,\"'!\",C$4,(YEAR($A757)-1921)*12+MONTH($A757)+3+IF(ISNUMBER(FIND(\"PRV\",C$6)),1,0)))*IF(AND(C$3>0,TRIM(C$9)=\"CFS\"),Conv_Flags!$C757,1)","v":3250}]
["1983-11-30",{"$f":"INDIRECT(CONCATENATE(\"'\",B$1,\"'!\",B$4,(YEAR($A758)-1921)*12+MONTH($A758)+3+IF(ISNUMBER(FIND(\"PRV\",B$6)),1,0)))*IF(AND(B$3>0,TRIM(B$9)=\"CFS\"),Conv_Flags!$C758,1)","v":3252},{"$f":"INDIRECT(CONCATENATE(\"'\",C$1,\"'!\",C$4,(YEAR($A758)-1921)*12+MONTH($A758)+3+IF(ISNUMBER(FIND(\"PRV\",C$6)),1,0)))*IF(AND(C$3>0,TRIM(C$9)=\"CFS\"),Conv_Flags!$C758,1)","v":3252}]
["1983-12-31",{"$f":"INDIRECT(CONCATENATE(\"'\",B$1,\"'!\",B$4,(YEAR($A759)-1921)*12+MONTH($A759)+3+IF(ISNUMBER(FIND(\"PRV\",B$6)),1,0)))*IF(AND(B$3>0,TRIM(B$9)=\"CFS\"),Conv_Flags!$C759,1)","v":3285},{"$f":"INDIRECT(CONCATENATE(\"'\",C$1,\"'!\",C$4,(YEAR($A759)-1921)*12+MONTH($A759)+3+IF(ISNUMBER(FIND(\"PRV\",C$6)),1,0)))*IF(AND(C$3>0,TRIM(C$9)=\"CFS\"),Conv_Flags!$C759,1)","v":3285}]
["1984-01-31",{"$f":"INDIRECT(CONCATENATE(\"'\",B$1,\"'!\",B$4,(YEAR($A760)-1921)*12+MONTH($A760)+3+IF(ISNUMBER(FIND(\"PRV\",B$6)),1,0)))*IF(AND(B$3>0,TRIM(B$9)=\"CFS\"),Conv_Flags!$C760,1)","v":3650},{"$f":"INDIRECT(CONCATENATE(\"'\",C$1,\"'!\",C$4,(YEAR($A760)-1921)*12+MONTH($A760)+3+IF(ISNUMBER(FIND(\"PRV\",C$6)),1,0)))*IF(AND(C$3>0,TRIM(C$9)=\"CFS\"),Conv_Flags!$C760,1)","v":3650}]
["1984-02-29",{"$f":"INDIRECT(CONCATENATE(\"'\",B$1,\"'!\",B$4,(YEAR($A761)-1921)*12+MONTH($A761)+3+IF(ISNUMBER(FIND(\"PRV\",B$6)),1,0)))*IF(AND(B$3>0,TRIM(B$9)=\"CFS\"),Conv_Flags!$C761,1)","v":4005},{"$f":"INDIRECT(CONCATENATE(\"'\",C$1,\"'!\",C$4,(YEAR($A761)-1921)*12+MONTH($A761)+3+IF(ISNUMBER(FIND(\"PRV\",C$6)),1,0)))*IF(AND(C$3>0,TRIM(C$9)=\"CFS\"),Conv_Flags!$C761,1)","v":4005}]
["1984-03-31",{"$f":"INDIRECT(CONCATENATE(\"'\",B$1,\"'!\",B$4,(YEAR($A762)-1921)*12+MONTH($A762)+3+IF(ISNUMBER(FIND(\"PRV\",B$6)),1,0)))*IF(AND(B$3>0,TRIM(B$9)=\"CFS\"),Conv_Flags!$C762,1)","v":4246},{"$f":"INDIRECT(CONCATENATE(\"'\",C$1,\"'!\",C$4,(YEAR($A762)-1921)*12+MONTH($A762)+3+IF(ISNUMBER(FIND(\"PRV\",C$6)),1,0)))*IF(AND(C$3>0,TRIM(C$9)=\"CFS\"),Conv_Flags!$C762,1)","v":4246}]
["1984-04-30",{"$f":"INDIRECT(CONCATENATE(\"'\",B$1,\"'!\",B$4,(YEAR($A763)-1921)*12+MONTH($A763)+3+IF(ISNUMBER(FIND(\"PRV\",B$6)),1,0)))*IF(AND(B$3>0,TRIM(B$9)=\"CFS\"),Conv_Flags!$C763,1)","v":4552},{"$f":"INDIRECT(CONCATENATE(\"'\",C$1,\"'!\",C$4,(YEAR($A763)-1921)*12+MONTH($A763)+3+IF(ISNUMBER(FIND(\"PRV\",C$6)),1,0)))*IF(AND(C$3>0,TRIM(C$9)=\"CFS\"),Conv_Flags!$C763,1)","v":4552}]
["1984-05-31",{"$f":"INDIRECT(CONCATENATE(\"'\",B$1,\"'!\",B$4,(YEAR($A764)-1921)*12+MONTH($A764)+3+IF(ISNUMBER(FIND(\"PRV\",B$6)),1,0)))*IF(AND(B$3>0,TRIM(B$9)=\"CFS\"),Conv_Flags!$C764,1)","v":4552},{"$f":"INDIRECT(CONCATENATE(\"'\",C$1,\"'!\",C$4,(YEAR($A764)-1921)*12+MONTH($A764)+3+IF(ISNUMBER(FIND(\"PRV\",C$6)),1,0)))*IF(AND(C$3>0,TRIM(C$9)=\"CFS\"),Conv_Flags!$C764,1)","v":4552}]
["1984-06-30",{"$f":"INDIRECT(CONCATENATE(\"'\",B$1,\"'!\",B$4,(YEAR($A765)-1921)*12+MONTH($A765)+3+IF(ISNUMBER(FIND(\"PRV\",B$6)),1,0)))*IF(AND(B$3>0,TRIM(B$9)=\"CFS\"),Conv_Flags!$C765,1)","v":4280.4342178834122},{"$f":"INDIRECT(CONCATENATE(\"'\",C$1,\"'!\",C$4,(YEAR($A765)-1921)*12+MONTH($A765)+3+IF(ISNUMBER(FIND(\"PRV\",C$6)),1,0)))*IF(AND(C$3>0,TRIM(C$9)=\"CFS\"),Conv_Flags!$C765,1)","v":4272.2476889088985}]
["1984-07-31",{"$f":"INDIRECT(CONCATENATE(\"'\",B$1,\"'!\",B$4,(YEAR($A766)-1921)*12+MONTH($A766)+3+IF(ISNUMBER(FIND(\"PRV\",B$6)),1,0)))*IF(AND(B$3>0,TRIM(B$9)=\"CFS\"),Conv_Flags!$C766,1)","v":3612.1672830229645},{"$f":"INDIRECT(CONCATENATE(\"'\",C$1,\"'!\",C$4,(YEAR($A766)-1921)*12+MONTH($A766)+3+IF(ISNUMBER(FIND(\"PRV\",C$6)),1,0)))*IF(AND(C$3>0,TRIM(C$9)=\"CFS\"),Conv_Flags!$C766,1)","v":3604.0158004264417}]
["1984-08-31",{"$f":"INDIRECT(CONCATENATE(\"'\",B$1,\"'!\",B$4,(YEAR($A767)-1921)*12+MONTH($A767)+3+IF(ISNUMBER(FIND(\"PRV\",B$6)),1,0)))*IF(AND(B$3>0,TRIM(B$9)=\"CFS\"),Conv_Flags!$C767,1)","v":3381.03204007563},{"$f":"INDIRECT(CONCATENATE(\"'\",C$1,\"'!\",C$4,(YEAR($A767)-1921)*12+MONTH($A767)+3+IF(ISNUMBER(FIND(\"PRV\",C$6)),1,0)))*IF(AND(C$3>0,TRIM(C$9)=\"CFS\"),Conv_Flags!$C767,1)","v":3371.9872476505384}]
["1984-09-30",{"$f":"INDIRECT(CONCATENATE(\"'\",B$1,\"'!\",B$4,(YEAR($A768)-1921)*12+MONTH($A768)+3+IF(ISNUMBER(FIND(\"PRV\",B$6)),1,0)))*IF(AND(B$3>0,TRIM(B$9)=\"CFS\"),Conv_Flags!$C768,1)","v":3234.9247046673531},{"$f":"INDIRECT(CONCATENATE(\"'\",C$1,\"'!\",C$4,(YEAR($A768)-1921)*12+MONTH($A768)+3+IF(ISNUMBER(FIND(\"PRV\",C$6)),1,0)))*IF(AND(C$3>0,TRIM(C$9)=\"CFS\"),Conv_Flags!$C768,1)","v":3234.318583834437}]
["1984-10-31",{"$f":"INDIRECT(CONCATENATE(\"'\",B$1,\"'!\",B$4,(YEAR($A769)-1921)*12+MONTH($A769)+3+IF(ISNUMBER(FIND(\"PRV\",B$6)),1,0)))*IF(AND(B$3>0,TRIM(B$9)=\"CFS\"),Conv_Flags!$C769,1)","v":3247.0903522359131},{"$f":"INDIRECT(CONCATENATE(\"'\",C$1,\"'!\",C$4,(YEAR($A769)-1921)*12+MONTH($A769)+3+IF(ISNUMBER(FIND(\"PRV\",C$6)),1,0)))*IF(AND(C$3>0,TRIM(C$9)=\"CFS\"),Conv_Flags!$C769,1)","v":3246.4852370591661}]
["1984-11-30",{"$f":"INDIRECT(CONCATENATE(\"'\",B$1,\"'!\",B$4,(YEAR($A770)-1921)*12+MONTH($A770)+3+IF(ISNUMBER(FIND(\"PRV\",B$6)),1,0)))*IF(AND(B$3>0,TRIM(B$9)=\"CFS\"),Conv_Flags!$C770,1)","v":3252},{"$f":"INDIRECT(CONCATENATE(\"'\",C$1,\"'!\",C$4,(YEAR($A770)-1921)*12+MONTH($A770)+3+IF(ISNUMBER(FIND(\"PRV\",C$6)),1,0)))*IF(AND(C$3>0,TRIM(C$9)=\"CFS\"),Conv_Flags!$C770,1)","v":3252}]
["1984-12-31",{"$f":"INDIRECT(CONCATENATE(\"'\",B$1,\"'!\",B$4,(YEAR($A771)-1921)*12+MONTH($A771)+3+IF(ISNUMBER(FIND(\"PRV\",B$6)),1,0)))*IF(AND(B$3>0,TRIM(B$9)=\"CFS\"),Conv_Flags!$C771,1)","v":3360},{"$f":"INDIRECT(CONCATENATE(\"'\",C$1,\"'!\",C$4,(YEAR($A771)-1921)*12+MONTH($A771)+3+IF(ISNUMBER(FIND(\"PRV\",C$6)),1,0)))*IF(AND(C$3>0,TRIM(C$9)=\"CFS\"),Conv_Flags!$C771,1)","v":3360}]
["1985-01-31",{"$f":"INDIRECT(CONCATENATE(\"'\",B$1,\"'!\",B$4,(YEAR($A772)-1921)*12+MONTH($A772)+3+IF(ISNUMBER(FIND(\"PRV\",B$6)),1,0)))*IF(AND(B$3>0,TRIM(B$9)=\"CFS\"),Conv_Flags!$C772,1)","v":3541.5708774154605},{"$f":"INDIRECT(CONCATENATE(\"'\",C$1,\"'!\",C$4,(YEAR($A772)-1921)*12+MONTH($A772)+3+IF(ISNUMBER(FIND(\"PRV\",C$6)),1,0)))*IF(AND(C$3>0,TRIM(C$9)=\"CFS\"),Conv_Flags!$C772,1)","v":3541.570874217201}]
["1985-02-28",{"$f":"INDIRECT(CONCATENATE(\"'\",B$1,\"'!\",B$4,(YEAR($A773)-1921)*12+MONTH($A773)+3+IF(ISNUMBER(FIND(\"PRV\",B$6)),1,0)))*IF(AND(B$3>0,TRIM(B$9)=\"CFS\"),Conv_Flags!$C773,1)","v":3713.6708782581632},{"$f":"INDIRECT(CONCATENATE(\"'\",C$1,\"'!\",C$4,(YEAR($A773)-1921)*12+MONTH($A773)+3+IF(ISNUMBER(FIND(\"PRV\",C$6)),1,0)))*IF(AND(C$3>0,TRIM(C$9)=\"CFS\"),Conv_Flags!$C773,1)","v":3713.6708750625389}]
["1985-03-31",{"$f":"INDIRECT(CONCATENATE(\"'\",B$1,\"'!\",B$4,(YEAR($A774)-1921)*12+MONTH($A774)+3+IF(ISNUMBER(FIND(\"PRV\",B$6)),1,0)))*IF(AND(B$3>0,TRIM(B$9)=\"CFS\"),Conv_Flags!$C774,1)","v":3925.3710421797186},{"$f":"INDIRECT(CONCATENATE(\"'\",C$1,\"'!\",C$4,(YEAR($A774)-1921)*12+MONTH($A774)+3+IF(ISNUMBER(FIND(\"PRV\",C$6)),1,0)))*IF(AND(C$3>0,TRIM(C$9)=\"CFS\"),Conv_Flags!$C774,1)","v":3925.3710394011637}]
["1985-04-30",{"$f":"INDIRECT(CONCATENATE(\"'\",B$1,\"'!\",B$4,(YEAR($A775)-1921)*12+MONTH($A775)+3+IF(ISNUMBER(FIND(\"PRV\",B$6)),1,0)))*IF(AND(B$3>0,TRIM(B$9)=\"CFS\"),Conv_Flags!$C775,1)","v":4151.7636401387035},{"$f":"INDIRECT(CONCATENATE(\"'\",C$1,\"'!\",C$4,(YEAR($A775)-1921)*12+MONTH($A775)+3+IF(ISNUMBER(FIND(\"PRV\",C$6)),1,0)))*IF(AND(C$3>0,TRIM(C$9)=\"CFS\"),Conv_Flags!$C775,1)","v":4151.7636373661517}]
["1985-05-31",{"$f":"INDIRECT(CONCATENATE(\"'\",B$1,\"'!\",B$4,(YEAR($A776)-1921)*12+MONTH($A776)+3+IF(ISNUMBER(FIND(\"PRV\",B$6)),1,0)))*IF(AND(B$3>0,TRIM(B$9)=\"CFS\"),Conv_Flags!$C776,1)","v":3833.7062948592838},{"$f":"INDIRECT(CONCATENATE(\"'\",C$1,\"'!\",C$4,(YEAR($A776)-1921)*12+MONTH($A776)+3+IF(ISNUMBER(FIND(\"PRV\",C$6)),1,0)))*IF(AND(C$3>0,TRIM(C$9)=\"CFS\"),Conv_Flags!$C776,1)","v":3898.9430201245523}]
["1985-06-30",{"$f":"INDIRECT(CONCATENATE(\"'\",B$1,\"'!\",B$4,(YEAR($A777)-1921)*12+MONTH($A777)+3+IF(ISNUMBER(FIND(\"PRV\",B$6)),1,0)))*IF(AND(B$3>0,TRIM(B$9)=\"CFS\"),Conv_Flags!$C777,1)","v":3316.7179061147713},{"$f":"INDIRECT(CONCATENATE(\"'\",C$1,\"'!\",C$4,(YEAR($A777)-1921)*12+MONTH($A777)+3+IF(ISNUMBER(FIND(\"PRV\",C$6)),1,0)))*IF(AND(C$3>0,TRIM(C$9)=\"CFS\"),Conv_Flags!$C777,1)","v":3374.483493389218}]
["1985-07-31",{"$f":"INDIRECT(CONCATENATE(\"'\",B$1,\"'!\",B$4,(YEAR($A778)-1921)*12+MONTH($A778)+3+IF(ISNUMBER(FIND(\"PRV\",B$6)),1,0)))*IF(AND(B$3>0,TRIM(B$9)=\"CFS\"),Conv_Flags!$C778,1)","v":2983.155160214545},{"$f":"INDIRECT(CONCATENATE(\"'\",C$1,\"'!\",C$4,(YEAR($A778)-1921)*12+MONTH($A778)+3+IF(ISNUMBER(FIND(\"PRV\",C$6)),1,0)))*IF(AND(C$3>0,TRIM(C$9)=\"CFS\"),Conv_Flags!$C778,1)","v":3054.2875953565112}]
["1985-08-31",{"$f":"INDIRECT(CONCATENATE(\"'\",B$1,\"'!\",B$4,(YEAR($A779)-1921)*12+MONTH($A779)+3+IF(ISNUMBER(FIND(\"PRV\",B$6)),1,0)))*IF(AND(B$3>0,TRIM(B$9)=\"CFS\"),Conv_Flags!$C779,1)","v":2694.4871211371687},{"$f":"INDIRECT(CONCATENATE(\"'\",C$1,\"'!\",C$4,(YEAR($A779)-1921)*12+MONTH($A779)+3+IF(ISNUMBER(FIND(\"PRV\",C$6)),1,0)))*IF(AND(C$3>0,TRIM(C$9)=\"CFS\"),Conv_Flags!$C779,1)","v":2756.6422886929372}]
["1985-09-30",{"$f":"INDIRECT(CONCATENATE(\"'\",B$1,\"'!\",B$4,(YEAR($A780)-1921)*12+MONTH($A780)+3+IF(ISNUMBER(FIND(\"PRV\",B$6)),1,0)))*IF(AND(B$3>0,TRIM(B$9)=\"CFS\"),Conv_Flags!$C780,1)","v":2706.5501064712739},{"$f":"INDIRECT(CONCATENATE(\"'\",C$1,\"'!\",C$4,(YEAR($A780)-1921)*12+MONTH($A780)+3+IF(ISNUMBER(FIND(\"PRV\",C$6)),1,0)))*IF(AND(C$3>0,TRIM(C$9)=\"CFS\"),Conv_Flags!$C780,1)","v":2773.8706227003759}]
["1985-10-31",{"$f":"INDIRECT(CONCATENATE(\"'\",B$1,\"'!\",B$4,(YEAR($A781)-1921)*12+MONTH($A781)+3+IF(ISNUMBER(FIND(\"PRV\",B$6)),1,0)))*IF(AND(B$3>0,TRIM(B$9)=\"CFS\"),Conv_Flags!$C781,1)","v":2722.4047624361651},{"$f":"INDIRECT(CONCATENATE(\"'\",C$1,\"'!\",C$4,(YEAR($A781)-1921)*12+MONTH($A781)+3+IF(ISNUMBER(FIND(\"PRV\",C$6)),1,0)))*IF(AND(C$3>0,TRIM(C$9)=\"CFS\"),Conv_Flags!$C781,1)","v":2786.689575312088}]
["1985-11-30",{"$f":"INDIRECT(CONCATENATE(\"'\",B$1,\"'!\",B$4,(YEAR($A782)-1921)*12+MONTH($A782)+3+IF(ISNUMBER(FIND(\"PRV\",B$6)),1,0)))*IF(AND(B$3>0,TRIM(B$9)=\"CFS\"),Conv_Flags!$C782,1)","v":2686.7025590380199},{"$f":"INDIRECT(CONCATENATE(\"'\",C$1,\"'!\",C$4,(YEAR($A782)-1921)*12+MONTH($A782)+3+IF(ISNUMBER(FIND(\"PRV\",C$6)),1,0)))*IF(AND(C$3>0,TRIM(C$9)=\"CFS\"),Conv_Flags!$C782,1)","v":2755.1257504089258}]
["1985-12-31",{"$f":"INDIRECT(CONCATENATE(\"'\",B$1,\"'!\",B$4,(YEAR($A783)-1921)*12+MONTH($A783)+3+IF(ISNUMBER(FIND(\"PRV\",B$6)),1,0)))*IF(AND(B$3>0,TRIM(B$9)=\"CFS\"),Conv_Flags!$C783,1)","v":2875.1237385333925},{"$f":"INDIRECT(CONCATENATE(\"'\",C$1,\"'!\",C$4,(YEAR($A783)-1921)*12+MONTH($A783)+3+IF(ISNUMBER(FIND(\"PRV\",C$6)),1,0)))*IF(AND(C$3>0,TRIM(C$9)=\"CFS\"),Conv_Flags!$C783,1)","v":2943.5082552717572}]
["1986-01-31",{"$f":"INDIRECT(CONCATENATE(\"'\",B$1,\"'!\",B$4,(YEAR($A784)-1921)*12+MONTH($A784)+3+IF(ISNUMBER(FIND(\"PRV\",B$6)),1,0)))*IF(AND(B$3>0,TRIM(B$9)=\"CFS\"),Conv_Flags!$C784,1)","v":3450.1199584381779},{"$f":"INDIRECT(CONCATENATE(\"'\",C$1,\"'!\",C$4,(YEAR($A784)-1921)*12+MONTH($A784)+3+IF(ISNUMBER(FIND(\"PRV\",C$6)),1,0)))*IF(AND(C$3>0,TRIM(C$9)=\"CFS\"),Conv_Flags!$C784,1)","v":3518.4560865666585}]
["1986-02-28",{"$f":"INDIRECT(CONCATENATE(\"'\",B$1,\"'!\",B$4,(YEAR($A785)-1921)*12+MONTH($A785)+3+IF(ISNUMBER(FIND(\"PRV\",B$6)),1,0)))*IF(AND(B$3>0,TRIM(B$9)=\"CFS\"),Conv_Flags!$C785,1)","v":3252},{"$f":"INDIRECT(CONCATENATE(\"'\",C$1,\"'!\",C$4,(YEAR($A785)-1921)*12+MONTH($A785)+3+IF(ISNUMBER(FIND(\"PRV\",C$6)),1,0)))*IF(AND(C$3>0,TRIM(C$9)=\"CFS\"),Conv_Flags!$C785,1)","v":3252}]
["1986-03-31",{"$f":"INDIRECT(CONCATENATE(\"'\",B$1,\"'!\",B$4,(YEAR($A786)-1921)*12+MONTH($A786)+3+IF(ISNUMBER(FIND(\"PRV\",B$6)),1,0)))*IF(AND(B$3>0,TRIM(B$9)=\"CFS\"),Conv_Flags!$C786,1)","v":3534},{"$f":"INDIRECT(CONCATENATE(\"'\",C$1,\"'!\",C$4,(YEAR($A786)-1921)*12+MONTH($A786)+3+IF(ISNUMBER(FIND(\"PRV\",C$6)),1,0)))*IF(AND(C$3>0,TRIM(C$9)=\"CFS\"),Conv_Flags!$C786,1)","v":3534}]
["1986-04-30",{"$f":"INDIRECT(CONCATENATE(\"'\",B$1,\"'!\",B$4,(YEAR($A787)-1921)*12+MONTH($A787)+3+IF(ISNUMBER(FIND(\"PRV\",B$6)),1,0)))*IF(AND(B$3>0,TRIM(B$9)=\"CFS\"),Conv_Flags!$C787,1)","v":4030.3765964253635},{"$f":"INDIRECT(CONCATENATE(\"'\",C$1,\"'!\",C$4,(YEAR($A787)-1921)*12+MONTH($A787)+3+IF(ISNUMBER(FIND(\"PRV\",C$6)),1,0)))*IF(AND(C$3>0,TRIM(C$9)=\"CFS\"),Conv_Flags!$C787,1)","v":4030.3765931319599}]
["1986-05-31",{"$f":"INDIRECT(CONCATENATE(\"'\",B$1,\"'!\",B$4,(YEAR($A788)-1921)*12+MONTH($A788)+3+IF(ISNUMBER(FIND(\"PRV\",B$6)),1,0)))*IF(AND(B$3>0,TRIM(B$9)=\"CFS\"),Conv_Flags!$C788,1)","v":4025.5847969345623},{"$f":"INDIRECT(CONCATENATE(\"'\",C$1,\"'!\",C$4,(YEAR($A788)-1921)*12+MONTH($A788)+3+IF(ISNUMBER(FIND(\"PRV\",C$6)),1,0)))*IF(AND(C$3>0,TRIM(C$9)=\"CFS\"),Conv_Flags!$C788,1)","v":4023.9277153311828}]
["1986-06-30",{"$f":"INDIRECT(CONCATENATE(\"'\",B$1,\"'!\",B$4,(YEAR($A789)-1921)*12+MONTH($A789)+3+IF(ISNUMBER(FIND(\"PRV\",B$6)),1,0)))*IF(AND(B$3>0,TRIM(B$9)=\"CFS\"),Conv_Flags!$C789,1)","v":3728.8317739120644},{"$f":"INDIRECT(CONCATENATE(\"'\",C$1,\"'!\",C$4,(YEAR($A789)-1921)*12+MONTH($A789)+3+IF(ISNUMBER(FIND(\"PRV\",C$6)),1,0)))*IF(AND(C$3>0,TRIM(C$9)=\"CFS\"),Conv_Flags!$C789,1)","v":3726.8270915894241}]
["1986-07-31",{"$f":"INDIRECT(CONCATENATE(\"'\",B$1,\"'!\",B$4,(YEAR($A790)-1921)*12+MONTH($A790)+3+IF(ISNUMBER(FIND(\"PRV\",B$6)),1,0)))*IF(AND(B$3>0,TRIM(B$9)=\"CFS\"),Conv_Flags!$C790,1)","v":3407.9092334891225},{"$f":"INDIRECT(CONCATENATE(\"'\",C$1,\"'!\",C$4,(YEAR($A790)-1921)*12+MONTH($A790)+3+IF(ISNUMBER(FIND(\"PRV\",C$6)),1,0)))*IF(AND(C$3>0,TRIM(C$9)=\"CFS\"),Conv_Flags!$C790,1)","v":3339.1168913676333}]
["1986-08-31",{"$f":"INDIRECT(CONCATENATE(\"'\",B$1,\"'!\",B$4,(YEAR($A791)-1921)*12+MONTH($A791)+3+IF(ISNUMBER(FIND(\"PRV\",B$6)),1,0)))*IF(AND(B$3>0,TRIM(B$9)=\"CFS\"),Conv_Flags!$C791,1)","v":3090.4335097995058},{"$f":"INDIRECT(CONCATENATE(\"'\",C$1,\"'!\",C$4,(YEAR($A791)-1921)*12+MONTH($A791)+3+IF(ISNUMBER(FIND(\"PRV\",C$6)),1,0)))*IF(AND(C$3>0,TRIM(C$9)=\"CFS\"),Conv_Flags!$C791,1)","v":3046.042206772011}]
["1986-09-30",{"$f":"INDIRECT(CONCATENATE(\"'\",B$1,\"'!\",B$4,(YEAR($A792)-1921)*12+MONTH($A792)+3+IF(ISNUMBER(FIND(\"PRV\",B$6)),1,0)))*IF(AND(B$3>0,TRIM(B$9)=\"CFS\"),Conv_Flags!$C792,1)","v":3194.2918210280245},{"$f":"INDIRECT(CONCATENATE(\"'\",C$1,\"'!\",C$4,(YEAR($A792)-1921)*12+MONTH($A792)+3+IF(ISNUMBER(FIND(\"PRV\",C$6)),1,0)))*IF(AND(C$3>0,TRIM(C$9)=\"CFS\"),Conv_Flags!$C792,1)","v":3151.8753565410525}]
["1986-10-31",{"$f":"INDIRECT(CONCATENATE(\"'\",B$1,\"'!\",B$4,(YEAR($A793)-1921)*12+MONTH($A793)+3+IF(ISNUMBER(FIND(\"PRV\",B$6)),1,0)))*IF(AND(B$3>0,TRIM(B$9)=\"CFS\"),Conv_Flags!$C793,1)","v":3186.8803370716619},{"$f":"INDIRECT(CONCATENATE(\"'\",C$1,\"'!\",C$4,(YEAR($A793)-1921)*12+MONTH($A793)+3+IF(ISNUMBER(FIND(\"PRV\",C$6)),1,0)))*IF(AND(C$3>0,TRIM(C$9)=\"CFS\"),Conv_Flags!$C793,1)","v":3137.6913830059684}]
["1986-11-30",{"$f":"INDIRECT(CONCATENATE(\"'\",B$1,\"'!\",B$4,(YEAR($A794)-1921)*12+MONTH($A794)+3+IF(ISNUMBER(FIND(\"PRV\",B$6)),1,0)))*IF(AND(B$3>0,TRIM(B$9)=\"CFS\"),Conv_Flags!$C794,1)","v":3042.4119386083676},{"$f":"INDIRECT(CONCATENATE(\"'\",C$1,\"'!\",C$4,(YEAR($A794)-1921)*12+MONTH($A794)+3+IF(ISNUMBER(FIND(\"PRV\",C$6)),1,0)))*IF(AND(C$3>0,TRIM(C$9)=\"CFS\"),Conv_Flags!$C794,1)","v":3011.817726350479}]
["1986-12-31",{"$f":"INDIRECT(CONCATENATE(\"'\",B$1,\"'!\",B$4,(YEAR($A795)-1921)*12+MONTH($A795)+3+IF(ISNUMBER(FIND(\"PRV\",B$6)),1,0)))*IF(AND(B$3>0,TRIM(B$9)=\"CFS\"),Conv_Flags!$C795,1)","v":2970.0076016739263},{"$f":"INDIRECT(CONCATENATE(\"'\",C$1,\"'!\",C$4,(YEAR($A795)-1921)*12+MONTH($A795)+3+IF(ISNUMBER(FIND(\"PRV\",C$6)),1,0)))*IF(AND(C$3>0,TRIM(C$9)=\"CFS\"),Conv_Flags!$C795,1)","v":2929.2586746937786}]
["1987-01-31",{"$f":"INDIRECT(CONCATENATE(\"'\",B$1,\"'!\",B$4,(YEAR($A796)-1921)*12+MONTH($A796)+3+IF(ISNUMBER(FIND(\"PRV\",B$6)),1,0)))*IF(AND(B$3>0,TRIM(B$9)=\"CFS\"),Conv_Flags!$C796,1)","v":3104.4374810801933},{"$f":"INDIRECT(CONCATENATE(\"'\",C$1,\"'!\",C$4,(YEAR($A796)-1921)*12+MONTH($A796)+3+IF(ISNUMBER(FIND(\"PRV\",C$6)),1,0)))*IF(AND(C$3>0,TRIM(C$9)=\"CFS\"),Conv_Flags!$C796,1)","v":3057.5682682315119}]
["1987-02-28",{"$f":"INDIRECT(CONCATENATE(\"'\",B$1,\"'!\",B$4,(YEAR($A797)-1921)*12+MONTH($A797)+3+IF(ISNUMBER(FIND(\"PRV\",B$6)),1,0)))*IF(AND(B$3>0,TRIM(B$9)=\"CFS\"),Conv_Flags!$C797,1)","v":3436.0977804232248},{"$f":"INDIRECT(CONCATENATE(\"'\",C$1,\"'!\",C$4,(YEAR($A797)-1921)*12+MONTH($A797)+3+IF(ISNUMBER(FIND(\"PRV\",C$6)),1,0)))*IF(AND(C$3>0,TRIM(C$9)=\"CFS\"),Conv_Flags!$C797,1)","v":3389.2692377198514}]
["1987-03-31",{"$f":"INDIRECT(CONCATENATE(\"'\",B$1,\"'!\",B$4,(YEAR($A798)-1921)*12+MONTH($A798)+3+IF(ISNUMBER(FIND(\"PRV\",B$6)),1,0)))*IF(AND(B$3>0,TRIM(B$9)=\"CFS\"),Conv_Flags!$C798,1)","v":4161.6660405454677},{"$f":"INDIRECT(CONCATENATE(\"'\",C$1,\"'!\",C$4,(YEAR($A798)-1921)*12+MONTH($A798)+3+IF(ISNUMBER(FIND(\"PRV\",C$6)),1,0)))*IF(AND(C$3>0,TRIM(C$9)=\"CFS\"),Conv_Flags!$C798,1)","v":4114.8983328022377}]
["1987-04-30",{"$f":"INDIRECT(CONCATENATE(\"'\",B$1,\"'!\",B$4,(YEAR($A799)-1921)*12+MONTH($A799)+3+IF(ISNUMBER(FIND(\"PRV\",B$6)),1,0)))*IF(AND(B$3>0,TRIM(B$9)=\"CFS\"),Conv_Flags!$C799,1)","v":4121.3205893895156},{"$f":"INDIRECT(CONCATENATE(\"'\",C$1,\"'!\",C$4,(YEAR($A799)-1921)*12+MONTH($A799)+3+IF(ISNUMBER(FIND(\"PRV\",C$6)),1,0)))*IF(AND(C$3>0,TRIM(C$9)=\"CFS\"),Conv_Flags!$C799,1)","v":4080.8970221796699}]
["1987-05-31",{"$f":"INDIRECT(CONCATENATE(\"'\",B$1,\"'!\",B$4,(YEAR($A800)-1921)*12+MONTH($A800)+3+IF(ISNUMBER(FIND(\"PRV\",B$6)),1,0)))*IF(AND(B$3>0,TRIM(B$9)=\"CFS\"),Conv_Flags!$C800,1)","v":3764.4606877586871},{"$f":"INDIRECT(CONCATENATE(\"'\",C$1,\"'!\",C$4,(YEAR($A800)-1921)*12+MONTH($A800)+3+IF(ISNUMBER(FIND(\"PRV\",C$6)),1,0)))*IF(AND(C$3>0,TRIM(C$9)=\"CFS\"),Conv_Flags!$C800,1)","v":3780.9609910901017}]
["1987-06-30",{"$f":"INDIRECT(CONCATENATE(\"'\",B$1,\"'!\",B$4,(YEAR($A801)-1921)*12+MONTH($A801)+3+IF(ISNUMBER(FIND(\"PRV\",B$6)),1,0)))*IF(AND(B$3>0,TRIM(B$9)=\"CFS\"),Conv_Flags!$C801,1)","v":3155.9538606199467},{"$f":"INDIRECT(CONCATENATE(\"'\",C$1,\"'!\",C$4,(YEAR($A801)-1921)*12+MONTH($A801)+3+IF(ISNUMBER(FIND(\"PRV\",C$6)),1,0)))*IF(AND(C$3>0,TRIM(C$9)=\"CFS\"),Conv_Flags!$C801,1)","v":3155.9978141328847}]
["1987-07-31",{"$f":"INDIRECT(CONCATENATE(\"'\",B$1,\"'!\",B$4,(YEAR($A802)-1921)*12+MONTH($A802)+3+IF(ISNUMBER(FIND(\"PRV\",B$6)),1,0)))*IF(AND(B$3>0,TRIM(B$9)=\"CFS\"),Conv_Flags!$C802,1)","v":2701.545974845757},{"$f":"INDIRECT(CONCATENATE(\"'\",C$1,\"'!\",C$4,(YEAR($A802)-1921)*12+MONTH($A802)+3+IF(ISNUMBER(FIND(\"PRV\",C$6)),1,0)))*IF(AND(C$3>0,TRIM(C$9)=\"CFS\"),Conv_Flags!$C802,1)","v":2695.5747307248125}]
["1987-08-31",{"$f":"INDIRECT(CONCATENATE(\"'\",B$1,\"'!\",B$4,(YEAR($A803)-1921)*12+MONTH($A803)+3+IF(ISNUMBER(FIND(\"PRV\",B$6)),1,0)))*IF(AND(B$3>0,TRIM(B$9)=\"CFS\"),Conv_Flags!$C803,1)","v":2412.5639177606581},{"$f":"INDIRECT(CONCATENATE(\"'\",C$1,\"'!\",C$4,(YEAR($A803)-1921)*12+MONTH($A803)+3+IF(ISNUMBER(FIND(\"PRV\",C$6)),1,0)))*IF(AND(C$3>0,TRIM(C$9)=\"CFS\"),Conv_Flags!$C803,1)","v":2402.4972773307918}]
["1987-09-30",{"$f":"INDIRECT(CONCATENATE(\"'\",B$1,\"'!\",B$4,(YEAR($A804)-1921)*12+MONTH($A804)+3+IF(ISNUMBER(FIND(\"PRV\",B$6)),1,0)))*IF(AND(B$3>0,TRIM(B$9)=\"CFS\"),Conv_Flags!$C804,1)","v":2294.6397645009561},{"$f":"INDIRECT(CONCATENATE(\"'\",C$1,\"'!\",C$4,(YEAR($A804)-1921)*12+MONTH($A804)+3+IF(ISNUMBER(FIND(\"PRV\",C$6)),1,0)))*IF(AND(C$3>0,TRIM(C$9)=\"CFS\"),Conv_Flags!$C804,1)","v":2287.087670088169}]
["1987-10-31",{"$f":"INDIRECT(CONCATENATE(\"'\",B$1,\"'!\",B$4,(YEAR($A805)-1921)*12+MONTH($A805)+3+IF(ISNUMBER(FIND(\"PRV\",B$6)),1,0)))*IF(AND(B$3>0,TRIM(B$9)=\"CFS\"),Conv_Flags!$C805,1)","v":2150.5425889956523},{"$f":"INDIRECT(CONCATENATE(\"'\",C$1,\"'!\",C$4,(YEAR($A805)-1921)*12+MONTH($A805)+3+IF(ISNUMBER(FIND(\"PRV\",C$6)),1,0)))*IF(AND(C$3>0,TRIM(C$9)=\"CFS\"),Conv_Flags!$C805,1)","v":2141.7950621021082}]
["1987-11-30",{"$f":"INDIRECT(CONCATENATE(\"'\",B$1,\"'!\",B$4,(YEAR($A806)-1921)*12+MONTH($A806)+3+IF(ISNUMBER(FIND(\"PRV\",B$6)),1,0)))*IF(AND(B$3>0,TRIM(B$9)=\"CFS\"),Conv_Flags!$C806,1)","v":2105.9587587263009},{"$f":"INDIRECT(CONCATENATE(\"'\",C$1,\"'!\",C$4,(YEAR($A806)-1921)*12+MONTH($A806)+3+IF(ISNUMBER(FIND(\"PRV\",C$6)),1,0)))*IF(AND(C$3>0,TRIM(C$9)=\"CFS\"),Conv_Flags!$C806,1)","v":2099.5183150252656}]
["1987-12-31",{"$f":"INDIRECT(CONCATENATE(\"'\",B$1,\"'!\",B$4,(YEAR($A807)-1921)*12+MONTH($A807)+3+IF(ISNUMBER(FIND(\"PRV\",B$6)),1,0)))*IF(AND(B$3>0,TRIM(B$9)=\"CFS\"),Conv_Flags!$C807,1)","v":2616.5142806583112},{"$f":"INDIRECT(CONCATENATE(\"'\",C$1,\"'!\",C$4,(YEAR($A807)-1921)*12+MONTH($A807)+3+IF(ISNUMBER(FIND(\"PRV\",C$6)),1,0)))*IF(AND(C$3>0,TRIM(C$9)=\"CFS\"),Conv_Flags!$C807,1)","v":2610.078496629555}]
["1988-01-31",{"$f":"INDIRECT(CONCATENATE(\"'\",B$1,\"'!\",B$4,(YEAR($A808)-1921)*12+MONTH($A808)+3+IF(ISNUMBER(FIND(\"PRV\",B$6)),1,0)))*IF(AND(B$3>0,TRIM(B$9)=\"CFS\"),Conv_Flags!$C808,1)","v":3046.3269963238595},{"$f":"INDIRECT(CONCATENATE(\"'\",C$1,\"'!\",C$4,(YEAR($A808)-1921)*12+MONTH($A808)+3+IF(ISNUMBER(FIND(\"PRV\",C$6)),1,0)))*IF(AND(C$3>0,TRIM(C$9)=\"CFS\"),Conv_Flags!$C808,1)","v":3039.8951967424805}]
["1988-02-29",{"$f":"INDIRECT(CONCATENATE(\"'\",B$1,\"'!\",B$4,(YEAR($A809)-1921)*12+MONTH($A809)+3+IF(ISNUMBER(FIND(\"PRV\",B$6)),1,0)))*IF(AND(B$3>0,TRIM(B$9)=\"CFS\"),Conv_Flags!$C809,1)","v":3225.6791042487921},{"$f":"INDIRECT(CONCATENATE(\"'\",C$1,\"'!\",C$4,(YEAR($A809)-1921)*12+MONTH($A809)+3+IF(ISNUMBER(FIND(\"PRV\",C$6)),1,0)))*IF(AND(C$3>0,TRIM(C$9)=\"CFS\"),Conv_Flags!$C809,1)","v":3219.2532576786571}]
["1988-03-31",{"$f":"INDIRECT(CONCATENATE(\"'\",B$1,\"'!\",B$4,(YEAR($A810)-1921)*12+MONTH($A810)+3+IF(ISNUMBER(FIND(\"PRV\",B$6)),1,0)))*IF(AND(B$3>0,TRIM(B$9)=\"CFS\"),Conv_Flags!$C810,1)","v":3375.4579680582951},{"$f":"INDIRECT(CONCATENATE(\"'\",C$1,\"'!\",C$4,(YEAR($A810)-1921)*12+MONTH($A810)+3+IF(ISNUMBER(FIND(\"PRV\",C$6)),1,0)))*IF(AND(C$3>0,TRIM(C$9)=\"CFS\"),Conv_Flags!$C810,1)","v":3369.0416691264172}]
["1988-04-30",{"$f":"INDIRECT(CONCATENATE(\"'\",B$1,\"'!\",B$4,(YEAR($A811)-1921)*12+MONTH($A811)+3+IF(ISNUMBER(FIND(\"PRV\",B$6)),1,0)))*IF(AND(B$3>0,TRIM(B$9)=\"CFS\"),Conv_Flags!$C811,1)","v":3491.5268785796966},{"$f":"INDIRECT(CONCATENATE(\"'\",C$1,\"'!\",C$4,(YEAR($A811)-1921)*12+MONTH($A811)+3+IF(ISNUMBER(FIND(\"PRV\",C$6)),1,0)))*IF(AND(C$3>0,TRIM(C$9)=\"CFS\"),Conv_Flags!$C811,1)","v":3485.1257579837315}]
["1988-05-31",{"$f":"INDIRECT(CONCATENATE(\"'\",B$1,\"'!\",B$4,(YEAR($A812)-1921)*12+MONTH($A812)+3+IF(ISNUMBER(FIND(\"PRV\",B$6)),1,0)))*IF(AND(B$3>0,TRIM(B$9)=\"CFS\"),Conv_Flags!$C812,1)","v":3379.1607310166119},{"$f":"INDIRECT(CONCATENATE(\"'\",C$1,\"'!\",C$4,(YEAR($A812)-1921)*12+MONTH($A812)+3+IF(ISNUMBER(FIND(\"PRV\",C$6)),1,0)))*IF(AND(C$3>0,TRIM(C$9)=\"CFS\"),Conv_Flags!$C812,1)","v":3377.3309161812722}]
["1988-06-30",{"$f":"INDIRECT(CONCATENATE(\"'\",B$1,\"'!\",B$4,(YEAR($A813)-1921)*12+MONTH($A813)+3+IF(ISNUMBER(FIND(\"PRV\",B$6)),1,0)))*IF(AND(B$3>0,TRIM(B$9)=\"CFS\"),Conv_Flags!$C813,1)","v":3005.8582034201268},{"$f":"INDIRECT(CONCATENATE(\"'\",C$1,\"'!\",C$4,(YEAR($A813)-1921)*12+MONTH($A813)+3+IF(ISNUMBER(FIND(\"PRV\",C$6)),1,0)))*IF(AND(C$3>0,TRIM(C$9)=\"CFS\"),Conv_Flags!$C813,1)","v":3005.3468020369583}]
["1988-07-31",{"$f":"INDIRECT(CONCATENATE(\"'\",B$1,\"'!\",B$4,(YEAR($A814)-1921)*12+MONTH($A814)+3+IF(ISNUMBER(FIND(\"PRV\",B$6)),1,0)))*IF(AND(B$3>0,TRIM(B$9)=\"CFS\"),Conv_Flags!$C814,1)","v":2633.4912550835738},{"$f":"INDIRECT(CONCATENATE(\"'\",C$1,\"'!\",C$4,(YEAR($A814)-1921)*12+MONTH($A814)+3+IF(ISNUMBER(FIND(\"PRV\",C$6)),1,0)))*IF(AND(C$3>0,TRIM(C$9)=\"CFS\"),Conv_Flags!$C814,1)","v":2632.1297574857776}]
["1988-08-31",{"$f":"INDIRECT(CONCATENATE(\"'\",B$1,\"'!\",B$4,(YEAR($A815)-1921)*12+MONTH($A815)+3+IF(ISNUMBER(FIND(\"PRV\",B$6)),1,0)))*IF(AND(B$3>0,TRIM(B$9)=\"CFS\"),Conv_Flags!$C815,1)","v":2323.0959525137996},{"$f":"INDIRECT(CONCATENATE(\"'\",C$1,\"'!\",C$4,(YEAR($A815)-1921)*12+MONTH($A815)+3+IF(ISNUMBER(FIND(\"PRV\",C$6)),1,0)))*IF(AND(C$3>0,TRIM(C$9)=\"CFS\"),Conv_Flags!$C815,1)","v":2341.2581770412198}]
["1988-09-30",{"$f":"INDIRECT(CONCATENATE(\"'\",B$1,\"'!\",B$4,(YEAR($A816)-1921)*12+MONTH($A816)+3+IF(ISNUMBER(FIND(\"PRV\",B$6)),1,0)))*IF(AND(B$3>0,TRIM(B$9)=\"CFS\"),Conv_Flags!$C816,1)","v":2241.5261424059145},{"$f":"INDIRECT(CONCATENATE(\"'\",C$1,\"'!\",C$4,(YEAR($A816)-1921)*12+MONTH($A816)+3+IF(ISNUMBER(FIND(\"PRV\",C$6)),1,0)))*IF(AND(C$3>0,TRIM(C$9)=\"CFS\"),Conv_Flags!$C816,1)","v":2265.0496910948723}]
["1988-10-31",{"$f":"INDIRECT(CONCATENATE(\"'\",B$1,\"'!\",B$4,(YEAR($A817)-1921)*12+MONTH($A817)+3+IF(ISNUMBER(FIND(\"PRV\",B$6)),1,0)))*IF(AND(B$3>0,TRIM(B$9)=\"CFS\"),Conv_Flags!$C817,1)","v":2066.0073354165052},{"$f":"INDIRECT(CONCATENATE(\"'\",C$1,\"'!\",C$4,(YEAR($A817)-1921)*12+MONTH($A817)+3+IF(ISNUMBER(FIND(\"PRV\",C$6)),1,0)))*IF(AND(C$3>0,TRIM(C$9)=\"CFS\"),Conv_Flags!$C817,1)","v":2107.264456350882}]
["1988-11-30",{"$f":"INDIRECT(CONCATENATE(\"'\",B$1,\"'!\",B$4,(YEAR($A818)-1921)*12+MONTH($A818)+3+IF(ISNUMBER(FIND(\"PRV\",B$6)),1,0)))*IF(AND(B$3>0,TRIM(B$9)=\"CFS\"),Conv_Flags!$C818,1)","v":2260.2438384810207},{"$f":"INDIRECT(CONCATENATE(\"'\",C$1,\"'!\",C$4,(YEAR($A818)-1921)*12+MONTH($A818)+3+IF(ISNUMBER(FIND(\"PRV\",C$6)),1,0)))*IF(AND(C$3>0,TRIM(C$9)=\"CFS\"),Conv_Flags!$C818,1)","v":2255.1994261049763}]
["1988-12-31",{"$f":"INDIRECT(CONCATENATE(\"'\",B$1,\"'!\",B$4,(YEAR($A819)-1921)*12+MONTH($A819)+3+IF(ISNUMBER(FIND(\"PRV\",B$6)),1,0)))*IF(AND(B$3>0,TRIM(B$9)=\"CFS\"),Conv_Flags!$C819,1)","v":2365.6996730508249},{"$f":"INDIRECT(CONCATENATE(\"'\",C$1,\"'!\",C$4,(YEAR($A819)-1921)*12+MONTH($A819)+3+IF(ISNUMBER(FIND(\"PRV\",C$6)),1,0)))*IF(AND(C$3>0,TRIM(C$9)=\"CFS\"),Conv_Flags!$C819,1)","v":2352.0503925107505}]
["1989-01-31",{"$f":"INDIRECT(CONCATENATE(\"'\",B$1,\"'!\",B$4,(YEAR($A820)-1921)*12+MONTH($A820)+3+IF(ISNUMBER(FIND(\"PRV\",B$6)),1,0)))*IF(AND(B$3>0,TRIM(B$9)=\"CFS\"),Conv_Flags!$C820,1)","v":2466.7865920152067},{"$f":"INDIRECT(CONCATENATE(\"'\",C$1,\"'!\",C$4,(YEAR($A820)-1921)*12+MONTH($A820)+3+IF(ISNUMBER(FIND(\"PRV\",C$6)),1,0)))*IF(AND(C$3>0,TRIM(C$9)=\"CFS\"),Conv_Flags!$C820,1)","v":2453.1469235056879}]
["1989-02-28",{"$f":"INDIRECT(CONCATENATE(\"'\",B$1,\"'!\",B$4,(YEAR($A821)-1921)*12+MONTH($A821)+3+IF(ISNUMBER(FIND(\"PRV\",B$6)),1,0)))*IF(AND(B$3>0,TRIM(B$9)=\"CFS\"),Conv_Flags!$C821,1)","v":2528.3242236154601},{"$f":"INDIRECT(CONCATENATE(\"'\",C$1,\"'!\",C$4,(YEAR($A821)-1921)*12+MONTH($A821)+3+IF(ISNUMBER(FIND(\"PRV\",C$6)),1,0)))*IF(AND(C$3>0,TRIM(C$9)=\"CFS\"),Conv_Flags!$C821,1)","v":2514.6940003049658}]
["1989-03-31",{"$f":"INDIRECT(CONCATENATE(\"'\",B$1,\"'!\",B$4,(YEAR($A822)-1921)*12+MONTH($A822)+3+IF(ISNUMBER(FIND(\"PRV\",B$6)),1,0)))*IF(AND(B$3>0,TRIM(B$9)=\"CFS\"),Conv_Flags!$C822,1)","v":3841},{"$f":"INDIRECT(CONCATENATE(\"'\",C$1,\"'!\",C$4,(YEAR($A822)-1921)*12+MONTH($A822)+3+IF(ISNUMBER(FIND(\"PRV\",C$6)),1,0)))*IF(AND(C$3>0,TRIM(C$9)=\"CFS\"),Conv_Flags!$C822,1)","v":3841}]
["1989-04-30",{"$f":"INDIRECT(CONCATENATE(\"'\",B$1,\"'!\",B$4,(YEAR($A823)-1921)*12+MONTH($A823)+3+IF(ISNUMBER(FIND(\"PRV\",B$6)),1,0)))*IF(AND(B$3>0,TRIM(B$9)=\"CFS\"),Conv_Flags!$C823,1)","v":4293.3984052304331},{"$f":"INDIRECT(CONCATENATE(\"'\",C$1,\"'!\",C$4,(YEAR($A823)-1921)*12+MONTH($A823)+3+IF(ISNUMBER(FIND(\"PRV\",C$6)),1,0)))*IF(AND(C$3>0,TRIM(C$9)=\"CFS\"),Conv_Flags!$C823,1)","v":4293.3984052541537}]
["1989-05-31",{"$f":"INDIRECT(CONCATENATE(\"'\",B$1,\"'!\",B$4,(YEAR($A824)-1921)*12+MONTH($A824)+3+IF(ISNUMBER(FIND(\"PRV\",B$6)),1,0)))*IF(AND(B$3>0,TRIM(B$9)=\"CFS\"),Conv_Flags!$C824,1)","v":3907.916715222339},{"$f":"INDIRECT(CONCATENATE(\"'\",C$1,\"'!\",C$4,(YEAR($A824)-1921)*12+MONTH($A824)+3+IF(ISNUMBER(FIND(\"PRV\",C$6)),1,0)))*IF(AND(C$3>0,TRIM(C$9)=\"CFS\"),Conv_Flags!$C824,1)","v":3874.7154360194186}]
["1989-06-30",{"$f":"INDIRECT(CONCATENATE(\"'\",B$1,\"'!\",B$4,(YEAR($A825)-1921)*12+MONTH($A825)+3+IF(ISNUMBER(FIND(\"PRV\",B$6)),1,0)))*IF(AND(B$3>0,TRIM(B$9)=\"CFS\"),Conv_Flags!$C825,1)","v":3550.108754287256},{"$f":"INDIRECT(CONCATENATE(\"'\",C$1,\"'!\",C$4,(YEAR($A825)-1921)*12+MONTH($A825)+3+IF(ISNUMBER(FIND(\"PRV\",C$6)),1,0)))*IF(AND(C$3>0,TRIM(C$9)=\"CFS\"),Conv_Flags!$C825,1)","v":3553.0480187276557}]
["1989-07-31",{"$f":"INDIRECT(CONCATENATE(\"'\",B$1,\"'!\",B$4,(YEAR($A826)-1921)*12+MONTH($A826)+3+IF(ISNUMBER(FIND(\"PRV\",B$6)),1,0)))*IF(AND(B$3>0,TRIM(B$9)=\"CFS\"),Conv_Flags!$C826,1)","v":3082.5226686824585},{"$f":"INDIRECT(CONCATENATE(\"'\",C$1,\"'!\",C$4,(YEAR($A826)-1921)*12+MONTH($A826)+3+IF(ISNUMBER(FIND(\"PRV\",C$6)),1,0)))*IF(AND(C$3>0,TRIM(C$9)=\"CFS\"),Conv_Flags!$C826,1)","v":3076.2862303071943}]
["1989-08-31",{"$f":"INDIRECT(CONCATENATE(\"'\",B$1,\"'!\",B$4,(YEAR($A827)-1921)*12+MONTH($A827)+3+IF(ISNUMBER(FIND(\"PRV\",B$6)),1,0)))*IF(AND(B$3>0,TRIM(B$9)=\"CFS\"),Conv_Flags!$C827,1)","v":2780.7487622224435},{"$f":"INDIRECT(CONCATENATE(\"'\",C$1,\"'!\",C$4,(YEAR($A827)-1921)*12+MONTH($A827)+3+IF(ISNUMBER(FIND(\"PRV\",C$6)),1,0)))*IF(AND(C$3>0,TRIM(C$9)=\"CFS\"),Conv_Flags!$C827,1)","v":2759.0488729416697}]
["1989-09-30",{"$f":"INDIRECT(CONCATENATE(\"'\",B$1,\"'!\",B$4,(YEAR($A828)-1921)*12+MONTH($A828)+3+IF(ISNUMBER(FIND(\"PRV\",B$6)),1,0)))*IF(AND(B$3>0,TRIM(B$9)=\"CFS\"),Conv_Flags!$C828,1)","v":2815.7863853916474},{"$f":"INDIRECT(CONCATENATE(\"'\",C$1,\"'!\",C$4,(YEAR($A828)-1921)*12+MONTH($A828)+3+IF(ISNUMBER(FIND(\"PRV\",C$6)),1,0)))*IF(AND(C$3>0,TRIM(C$9)=\"CFS\"),Conv_Flags!$C828,1)","v":2795.0019439448315}]
["1989-10-31",{"$f":"INDIRECT(CONCATENATE(\"'\",B$1,\"'!\",B$4,(YEAR($A829)-1921)*12+MONTH($A829)+3+IF(ISNUMBER(FIND(\"PRV\",B$6)),1,0)))*IF(AND(B$3>0,TRIM(B$9)=\"CFS\"),Conv_Flags!$C829,1)","v":2940.0209668738948},{"$f":"INDIRECT(CONCATENATE(\"'\",C$1,\"'!\",C$4,(YEAR($A829)-1921)*12+MONTH($A829)+3+IF(ISNUMBER(FIND(\"PRV\",C$6)),1,0)))*IF(AND(C$3>0,TRIM(C$9)=\"CFS\"),Conv_Flags!$C829,1)","v":2927.7549987616317}]
["1989-11-30",{"$f":"INDIRECT(CONCATENATE(\"'\",B$1,\"'!\",B$4,(YEAR($A830)-1921)*12+MONTH($A830)+3+IF(ISNUMBER(FIND(\"PRV\",B$6)),1,0)))*IF(AND(B$3>0,TRIM(B$9)=\"CFS\"),Conv_Flags!$C830,1)","v":2870.4536179506122},{"$f":"INDIRECT(CONCATENATE(\"'\",C$1,\"'!\",C$4,(YEAR($A830)-1921)*12+MONTH($A830)+3+IF(ISNUMBER(FIND(\"PRV\",C$6)),1,0)))*IF(AND(C$3>0,TRIM(C$9)=\"CFS\"),Conv_Flags!$C830,1)","v":2879.350471105191}]
["1989-12-31",{"$f":"INDIRECT(CONCATENATE(\"'\",B$1,\"'!\",B$4,(YEAR($A831)-1921)*12+MONTH($A831)+3+IF(ISNUMBER(FIND(\"PRV\",B$6)),1,0)))*IF(AND(B$3>0,TRIM(B$9)=\"CFS\"),Conv_Flags!$C831,1)","v":2793.3612522836593},{"$f":"INDIRECT(CONCATENATE(\"'\",C$1,\"'!\",C$4,(YEAR($A831)-1921)*12+MONTH($A831)+3+IF(ISNUMBER(FIND(\"PRV\",C$6)),1,0)))*IF(AND(C$3>0,TRIM(C$9)=\"CFS\"),Conv_Flags!$C831,1)","v":2747.7636763850173}]
["1990-01-31",{"$f":"INDIRECT(CONCATENATE(\"'\",B$1,\"'!\",B$4,(YEAR($A832)-1921)*12+MONTH($A832)+3+IF(ISNUMBER(FIND(\"PRV\",B$6)),1,0)))*IF(AND(B$3>0,TRIM(B$9)=\"CFS\"),Conv_Flags!$C832,1)","v":3032.6303185555762},{"$f":"INDIRECT(CONCATENATE(\"'\",C$1,\"'!\",C$4,(YEAR($A832)-1921)*12+MONTH($A832)+3+IF(ISNUMBER(FIND(\"PRV\",C$6)),1,0)))*IF(AND(C$3>0,TRIM(C$9)=\"CFS\"),Conv_Flags!$C832,1)","v":2987.0629787671714}]
["1990-02-28",{"$f":"INDIRECT(CONCATENATE(\"'\",B$1,\"'!\",B$4,(YEAR($A833)-1921)*12+MONTH($A833)+3+IF(ISNUMBER(FIND(\"PRV\",B$6)),1,0)))*IF(AND(B$3>0,TRIM(B$9)=\"CFS\"),Conv_Flags!$C833,1)","v":3125.4884676513402},{"$f":"INDIRECT(CONCATENATE(\"'\",C$1,\"'!\",C$4,(YEAR($A833)-1921)*12+MONTH($A833)+3+IF(ISNUMBER(FIND(\"PRV\",C$6)),1,0)))*IF(AND(C$3>0,TRIM(C$9)=\"CFS\"),Conv_Flags!$C833,1)","v":3079.9513440136739}]
["1990-03-31",{"$f":"INDIRECT(CONCATENATE(\"'\",B$1,\"'!\",B$4,(YEAR($A834)-1921)*12+MONTH($A834)+3+IF(ISNUMBER(FIND(\"PRV\",B$6)),1,0)))*IF(AND(B$3>0,TRIM(B$9)=\"CFS\"),Conv_Flags!$C834,1)","v":3390.157316167014},{"$f":"INDIRECT(CONCATENATE(\"'\",C$1,\"'!\",C$4,(YEAR($A834)-1921)*12+MONTH($A834)+3+IF(ISNUMBER(FIND(\"PRV\",C$6)),1,0)))*IF(AND(C$3>0,TRIM(C$9)=\"CFS\"),Conv_Flags!$C834,1)","v":3344.6848159603633}]
["1990-04-30",{"$f":"INDIRECT(CONCATENATE(\"'\",B$1,\"'!\",B$4,(YEAR($A835)-1921)*12+MONTH($A835)+3+IF(ISNUMBER(FIND(\"PRV\",B$6)),1,0)))*IF(AND(B$3>0,TRIM(B$9)=\"CFS\"),Conv_Flags!$C835,1)","v":3376.510650907996},{"$f":"INDIRECT(CONCATENATE(\"'\",C$1,\"'!\",C$4,(YEAR($A835)-1921)*12+MONTH($A835)+3+IF(ISNUMBER(FIND(\"PRV\",C$6)),1,0)))*IF(AND(C$3>0,TRIM(C$9)=\"CFS\"),Conv_Flags!$C835,1)","v":3346.4679426048151}]
["1990-05-31",{"$f":"INDIRECT(CONCATENATE(\"'\",B$1,\"'!\",B$4,(YEAR($A836)-1921)*12+MONTH($A836)+3+IF(ISNUMBER(FIND(\"PRV\",B$6)),1,0)))*IF(AND(B$3>0,TRIM(B$9)=\"CFS\"),Conv_Flags!$C836,1)","v":3526.058997731282},{"$f":"INDIRECT(CONCATENATE(\"'\",C$1,\"'!\",C$4,(YEAR($A836)-1921)*12+MONTH($A836)+3+IF(ISNUMBER(FIND(\"PRV\",C$6)),1,0)))*IF(AND(C$3>0,TRIM(C$9)=\"CFS\"),Conv_Flags!$C836,1)","v":3496.7901481231393}]
["1990-06-30",{"$f":"INDIRECT(CONCATENATE(\"'\",B$1,\"'!\",B$4,(YEAR($A837)-1921)*12+MONTH($A837)+3+IF(ISNUMBER(FIND(\"PRV\",B$6)),1,0)))*IF(AND(B$3>0,TRIM(B$9)=\"CFS\"),Conv_Flags!$C837,1)","v":3261.6072312813799},{"$f":"INDIRECT(CONCATENATE(\"'\",C$1,\"'!\",C$4,(YEAR($A837)-1921)*12+MONTH($A837)+3+IF(ISNUMBER(FIND(\"PRV\",C$6)),1,0)))*IF(AND(C$3>0,TRIM(C$9)=\"CFS\"),Conv_Flags!$C837,1)","v":3246.2949461422754}]
["1990-07-31",{"$f":"INDIRECT(CONCATENATE(\"'\",B$1,\"'!\",B$4,(YEAR($A838)-1921)*12+MONTH($A838)+3+IF(ISNUMBER(FIND(\"PRV\",B$6)),1,0)))*IF(AND(B$3>0,TRIM(B$9)=\"CFS\"),Conv_Flags!$C838,1)","v":2863.1227164681595},{"$f":"INDIRECT(CONCATENATE(\"'\",C$1,\"'!\",C$4,(YEAR($A838)-1921)*12+MONTH($A838)+3+IF(ISNUMBER(FIND(\"PRV\",C$6)),1,0)))*IF(AND(C$3>0,TRIM(C$9)=\"CFS\"),Conv_Flags!$C838,1)","v":2856.3934791012366}]
["1990-08-31",{"$f":"INDIRECT(CONCATENATE(\"'\",B$1,\"'!\",B$4,(YEAR($A839)-1921)*12+MONTH($A839)+3+IF(ISNUMBER(FIND(\"PRV\",B$6)),1,0)))*IF(AND(B$3>0,TRIM(B$9)=\"CFS\"),Conv_Flags!$C839,1)","v":2502.994460755986},{"$f":"INDIRECT(CONCATENATE(\"'\",C$1,\"'!\",C$4,(YEAR($A839)-1921)*12+MONTH($A839)+3+IF(ISNUMBER(FIND(\"PRV\",C$6)),1,0)))*IF(AND(C$3>0,TRIM(C$9)=\"CFS\"),Conv_Flags!$C839,1)","v":2492.3122683054416}]
["1990-09-30",{"$f":"INDIRECT(CONCATENATE(\"'\",B$1,\"'!\",B$4,(YEAR($A840)-1921)*12+MONTH($A840)+3+IF(ISNUMBER(FIND(\"PRV\",B$6)),1,0)))*IF(AND(B$3>0,TRIM(B$9)=\"CFS\"),Conv_Flags!$C840,1)","v":2455.3301515970111},{"$f":"INDIRECT(CONCATENATE(\"'\",C$1,\"'!\",C$4,(YEAR($A840)-1921)*12+MONTH($A840)+3+IF(ISNUMBER(FIND(\"PRV\",C$6)),1,0)))*IF(AND(C$3>0,TRIM(C$9)=\"CFS\"),Conv_Flags!$C840,1)","v":2443.655909611743}]
["1990-10-31",{"$f":"INDIRECT(CONCATENATE(\"'\",B$1,\"'!\",B$4,(YEAR($A841)-1921)*12+MONTH($A841)+3+IF(ISNUMBER(FIND(\"PRV\",B$6)),1,0)))*IF(AND(B$3>0,TRIM(B$9)=\"CFS\"),Conv_Flags!$C841,1)","v":2316.9725144320169},{"$f":"INDIRECT(CONCATENATE(\"'\",C$1,\"'!\",C$4,(YEAR($A841)-1921)*12+MONTH($A841)+3+IF(ISNUMBER(FIND(\"PRV\",C$6)),1,0)))*IF(AND(C$3>0,TRIM(C$9)=\"CFS\"),Conv_Flags!$C841,1)","v":2304.3723766675653}]
["1990-11-30",{"$f":"INDIRECT(CONCATENATE(\"'\",B$1,\"'!\",B$4,(YEAR($A842)-1921)*12+MONTH($A842)+3+IF(ISNUMBER(FIND(\"PRV\",B$6)),1,0)))*IF(AND(B$3>0,TRIM(B$9)=\"CFS\"),Conv_Flags!$C842,1)","v":2176.3068332918133},{"$f":"INDIRECT(CONCATENATE(\"'\",C$1,\"'!\",C$4,(YEAR($A842)-1921)*12+MONTH($A842)+3+IF(ISNUMBER(FIND(\"PRV\",C$6)),1,0)))*IF(AND(C$3>0,TRIM(C$9)=\"CFS\"),Conv_Flags!$C842,1)","v":2161.1272641829187}]
["1990-12-31",{"$f":"INDIRECT(CONCATENATE(\"'\",B$1,\"'!\",B$4,(YEAR($A843)-1921)*12+MONTH($A843)+3+IF(ISNUMBER(FIND(\"PRV\",B$6)),1,0)))*IF(AND(B$3>0,TRIM(B$9)=\"CFS\"),Conv_Flags!$C843,1)","v":2065.7641156903514},{"$f":"INDIRECT(CONCATENATE(\"'\",C$1,\"'!\",C$4,(YEAR($A843)-1921)*12+MONTH($A843)+3+IF(ISNUMBER(FIND(\"PRV\",C$6)),1,0)))*IF(AND(C$3>0,TRIM(C$9)=\"CFS\"),Conv_Flags!$C843,1)","v":2070.6226671286081}]
["1991-01-31",{"$f":"INDIRECT(CONCATENATE(\"'\",B$1,\"'!\",B$4,(YEAR($A844)-1921)*12+MONTH($A844)+3+IF(ISNUMBER(FIND(\"PRV\",B$6)),1,0)))*IF(AND(B$3>0,TRIM(B$9)=\"CFS\"),Conv_Flags!$C844,1)","v":1956.2695731959545},{"$f":"INDIRECT(CONCATENATE(\"'\",C$1,\"'!\",C$4,(YEAR($A844)-1921)*12+MONTH($A844)+3+IF(ISNUMBER(FIND(\"PRV\",C$6)),1,0)))*IF(AND(C$3>0,TRIM(C$9)=\"CFS\"),Conv_Flags!$C844,1)","v":1920.0590101984731}]
["1991-02-28",{"$f":"INDIRECT(CONCATENATE(\"'\",B$1,\"'!\",B$4,(YEAR($A845)-1921)*12+MONTH($A845)+3+IF(ISNUMBER(FIND(\"PRV\",B$6)),1,0)))*IF(AND(B$3>0,TRIM(B$9)=\"CFS\"),Conv_Flags!$C845,1)","v":1985.7606481338537},{"$f":"INDIRECT(CONCATENATE(\"'\",C$1,\"'!\",C$4,(YEAR($A845)-1921)*12+MONTH($A845)+3+IF(ISNUMBER(FIND(\"PRV\",C$6)),1,0)))*IF(AND(C$3>0,TRIM(C$9)=\"CFS\"),Conv_Flags!$C845,1)","v":1909.3365620334148}]
["1991-03-31",{"$f":"INDIRECT(CONCATENATE(\"'\",B$1,\"'!\",B$4,(YEAR($A846)-1921)*12+MONTH($A846)+3+IF(ISNUMBER(FIND(\"PRV\",B$6)),1,0)))*IF(AND(B$3>0,TRIM(B$9)=\"CFS\"),Conv_Flags!$C846,1)","v":2410.2607703737222},{"$f":"INDIRECT(CONCATENATE(\"'\",C$1,\"'!\",C$4,(YEAR($A846)-1921)*12+MONTH($A846)+3+IF(ISNUMBER(FIND(\"PRV\",C$6)),1,0)))*IF(AND(C$3>0,TRIM(C$9)=\"CFS\"),Conv_Flags!$C846,1)","v":2333.9269750834374}]
["1991-04-30",{"$f":"INDIRECT(CONCATENATE(\"'\",B$1,\"'!\",B$4,(YEAR($A847)-1921)*12+MONTH($A847)+3+IF(ISNUMBER(FIND(\"PRV\",B$6)),1,0)))*IF(AND(B$3>0,TRIM(B$9)=\"CFS\"),Conv_Flags!$C847,1)","v":2579.2259284652487},{"$f":"INDIRECT(CONCATENATE(\"'\",C$1,\"'!\",C$4,(YEAR($A847)-1921)*12+MONTH($A847)+3+IF(ISNUMBER(FIND(\"PRV\",C$6)),1,0)))*IF(AND(C$3>0,TRIM(C$9)=\"CFS\"),Conv_Flags!$C847,1)","v":2503.0622507277872}]
["1991-05-31",{"$f":"INDIRECT(CONCATENATE(\"'\",B$1,\"'!\",B$4,(YEAR($A848)-1921)*12+MONTH($A848)+3+IF(ISNUMBER(FIND(\"PRV\",B$6)),1,0)))*IF(AND(B$3>0,TRIM(B$9)=\"CFS\"),Conv_Flags!$C848,1)","v":2497.6054943953927},{"$f":"INDIRECT(CONCATENATE(\"'\",C$1,\"'!\",C$4,(YEAR($A848)-1921)*12+MONTH($A848)+3+IF(ISNUMBER(FIND(\"PRV\",C$6)),1,0)))*IF(AND(C$3>0,TRIM(C$9)=\"CFS\"),Conv_Flags!$C848,1)","v":2424.6744717508486}]
["1991-06-30",{"$f":"INDIRECT(CONCATENATE(\"'\",B$1,\"'!\",B$4,(YEAR($A849)-1921)*12+MONTH($A849)+3+IF(ISNUMBER(FIND(\"PRV\",B$6)),1,0)))*IF(AND(B$3>0,TRIM(B$9)=\"CFS\"),Conv_Flags!$C849,1)","v":2239.1945742574185},{"$f":"INDIRECT(CONCATENATE(\"'\",C$1,\"'!\",C$4,(YEAR($A849)-1921)*12+MONTH($A849)+3+IF(ISNUMBER(FIND(\"PRV\",C$6)),1,0)))*IF(AND(C$3>0,TRIM(C$9)=\"CFS\"),Conv_Flags!$C849,1)","v":2172.7664999806902}]
["1991-07-31",{"$f":"INDIRECT(CONCATENATE(\"'\",B$1,\"'!\",B$4,(YEAR($A850)-1921)*12+MONTH($A850)+3+IF(ISNUMBER(FIND(\"PRV\",B$6)),1,0)))*IF(AND(B$3>0,TRIM(B$9)=\"CFS\"),Conv_Flags!$C850,1)","v":1935.642270939577},{"$f":"INDIRECT(CONCATENATE(\"'\",C$1,\"'!\",C$4,(YEAR($A850)-1921)*12+MONTH($A850)+3+IF(ISNUMBER(FIND(\"PRV\",C$6)),1,0)))*IF(AND(C$3>0,TRIM(C$9)=\"CFS\"),Conv_Flags!$C850,1)","v":1863.6605782133427}]
["1991-08-31",{"$f":"INDIRECT(CONCATENATE(\"'\",B$1,\"'!\",B$4,(YEAR($A851)-1921)*12+MONTH($A851)+3+IF(ISNUMBER(FIND(\"PRV\",B$6)),1,0)))*IF(AND(B$3>0,TRIM(B$9)=\"CFS\"),Conv_Flags!$C851,1)","v":1720.4596813330895},{"$f":"INDIRECT(CONCATENATE(\"'\",C$1,\"'!\",C$4,(YEAR($A851)-1921)*12+MONTH($A851)+3+IF(ISNUMBER(FIND(\"PRV\",C$6)),1,0)))*IF(AND(C$3>0,TRIM(C$9)=\"CFS\"),Conv_Flags!$C851,1)","v":1658.3082137582944}]
["1991-09-30",{"$f":"INDIRECT(CONCATENATE(\"'\",B$1,\"'!\",B$4,(YEAR($A852)-1921)*12+MONTH($A852)+3+IF(ISNUMBER(FIND(\"PRV\",B$6)),1,0)))*IF(AND(B$3>0,TRIM(B$9)=\"CFS\"),Conv_Flags!$C852,1)","v":1655.4555398996997},{"$f":"INDIRECT(CONCATENATE(\"'\",C$1,\"'!\",C$4,(YEAR($A852)-1921)*12+MONTH($A852)+3+IF(ISNUMBER(FIND(\"PRV\",C$6)),1,0)))*IF(AND(C$3>0,TRIM(C$9)=\"CFS\"),Conv_Flags!$C852,1)","v":1593.8075389529133}]
["1991-10-31",{"$f":"INDIRECT(CONCATENATE(\"'\",B$1,\"'!\",B$4,(YEAR($A853)-1921)*12+MONTH($A853)+3+IF(ISNUMBER(FIND(\"PRV\",B$6)),1,0)))*IF(AND(B$3>0,TRIM(B$9)=\"CFS\"),Conv_Flags!$C853,1)","v":1612.0493387291856},{"$f":"INDIRECT(CONCATENATE(\"'\",C$1,\"'!\",C$4,(YEAR($A853)-1921)*12+MONTH($A853)+3+IF(ISNUMBER(FIND(\"PRV\",C$6)),1,0)))*IF(AND(C$3>0,TRIM(C$9)=\"CFS\"),Conv_Flags!$C853,1)","v":1543.4251301832537}]
["1991-11-30",{"$f":"INDIRECT(CONCATENATE(\"'\",B$1,\"'!\",B$4,(YEAR($A854)-1921)*12+MONTH($A854)+3+IF(ISNUMBER(FIND(\"PRV\",B$6)),1,0)))*IF(AND(B$3>0,TRIM(B$9)=\"CFS\"),Conv_Flags!$C854,1)","v":1438.6479951715048},{"$f":"INDIRECT(CONCATENATE(\"'\",C$1,\"'!\",C$4,(YEAR($A854)-1921)*12+MONTH($A854)+3+IF(ISNUMBER(FIND(\"PRV\",C$6)),1,0)))*IF(AND(C$3>0,TRIM(C$9)=\"CFS\"),Conv_Flags!$C854,1)","v":1378.9155498342307}]
["1991-12-31",{"$f":"INDIRECT(CONCATENATE(\"'\",B$1,\"'!\",B$4,(YEAR($A855)-1921)*12+MONTH($A855)+3+IF(ISNUMBER(FIND(\"PRV\",B$6)),1,0)))*IF(AND(B$3>0,TRIM(B$9)=\"CFS\"),Conv_Flags!$C855,1)","v":1435.3021150236962},{"$f":"INDIRECT(CONCATENATE(\"'\",C$1,\"'!\",C$4,(YEAR($A855)-1921)*12+MONTH($A855)+3+IF(ISNUMBER(FIND(\"PRV\",C$6)),1,0)))*IF(AND(C$3>0,TRIM(C$9)=\"CFS\"),Conv_Flags!$C855,1)","v":1374.5464590962872}]
["1992-01-31",{"$f":"INDIRECT(CONCATENATE(\"'\",B$1,\"'!\",B$4,(YEAR($A856)-1921)*12+MONTH($A856)+3+IF(ISNUMBER(FIND(\"PRV\",B$6)),1,0)))*IF(AND(B$3>0,TRIM(B$9)=\"CFS\"),Conv_Flags!$C856,1)","v":1470.064786264647},{"$f":"INDIRECT(CONCATENATE(\"'\",C$1,\"'!\",C$4,(YEAR($A856)-1921)*12+MONTH($A856)+3+IF(ISNUMBER(FIND(\"PRV\",C$6)),1,0)))*IF(AND(C$3>0,TRIM(C$9)=\"CFS\"),Conv_Flags!$C856,1)","v":1409.3544651659486}]
["1992-02-29",{"$f":"INDIRECT(CONCATENATE(\"'\",B$1,\"'!\",B$4,(YEAR($A857)-1921)*12+MONTH($A857)+3+IF(ISNUMBER(FIND(\"PRV\",B$6)),1,0)))*IF(AND(B$3>0,TRIM(B$9)=\"CFS\"),Conv_Flags!$C857,1)","v":2113.2871917465195},{"$f":"INDIRECT(CONCATENATE(\"'\",C$1,\"'!\",C$4,(YEAR($A857)-1921)*12+MONTH($A857)+3+IF(ISNUMBER(FIND(\"PRV\",C$6)),1,0)))*IF(AND(C$3>0,TRIM(C$9)=\"CFS\"),Conv_Flags!$C857,1)","v":2052.6505846086734}]
["1992-03-31",{"$f":"INDIRECT(CONCATENATE(\"'\",B$1,\"'!\",B$4,(YEAR($A858)-1921)*12+MONTH($A858)+3+IF(ISNUMBER(FIND(\"PRV\",B$6)),1,0)))*IF(AND(B$3>0,TRIM(B$9)=\"CFS\"),Conv_Flags!$C858,1)","v":2556.4347646315114},{"$f":"INDIRECT(CONCATENATE(\"'\",C$1,\"'!\",C$4,(YEAR($A858)-1921)*12+MONTH($A858)+3+IF(ISNUMBER(FIND(\"PRV\",C$6)),1,0)))*IF(AND(C$3>0,TRIM(C$9)=\"CFS\"),Conv_Flags!$C858,1)","v":2495.899888920113}]
["1992-04-30",{"$f":"INDIRECT(CONCATENATE(\"'\",B$1,\"'!\",B$4,(YEAR($A859)-1921)*12+MONTH($A859)+3+IF(ISNUMBER(FIND(\"PRV\",B$6)),1,0)))*IF(AND(B$3>0,TRIM(B$9)=\"CFS\"),Conv_Flags!$C859,1)","v":2806.1614887714995},{"$f":"INDIRECT(CONCATENATE(\"'\",C$1,\"'!\",C$4,(YEAR($A859)-1921)*12+MONTH($A859)+3+IF(ISNUMBER(FIND(\"PRV\",C$6)),1,0)))*IF(AND(C$3>0,TRIM(C$9)=\"CFS\"),Conv_Flags!$C859,1)","v":2745.7843677979158}]
["1992-05-31",{"$f":"INDIRECT(CONCATENATE(\"'\",B$1,\"'!\",B$4,(YEAR($A860)-1921)*12+MONTH($A860)+3+IF(ISNUMBER(FIND(\"PRV\",B$6)),1,0)))*IF(AND(B$3>0,TRIM(B$9)=\"CFS\"),Conv_Flags!$C860,1)","v":2485.8206062026843},{"$f":"INDIRECT(CONCATENATE(\"'\",C$1,\"'!\",C$4,(YEAR($A860)-1921)*12+MONTH($A860)+3+IF(ISNUMBER(FIND(\"PRV\",C$6)),1,0)))*IF(AND(C$3>0,TRIM(C$9)=\"CFS\"),Conv_Flags!$C860,1)","v":2447.161940430185}]
["1992-06-30",{"$f":"INDIRECT(CONCATENATE(\"'\",B$1,\"'!\",B$4,(YEAR($A861)-1921)*12+MONTH($A861)+3+IF(ISNUMBER(FIND(\"PRV\",B$6)),1,0)))*IF(AND(B$3>0,TRIM(B$9)=\"CFS\"),Conv_Flags!$C861,1)","v":2023.9641929189033},{"$f":"INDIRECT(CONCATENATE(\"'\",C$1,\"'!\",C$4,(YEAR($A861)-1921)*12+MONTH($A861)+3+IF(ISNUMBER(FIND(\"PRV\",C$6)),1,0)))*IF(AND(C$3>0,TRIM(C$9)=\"CFS\"),Conv_Flags!$C861,1)","v":1997.9370643676352}]
["1992-07-31",{"$f":"INDIRECT(CONCATENATE(\"'\",B$1,\"'!\",B$4,(YEAR($A862)-1921)*12+MONTH($A862)+3+IF(ISNUMBER(FIND(\"PRV\",B$6)),1,0)))*IF(AND(B$3>0,TRIM(B$9)=\"CFS\"),Conv_Flags!$C862,1)","v":1595.2957641876797},{"$f":"INDIRECT(CONCATENATE(\"'\",C$1,\"'!\",C$4,(YEAR($A862)-1921)*12+MONTH($A862)+3+IF(ISNUMBER(FIND(\"PRV\",C$6)),1,0)))*IF(AND(C$3>0,TRIM(C$9)=\"CFS\"),Conv_Flags!$C862,1)","v":1579.230974819269}]
["1992-08-31",{"$f":"INDIRECT(CONCATENATE(\"'\",B$1,\"'!\",B$4,(YEAR($A863)-1921)*12+MONTH($A863)+3+IF(ISNUMBER(FIND(\"PRV\",B$6)),1,0)))*IF(AND(B$3>0,TRIM(B$9)=\"CFS\"),Conv_Flags!$C863,1)","v":1086.9826882554469},{"$f":"INDIRECT(CONCATENATE(\"'\",C$1,\"'!\",C$4,(YEAR($A863)-1921)*12+MONTH($A863)+3+IF(ISNUMBER(FIND(\"PRV\",C$6)),1,0)))*IF(AND(C$3>0,TRIM(C$9)=\"CFS\"),Conv_Flags!$C863,1)","v":1083.4064533209823}]
["1992-09-30",{"$f":"INDIRECT(CONCATENATE(\"'\",B$1,\"'!\",B$4,(YEAR($A864)-1921)*12+MONTH($A864)+3+IF(ISNUMBER(FIND(\"PRV\",B$6)),1,0)))*IF(AND(B$3>0,TRIM(B$9)=\"CFS\"),Conv_Flags!$C864,1)","v":1075.5496554694173},{"$f":"INDIRECT(CONCATENATE(\"'\",C$1,\"'!\",C$4,(YEAR($A864)-1921)*12+MONTH($A864)+3+IF(ISNUMBER(FIND(\"PRV\",C$6)),1,0)))*IF(AND(C$3>0,TRIM(C$9)=\"CFS\"),Conv_Flags!$C864,1)","v":1083.0673984562668}]
["1992-10-31",{"$f":"INDIRECT(CONCATENATE(\"'\",B$1,\"'!\",B$4,(YEAR($A865)-1921)*12+MONTH($A865)+3+IF(ISNUMBER(FIND(\"PRV\",B$6)),1,0)))*IF(AND(B$3>0,TRIM(B$9)=\"CFS\"),Conv_Flags!$C865,1)","v":1013.3150236215539},{"$f":"INDIRECT(CONCATENATE(\"'\",C$1,\"'!\",C$4,(YEAR($A865)-1921)*12+MONTH($A865)+3+IF(ISNUMBER(FIND(\"PRV\",C$6)),1,0)))*IF(AND(C$3>0,TRIM(C$9)=\"CFS\"),Conv_Flags!$C865,1)","v":1015.2761476460844}]
["1992-11-30",{"$f":"INDIRECT(CONCATENATE(\"'\",B$1,\"'!\",B$4,(YEAR($A866)-1921)*12+MONTH($A866)+3+IF(ISNUMBER(FIND(\"PRV\",B$6)),1,0)))*IF(AND(B$3>0,TRIM(B$9)=\"CFS\"),Conv_Flags!$C866,1)","v":878.39726363201009},{"$f":"INDIRECT(CONCATENATE(\"'\",C$1,\"'!\",C$4,(YEAR($A866)-1921)*12+MONTH($A866)+3+IF(ISNUMBER(FIND(\"PRV\",C$6)),1,0)))*IF(AND(C$3>0,TRIM(C$9)=\"CFS\"),Conv_Flags!$C866,1)","v":877.80891629286566}]
["1992-12-31",{"$f":"INDIRECT(CONCATENATE(\"'\",B$1,\"'!\",B$4,(YEAR($A867)-1921)*12+MONTH($A867)+3+IF(ISNUMBER(FIND(\"PRV\",B$6)),1,0)))*IF(AND(B$3>0,TRIM(B$9)=\"CFS\"),Conv_Flags!$C867,1)","v":1106.865359881052},{"$f":"INDIRECT(CONCATENATE(\"'\",C$1,\"'!\",C$4,(YEAR($A867)-1921)*12+MONTH($A867)+3+IF(ISNUMBER(FIND(\"PRV\",C$6)),1,0)))*IF(AND(C$3>0,TRIM(C$9)=\"CFS\"),Conv_Flags!$C867,1)","v":1104.1943203366095}]
["1993-01-31",{"$f":"INDIRECT(CONCATENATE(\"'\",B$1,\"'!\",B$4,(YEAR($A868)-1921)*12+MONTH($A868)+3+IF(ISNUMBER(FIND(\"PRV\",B$6)),1,0)))*IF(AND(B$3>0,TRIM(B$9)=\"CFS\"),Conv_Flags!$C868,1)","v":1756.0961448264825},{"$f":"INDIRECT(CONCATENATE(\"'\",C$1,\"'!\",C$4,(YEAR($A868)-1921)*12+MONTH($A868)+3+IF(ISNUMBER(FIND(\"PRV\",C$6)),1,0)))*IF(AND(C$3>0,TRIM(C$9)=\"CFS\"),Conv_Flags!$C868,1)","v":1753.4277391694893}]
["1993-02-28",{"$f":"INDIRECT(CONCATENATE(\"'\",B$1,\"'!\",B$4,(YEAR($A869)-1921)*12+MONTH($A869)+3+IF(ISNUMBER(FIND(\"PRV\",B$6)),1,0)))*IF(AND(B$3>0,TRIM(B$9)=\"CFS\"),Conv_Flags!$C869,1)","v":2471.3201180694291},{"$f":"INDIRECT(CONCATENATE(\"'\",C$1,\"'!\",C$4,(YEAR($A869)-1921)*12+MONTH($A869)+3+IF(ISNUMBER(FIND(\"PRV\",C$6)),1,0)))*IF(AND(C$3>0,TRIM(C$9)=\"CFS\"),Conv_Flags!$C869,1)","v":2468.6536471353979}]
["1993-03-31",{"$f":"INDIRECT(CONCATENATE(\"'\",B$1,\"'!\",B$4,(YEAR($A870)-1921)*12+MONTH($A870)+3+IF(ISNUMBER(FIND(\"PRV\",B$6)),1,0)))*IF(AND(B$3>0,TRIM(B$9)=\"CFS\"),Conv_Flags!$C870,1)","v":3928.5071081570641},{"$f":"INDIRECT(CONCATENATE(\"'\",C$1,\"'!\",C$4,(YEAR($A870)-1921)*12+MONTH($A870)+3+IF(ISNUMBER(FIND(\"PRV\",C$6)),1,0)))*IF(AND(C$3>0,TRIM(C$9)=\"CFS\"),Conv_Flags!$C870,1)","v":3925.8442391763133}]
["1993-04-30",{"$f":"INDIRECT(CONCATENATE(\"'\",B$1,\"'!\",B$4,(YEAR($A871)-1921)*12+MONTH($A871)+3+IF(ISNUMBER(FIND(\"PRV\",B$6)),1,0)))*IF(AND(B$3>0,TRIM(B$9)=\"CFS\"),Conv_Flags!$C871,1)","v":4477.0099627719137},{"$f":"INDIRECT(CONCATENATE(\"'\",C$1,\"'!\",C$4,(YEAR($A871)-1921)*12+MONTH($A871)+3+IF(ISNUMBER(FIND(\"PRV\",C$6)),1,0)))*IF(AND(C$3>0,TRIM(C$9)=\"CFS\"),Conv_Flags!$C871,1)","v":4480.2969569715042}]
["1993-05-31",{"$f":"INDIRECT(CONCATENATE(\"'\",B$1,\"'!\",B$4,(YEAR($A872)-1921)*12+MONTH($A872)+3+IF(ISNUMBER(FIND(\"PRV\",B$6)),1,0)))*IF(AND(B$3>0,TRIM(B$9)=\"CFS\"),Conv_Flags!$C872,1)","v":4552},{"$f":"INDIRECT(CONCATENATE(\"'\",C$1,\"'!\",C$4,(YEAR($A872)-1921)*12+MONTH($A872)+3+IF(ISNUMBER(FIND(\"PRV\",C$6)),1,0)))*IF(AND(C$3>0,TRIM(C$9)=\"CFS\"),Conv_Flags!$C872,1)","v":4552}]
["1993-06-30",{"$f":"INDIRECT(CONCATENATE(\"'\",B$1,\"'!\",B$4,(YEAR($A873)-1921)*12+MONTH($A873)+3+IF(ISNUMBER(FIND(\"PRV\",B$6)),1,0)))*IF(AND(B$3>0,TRIM(B$9)=\"CFS\"),Conv_Flags!$C873,1)","v":4500},{"$f":"INDIRECT(CONCATENATE(\"'\",C$1,\"'!\",C$4,(YEAR($A873)-1921)*12+MONTH($A873)+3+IF(ISNUMBER(FIND(\"PRV\",C$6)),1,0)))*IF(AND(C$3>0,TRIM(C$9)=\"CFS\"),Conv_Flags!$C873,1)","v":4500}]
["1993-07-31",{"$f":"INDIRECT(CONCATENATE(\"'\",B$1,\"'!\",B$4,(YEAR($A874)-1921)*12+MONTH($A874)+3+IF(ISNUMBER(FIND(\"PRV\",B$6)),1,0)))*IF(AND(B$3>0,TRIM(B$9)=\"CFS\"),Conv_Flags!$C874,1)","v":3897.0743911945306},{"$f":"INDIRECT(CONCATENATE(\"'\",C$1,\"'!\",C$4,(YEAR($A874)-1921)*12+MONTH($A874)+3+IF(ISNUMBER(FIND(\"PRV\",C$6)),1,0)))*IF(AND(C$3>0,TRIM(C$9)=\"CFS\"),Conv_Flags!$C874,1)","v":3935.9533272779131}]
["1993-08-31",{"$f":"INDIRECT(CONCATENATE(\"'\",B$1,\"'!\",B$4,(YEAR($A875)-1921)*12+MONTH($A875)+3+IF(ISNUMBER(FIND(\"PRV\",B$6)),1,0)))*IF(AND(B$3>0,TRIM(B$9)=\"CFS\"),Conv_Flags!$C875,1)","v":3610.2570534015808},{"$f":"INDIRECT(CONCATENATE(\"'\",C$1,\"'!\",C$4,(YEAR($A875)-1921)*12+MONTH($A875)+3+IF(ISNUMBER(FIND(\"PRV\",C$6)),1,0)))*IF(AND(C$3>0,TRIM(C$9)=\"CFS\"),Conv_Flags!$C875,1)","v":3652.4618738347108}]
["1993-09-30",{"$f":"INDIRECT(CONCATENATE(\"'\",B$1,\"'!\",B$4,(YEAR($A876)-1921)*12+MONTH($A876)+3+IF(ISNUMBER(FIND(\"PRV\",B$6)),1,0)))*IF(AND(B$3>0,TRIM(B$9)=\"CFS\"),Conv_Flags!$C876,1)","v":3364.7692255710717},{"$f":"INDIRECT(CONCATENATE(\"'\",C$1,\"'!\",C$4,(YEAR($A876)-1921)*12+MONTH($A876)+3+IF(ISNUMBER(FIND(\"PRV\",C$6)),1,0)))*IF(AND(C$3>0,TRIM(C$9)=\"CFS\"),Conv_Flags!$C876,1)","v":3399.9999999999995}]
["1993-10-31",{"$f":"INDIRECT(CONCATENATE(\"'\",B$1,\"'!\",B$4,(YEAR($A877)-1921)*12+MONTH($A877)+3+IF(ISNUMBER(FIND(\"PRV\",B$6)),1,0)))*IF(AND(B$3>0,TRIM(B$9)=\"CFS\"),Conv_Flags!$C877,1)","v":3250},{"$f":"INDIRECT(CONCATENATE(\"'\",C$1,\"'!\",C$4,(YEAR($A877)-1921)*12+MONTH($A877)+3+IF(ISNUMBER(FIND(\"PRV\",C$6)),1,0)))*IF(AND(C$3>0,TRIM(C$9)=\"CFS\"),Conv_Flags!$C877,1)","v":3250}]
["1993-11-30",{"$f":"INDIRECT(CONCATENATE(\"'\",B$1,\"'!\",B$4,(YEAR($A878)-1921)*12+MONTH($A878)+3+IF(ISNUMBER(FIND(\"PRV\",B$6)),1,0)))*IF(AND(B$3>0,TRIM(B$9)=\"CFS\"),Conv_Flags!$C878,1)","v":3014.640747329579},{"$f":"INDIRECT(CONCATENATE(\"'\",C$1,\"'!\",C$4,(YEAR($A878)-1921)*12+MONTH($A878)+3+IF(ISNUMBER(FIND(\"PRV\",C$6)),1,0)))*IF(AND(C$3>0,TRIM(C$9)=\"CFS\"),Conv_Flags!$C878,1)","v":3036.5873410928334}]
["1993-12-31",{"$f":"INDIRECT(CONCATENATE(\"'\",B$1,\"'!\",B$4,(YEAR($A879)-1921)*12+MONTH($A879)+3+IF(ISNUMBER(FIND(\"PRV\",B$6)),1,0)))*IF(AND(B$3>0,TRIM(B$9)=\"CFS\"),Conv_Flags!$C879,1)","v":3075.0531369529317},{"$f":"INDIRECT(CONCATENATE(\"'\",C$1,\"'!\",C$4,(YEAR($A879)-1921)*12+MONTH($A879)+3+IF(ISNUMBER(FIND(\"PRV\",C$6)),1,0)))*IF(AND(C$3>0,TRIM(C$9)=\"CFS\"),Conv_Flags!$C879,1)","v":3072.6995582552631}]
["1994-01-31",{"$f":"INDIRECT(CONCATENATE(\"'\",B$1,\"'!\",B$4,(YEAR($A880)-1921)*12+MONTH($A880)+3+IF(ISNUMBER(FIND(\"PRV\",B$6)),1,0)))*IF(AND(B$3>0,TRIM(B$9)=\"CFS\"),Conv_Flags!$C880,1)","v":3265.8939121949984},{"$f":"INDIRECT(CONCATENATE(\"'\",C$1,\"'!\",C$4,(YEAR($A880)-1921)*12+MONTH($A880)+3+IF(ISNUMBER(FIND(\"PRV\",C$6)),1,0)))*IF(AND(C$3>0,TRIM(C$9)=\"CFS\"),Conv_Flags!$C880,1)","v":3211.7332073309926}]
["1994-02-28",{"$f":"INDIRECT(CONCATENATE(\"'\",B$1,\"'!\",B$4,(YEAR($A881)-1921)*12+MONTH($A881)+3+IF(ISNUMBER(FIND(\"PRV\",B$6)),1,0)))*IF(AND(B$3>0,TRIM(B$9)=\"CFS\"),Conv_Flags!$C881,1)","v":3490.2267820368816},{"$f":"INDIRECT(CONCATENATE(\"'\",C$1,\"'!\",C$4,(YEAR($A881)-1921)*12+MONTH($A881)+3+IF(ISNUMBER(FIND(\"PRV\",C$6)),1,0)))*IF(AND(C$3>0,TRIM(C$9)=\"CFS\"),Conv_Flags!$C881,1)","v":3436.1070514067105}]
["1994-03-31",{"$f":"INDIRECT(CONCATENATE(\"'\",B$1,\"'!\",B$4,(YEAR($A882)-1921)*12+MONTH($A882)+3+IF(ISNUMBER(FIND(\"PRV\",B$6)),1,0)))*IF(AND(B$3>0,TRIM(B$9)=\"CFS\"),Conv_Flags!$C882,1)","v":3663.3009279166363},{"$f":"INDIRECT(CONCATENATE(\"'\",C$1,\"'!\",C$4,(YEAR($A882)-1921)*12+MONTH($A882)+3+IF(ISNUMBER(FIND(\"PRV\",C$6)),1,0)))*IF(AND(C$3>0,TRIM(C$9)=\"CFS\"),Conv_Flags!$C882,1)","v":3609.2616093543602}]
["1994-04-30",{"$f":"INDIRECT(CONCATENATE(\"'\",B$1,\"'!\",B$4,(YEAR($A883)-1921)*12+MONTH($A883)+3+IF(ISNUMBER(FIND(\"PRV\",B$6)),1,0)))*IF(AND(B$3>0,TRIM(B$9)=\"CFS\"),Conv_Flags!$C883,1)","v":3726.0186695523694},{"$f":"INDIRECT(CONCATENATE(\"'\",C$1,\"'!\",C$4,(YEAR($A883)-1921)*12+MONTH($A883)+3+IF(ISNUMBER(FIND(\"PRV\",C$6)),1,0)))*IF(AND(C$3>0,TRIM(C$9)=\"CFS\"),Conv_Flags!$C883,1)","v":3673.0822688841226}]
["1994-05-31",{"$f":"INDIRECT(CONCATENATE(\"'\",B$1,\"'!\",B$4,(YEAR($A884)-1921)*12+MONTH($A884)+3+IF(ISNUMBER(FIND(\"PRV\",B$6)),1,0)))*IF(AND(B$3>0,TRIM(B$9)=\"CFS\"),Conv_Flags!$C884,1)","v":3635.7031809894688},{"$f":"INDIRECT(CONCATENATE(\"'\",C$1,\"'!\",C$4,(YEAR($A884)-1921)*12+MONTH($A884)+3+IF(ISNUMBER(FIND(\"PRV\",C$6)),1,0)))*IF(AND(C$3>0,TRIM(C$9)=\"CFS\"),Conv_Flags!$C884,1)","v":3585.3356371579353}]
["1994-06-30",{"$f":"INDIRECT(CONCATENATE(\"'\",B$1,\"'!\",B$4,(YEAR($A885)-1921)*12+MONTH($A885)+3+IF(ISNUMBER(FIND(\"PRV\",B$6)),1,0)))*IF(AND(B$3>0,TRIM(B$9)=\"CFS\"),Conv_Flags!$C885,1)","v":3188.9003538359716},{"$f":"INDIRECT(CONCATENATE(\"'\",C$1,\"'!\",C$4,(YEAR($A885)-1921)*12+MONTH($A885)+3+IF(ISNUMBER(FIND(\"PRV\",C$6)),1,0)))*IF(AND(C$3>0,TRIM(C$9)=\"CFS\"),Conv_Flags!$C885,1)","v":3166.4948956010917}]
["1994-07-31",{"$f":"INDIRECT(CONCATENATE(\"'\",B$1,\"'!\",B$4,(YEAR($A886)-1921)*12+MONTH($A886)+3+IF(ISNUMBER(FIND(\"PRV\",B$6)),1,0)))*IF(AND(B$3>0,TRIM(B$9)=\"CFS\"),Conv_Flags!$C886,1)","v":2742.6995840697668},{"$f":"INDIRECT(CONCATENATE(\"'\",C$1,\"'!\",C$4,(YEAR($A886)-1921)*12+MONTH($A886)+3+IF(ISNUMBER(FIND(\"PRV\",C$6)),1,0)))*IF(AND(C$3>0,TRIM(C$9)=\"CFS\"),Conv_Flags!$C886,1)","v":2700.9742739599515}]
["1994-08-31",{"$f":"INDIRECT(CONCATENATE(\"'\",B$1,\"'!\",B$4,(YEAR($A887)-1921)*12+MONTH($A887)+3+IF(ISNUMBER(FIND(\"PRV\",B$6)),1,0)))*IF(AND(B$3>0,TRIM(B$9)=\"CFS\"),Conv_Flags!$C887,1)","v":2415.491948401364},{"$f":"INDIRECT(CONCATENATE(\"'\",C$1,\"'!\",C$4,(YEAR($A887)-1921)*12+MONTH($A887)+3+IF(ISNUMBER(FIND(\"PRV\",C$6)),1,0)))*IF(AND(C$3>0,TRIM(C$9)=\"CFS\"),Conv_Flags!$C887,1)","v":2373.5890052875429}]
["1994-09-30",{"$f":"INDIRECT(CONCATENATE(\"'\",B$1,\"'!\",B$4,(YEAR($A888)-1921)*12+MONTH($A888)+3+IF(ISNUMBER(FIND(\"PRV\",B$6)),1,0)))*IF(AND(B$3>0,TRIM(B$9)=\"CFS\"),Conv_Flags!$C888,1)","v":2421.5892334398227},{"$f":"INDIRECT(CONCATENATE(\"'\",C$1,\"'!\",C$4,(YEAR($A888)-1921)*12+MONTH($A888)+3+IF(ISNUMBER(FIND(\"PRV\",C$6)),1,0)))*IF(AND(C$3>0,TRIM(C$9)=\"CFS\"),Conv_Flags!$C888,1)","v":2395.812525450785}]
["1994-10-31",{"$f":"INDIRECT(CONCATENATE(\"'\",B$1,\"'!\",B$4,(YEAR($A889)-1921)*12+MONTH($A889)+3+IF(ISNUMBER(FIND(\"PRV\",B$6)),1,0)))*IF(AND(B$3>0,TRIM(B$9)=\"CFS\"),Conv_Flags!$C889,1)","v":2249.5271491817234},{"$f":"INDIRECT(CONCATENATE(\"'\",C$1,\"'!\",C$4,(YEAR($A889)-1921)*12+MONTH($A889)+3+IF(ISNUMBER(FIND(\"PRV\",C$6)),1,0)))*IF(AND(C$3>0,TRIM(C$9)=\"CFS\"),Conv_Flags!$C889,1)","v":2208.5912935625556}]
["1994-11-30",{"$f":"INDIRECT(CONCATENATE(\"'\",B$1,\"'!\",B$4,(YEAR($A890)-1921)*12+MONTH($A890)+3+IF(ISNUMBER(FIND(\"PRV\",B$6)),1,0)))*IF(AND(B$3>0,TRIM(B$9)=\"CFS\"),Conv_Flags!$C890,1)","v":2226.6955593442303},{"$f":"INDIRECT(CONCATENATE(\"'\",C$1,\"'!\",C$4,(YEAR($A890)-1921)*12+MONTH($A890)+3+IF(ISNUMBER(FIND(\"PRV\",C$6)),1,0)))*IF(AND(C$3>0,TRIM(C$9)=\"CFS\"),Conv_Flags!$C890,1)","v":2174.9462739447858}]
["1994-12-31",{"$f":"INDIRECT(CONCATENATE(\"'\",B$1,\"'!\",B$4,(YEAR($A891)-1921)*12+MONTH($A891)+3+IF(ISNUMBER(FIND(\"PRV\",B$6)),1,0)))*IF(AND(B$3>0,TRIM(B$9)=\"CFS\"),Conv_Flags!$C891,1)","v":2271.1066286763489},{"$f":"INDIRECT(CONCATENATE(\"'\",C$1,\"'!\",C$4,(YEAR($A891)-1921)*12+MONTH($A891)+3+IF(ISNUMBER(FIND(\"PRV\",C$6)),1,0)))*IF(AND(C$3>0,TRIM(C$9)=\"CFS\"),Conv_Flags!$C891,1)","v":2203.9905689844672}]
["1995-01-31",{"$f":"INDIRECT(CONCATENATE(\"'\",B$1,\"'!\",B$4,(YEAR($A892)-1921)*12+MONTH($A892)+3+IF(ISNUMBER(FIND(\"PRV\",B$6)),1,0)))*IF(AND(B$3>0,TRIM(B$9)=\"CFS\"),Conv_Flags!$C892,1)","v":3252.10009765625},{"$f":"INDIRECT(CONCATENATE(\"'\",C$1,\"'!\",C$4,(YEAR($A892)-1921)*12+MONTH($A892)+3+IF(ISNUMBER(FIND(\"PRV\",C$6)),1,0)))*IF(AND(C$3>0,TRIM(C$9)=\"CFS\"),Conv_Flags!$C892,1)","v":3252.10009765625}]
["1995-02-28",{"$f":"INDIRECT(CONCATENATE(\"'\",B$1,\"'!\",B$4,(YEAR($A893)-1921)*12+MONTH($A893)+3+IF(ISNUMBER(FIND(\"PRV\",B$6)),1,0)))*IF(AND(B$3>0,TRIM(B$9)=\"CFS\"),Conv_Flags!$C893,1)","v":3742.5},{"$f":"INDIRECT(CONCATENATE(\"'\",C$1,\"'!\",C$4,(YEAR($A893)-1921)*12+MONTH($A893)+3+IF(ISNUMBER(FIND(\"PRV\",C$6)),1,0)))*IF(AND(C$3>0,TRIM(C$9)=\"CFS\"),Conv_Flags!$C893,1)","v":3742.5}]
["1995-03-31",{"$f":"INDIRECT(CONCATENATE(\"'\",B$1,\"'!\",B$4,(YEAR($A894)-1921)*12+MONTH($A894)+3+IF(ISNUMBER(FIND(\"PRV\",B$6)),1,0)))*IF(AND(B$3>0,TRIM(B$9)=\"CFS\"),Conv_Flags!$C894,1)","v":3416.5},{"$f":"INDIRECT(CONCATENATE(\"'\",C$1,\"'!\",C$4,(YEAR($A894)-1921)*12+MONTH($A894)+3+IF(ISNUMBER(FIND(\"PRV\",C$6)),1,0)))*IF(AND(C$3>0,TRIM(C$9)=\"CFS\"),Conv_Flags!$C894,1)","v":3416.5}]
["1995-04-30",{"$f":"INDIRECT(CONCATENATE(\"'\",B$1,\"'!\",B$4,(YEAR($A895)-1921)*12+MONTH($A895)+3+IF(ISNUMBER(FIND(\"PRV\",B$6)),1,0)))*IF(AND(B$3>0,TRIM(B$9)=\"CFS\"),Conv_Flags!$C895,1)","v":4216.7998046875},{"$f":"INDIRECT(CONCATENATE(\"'\",C$1,\"'!\",C$4,(YEAR($A895)-1921)*12+MONTH($A895)+3+IF(ISNUMBER(FIND(\"PRV\",C$6)),1,0)))*IF(AND(C$3>0,TRIM(C$9)=\"CFS\"),Conv_Flags!$C895,1)","v":4216.7998046875}]
["1995-05-31",{"$f":"INDIRECT(CONCATENATE(\"'\",B$1,\"'!\",B$4,(YEAR($A896)-1921)*12+MONTH($A896)+3+IF(ISNUMBER(FIND(\"PRV\",B$6)),1,0)))*IF(AND(B$3>0,TRIM(B$9)=\"CFS\"),Conv_Flags!$C896,1)","v":4552},{"$f":"INDIRECT(CONCATENATE(\"'\",C$1,\"'!\",C$4,(YEAR($A896)-1921)*12+MONTH($A896)+3+IF(ISNUMBER(FIND(\"PRV\",C$6)),1,0)))*IF(AND(C$3>0,TRIM(C$9)=\"CFS\"),Conv_Flags!$C896,1)","v":4552}]
["1995-06-30",{"$f":"INDIRECT(CONCATENATE(\"'\",B$1,\"'!\",B$4,(YEAR($A897)-1921)*12+MONTH($A897)+3+IF(ISNUMBER(FIND(\"PRV\",B$6)),1,0)))*IF(AND(B$3>0,TRIM(B$9)=\"CFS\"),Conv_Flags!$C897,1)","v":4500},{"$f":"INDIRECT(CONCATENATE(\"'\",C$1,\"'!\",C$4,(YEAR($A897)-1921)*12+MONTH($A897)+3+IF(ISNUMBER(FIND(\"PRV\",C$6)),1,0)))*IF(AND(C$3>0,TRIM(C$9)=\"CFS\"),Conv_Flags!$C897,1)","v":4500}]
["1995-07-31",{"$f":"INDIRECT(CONCATENATE(\"'\",B$1,\"'!\",B$4,(YEAR($A898)-1921)*12+MONTH($A898)+3+IF(ISNUMBER(FIND(\"PRV\",B$6)),1,0)))*IF(AND(B$3>0,TRIM(B$9)=\"CFS\"),Conv_Flags!$C898,1)","v":4150},{"$f":"INDIRECT(CONCATENATE(\"'\",C$1,\"'!\",C$4,(YEAR($A898)-1921)*12+MONTH($A898)+3+IF(ISNUMBER(FIND(\"PRV\",C$6)),1,0)))*IF(AND(C$3>0,TRIM(C$9)=\"CFS\"),Conv_Flags!$C898,1)","v":4150}]
["1995-08-31",{"$f":"INDIRECT(CONCATENATE(\"'\",B$1,\"'!\",B$4,(YEAR($A899)-1921)*12+MONTH($A899)+3+IF(ISNUMBER(FIND(\"PRV\",B$6)),1,0)))*IF(AND(B$3>0,TRIM(B$9)=\"CFS\"),Conv_Flags!$C899,1)","v":3700},{"$f":"INDIRECT(CONCATENATE(\"'\",C$1,\"'!\",C$4,(YEAR($A899)-1921)*12+MONTH($A899)+3+IF(ISNUMBER(FIND(\"PRV\",C$6)),1,0)))*IF(AND(C$3>0,TRIM(C$9)=\"CFS\"),Conv_Flags!$C899,1)","v":3700}]
["1995-09-30",{"$f":"INDIRECT(CONCATENATE(\"'\",B$1,\"'!\",B$4,(YEAR($A900)-1921)*12+MONTH($A900)+3+IF(ISNUMBER(FIND(\"PRV\",B$6)),1,0)))*IF(AND(B$3>0,TRIM(B$9)=\"CFS\"),Conv_Flags!$C900,1)","v":3400},{"$f":"INDIRECT(CONCATENATE(\"'\",C$1,\"'!\",C$4,(YEAR($A900)-1921)*12+MONTH($A900)+3+IF(ISNUMBER(FIND(\"PRV\",C$6)),1,0)))*IF(AND(C$3>0,TRIM(C$9)=\"CFS\"),Conv_Flags!$C900,1)","v":3400}]
["1995-10-31",{"$f":"INDIRECT(CONCATENATE(\"'\",B$1,\"'!\",B$4,(YEAR($A901)-1921)*12+MONTH($A901)+3+IF(ISNUMBER(FIND(\"PRV\",B$6)),1,0)))*IF(AND(B$3>0,TRIM(B$9)=\"CFS\"),Conv_Flags!$C901,1)","v":3249.9999999999995},{"$f":"INDIRECT(CONCATENATE(\"'\",C$1,\"'!\",C$4,(YEAR($A901)-1921)*12+MONTH($A901)+3+IF(ISNUMBER(FIND(\"PRV\",C$6)),1,0)))*IF(AND(C$3>0,TRIM(C$9)=\"CFS\"),Conv_Flags!$C901,1)","v":3249.9999999999995}]
["1995-11-30",{"$f":"INDIRECT(CONCATENATE(\"'\",B$1,\"'!\",B$4,(YEAR($A902)-1921)*12+MONTH($A902)+3+IF(ISNUMBER(FIND(\"PRV\",B$6)),1,0)))*IF(AND(B$3>0,TRIM(B$9)=\"CFS\"),Conv_Flags!$C902,1)","v":3077.589191405898},{"$f":"INDIRECT(CONCATENATE(\"'\",C$1,\"'!\",C$4,(YEAR($A902)-1921)*12+MONTH($A902)+3+IF(ISNUMBER(FIND(\"PRV\",C$6)),1,0)))*IF(AND(C$3>0,TRIM(C$9)=\"CFS\"),Conv_Flags!$C902,1)","v":3090.4463571587567}]
["1995-12-31",{"$f":"INDIRECT(CONCATENATE(\"'\",B$1,\"'!\",B$4,(YEAR($A903)-1921)*12+MONTH($A903)+3+IF(ISNUMBER(FIND(\"PRV\",B$6)),1,0)))*IF(AND(B$3>0,TRIM(B$9)=\"CFS\"),Conv_Flags!$C903,1)","v":3367.60009765625},{"$f":"INDIRECT(CONCATENATE(\"'\",C$1,\"'!\",C$4,(YEAR($A903)-1921)*12+MONTH($A903)+3+IF(ISNUMBER(FIND(\"PRV\",C$6)),1,0)))*IF(AND(C$3>0,TRIM(C$9)=\"CFS\"),Conv_Flags!$C903,1)","v":3367.60009765625}]
["1996-01-31",{"$f":"INDIRECT(CONCATENATE(\"'\",B$1,\"'!\",B$4,(YEAR($A904)-1921)*12+MONTH($A904)+3+IF(ISNUMBER(FIND(\"PRV\",B$6)),1,0)))*IF(AND(B$3>0,TRIM(B$9)=\"CFS\"),Conv_Flags!$C904,1)","v":3722.5},{"$f":"INDIRECT(CONCATENATE(\"'\",C$1,\"'!\",C$4,(YEAR($A904)-1921)*12+MONTH($A904)+3+IF(ISNUMBER(FIND(\"PRV\",C$6)),1,0)))*IF(AND(C$3>0,TRIM(C$9)=\"CFS\"),Conv_Flags!$C904,1)","v":3722.5}]
["1996-02-29",{"$f":"INDIRECT(CONCATENATE(\"'\",B$1,\"'!\",B$4,(YEAR($A905)-1921)*12+MONTH($A905)+3+IF(ISNUMBER(FIND(\"PRV\",B$6)),1,0)))*IF(AND(B$3>0,TRIM(B$9)=\"CFS\"),Conv_Flags!$C905,1)","v":3503.10009765625},{"$f":"INDIRECT(CONCATENATE(\"'\",C$1,\"'!\",C$4,(YEAR($A905)-1921)*12+MONTH($A905)+3+IF(ISNUMBER(FIND(\"PRV\",C$6)),1,0)))*IF(AND(C$3>0,TRIM(C$9)=\"CFS\"),Conv_Flags!$C905,1)","v":3503.10009765625}]
["1996-03-31",{"$f":"INDIRECT(CONCATENATE(\"'\",B$1,\"'!\",B$4,(YEAR($A906)-1921)*12+MONTH($A906)+3+IF(ISNUMBER(FIND(\"PRV\",B$6)),1,0)))*IF(AND(B$3>0,TRIM(B$9)=\"CFS\"),Conv_Flags!$C906,1)","v":4009.89990234375},{"$f":"INDIRECT(CONCATENATE(\"'\",C$1,\"'!\",C$4,(YEAR($A906)-1921)*12+MONTH($A906)+3+IF(ISNUMBER(FIND(\"PRV\",C$6)),1,0)))*IF(AND(C$3>0,TRIM(C$9)=\"CFS\"),Conv_Flags!$C906,1)","v":4009.89990234375}]
["1996-04-30",{"$f":"INDIRECT(CONCATENATE(\"'\",B$1,\"'!\",B$4,(YEAR($A907)-1921)*12+MONTH($A907)+3+IF(ISNUMBER(FIND(\"PRV\",B$6)),1,0)))*IF(AND(B$3>0,TRIM(B$9)=\"CFS\"),Conv_Flags!$C907,1)","v":4487.2383984151757},{"$f":"INDIRECT(CONCATENATE(\"'\",C$1,\"'!\",C$4,(YEAR($A907)-1921)*12+MONTH($A907)+3+IF(ISNUMBER(FIND(\"PRV\",C$6)),1,0)))*IF(AND(C$3>0,TRIM(C$9)=\"CFS\"),Conv_Flags!$C907,1)","v":4487.238398034383}]
["1996-05-31",{"$f":"INDIRECT(CONCATENATE(\"'\",B$1,\"'!\",B$4,(YEAR($A908)-1921)*12+MONTH($A908)+3+IF(ISNUMBER(FIND(\"PRV\",B$6)),1,0)))*IF(AND(B$3>0,TRIM(B$9)=\"CFS\"),Conv_Flags!$C908,1)","v":4481.0765655307796},{"$f":"INDIRECT(CONCATENATE(\"'\",C$1,\"'!\",C$4,(YEAR($A908)-1921)*12+MONTH($A908)+3+IF(ISNUMBER(FIND(\"PRV\",C$6)),1,0)))*IF(AND(C$3>0,TRIM(C$9)=\"CFS\"),Conv_Flags!$C908,1)","v":4478.0452655227464}]
["1996-06-30",{"$f":"INDIRECT(CONCATENATE(\"'\",B$1,\"'!\",B$4,(YEAR($A909)-1921)*12+MONTH($A909)+3+IF(ISNUMBER(FIND(\"PRV\",B$6)),1,0)))*IF(AND(B$3>0,TRIM(B$9)=\"CFS\"),Conv_Flags!$C909,1)","v":4396.2389066090373},{"$f":"INDIRECT(CONCATENATE(\"'\",C$1,\"'!\",C$4,(YEAR($A909)-1921)*12+MONTH($A909)+3+IF(ISNUMBER(FIND(\"PRV\",C$6)),1,0)))*IF(AND(C$3>0,TRIM(C$9)=\"CFS\"),Conv_Flags!$C909,1)","v":4393.0354198071836}]
["1996-07-31",{"$f":"INDIRECT(CONCATENATE(\"'\",B$1,\"'!\",B$4,(YEAR($A910)-1921)*12+MONTH($A910)+3+IF(ISNUMBER(FIND(\"PRV\",B$6)),1,0)))*IF(AND(B$3>0,TRIM(B$9)=\"CFS\"),Conv_Flags!$C910,1)","v":3955.9266487284208},{"$f":"INDIRECT(CONCATENATE(\"'\",C$1,\"'!\",C$4,(YEAR($A910)-1921)*12+MONTH($A910)+3+IF(ISNUMBER(FIND(\"PRV\",C$6)),1,0)))*IF(AND(C$3>0,TRIM(C$9)=\"CFS\"),Conv_Flags!$C910,1)","v":3948.246712950543}]
["1996-08-31",{"$f":"INDIRECT(CONCATENATE(\"'\",B$1,\"'!\",B$4,(YEAR($A911)-1921)*12+MONTH($A911)+3+IF(ISNUMBER(FIND(\"PRV\",B$6)),1,0)))*IF(AND(B$3>0,TRIM(B$9)=\"CFS\"),Conv_Flags!$C911,1)","v":3700},{"$f":"INDIRECT(CONCATENATE(\"'\",C$1,\"'!\",C$4,(YEAR($A911)-1921)*12+MONTH($A911)+3+IF(ISNUMBER(FIND(\"PRV\",C$6)),1,0)))*IF(AND(C$3>0,TRIM(C$9)=\"CFS\"),Conv_Flags!$C911,1)","v":3684.7729881117771}]
["1996-09-30",{"$f":"INDIRECT(CONCATENATE(\"'\",B$1,\"'!\",B$4,(YEAR($A912)-1921)*12+MONTH($A912)+3+IF(ISNUMBER(FIND(\"PRV\",B$6)),1,0)))*IF(AND(B$3>0,TRIM(B$9)=\"CFS\"),Conv_Flags!$C912,1)","v":3400},{"$f":"INDIRECT(CONCATENATE(\"'\",C$1,\"'!\",C$4,(YEAR($A912)-1921)*12+MONTH($A912)+3+IF(ISNUMBER(FIND(\"PRV\",C$6)),1,0)))*IF(AND(C$3>0,TRIM(C$9)=\"CFS\"),Conv_Flags!$C912,1)","v":3400.0000000000005}]
["1996-10-31",{"$f":"INDIRECT(CONCATENATE(\"'\",B$1,\"'!\",B$4,(YEAR($A913)-1921)*12+MONTH($A913)+3+IF(ISNUMBER(FIND(\"PRV\",B$6)),1,0)))*IF(AND(B$3>0,TRIM(B$9)=\"CFS\"),Conv_Flags!$C913,1)","v":3250},{"$f":"INDIRECT(CONCATENATE(\"'\",C$1,\"'!\",C$4,(YEAR($A913)-1921)*12+MONTH($A913)+3+IF(ISNUMBER(FIND(\"PRV\",C$6)),1,0)))*IF(AND(C$3>0,TRIM(C$9)=\"CFS\"),Conv_Flags!$C913,1)","v":3250}]
["1996-11-30",{"$f":"INDIRECT(CONCATENATE(\"'\",B$1,\"'!\",B$4,(YEAR($A914)-1921)*12+MONTH($A914)+3+IF(ISNUMBER(FIND(\"PRV\",B$6)),1,0)))*IF(AND(B$3>0,TRIM(B$9)=\"CFS\"),Conv_Flags!$C914,1)","v":3252},{"$f":"INDIRECT(CONCATENATE(\"'\",C$1,\"'!\",C$4,(YEAR($A914)-1921)*12+MONTH($A914)+3+IF(ISNUMBER(FIND(\"PRV\",C$6)),1,0)))*IF(AND(C$3>0,TRIM(C$9)=\"CFS\"),Conv_Flags!$C914,1)","v":3252}]
["1996-12-31",{"$f":"INDIRECT(CONCATENATE(\"'\",B$1,\"'!\",B$4,(YEAR($A915)-1921)*12+MONTH($A915)+3+IF(ISNUMBER(FIND(\"PRV\",B$6)),1,0)))*IF(AND(B$3>0,TRIM(B$9)=\"CFS\"),Conv_Flags!$C915,1)","v":3252.10009765625},{"$f":"INDIRECT(CONCATENATE(\"'\",C$1,\"'!\",C$4,(YEAR($A915)-1921)*12+MONTH($A915)+3+IF(ISNUMBER(FIND(\"PRV\",C$6)),1,0)))*IF(AND(C$3>0,TRIM(C$9)=\"CFS\"),Conv_Flags!$C915,1)","v":3252.10009765625}]
["1997-01-31",{"$f":"INDIRECT(CONCATENATE(\"'\",B$1,\"'!\",B$4,(YEAR($A916)-1921)*12+MONTH($A916)+3+IF(ISNUMBER(FIND(\"PRV\",B$6)),1,0)))*IF(AND(B$3>0,TRIM(B$9)=\"CFS\"),Conv_Flags!$C916,1)","v":3252.10009765625},{"$f":"INDIRECT(CONCATENATE(\"'\",C$1,\"'!\",C$4,(YEAR($A916)-1921)*12+MONTH($A916)+3+IF(ISNUMBER(FIND(\"PRV\",C$6)),1,0)))*IF(AND(C$3>0,TRIM(C$9)=\"CFS\"),Conv_Flags!$C916,1)","v":3252.10009765625}]
["1997-02-28",{"$f":"INDIRECT(CONCATENATE(\"'\",B$1,\"'!\",B$4,(YEAR($A917)-1921)*12+MONTH($A917)+3+IF(ISNUMBER(FIND(\"PRV\",B$6)),1,0)))*IF(AND(B$3>0,TRIM(B$9)=\"CFS\"),Conv_Flags!$C917,1)","v":3788.800048828125},{"$f":"INDIRECT(CONCATENATE(\"'\",C$1,\"'!\",C$4,(YEAR($A917)-1921)*12+MONTH($A917)+3+IF(ISNUMBER(FIND(\"PRV\",C$6)),1,0)))*IF(AND(C$3>0,TRIM(C$9)=\"CFS\"),Conv_Flags!$C917,1)","v":3788.800048828125}]
["1997-03-31",{"$f":"INDIRECT(CONCATENATE(\"'\",B$1,\"'!\",B$4,(YEAR($A918)-1921)*12+MONTH($A918)+3+IF(ISNUMBER(FIND(\"PRV\",B$6)),1,0)))*IF(AND(B$3>0,TRIM(B$9)=\"CFS\"),Conv_Flags!$C918,1)","v":4009.5749176837785},{"$f":"INDIRECT(CONCATENATE(\"'\",C$1,\"'!\",C$4,(YEAR($A918)-1921)*12+MONTH($A918)+3+IF(ISNUMBER(FIND(\"PRV\",C$6)),1,0)))*IF(AND(C$3>0,TRIM(C$9)=\"CFS\"),Conv_Flags!$C918,1)","v":4009.5749176837776}]
["1997-04-30",{"$f":"INDIRECT(CONCATENATE(\"'\",B$1,\"'!\",B$4,(YEAR($A919)-1921)*12+MONTH($A919)+3+IF(ISNUMBER(FIND(\"PRV\",B$6)),1,0)))*IF(AND(B$3>0,TRIM(B$9)=\"CFS\"),Conv_Flags!$C919,1)","v":4183.5261852241483},{"$f":"INDIRECT(CONCATENATE(\"'\",C$1,\"'!\",C$4,(YEAR($A919)-1921)*12+MONTH($A919)+3+IF(ISNUMBER(FIND(\"PRV\",C$6)),1,0)))*IF(AND(C$3>0,TRIM(C$9)=\"CFS\"),Conv_Flags!$C919,1)","v":4183.5261857288815}]
["1997-05-31",{"$f":"INDIRECT(CONCATENATE(\"'\",B$1,\"'!\",B$4,(YEAR($A920)-1921)*12+MONTH($A920)+3+IF(ISNUMBER(FIND(\"PRV\",B$6)),1,0)))*IF(AND(B$3>0,TRIM(B$9)=\"CFS\"),Conv_Flags!$C920,1)","v":3978.0076325338005},{"$f":"INDIRECT(CONCATENATE(\"'\",C$1,\"'!\",C$4,(YEAR($A920)-1921)*12+MONTH($A920)+3+IF(ISNUMBER(FIND(\"PRV\",C$6)),1,0)))*IF(AND(C$3>0,TRIM(C$9)=\"CFS\"),Conv_Flags!$C920,1)","v":3977.7700242384713}]
["1997-06-30",{"$f":"INDIRECT(CONCATENATE(\"'\",B$1,\"'!\",B$4,(YEAR($A921)-1921)*12+MONTH($A921)+3+IF(ISNUMBER(FIND(\"PRV\",B$6)),1,0)))*IF(AND(B$3>0,TRIM(B$9)=\"CFS\"),Conv_Flags!$C921,1)","v":3726.3398979989897},{"$f":"INDIRECT(CONCATENATE(\"'\",C$1,\"'!\",C$4,(YEAR($A921)-1921)*12+MONTH($A921)+3+IF(ISNUMBER(FIND(\"PRV\",C$6)),1,0)))*IF(AND(C$3>0,TRIM(C$9)=\"CFS\"),Conv_Flags!$C921,1)","v":3666.2148035456507}]
["1997-07-31",{"$f":"INDIRECT(CONCATENATE(\"'\",B$1,\"'!\",B$4,(YEAR($A922)-1921)*12+MONTH($A922)+3+IF(ISNUMBER(FIND(\"PRV\",B$6)),1,0)))*IF(AND(B$3>0,TRIM(B$9)=\"CFS\"),Conv_Flags!$C922,1)","v":3114.2186157892352},{"$f":"INDIRECT(CONCATENATE(\"'\",C$1,\"'!\",C$4,(YEAR($A922)-1921)*12+MONTH($A922)+3+IF(ISNUMBER(FIND(\"PRV\",C$6)),1,0)))*IF(AND(C$3>0,TRIM(C$9)=\"CFS\"),Conv_Flags!$C922,1)","v":3102.0696307840876}]
["1997-08-31",{"$f":"INDIRECT(CONCATENATE(\"'\",B$1,\"'!\",B$4,(YEAR($A923)-1921)*12+MONTH($A923)+3+IF(ISNUMBER(FIND(\"PRV\",B$6)),1,0)))*IF(AND(B$3>0,TRIM(B$9)=\"CFS\"),Conv_Flags!$C923,1)","v":2936.3115834250425},{"$f":"INDIRECT(CONCATENATE(\"'\",C$1,\"'!\",C$4,(YEAR($A923)-1921)*12+MONTH($A923)+3+IF(ISNUMBER(FIND(\"PRV\",C$6)),1,0)))*IF(AND(C$3>0,TRIM(C$9)=\"CFS\"),Conv_Flags!$C923,1)","v":2925.0769506541792}]
["1997-09-30",{"$f":"INDIRECT(CONCATENATE(\"'\",B$1,\"'!\",B$4,(YEAR($A924)-1921)*12+MONTH($A924)+3+IF(ISNUMBER(FIND(\"PRV\",B$6)),1,0)))*IF(AND(B$3>0,TRIM(B$9)=\"CFS\"),Conv_Flags!$C924,1)","v":2779.6017117746419},{"$f":"INDIRECT(CONCATENATE(\"'\",C$1,\"'!\",C$4,(YEAR($A924)-1921)*12+MONTH($A924)+3+IF(ISNUMBER(FIND(\"PRV\",C$6)),1,0)))*IF(AND(C$3>0,TRIM(C$9)=\"CFS\"),Conv_Flags!$C924,1)","v":2750.2694816878852}]
["1997-10-31",{"$f":"INDIRECT(CONCATENATE(\"'\",B$1,\"'!\",B$4,(YEAR($A925)-1921)*12+MONTH($A925)+3+IF(ISNUMBER(FIND(\"PRV\",B$6)),1,0)))*IF(AND(B$3>0,TRIM(B$9)=\"CFS\"),Conv_Flags!$C925,1)","v":2684.5255818055252},{"$f":"INDIRECT(CONCATENATE(\"'\",C$1,\"'!\",C$4,(YEAR($A925)-1921)*12+MONTH($A925)+3+IF(ISNUMBER(FIND(\"PRV\",C$6)),1,0)))*IF(AND(C$3>0,TRIM(C$9)=\"CFS\"),Conv_Flags!$C925,1)","v":2654.4947576386567}]
["1997-11-30",{"$f":"INDIRECT(CONCATENATE(\"'\",B$1,\"'!\",B$4,(YEAR($A926)-1921)*12+MONTH($A926)+3+IF(ISNUMBER(FIND(\"PRV\",B$6)),1,0)))*IF(AND(B$3>0,TRIM(B$9)=\"CFS\"),Conv_Flags!$C926,1)","v":2838.9749195343179},{"$f":"INDIRECT(CONCATENATE(\"'\",C$1,\"'!\",C$4,(YEAR($A926)-1921)*12+MONTH($A926)+3+IF(ISNUMBER(FIND(\"PRV\",C$6)),1,0)))*IF(AND(C$3>0,TRIM(C$9)=\"CFS\"),Conv_Flags!$C926,1)","v":2809.4588623426862}]
["1997-12-31",{"$f":"INDIRECT(CONCATENATE(\"'\",B$1,\"'!\",B$4,(YEAR($A927)-1921)*12+MONTH($A927)+3+IF(ISNUMBER(FIND(\"PRV\",B$6)),1,0)))*IF(AND(B$3>0,TRIM(B$9)=\"CFS\"),Conv_Flags!$C927,1)","v":3089.9804181311697},{"$f":"INDIRECT(CONCATENATE(\"'\",C$1,\"'!\",C$4,(YEAR($A927)-1921)*12+MONTH($A927)+3+IF(ISNUMBER(FIND(\"PRV\",C$6)),1,0)))*IF(AND(C$3>0,TRIM(C$9)=\"CFS\"),Conv_Flags!$C927,1)","v":3060.4851150745917}]
["1998-01-31",{"$f":"INDIRECT(CONCATENATE(\"'\",B$1,\"'!\",B$4,(YEAR($A928)-1921)*12+MONTH($A928)+3+IF(ISNUMBER(FIND(\"PRV\",B$6)),1,0)))*IF(AND(B$3>0,TRIM(B$9)=\"CFS\"),Conv_Flags!$C928,1)","v":3338.5},{"$f":"INDIRECT(CONCATENATE(\"'\",C$1,\"'!\",C$4,(YEAR($A928)-1921)*12+MONTH($A928)+3+IF(ISNUMBER(FIND(\"PRV\",C$6)),1,0)))*IF(AND(C$3>0,TRIM(C$9)=\"CFS\"),Conv_Flags!$C928,1)","v":3338.5}]
["1998-02-28",{"$f":"INDIRECT(CONCATENATE(\"'\",B$1,\"'!\",B$4,(YEAR($A929)-1921)*12+MONTH($A929)+3+IF(ISNUMBER(FIND(\"PRV\",B$6)),1,0)))*IF(AND(B$3>0,TRIM(B$9)=\"CFS\"),Conv_Flags!$C929,1)","v":3252.1000976562505},{"$f":"INDIRECT(CONCATENATE(\"'\",C$1,\"'!\",C$4,(YEAR($A929)-1921)*12+MONTH($A929)+3+IF(ISNUMBER(FIND(\"PRV\",C$6)),1,0)))*IF(AND(C$3>0,TRIM(C$9)=\"CFS\"),Conv_Flags!$C929,1)","v":3252.1000976562505}]
["1998-03-31",{"$f":"INDIRECT(CONCATENATE(\"'\",B$1,\"'!\",B$4,(YEAR($A930)-1921)*12+MONTH($A930)+3+IF(ISNUMBER(FIND(\"PRV\",B$6)),1,0)))*IF(AND(B$3>0,TRIM(B$9)=\"CFS\"),Conv_Flags!$C930,1)","v":3503.89990234375},{"$f":"INDIRECT(CONCATENATE(\"'\",C$1,\"'!\",C$4,(YEAR($A930)-1921)*12+MONTH($A930)+3+IF(ISNUMBER(FIND(\"PRV\",C$6)),1,0)))*IF(AND(C$3>0,TRIM(C$9)=\"CFS\"),Conv_Flags!$C930,1)","v":3503.89990234375}]
["1998-04-30",{"$f":"INDIRECT(CONCATENATE(\"'\",B$1,\"'!\",B$4,(YEAR($A931)-1921)*12+MONTH($A931)+3+IF(ISNUMBER(FIND(\"PRV\",B$6)),1,0)))*IF(AND(B$3>0,TRIM(B$9)=\"CFS\"),Conv_Flags!$C931,1)","v":4383.0139866577638},{"$f":"INDIRECT(CONCATENATE(\"'\",C$1,\"'!\",C$4,(YEAR($A931)-1921)*12+MONTH($A931)+3+IF(ISNUMBER(FIND(\"PRV\",C$6)),1,0)))*IF(AND(C$3>0,TRIM(C$9)=\"CFS\"),Conv_Flags!$C931,1)","v":4383.0139868007154}]
["1998-05-31",{"$f":"INDIRECT(CONCATENATE(\"'\",B$1,\"'!\",B$4,(YEAR($A932)-1921)*12+MONTH($A932)+3+IF(ISNUMBER(FIND(\"PRV\",B$6)),1,0)))*IF(AND(B$3>0,TRIM(B$9)=\"CFS\"),Conv_Flags!$C932,1)","v":4552},{"$f":"INDIRECT(CONCATENATE(\"'\",C$1,\"'!\",C$4,(YEAR($A932)-1921)*12+MONTH($A932)+3+IF(ISNUMBER(FIND(\"PRV\",C$6)),1,0)))*IF(AND(C$3>0,TRIM(C$9)=\"CFS\"),Conv_Flags!$C932,1)","v":4552}]
["1998-06-30",{"$f":"INDIRECT(CONCATENATE(\"'\",B$1,\"'!\",B$4,(YEAR($A933)-1921)*12+MONTH($A933)+3+IF(ISNUMBER(FIND(\"PRV\",B$6)),1,0)))*IF(AND(B$3>0,TRIM(B$9)=\"CFS\"),Conv_Flags!$C933,1)","v":4500},{"$f":"INDIRECT(CONCATENATE(\"'\",C$1,\"'!\",C$4,(YEAR($A933)-1921)*12+MONTH($A933)+3+IF(ISNUMBER(FIND(\"PRV\",C$6)),1,0)))*IF(AND(C$3>0,TRIM(C$9)=\"CFS\"),Conv_Flags!$C933,1)","v":4500}]
["1998-07-31",{"$f":"INDIRECT(CONCATENATE(\"'\",B$1,\"'!\",B$4,(YEAR($A934)-1921)*12+MONTH($A934)+3+IF(ISNUMBER(FIND(\"PRV\",B$6)),1,0)))*IF(AND(B$3>0,TRIM(B$9)=\"CFS\"),Conv_Flags!$C934,1)","v":4150},{"$f":"INDIRECT(CONCATENATE(\"'\",C$1,\"'!\",C$4,(YEAR($A934)-1921)*12+MONTH($A934)+3+IF(ISNUMBER(FIND(\"PRV\",C$6)),1,0)))*IF(AND(C$3>0,TRIM(C$9)=\"CFS\"),Conv_Flags!$C934,1)","v":4150}]
["1998-08-31",{"$f":"INDIRECT(CONCATENATE(\"'\",B$1,\"'!\",B$4,(YEAR($A935)-1921)*12+MONTH($A935)+3+IF(ISNUMBER(FIND(\"PRV\",B$6)),1,0)))*IF(AND(B$3>0,TRIM(B$9)=\"CFS\"),Conv_Flags!$C935,1)","v":3700},{"$f":"INDIRECT(CONCATENATE(\"'\",C$1,\"'!\",C$4,(YEAR($A935)-1921)*12+MONTH($A935)+3+IF(ISNUMBER(FIND(\"PRV\",C$6)),1,0)))*IF(AND(C$3>0,TRIM(C$9)=\"CFS\"),Conv_Flags!$C935,1)","v":3700}]
["1998-09-30",{"$f":"INDIRECT(CONCATENATE(\"'\",B$1,\"'!\",B$4,(YEAR($A936)-1921)*12+MONTH($A936)+3+IF(ISNUMBER(FIND(\"PRV\",B$6)),1,0)))*IF(AND(B$3>0,TRIM(B$9)=\"CFS\"),Conv_Flags!$C936,1)","v":3400},{"$f":"INDIRECT(CONCATENATE(\"'\",C$1,\"'!\",C$4,(YEAR($A936)-1921)*12+MONTH($A936)+3+IF(ISNUMBER(FIND(\"PRV\",C$6)),1,0)))*IF(AND(C$3>0,TRIM(C$9)=\"CFS\"),Conv_Flags!$C936,1)","v":3400}]
["1998-10-31",{"$f":"INDIRECT(CONCATENATE(\"'\",B$1,\"'!\",B$4,(YEAR($A937)-1921)*12+MONTH($A937)+3+IF(ISNUMBER(FIND(\"PRV\",B$6)),1,0)))*IF(AND(B$3>0,TRIM(B$9)=\"CFS\"),Conv_Flags!$C937,1)","v":3250},{"$f":"INDIRECT(CONCATENATE(\"'\",C$1,\"'!\",C$4,(YEAR($A937)-1921)*12+MONTH($A937)+3+IF(ISNUMBER(FIND(\"PRV\",C$6)),1,0)))*IF(AND(C$3>0,TRIM(C$9)=\"CFS\"),Conv_Flags!$C937,1)","v":3250}]
["1998-11-30",{"$f":"INDIRECT(CONCATENATE(\"'\",B$1,\"'!\",B$4,(YEAR($A938)-1921)*12+MONTH($A938)+3+IF(ISNUMBER(FIND(\"PRV\",B$6)),1,0)))*IF(AND(B$3>0,TRIM(B$9)=\"CFS\"),Conv_Flags!$C938,1)","v":3252},{"$f":"INDIRECT(CONCATENATE(\"'\",C$1,\"'!\",C$4,(YEAR($A938)-1921)*12+MONTH($A938)+3+IF(ISNUMBER(FIND(\"PRV\",C$6)),1,0)))*IF(AND(C$3>0,TRIM(C$9)=\"CFS\"),Conv_Flags!$C938,1)","v":3252}]
["1998-12-31",{"$f":"INDIRECT(CONCATENATE(\"'\",B$1,\"'!\",B$4,(YEAR($A939)-1921)*12+MONTH($A939)+3+IF(ISNUMBER(FIND(\"PRV\",B$6)),1,0)))*IF(AND(B$3>0,TRIM(B$9)=\"CFS\"),Conv_Flags!$C939,1)","v":3349},{"$f":"INDIRECT(CONCATENATE(\"'\",C$1,\"'!\",C$4,(YEAR($A939)-1921)*12+MONTH($A939)+3+IF(ISNUMBER(FIND(\"PRV\",C$6)),1,0)))*IF(AND(C$3>0,TRIM(C$9)=\"CFS\"),Conv_Flags!$C939,1)","v":3349}]
["1999-01-31",{"$f":"INDIRECT(CONCATENATE(\"'\",B$1,\"'!\",B$4,(YEAR($A940)-1921)*12+MONTH($A940)+3+IF(ISNUMBER(FIND(\"PRV\",B$6)),1,0)))*IF(AND(B$3>0,TRIM(B$9)=\"CFS\"),Conv_Flags!$C940,1)","v":3640.10009765625},{"$f":"INDIRECT(CONCATENATE(\"'\",C$1,\"'!\",C$4,(YEAR($A940)-1921)*12+MONTH($A940)+3+IF(ISNUMBER(FIND(\"PRV\",C$6)),1,0)))*IF(AND(C$3>0,TRIM(C$9)=\"CFS\"),Conv_Flags!$C940,1)","v":3640.10009765625}]
["1999-02-28",{"$f":"INDIRECT(CONCATENATE(\"'\",B$1,\"'!\",B$4,(YEAR($A941)-1921)*12+MONTH($A941)+3+IF(ISNUMBER(FIND(\"PRV\",B$6)),1,0)))*IF(AND(B$3>0,TRIM(B$9)=\"CFS\"),Conv_Flags!$C941,1)","v":3569.60009765625},{"$f":"INDIRECT(CONCATENATE(\"'\",C$1,\"'!\",C$4,(YEAR($A941)-1921)*12+MONTH($A941)+3+IF(ISNUMBER(FIND(\"PRV\",C$6)),1,0)))*IF(AND(C$3>0,TRIM(C$9)=\"CFS\"),Conv_Flags!$C941,1)","v":3569.60009765625}]
["1999-03-31",{"$f":"INDIRECT(CONCATENATE(\"'\",B$1,\"'!\",B$4,(YEAR($A942)-1921)*12+MONTH($A942)+3+IF(ISNUMBER(FIND(\"PRV\",B$6)),1,0)))*IF(AND(B$3>0,TRIM(B$9)=\"CFS\"),Conv_Flags!$C942,1)","v":3980},{"$f":"INDIRECT(CONCATENATE(\"'\",C$1,\"'!\",C$4,(YEAR($A942)-1921)*12+MONTH($A942)+3+IF(ISNUMBER(FIND(\"PRV\",C$6)),1,0)))*IF(AND(C$3>0,TRIM(C$9)=\"CFS\"),Conv_Flags!$C942,1)","v":3980}]
["1999-04-30",{"$f":"INDIRECT(CONCATENATE(\"'\",B$1,\"'!\",B$4,(YEAR($A943)-1921)*12+MONTH($A943)+3+IF(ISNUMBER(FIND(\"PRV\",B$6)),1,0)))*IF(AND(B$3>0,TRIM(B$9)=\"CFS\"),Conv_Flags!$C943,1)","v":4552.1000976562509},{"$f":"INDIRECT(CONCATENATE(\"'\",C$1,\"'!\",C$4,(YEAR($A943)-1921)*12+MONTH($A943)+3+IF(ISNUMBER(FIND(\"PRV\",C$6)),1,0)))*IF(AND(C$3>0,TRIM(C$9)=\"CFS\"),Conv_Flags!$C943,1)","v":4552.1000976562509}]
["1999-05-31",{"$f":"INDIRECT(CONCATENATE(\"'\",B$1,\"'!\",B$4,(YEAR($A944)-1921)*12+MONTH($A944)+3+IF(ISNUMBER(FIND(\"PRV\",B$6)),1,0)))*IF(AND(B$3>0,TRIM(B$9)=\"CFS\"),Conv_Flags!$C944,1)","v":4552},{"$f":"INDIRECT(CONCATENATE(\"'\",C$1,\"'!\",C$4,(YEAR($A944)-1921)*12+MONTH($A944)+3+IF(ISNUMBER(FIND(\"PRV\",C$6)),1,0)))*IF(AND(C$3>0,TRIM(C$9)=\"CFS\"),Conv_Flags!$C944,1)","v":4552}]
["1999-06-30",{"$f":"INDIRECT(CONCATENATE(\"'\",B$1,\"'!\",B$4,(YEAR($A945)-1921)*12+MONTH($A945)+3+IF(ISNUMBER(FIND(\"PRV\",B$6)),1,0)))*IF(AND(B$3>0,TRIM(B$9)=\"CFS\"),Conv_Flags!$C945,1)","v":4444.2264737132373},{"$f":"INDIRECT(CONCATENATE(\"'\",C$1,\"'!\",C$4,(YEAR($A945)-1921)*12+MONTH($A945)+3+IF(ISNUMBER(FIND(\"PRV\",C$6)),1,0)))*IF(AND(C$3>0,TRIM(C$9)=\"CFS\"),Conv_Flags!$C945,1)","v":4430.584109281087}]
["1999-07-31",{"$f":"INDIRECT(CONCATENATE(\"'\",B$1,\"'!\",B$4,(YEAR($A946)-1921)*12+MONTH($A946)+3+IF(ISNUMBER(FIND(\"PRV\",B$6)),1,0)))*IF(AND(B$3>0,TRIM(B$9)=\"CFS\"),Conv_Flags!$C946,1)","v":3871.5778203223263},{"$f":"INDIRECT(CONCATENATE(\"'\",C$1,\"'!\",C$4,(YEAR($A946)-1921)*12+MONTH($A946)+3+IF(ISNUMBER(FIND(\"PRV\",C$6)),1,0)))*IF(AND(C$3>0,TRIM(C$9)=\"CFS\"),Conv_Flags!$C946,1)","v":3858.7787681155583}]
["1999-08-31",{"$f":"INDIRECT(CONCATENATE(\"'\",B$1,\"'!\",B$4,(YEAR($A947)-1921)*12+MONTH($A947)+3+IF(ISNUMBER(FIND(\"PRV\",B$6)),1,0)))*IF(AND(B$3>0,TRIM(B$9)=\"CFS\"),Conv_Flags!$C947,1)","v":3613.7280867427025},{"$f":"INDIRECT(CONCATENATE(\"'\",C$1,\"'!\",C$4,(YEAR($A947)-1921)*12+MONTH($A947)+3+IF(ISNUMBER(FIND(\"PRV\",C$6)),1,0)))*IF(AND(C$3>0,TRIM(C$9)=\"CFS\"),Conv_Flags!$C947,1)","v":3601.6230270396313}]
["1999-09-30",{"$f":"INDIRECT(CONCATENATE(\"'\",B$1,\"'!\",B$4,(YEAR($A948)-1921)*12+MONTH($A948)+3+IF(ISNUMBER(FIND(\"PRV\",B$6)),1,0)))*IF(AND(B$3>0,TRIM(B$9)=\"CFS\"),Conv_Flags!$C948,1)","v":3399.9999999999995},{"$f":"INDIRECT(CONCATENATE(\"'\",C$1,\"'!\",C$4,(YEAR($A948)-1921)*12+MONTH($A948)+3+IF(ISNUMBER(FIND(\"PRV\",C$6)),1,0)))*IF(AND(C$3>0,TRIM(C$9)=\"CFS\"),Conv_Flags!$C948,1)","v":3399.9999999999995}]
["1999-10-31",{"$f":"INDIRECT(CONCATENATE(\"'\",B$1,\"'!\",B$4,(YEAR($A949)-1921)*12+MONTH($A949)+3+IF(ISNUMBER(FIND(\"PRV\",B$6)),1,0)))*IF(AND(B$3>0,TRIM(B$9)=\"CFS\"),Conv_Flags!$C949,1)","v":3250},{"$f":"INDIRECT(CONCATENATE(\"'\",C$1,\"'!\",C$4,(YEAR($A949)-1921)*12+MONTH($A949)+3+IF(ISNUMBER(FIND(\"PRV\",C$6)),1,0)))*IF(AND(C$3>0,TRIM(C$9)=\"CFS\"),Conv_Flags!$C949,1)","v":3250}]
["1999-11-30",{"$f":"INDIRECT(CONCATENATE(\"'\",B$1,\"'!\",B$4,(YEAR($A950)-1921)*12+MONTH($A950)+3+IF(ISNUMBER(FIND(\"PRV\",B$6)),1,0)))*IF(AND(B$3>0,TRIM(B$9)=\"CFS\"),Conv_Flags!$C950,1)","v":3187.3218110802254},{"$f":"INDIRECT(CONCATENATE(\"'\",C$1,\"'!\",C$4,(YEAR($A950)-1921)*12+MONTH($A950)+3+IF(ISNUMBER(FIND(\"PRV\",C$6)),1,0)))*IF(AND(C$3>0,TRIM(C$9)=\"CFS\"),Conv_Flags!$C950,1)","v":3201.9014644156418}]
["1999-12-31",{"$f":"INDIRECT(CONCATENATE(\"'\",B$1,\"'!\",B$4,(YEAR($A951)-1921)*12+MONTH($A951)+3+IF(ISNUMBER(FIND(\"PRV\",B$6)),1,0)))*IF(AND(B$3>0,TRIM(B$9)=\"CFS\"),Conv_Flags!$C951,1)","v":3157.629208736259},{"$f":"INDIRECT(CONCATENATE(\"'\",C$1,\"'!\",C$4,(YEAR($A951)-1921)*12+MONTH($A951)+3+IF(ISNUMBER(FIND(\"PRV\",C$6)),1,0)))*IF(AND(C$3>0,TRIM(C$9)=\"CFS\"),Conv_Flags!$C951,1)","v":3172.856815590435}]
["2000-01-31",{"$f":"INDIRECT(CONCATENATE(\"'\",B$1,\"'!\",B$4,(YEAR($A952)-1921)*12+MONTH($A952)+3+IF(ISNUMBER(FIND(\"PRV\",B$6)),1,0)))*IF(AND(B$3>0,TRIM(B$9)=\"CFS\"),Conv_Flags!$C952,1)","v":3614.5},{"$f":"INDIRECT(CONCATENATE(\"'\",C$1,\"'!\",C$4,(YEAR($A952)-1921)*12+MONTH($A952)+3+IF(ISNUMBER(FIND(\"PRV\",C$6)),1,0)))*IF(AND(C$3>0,TRIM(C$9)=\"CFS\"),Conv_Flags!$C952,1)","v":3614.5}]
["2000-02-29",{"$f":"INDIRECT(CONCATENATE(\"'\",B$1,\"'!\",B$4,(YEAR($A953)-1921)*12+MONTH($A953)+3+IF(ISNUMBER(FIND(\"PRV\",B$6)),1,0)))*IF(AND(B$3>0,TRIM(B$9)=\"CFS\"),Conv_Flags!$C953,1)","v":3281.5},{"$f":"INDIRECT(CONCATENATE(\"'\",C$1,\"'!\",C$4,(YEAR($A953)-1921)*12+MONTH($A953)+3+IF(ISNUMBER(FIND(\"PRV\",C$6)),1,0)))*IF(AND(C$3>0,TRIM(C$9)=\"CFS\"),Conv_Flags!$C953,1)","v":3281.5}]
["2000-03-31",{"$f":"INDIRECT(CONCATENATE(\"'\",B$1,\"'!\",B$4,(YEAR($A954)-1921)*12+MONTH($A954)+3+IF(ISNUMBER(FIND(\"PRV\",B$6)),1,0)))*IF(AND(B$3>0,TRIM(B$9)=\"CFS\"),Conv_Flags!$C954,1)","v":3975.60009765625},{"$f":"INDIRECT(CONCATENATE(\"'\",C$1,\"'!\",C$4,(YEAR($A954)-1921)*12+MONTH($A954)+3+IF(ISNUMBER(FIND(\"PRV\",C$6)),1,0)))*IF(AND(C$3>0,TRIM(C$9)=\"CFS\"),Conv_Flags!$C954,1)","v":3975.60009765625}]
["2000-04-30",{"$f":"INDIRECT(CONCATENATE(\"'\",B$1,\"'!\",B$4,(YEAR($A955)-1921)*12+MONTH($A955)+3+IF(ISNUMBER(FIND(\"PRV\",B$6)),1,0)))*IF(AND(B$3>0,TRIM(B$9)=\"CFS\"),Conv_Flags!$C955,1)","v":4552.10009765625},{"$f":"INDIRECT(CONCATENATE(\"'\",C$1,\"'!\",C$4,(YEAR($A955)-1921)*12+MONTH($A955)+3+IF(ISNUMBER(FIND(\"PRV\",C$6)),1,0)))*IF(AND(C$3>0,TRIM(C$9)=\"CFS\"),Conv_Flags!$C955,1)","v":4552.10009765625}]
["2000-05-31",{"$f":"INDIRECT(CONCATENATE(\"'\",B$1,\"'!\",B$4,(YEAR($A956)-1921)*12+MONTH($A956)+3+IF(ISNUMBER(FIND(\"PRV\",B$6)),1,0)))*IF(AND(B$3>0,TRIM(B$9)=\"CFS\"),Conv_Flags!$C956,1)","v":4552},{"$f":"INDIRECT(CONCATENATE(\"'\",C$1,\"'!\",C$4,(YEAR($A956)-1921)*12+MONTH($A956)+3+IF(ISNUMBER(FIND(\"PRV\",C$6)),1,0)))*IF(AND(C$3>0,TRIM(C$9)=\"CFS\"),Conv_Flags!$C956,1)","v":4552}]
["2000-06-30",{"$f":"INDIRECT(CONCATENATE(\"'\",B$1,\"'!\",B$4,(YEAR($A957)-1921)*12+MONTH($A957)+3+IF(ISNUMBER(FIND(\"PRV\",B$6)),1,0)))*IF(AND(B$3>0,TRIM(B$9)=\"CFS\"),Conv_Flags!$C957,1)","v":4144.404438574943},{"$f":"INDIRECT(CONCATENATE(\"'\",C$1,\"'!\",C$4,(YEAR($A957)-1921)*12+MONTH($A957)+3+IF(ISNUMBER(FIND(\"PRV\",C$6)),1,0)))*IF(AND(C$3>0,TRIM(C$9)=\"CFS\"),Conv_Flags!$C957,1)","v":4218.1496685636193}]
["2000-07-31",{"$f":"INDIRECT(CONCATENATE(\"'\",B$1,\"'!\",B$4,(YEAR($A958)-1921)*12+MONTH($A958)+3+IF(ISNUMBER(FIND(\"PRV\",B$6)),1,0)))*IF(AND(B$3>0,TRIM(B$9)=\"CFS\"),Conv_Flags!$C958,1)","v":3506.1756022425443},{"$f":"INDIRECT(CONCATENATE(\"'\",C$1,\"'!\",C$4,(YEAR($A958)-1921)*12+MONTH($A958)+3+IF(ISNUMBER(FIND(\"PRV\",C$6)),1,0)))*IF(AND(C$3>0,TRIM(C$9)=\"CFS\"),Conv_Flags!$C958,1)","v":3579.6345288275074}]
["2000-08-31",{"$f":"INDIRECT(CONCATENATE(\"'\",B$1,\"'!\",B$4,(YEAR($A959)-1921)*12+MONTH($A959)+3+IF(ISNUMBER(FIND(\"PRV\",B$6)),1,0)))*IF(AND(B$3>0,TRIM(B$9)=\"CFS\"),Conv_Flags!$C959,1)","v":3206.4716208099235},{"$f":"INDIRECT(CONCATENATE(\"'\",C$1,\"'!\",C$4,(YEAR($A959)-1921)*12+MONTH($A959)+3+IF(ISNUMBER(FIND(\"PRV\",C$6)),1,0)))*IF(AND(C$3>0,TRIM(C$9)=\"CFS\"),Conv_Flags!$C959,1)","v":3288.1760442583859}]
["2000-09-30",{"$f":"INDIRECT(CONCATENATE(\"'\",B$1,\"'!\",B$4,(YEAR($A960)-1921)*12+MONTH($A960)+3+IF(ISNUMBER(FIND(\"PRV\",B$6)),1,0)))*IF(AND(B$3>0,TRIM(B$9)=\"CFS\"),Conv_Flags!$C960,1)","v":3120.0925977489251},{"$f":"INDIRECT(CONCATENATE(\"'\",C$1,\"'!\",C$4,(YEAR($A960)-1921)*12+MONTH($A960)+3+IF(ISNUMBER(FIND(\"PRV\",C$6)),1,0)))*IF(AND(C$3>0,TRIM(C$9)=\"CFS\"),Conv_Flags!$C960,1)","v":3245.897453740562}]
["2000-10-31",{"$f":"INDIRECT(CONCATENATE(\"'\",B$1,\"'!\",B$4,(YEAR($A961)-1921)*12+MONTH($A961)+3+IF(ISNUMBER(FIND(\"PRV\",B$6)),1,0)))*IF(AND(B$3>0,TRIM(B$9)=\"CFS\"),Conv_Flags!$C961,1)","v":3034.7942273879607},{"$f":"INDIRECT(CONCATENATE(\"'\",C$1,\"'!\",C$4,(YEAR($A961)-1921)*12+MONTH($A961)+3+IF(ISNUMBER(FIND(\"PRV\",C$6)),1,0)))*IF(AND(C$3>0,TRIM(C$9)=\"CFS\"),Conv_Flags!$C961,1)","v":3171.4686173008126}]
["2000-11-30",{"$f":"INDIRECT(CONCATENATE(\"'\",B$1,\"'!\",B$4,(YEAR($A962)-1921)*12+MONTH($A962)+3+IF(ISNUMBER(FIND(\"PRV\",B$6)),1,0)))*IF(AND(B$3>0,TRIM(B$9)=\"CFS\"),Conv_Flags!$C962,1)","v":2828.0472487926468},{"$f":"INDIRECT(CONCATENATE(\"'\",C$1,\"'!\",C$4,(YEAR($A962)-1921)*12+MONTH($A962)+3+IF(ISNUMBER(FIND(\"PRV\",C$6)),1,0)))*IF(AND(C$3>0,TRIM(C$9)=\"CFS\"),Conv_Flags!$C962,1)","v":2972.2774051236893}]
["2000-12-31",{"$f":"INDIRECT(CONCATENATE(\"'\",B$1,\"'!\",B$4,(YEAR($A963)-1921)*12+MONTH($A963)+3+IF(ISNUMBER(FIND(\"PRV\",B$6)),1,0)))*IF(AND(B$3>0,TRIM(B$9)=\"CFS\"),Conv_Flags!$C963,1)","v":2678.6054810396231},{"$f":"INDIRECT(CONCATENATE(\"'\",C$1,\"'!\",C$4,(YEAR($A963)-1921)*12+MONTH($A963)+3+IF(ISNUMBER(FIND(\"PRV\",C$6)),1,0)))*IF(AND(C$3>0,TRIM(C$9)=\"CFS\"),Conv_Flags!$C963,1)","v":2828.437828868482}]
["2001-01-31",{"$f":"INDIRECT(CONCATENATE(\"'\",B$1,\"'!\",B$4,(YEAR($A964)-1921)*12+MONTH($A964)+3+IF(ISNUMBER(FIND(\"PRV\",B$6)),1,0)))*IF(AND(B$3>0,TRIM(B$9)=\"CFS\"),Conv_Flags!$C964,1)","v":2834.5037018425055},{"$f":"INDIRECT(CONCATENATE(\"'\",C$1,\"'!\",C$4,(YEAR($A964)-1921)*12+MONTH($A964)+3+IF(ISNUMBER(FIND(\"PRV\",C$6)),1,0)))*IF(AND(C$3>0,TRIM(C$9)=\"CFS\"),Conv_Flags!$C964,1)","v":2984.2353614914127}]
["2001-02-28",{"$f":"INDIRECT(CONCATENATE(\"'\",B$1,\"'!\",B$4,(YEAR($A965)-1921)*12+MONTH($A965)+3+IF(ISNUMBER(FIND(\"PRV\",B$6)),1,0)))*IF(AND(B$3>0,TRIM(B$9)=\"CFS\"),Conv_Flags!$C965,1)","v":3268.4990339800315},{"$f":"INDIRECT(CONCATENATE(\"'\",C$1,\"'!\",C$4,(YEAR($A965)-1921)*12+MONTH($A965)+3+IF(ISNUMBER(FIND(\"PRV\",C$6)),1,0)))*IF(AND(C$3>0,TRIM(C$9)=\"CFS\"),Conv_Flags!$C965,1)","v":3418.1054280664243}]
["2001-03-31",{"$f":"INDIRECT(CONCATENATE(\"'\",B$1,\"'!\",B$4,(YEAR($A966)-1921)*12+MONTH($A966)+3+IF(ISNUMBER(FIND(\"PRV\",B$6)),1,0)))*IF(AND(B$3>0,TRIM(B$9)=\"CFS\"),Conv_Flags!$C966,1)","v":3763.4113963836348},{"$f":"INDIRECT(CONCATENATE(\"'\",C$1,\"'!\",C$4,(YEAR($A966)-1921)*12+MONTH($A966)+3+IF(ISNUMBER(FIND(\"PRV\",C$6)),1,0)))*IF(AND(C$3>0,TRIM(C$9)=\"CFS\"),Conv_Flags!$C966,1)","v":3912.7675736051938}]
["2001-04-30",{"$f":"INDIRECT(CONCATENATE(\"'\",B$1,\"'!\",B$4,(YEAR($A967)-1921)*12+MONTH($A967)+3+IF(ISNUMBER(FIND(\"PRV\",B$6)),1,0)))*IF(AND(B$3>0,TRIM(B$9)=\"CFS\"),Conv_Flags!$C967,1)","v":3985.5452013838667},{"$f":"INDIRECT(CONCATENATE(\"'\",C$1,\"'!\",C$4,(YEAR($A967)-1921)*12+MONTH($A967)+3+IF(ISNUMBER(FIND(\"PRV\",C$6)),1,0)))*IF(AND(C$3>0,TRIM(C$9)=\"CFS\"),Conv_Flags!$C967,1)","v":4134.6748145871225}]
["2001-05-31",{"$f":"INDIRECT(CONCATENATE(\"'\",B$1,\"'!\",B$4,(YEAR($A968)-1921)*12+MONTH($A968)+3+IF(ISNUMBER(FIND(\"PRV\",B$6)),1,0)))*IF(AND(B$3>0,TRIM(B$9)=\"CFS\"),Conv_Flags!$C968,1)","v":3729.1096651659109},{"$f":"INDIRECT(CONCATENATE(\"'\",C$1,\"'!\",C$4,(YEAR($A968)-1921)*12+MONTH($A968)+3+IF(ISNUMBER(FIND(\"PRV\",C$6)),1,0)))*IF(AND(C$3>0,TRIM(C$9)=\"CFS\"),Conv_Flags!$C968,1)","v":3910.3215289595396}]
["2001-06-30",{"$f":"INDIRECT(CONCATENATE(\"'\",B$1,\"'!\",B$4,(YEAR($A969)-1921)*12+MONTH($A969)+3+IF(ISNUMBER(FIND(\"PRV\",B$6)),1,0)))*IF(AND(B$3>0,TRIM(B$9)=\"CFS\"),Conv_Flags!$C969,1)","v":3200},{"$f":"INDIRECT(CONCATENATE(\"'\",C$1,\"'!\",C$4,(YEAR($A969)-1921)*12+MONTH($A969)+3+IF(ISNUMBER(FIND(\"PRV\",C$6)),1,0)))*IF(AND(C$3>0,TRIM(C$9)=\"CFS\"),Conv_Flags!$C969,1)","v":3331.8634401082345}]
["2001-07-31",{"$f":"INDIRECT(CONCATENATE(\"'\",B$1,\"'!\",B$4,(YEAR($A970)-1921)*12+MONTH($A970)+3+IF(ISNUMBER(FIND(\"PRV\",B$6)),1,0)))*IF(AND(B$3>0,TRIM(B$9)=\"CFS\"),Conv_Flags!$C970,1)","v":2903.7544447694991},{"$f":"INDIRECT(CONCATENATE(\"'\",C$1,\"'!\",C$4,(YEAR($A970)-1921)*12+MONTH($A970)+3+IF(ISNUMBER(FIND(\"PRV\",C$6)),1,0)))*IF(AND(C$3>0,TRIM(C$9)=\"CFS\"),Conv_Flags!$C970,1)","v":3021.9421017570839}]
["2001-08-31",{"$f":"INDIRECT(CONCATENATE(\"'\",B$1,\"'!\",B$4,(YEAR($A971)-1921)*12+MONTH($A971)+3+IF(ISNUMBER(FIND(\"PRV\",B$6)),1,0)))*IF(AND(B$3>0,TRIM(B$9)=\"CFS\"),Conv_Flags!$C971,1)","v":2763.0397782377063},{"$f":"INDIRECT(CONCATENATE(\"'\",C$1,\"'!\",C$4,(YEAR($A971)-1921)*12+MONTH($A971)+3+IF(ISNUMBER(FIND(\"PRV\",C$6)),1,0)))*IF(AND(C$3>0,TRIM(C$9)=\"CFS\"),Conv_Flags!$C971,1)","v":2882.1830430527571}]
["2001-09-30",{"$f":"INDIRECT(CONCATENATE(\"'\",B$1,\"'!\",B$4,(YEAR($A972)-1921)*12+MONTH($A972)+3+IF(ISNUMBER(FIND(\"PRV\",B$6)),1,0)))*IF(AND(B$3>0,TRIM(B$9)=\"CFS\"),Conv_Flags!$C972,1)","v":2713.1268290639487},{"$f":"INDIRECT(CONCATENATE(\"'\",C$1,\"'!\",C$4,(YEAR($A972)-1921)*12+MONTH($A972)+3+IF(ISNUMBER(FIND(\"PRV\",C$6)),1,0)))*IF(AND(C$3>0,TRIM(C$9)=\"CFS\"),Conv_Flags!$C972,1)","v":2804.2414250935312}]
["2001-10-31",{"$f":"INDIRECT(CONCATENATE(\"'\",B$1,\"'!\",B$4,(YEAR($A973)-1921)*12+MONTH($A973)+3+IF(ISNUMBER(FIND(\"PRV\",B$6)),1,0)))*IF(AND(B$3>0,TRIM(B$9)=\"CFS\"),Conv_Flags!$C973,1)","v":2429.7153204799042},{"$f":"INDIRECT(CONCATENATE(\"'\",C$1,\"'!\",C$4,(YEAR($A973)-1921)*12+MONTH($A973)+3+IF(ISNUMBER(FIND(\"PRV\",C$6)),1,0)))*IF(AND(C$3>0,TRIM(C$9)=\"CFS\"),Conv_Flags!$C973,1)","v":2501.5956487907852}]
["2001-11-30",{"$f":"INDIRECT(CONCATENATE(\"'\",B$1,\"'!\",B$4,(YEAR($A974)-1921)*12+MONTH($A974)+3+IF(ISNUMBER(FIND(\"PRV\",B$6)),1,0)))*IF(AND(B$3>0,TRIM(B$9)=\"CFS\"),Conv_Flags!$C974,1)","v":2662.4784619971679},{"$f":"INDIRECT(CONCATENATE(\"'\",C$1,\"'!\",C$4,(YEAR($A974)-1921)*12+MONTH($A974)+3+IF(ISNUMBER(FIND(\"PRV\",C$6)),1,0)))*IF(AND(C$3>0,TRIM(C$9)=\"CFS\"),Conv_Flags!$C974,1)","v":2683.0715122195611}]
["2001-12-31",{"$f":"INDIRECT(CONCATENATE(\"'\",B$1,\"'!\",B$4,(YEAR($A975)-1921)*12+MONTH($A975)+3+IF(ISNUMBER(FIND(\"PRV\",B$6)),1,0)))*IF(AND(B$3>0,TRIM(B$9)=\"CFS\"),Conv_Flags!$C975,1)","v":3333.800048828125},{"$f":"INDIRECT(CONCATENATE(\"'\",C$1,\"'!\",C$4,(YEAR($A975)-1921)*12+MONTH($A975)+3+IF(ISNUMBER(FIND(\"PRV\",C$6)),1,0)))*IF(AND(C$3>0,TRIM(C$9)=\"CFS\"),Conv_Flags!$C975,1)","v":3333.800048828125}]
["2002-01-31",{"$f":"INDIRECT(CONCATENATE(\"'\",B$1,\"'!\",B$4,(YEAR($A976)-1921)*12+MONTH($A976)+3+IF(ISNUMBER(FIND(\"PRV\",B$6)),1,0)))*IF(AND(B$3>0,TRIM(B$9)=\"CFS\"),Conv_Flags!$C976,1)","v":3678.39990234375},{"$f":"INDIRECT(CONCATENATE(\"'\",C$1,\"'!\",C$4,(YEAR($A976)-1921)*12+MONTH($A976)+3+IF(ISNUMBER(FIND(\"PRV\",C$6)),1,0)))*IF(AND(C$3>0,TRIM(C$9)=\"CFS\"),Conv_Flags!$C976,1)","v":3678.39990234375}]
["2002-02-28",{"$f":"INDIRECT(CONCATENATE(\"'\",B$1,\"'!\",B$4,(YEAR($A977)-1921)*12+MONTH($A977)+3+IF(ISNUMBER(FIND(\"PRV\",B$6)),1,0)))*IF(AND(B$3>0,TRIM(B$9)=\"CFS\"),Conv_Flags!$C977,1)","v":4022},{"$f":"INDIRECT(CONCATENATE(\"'\",C$1,\"'!\",C$4,(YEAR($A977)-1921)*12+MONTH($A977)+3+IF(ISNUMBER(FIND(\"PRV\",C$6)),1,0)))*IF(AND(C$3>0,TRIM(C$9)=\"CFS\"),Conv_Flags!$C977,1)","v":4022.0000000000005}]
["2002-03-31",{"$f":"INDIRECT(CONCATENATE(\"'\",B$1,\"'!\",B$4,(YEAR($A978)-1921)*12+MONTH($A978)+3+IF(ISNUMBER(FIND(\"PRV\",B$6)),1,0)))*IF(AND(B$3>0,TRIM(B$9)=\"CFS\"),Conv_Flags!$C978,1)","v":4410.8515912324219},{"$f":"INDIRECT(CONCATENATE(\"'\",C$1,\"'!\",C$4,(YEAR($A978)-1921)*12+MONTH($A978)+3+IF(ISNUMBER(FIND(\"PRV\",C$6)),1,0)))*IF(AND(C$3>0,TRIM(C$9)=\"CFS\"),Conv_Flags!$C978,1)","v":4410.8515912324228}]
["2002-04-30",{"$f":"INDIRECT(CONCATENATE(\"'\",B$1,\"'!\",B$4,(YEAR($A979)-1921)*12+MONTH($A979)+3+IF(ISNUMBER(FIND(\"PRV\",B$6)),1,0)))*IF(AND(B$3>0,TRIM(B$9)=\"CFS\"),Conv_Flags!$C979,1)","v":4552.10009765625},{"$f":"INDIRECT(CONCATENATE(\"'\",C$1,\"'!\",C$4,(YEAR($A979)-1921)*12+MONTH($A979)+3+IF(ISNUMBER(FIND(\"PRV\",C$6)),1,0)))*IF(AND(C$3>0,TRIM(C$9)=\"CFS\"),Conv_Flags!$C979,1)","v":4552.10009765625}]
["2002-05-31",{"$f":"INDIRECT(CONCATENATE(\"'\",B$1,\"'!\",B$4,(YEAR($A980)-1921)*12+MONTH($A980)+3+IF(ISNUMBER(FIND(\"PRV\",B$6)),1,0)))*IF(AND(B$3>0,TRIM(B$9)=\"CFS\"),Conv_Flags!$C980,1)","v":4365.634615045371},{"$f":"INDIRECT(CONCATENATE(\"'\",C$1,\"'!\",C$4,(YEAR($A980)-1921)*12+MONTH($A980)+3+IF(ISNUMBER(FIND(\"PRV\",C$6)),1,0)))*IF(AND(C$3>0,TRIM(C$9)=\"CFS\"),Conv_Flags!$C980,1)","v":4365.4238313067017}]
["2002-06-30",{"$f":"INDIRECT(CONCATENATE(\"'\",B$1,\"'!\",B$4,(YEAR($A981)-1921)*12+MONTH($A981)+3+IF(ISNUMBER(FIND(\"PRV\",B$6)),1,0)))*IF(AND(B$3>0,TRIM(B$9)=\"CFS\"),Conv_Flags!$C981,1)","v":3939.7078834827903},{"$f":"INDIRECT(CONCATENATE(\"'\",C$1,\"'!\",C$4,(YEAR($A981)-1921)*12+MONTH($A981)+3+IF(ISNUMBER(FIND(\"PRV\",C$6)),1,0)))*IF(AND(C$3>0,TRIM(C$9)=\"CFS\"),Conv_Flags!$C981,1)","v":3962.5201704741025}]
["2002-07-31",{"$f":"INDIRECT(CONCATENATE(\"'\",B$1,\"'!\",B$4,(YEAR($A982)-1921)*12+MONTH($A982)+3+IF(ISNUMBER(FIND(\"PRV\",B$6)),1,0)))*IF(AND(B$3>0,TRIM(B$9)=\"CFS\"),Conv_Flags!$C982,1)","v":3420.749743736716},{"$f":"INDIRECT(CONCATENATE(\"'\",C$1,\"'!\",C$4,(YEAR($A982)-1921)*12+MONTH($A982)+3+IF(ISNUMBER(FIND(\"PRV\",C$6)),1,0)))*IF(AND(C$3>0,TRIM(C$9)=\"CFS\"),Conv_Flags!$C982,1)","v":3435.7221949852837}]
["2002-08-31",{"$f":"INDIRECT(CONCATENATE(\"'\",B$1,\"'!\",B$4,(YEAR($A983)-1921)*12+MONTH($A983)+3+IF(ISNUMBER(FIND(\"PRV\",B$6)),1,0)))*IF(AND(B$3>0,TRIM(B$9)=\"CFS\"),Conv_Flags!$C983,1)","v":3199.6582893301825},{"$f":"INDIRECT(CONCATENATE(\"'\",C$1,\"'!\",C$4,(YEAR($A983)-1921)*12+MONTH($A983)+3+IF(ISNUMBER(FIND(\"PRV\",C$6)),1,0)))*IF(AND(C$3>0,TRIM(C$9)=\"CFS\"),Conv_Flags!$C983,1)","v":3213.9858505090097}]
["2002-09-30",{"$f":"INDIRECT(CONCATENATE(\"'\",B$1,\"'!\",B$4,(YEAR($A984)-1921)*12+MONTH($A984)+3+IF(ISNUMBER(FIND(\"PRV\",B$6)),1,0)))*IF(AND(B$3>0,TRIM(B$9)=\"CFS\"),Conv_Flags!$C984,1)","v":3137.3416956281017},{"$f":"INDIRECT(CONCATENATE(\"'\",C$1,\"'!\",C$4,(YEAR($A984)-1921)*12+MONTH($A984)+3+IF(ISNUMBER(FIND(\"PRV\",C$6)),1,0)))*IF(AND(C$3>0,TRIM(C$9)=\"CFS\"),Conv_Flags!$C984,1)","v":3146.7657592425367}]
["2002-10-31",{"$f":"INDIRECT(CONCATENATE(\"'\",B$1,\"'!\",B$4,(YEAR($A985)-1921)*12+MONTH($A985)+3+IF(ISNUMBER(FIND(\"PRV\",B$6)),1,0)))*IF(AND(B$3>0,TRIM(B$9)=\"CFS\"),Conv_Flags!$C985,1)","v":2953.6999787462642},{"$f":"INDIRECT(CONCATENATE(\"'\",C$1,\"'!\",C$4,(YEAR($A985)-1921)*12+MONTH($A985)+3+IF(ISNUMBER(FIND(\"PRV\",C$6)),1,0)))*IF(AND(C$3>0,TRIM(C$9)=\"CFS\"),Conv_Flags!$C985,1)","v":2954.0866064731754}]
["2002-11-30",{"$f":"INDIRECT(CONCATENATE(\"'\",B$1,\"'!\",B$4,(YEAR($A986)-1921)*12+MONTH($A986)+3+IF(ISNUMBER(FIND(\"PRV\",B$6)),1,0)))*IF(AND(B$3>0,TRIM(B$9)=\"CFS\"),Conv_Flags!$C986,1)","v":2890.0056787746421},{"$f":"INDIRECT(CONCATENATE(\"'\",C$1,\"'!\",C$4,(YEAR($A986)-1921)*12+MONTH($A986)+3+IF(ISNUMBER(FIND(\"PRV\",C$6)),1,0)))*IF(AND(C$3>0,TRIM(C$9)=\"CFS\"),Conv_Flags!$C986,1)","v":2884.9850537239654}]
["2002-12-31",{"$f":"INDIRECT(CONCATENATE(\"'\",B$1,\"'!\",B$4,(YEAR($A987)-1921)*12+MONTH($A987)+3+IF(ISNUMBER(FIND(\"PRV\",B$6)),1,0)))*IF(AND(B$3>0,TRIM(B$9)=\"CFS\"),Conv_Flags!$C987,1)","v":3291.300048828125},{"$f":"INDIRECT(CONCATENATE(\"'\",C$1,\"'!\",C$4,(YEAR($A987)-1921)*12+MONTH($A987)+3+IF(ISNUMBER(FIND(\"PRV\",C$6)),1,0)))*IF(AND(C$3>0,TRIM(C$9)=\"CFS\"),Conv_Flags!$C987,1)","v":3291.300048828125}]
["2003-01-31",{"$f":"INDIRECT(CONCATENATE(\"'\",B$1,\"'!\",B$4,(YEAR($A988)-1921)*12+MONTH($A988)+3+IF(ISNUMBER(FIND(\"PRV\",B$6)),1,0)))*IF(AND(B$3>0,TRIM(B$9)=\"CFS\"),Conv_Flags!$C988,1)","v":3515.199951171875},{"$f":"INDIRECT(CONCATENATE(\"'\",C$1,\"'!\",C$4,(YEAR($A988)-1921)*12+MONTH($A988)+3+IF(ISNUMBER(FIND(\"PRV\",C$6)),1,0)))*IF(AND(C$3>0,TRIM(C$9)=\"CFS\"),Conv_Flags!$C988,1)","v":3515.199951171875}]
["2003-02-28",{"$f":"INDIRECT(CONCATENATE(\"'\",B$1,\"'!\",B$4,(YEAR($A989)-1921)*12+MONTH($A989)+3+IF(ISNUMBER(FIND(\"PRV\",B$6)),1,0)))*IF(AND(B$3>0,TRIM(B$9)=\"CFS\"),Conv_Flags!$C989,1)","v":3830.9870981480699},{"$f":"INDIRECT(CONCATENATE(\"'\",C$1,\"'!\",C$4,(YEAR($A989)-1921)*12+MONTH($A989)+3+IF(ISNUMBER(FIND(\"PRV\",C$6)),1,0)))*IF(AND(C$3>0,TRIM(C$9)=\"CFS\"),Conv_Flags!$C989,1)","v":3830.9870981480699}]
["2003-03-31",{"$f":"INDIRECT(CONCATENATE(\"'\",B$1,\"'!\",B$4,(YEAR($A990)-1921)*12+MONTH($A990)+3+IF(ISNUMBER(FIND(\"PRV\",B$6)),1,0)))*IF(AND(B$3>0,TRIM(B$9)=\"CFS\"),Conv_Flags!$C990,1)","v":4248.3700185740418},{"$f":"INDIRECT(CONCATENATE(\"'\",C$1,\"'!\",C$4,(YEAR($A990)-1921)*12+MONTH($A990)+3+IF(ISNUMBER(FIND(\"PRV\",C$6)),1,0)))*IF(AND(C$3>0,TRIM(C$9)=\"CFS\"),Conv_Flags!$C990,1)","v":4248.3700185740418}]
["2003-04-30",{"$f":"INDIRECT(CONCATENATE(\"'\",B$1,\"'!\",B$4,(YEAR($A991)-1921)*12+MONTH($A991)+3+IF(ISNUMBER(FIND(\"PRV\",B$6)),1,0)))*IF(AND(B$3>0,TRIM(B$9)=\"CFS\"),Conv_Flags!$C991,1)","v":4552.10009765625},{"$f":"INDIRECT(CONCATENATE(\"'\",C$1,\"'!\",C$4,(YEAR($A991)-1921)*12+MONTH($A991)+3+IF(ISNUMBER(FIND(\"PRV\",C$6)),1,0)))*IF(AND(C$3>0,TRIM(C$9)=\"CFS\"),Conv_Flags!$C991,1)","v":4552.10009765625}]
["2003-05-31",{"$f":"INDIRECT(CONCATENATE(\"'\",B$1,\"'!\",B$4,(YEAR($A992)-1921)*12+MONTH($A992)+3+IF(ISNUMBER(FIND(\"PRV\",B$6)),1,0)))*IF(AND(B$3>0,TRIM(B$9)=\"CFS\"),Conv_Flags!$C992,1)","v":4552},{"$f":"INDIRECT(CONCATENATE(\"'\",C$1,\"'!\",C$4,(YEAR($A992)-1921)*12+MONTH($A992)+3+IF(ISNUMBER(FIND(\"PRV\",C$6)),1,0)))*IF(AND(C$3>0,TRIM(C$9)=\"CFS\"),Conv_Flags!$C992,1)","v":4552}]
["2003-06-30",{"$f":"INDIRECT(CONCATENATE(\"'\",B$1,\"'!\",B$4,(YEAR($A993)-1921)*12+MONTH($A993)+3+IF(ISNUMBER(FIND(\"PRV\",B$6)),1,0)))*IF(AND(B$3>0,TRIM(B$9)=\"CFS\"),Conv_Flags!$C993,1)","v":4364.9243233270208},{"$f":"INDIRECT(CONCATENATE(\"'\",C$1,\"'!\",C$4,(YEAR($A993)-1921)*12+MONTH($A993)+3+IF(ISNUMBER(FIND(\"PRV\",C$6)),1,0)))*IF(AND(C$3>0,TRIM(C$9)=\"CFS\"),Conv_Flags!$C993,1)","v":4465.7270043828312}]
["2003-07-31",{"$f":"INDIRECT(CONCATENATE(\"'\",B$1,\"'!\",B$4,(YEAR($A994)-1921)*12+MONTH($A994)+3+IF(ISNUMBER(FIND(\"PRV\",B$6)),1,0)))*IF(AND(B$3>0,TRIM(B$9)=\"CFS\"),Conv_Flags!$C994,1)","v":3670.6734031066198},{"$f":"INDIRECT(CONCATENATE(\"'\",C$1,\"'!\",C$4,(YEAR($A994)-1921)*12+MONTH($A994)+3+IF(ISNUMBER(FIND(\"PRV\",C$6)),1,0)))*IF(AND(C$3>0,TRIM(C$9)=\"CFS\"),Conv_Flags!$C994,1)","v":3777.5416080194536}]
["2003-08-31",{"$f":"INDIRECT(CONCATENATE(\"'\",B$1,\"'!\",B$4,(YEAR($A995)-1921)*12+MONTH($A995)+3+IF(ISNUMBER(FIND(\"PRV\",B$6)),1,0)))*IF(AND(B$3>0,TRIM(B$9)=\"CFS\"),Conv_Flags!$C995,1)","v":3334.7049837286027},{"$f":"INDIRECT(CONCATENATE(\"'\",C$1,\"'!\",C$4,(YEAR($A995)-1921)*12+MONTH($A995)+3+IF(ISNUMBER(FIND(\"PRV\",C$6)),1,0)))*IF(AND(C$3>0,TRIM(C$9)=\"CFS\"),Conv_Flags!$C995,1)","v":3445.8306685023172}]
["2003-09-30",{"$f":"IF(NOT(ISNUMBER(FIND(\"PRV\",B$6))),INDIRECT(CONCATENATE(\"'\",B$1,\"'!\",B$4,(YEAR($A996)-1921)*12+MONTH($A996)+3+IF(ISNUMBER(FIND(\"PRV\",B$6)),1,0)))*IF(AND(B$3>0,TRIM(B$9)=\"CFS\"),Conv_Flags!$C996,1),\"\")","v":3107.4614037941337},{"$f":"IF(NOT(ISNUMBER(FIND(\"PRV\",C$6))),INDIRECT(CONCATENATE(\"'\",C$1,\"'!\",C$4,(YEAR($A996)-1921)*12+MONTH($A996)+3+IF(ISNUMBER(FIND(\"PRV\",C$6)),1,0)))*IF(AND(C$3>0,TRIM(C$9)=\"CFS\"),Conv_Flags!$C996,1),\"\")","v":3225.8355760190293}]

{"sheet":"___","index":5,"n_rows":0,"n_cols":0,"rows_kept":0,"cut":false,"hidden":false,"merged":[]}

{"sheet":"Control","index":6,"n_rows":9,"n_cols":2,"rows_kept":9,"cut":false,"hidden":false,"merged":[]}
["Spreadsheet Control"]
["TN (June 2020)"]
[]
[]
["Scn 1:","NAA 091720"]
["Scn 2:","ALTA2 PEA"]
["Scn 3:","NA"]
["Scn 4:","NA"]
["Scn 5:","NA"]

{"sheet":"DSSPathnames","index":7,"n_rows":174,"n_cols":11,"rows_kept":174,"cut":false,"hidden":false,"merged":[]}
["Number of Time Steps:",{"$f":"IF(YEARFRAC($B$2,$B$4)*12+1 < 1, 1, YEARFRAC($B$2,$B$4)*12+1)","v":984}]
["Start Date:","1921-10-31"]
["Start Time:",2400]
["End Date:","2003-09-30"]
["End Time:",2400]
[null,null,"Part A:","Part B:","Part C:",null,null,null,"Col:"]
[null,null,"CALSIM","S4","STORAGE","",null,3,{"$f":"SUBSTITUTE(ADDRESS(1,H7,4),\"1\",\"\")","v":"C"},"INST-VAL","Shasta Storage"]
[null,null,"CALSIM","C109","FLOW-CHANNEL",null,null,4,"D","PER-AVER","Sacramento River Flow at Bend Bridge"]
[null,null,"CALSIM","NODOS_STOR","STORAGE",null,null,5,"E","INST-VAL","Sites Total Storage"]
[null,null,"CALSIM","C17601","FLOW-CHANNEL",null,null,6,"F","PER-AVER","Total Sites Diversion to Fill"]
[null,null,"CALSIM","C17604","FLOW-CHANNEL",null,null,7,{"$f":"SUBSTITUTE(ADDRESS(1,H11,4),\"1\",\"\")","v":"G"},"PER-AVER","Total Sites Release"]
[null,null,"CALSIM","C129","FLOW-CHANNEL",null,null,8,{"$f":"SUBSTITUTE(ADDRESS(1,H12,4),\"1\",\"\")","v":"H"},"PER-AVER","Sac R near Wilkins Slough (flow)"]
[null,null,"CALSIM",null,null,null,null,9,"I","PER-AVER","Sac R ds Colusa Basin Drain"]
[null,null,"CALSIM","S6","STORAGE",null,null,10,{"$f":"SUBSTITUTE(ADDRESS(1,H14,4),\"1\",\"\")","v":"J"},"INST-VAL","Oroville Storage"]
[null,null,"CALSIM","C203","FLOW-CHANNEL",null,null,11,"K","PER-AVER","Feather River Flow below Thermalito"]
[null,null,"CALSIM","C223","FLOW-CHANNEL",null,null,12,"L","PER-AVER","Feather River Flow at mouth"]
[null,null,"CALSIM","S8","STORAGE",null,null,13,"M","INST-VAL","Folsom Storage"]
[null,null,"CALSIM","C303","FLOW-CHANNEL",null,null,14,"N","PER-AVER","American River Flow at H Street"]
[null,null,"CALSIM","C169","FLOW-CHANNEL",null,null,15,"O","PER-AVER","Sacramento River Flow at Freeport"]
[null,null,"CALSIM","C408","FLOW-CHANNEL",null,null,16,"P","PER-AVER","Old and Middle River Combined Flow"]
[null,null,"CALSIM","C406","FLOW-CHANNEL",null,null,17,"Q","PER-AVER","Delta Outflow (Total)"]
[null,null,"CALSIM","D418","FLOW-DELIVERY",null,null,18,"R","PER-AVER","Jones Export"]
[null,null,"CALSIM","D419","FLOW-DELIVERY",null,null,19,"S","PER-AVER","Banks Export"]
[null,null,"CALSIM","D419_SWP","FLOW-DELIVERY",null,null,20,"T","PER-AVER","Banks Export SWP"]
[null,null,"CALSIM","D419_CVP","FLOW-DELIVERY",null,null,21,"U","PER-AVER","Banks Export CVP"]
[null,null,"DSM2","X2_EOM",null,null,null,22,"V","INST-VAL","End of Month X2 Distance"]
[null,null,"HEC5Q","BLW CLEAR CREEK",null,null,null,23,"W","PER-AVER","Sacramento River Below Clear Creek Temperature"]
[null,null,null,null,null,null,null,24,"X"]
[null,null,null,null,null,null,null,25,"Y",null,"** Calculated Values **"]
[null,null,null,null,null,null,null,26,"Z","PER-AVER","Total Exports SWP and CVP"]
[]
[]
[]
[]
[]
[]
[]
[]
[]
[]
[]
[]
[]
[]
[]
[]
[]
[]
[]
[]
[]
[]
[]
[]
[]
[]
[]
[]
[]
[]
[]
[]
[]
[]
[]
[]
[]
[]
[]
[]
[]
[]
[]
[]
[]
[]
[]
[]
[]
[]
[]
[]
[]
[]
[]
[]
[]
[]
[]
[]
[]
[]
[]
[]
[]
[]
[]
[]
[]
[]
[]
[]
[]
[]
[]
[]
[]
[]
[]
[]
[]
[]
[]
[]
[]
[]
[]
[]
[]
[]
[]
[]
[]
[]
[]
[]
[]
[]
[]
[]
[]
[]
[]
[]
[]
[]
[]
[]
[]
[]
[]
[]
[]
[]
[]
[]
[]
[]
[]
[]
[]
[]
[]
[]
[]
[]
[]
[]
[]
[]
[]
[]
[]
[]
[]
[]
[]
[]
[]
[null,null,null,null,null,null,null,null,null,null,"** Calculated Values **"]
[null,null,null,null,null,null,null,167,{"$f":"SUBSTITUTE(ADDRESS(1,H171,4),\"1\",\"\")","v":"FK"},"INST-VAL"]
[null,null,null,null,null,null,null,168,"FL","PER-AVER","Total Exports SWP and CVP"]
[null,null,null,null,null,null,null,169,"FM","INST-VAL"]
[null,null,null,null,null,null,null,170,{"$f":"SUBSTITUTE(ADDRESS(1,H174,4),\"1\",\"\")","v":"FN"},"PER-AVER"]

{"sheet":"NAA 091720","index":8,"n_rows":996,"n_cols":26,"rows_kept":996,"cut":false,"hidden":false,"merged":[]}
["Part A:"," ","CALSIM","CALSIM","CALSIM","CALSIM","CALSIM","CALSIM","CALSIM","CALSIM","CALSIM","CALSIM","CALSIM","CALSIM","CALSIM","CALSIM","CALSIM","CALSIM","CALSIM","CALSIM","CALSIM","QUAL8.0.6","SACRAMENTO",null,null,"CALCULATED"]
["Part B:"," ","S4","C109","NODOS_STOR","C17601","C17604","C129","C134","S6","C203","C223","S8","C303","C169","C408","C406","D418","D419","D419_SWP","D419_CVP","X2_EOM","BLW CLEAR CREEK",null,null,"D418+D419"]
["Part C:"," ","STORAGE","FLOW-CHANNEL","STORAGE","FLOW-CHANNEL","FLOW-CHANNEL","FLOW-CHANNEL","FLOW-CHANNEL","STORAGE","FLOW-CHANNEL","FLOW-CHANNEL","STORAGE","FLOW-CHANNEL","FLOW-CHANNEL","FLOW-CHANNEL","FLOW-CHANNEL","FLOW-DELIVERY","FLOW-DELIVERY","FLOW-DELIVERY","FLOW-DELIVERY","X2-POSITION","TEMP",null,null,"FLOW-DELIVERY"]
["Part D:"," "]
["Part E:"," ","1MON","1MON","1MON","1MON","1MON","1MON","1MON","1MON","1MON","1MON","1MON","1MON","1MON","1MON","1MON","1MON","1MON","1MON","1MON","1MON","1MON",null,null,"1MON"]
["Part F:"," ","2020D09E                        ","2020D09E                        ","2020D09E                        ","2020D09E                        ","2020D09E                        ","2020D09E                        ","2020D09E                        ","2020D09E                        ","2020D09E                        ","2020D09E                        ","2020D09E                        ","2020D09E                        ","2020D09E                        ","2020D09E                        ","2020D09E                        ","2020D09E                        ","2020D09E                        ","2020D09E                        ","2020D09E                        ","SPJPA_NAA_091720+FROM-ALL","R2019",null,null,"2020D09E"]
["Start Date:"," ","1921-10-31","1921-10-31","1921-10-31","1921-10-31","1921-10-31","1921-10-31","1921-10-31","1921-10-31","1921-10-31","1921-10-31","1921-10-31","1921-10-31","1921-10-31","1921-10-31","1921-10-31","1921-10-31","1921-10-31","1921-10-31","1921-10-31","1921-10-31","00:00:00",null,null,"1921-10-31"]
["Start Time:"," ",2400,2400,2400,2400,2400,2400,2400,2400,2400,2400,2400,2400,2400,2400,2400,2400,2400,2400,2400,2400,7975,null,null,2400]
["End Date:"," ","2003-09-30","2003-09-30","2003-09-30","2003-09-30","2003-09-30","2003-09-30","2003-09-30","2003-09-30","2003-09-30","2003-09-30","2003-09-30","2003-09-30","2003-09-30","2003-09-30","2003-09-30","2003-09-30","2003-09-30","2003-09-30","2003-09-30","2003-09-30","1906-07-27",null,null,"2003-09-30"]
["End Time:",null,2400,2400,2400,2400,2400,2400,2400,2400,2400,2400,2400,2400,2400,2400,2400,2400,2400,2400,2400,2400,37894,null,null,2400]
["Units:"," ","TAF     ","CFS     ","TAF     ","CFS     ","CFS     ","CFS     ","CFS     ","TAF     ","CFS     ","CFS     ","TAF     ","CFS     ","CFS     ","CFS     ","CFS     ","CFS     ","CFS     ","CFS     ","CFS     ","KM      ","DEGF    ",null,null,"CFS"]
["Data Type:","Index","PER-AVER","PER-AVER","PER-AVER","PER-AVER","PER-AVER","PER-AVER","PER-AVER","PER-AVER","PER-AVER","PER-AVER","PER-AVER","PER-AVER","PER-AVER","PER-AVER","PER-AVER","PER-AVER","PER-AVER","PER-AVER","PER-AVER"]
[" ","1921-10-31",2738.2456759338857,7588.7517402535086,0,0,0,5432.9241013578512,5525.7060546875,2289.1246865196581,3999.9999999999754,5130.7312030500034,465.34738539900883,1732.5101302679084,13066.771460107015,-8612.9885324539318,4000,3830.5966042664031,6483.9474137852458,4685.771796638579,1798.1756171466668,88.847869873046875,-901,null,null,{"$f":"R13+S13","v":10314.544018051649}]
[" ","1921-11-30",2695.0934394984006,6315.5976417110605,0,0,0,4897.3934473713734,5130.07763671875,2184.7133735484658,2500.0000000000146,2885.0858837886235,419.26006298949022,1849.5863653773786,10930.080721525334,-6548.1396184538498,4500.0000000000873,3887.2051305820478,4050.1873023515232,3757.190995483079,292.99630686844438,89.668258666992188,-901,null,null,{"$f":"R14+S14","v":7937.3924329335714}]
[" ","1921-12-31",2865.8538683484285,6638.5412664672658,0,0,0,9056.7211702343629,10093.369140625,2132.258676238665,3227.7220372456068,1700,446.51820350020779,1933.3099108350666,16875.474373230085,-9475.5573497295118,9041.0371657080013,4600.0000000000009,7201.1579980203396,7201.1579980203378,0,83.119850158691406,-901,null,null,{"$f":"R15+S15","v":11801.157998020341}]
[" ","1922-01-31",3007.9029743547908,4722.5041136401851,0,0,0,6841.1102437195286,7459.43017578125,2231.7935936234562,1700,4411.1141430865309,468.30035733503394,1281.8264206707399,14355.345728123015,-5225.8064516129034,12362.637463407074,4440.9329320782635,2960.621954718843,2960.621954718843,0,77.228477478027344,45.904678344726563,null,null,{"$f":"R16+S16","v":7401.5548867971065}]
[" ","1922-02-28",3434.5404551091883,9453.9948276043287,0,0,0,16399.416250658061,16434.6171875,2568.012027825856,1700,3746.5987545167709,567,4583.959136750861,29433.968405265332,-4464.2857142857147,36794.741499290656,4600,3676.411609351333,3676.4116093513335,0,55.507194519042969,45.625045776367188,null,null,{"$f":"R17+S17","v":8276.411609351333}]
[" ","1922-03-31",3955.2092562325197,5526.6173864102129,0,0,0,8735.4511948088457,9271.1875,2865.2692106271779,1700,8986.5007678789825,662,3628.0061275594235,23651.348175777413,-3258.0645161290322,26344.005913373418,4015.0771597011308,3782.4659327086401,3782.4659327086401,0,61.342216491699219,48.130279541015625,null,null,{"$f":"R18+S18","v":7797.5430924097709}]
[" ","1922-04-30",4493.2735858628657,7682.1428727999682,0,0,0,10444.346620343607,11798.537109375,3407.0547165792227,1000,10317.473792519466,792,3640.2887654908436,26110.621262821736,-3500,27967.734411634112,2798.4720446507176,5435.5700635110061,5435.5700635110061,0,60.446521759033203,51.076366424560547,null,null,{"$f":"R19+S19","v":8234.0421081617242}]
[" ","1922-05-31",4552,12124.593868747386,0,0,0,8017.0865229296123,9874.6748046875,3538,16138.978849327399,29882.314578944704,967,7809.8586569387553,48482.736006821091,-3500,51841.277350245742,4322.8343844537449,2881.8895896358317,2881.8895896358317,0,54,52.296497344970703,null,null,{"$f":"R20+S20","v":7204.7239740895766}]
[" ","1922-06-30",4291.8069189275839,10920.05728829544,0,0,0,5001.62841796875,6734.9375,3538,6518.5430730118242,18948.899044636124,967,6829.9072787452751,33070.22691041512,-5000,34867.741457463548,4599.9999999999818,6048.0994344368082,6048.0994344368082,0,57.745616912841797,52.773334503173828,null,null,{"$f":"R21+S21","v":10648.09943443679}]
[" ","1922-07-31",3879.682072680293,11718.615102443933,0,0,0,4589.4470138549714,5956.060546875,3079.5981428580048,8371.3614047768406,10434.958289912482,942.00000000000011,1761.0342441281537,18616.753774258035,-9699.2011626511703,8000.0000000000091,4600,7004.9017250857196,6680,0,79.248489379882813,52.273139953613281,null,null,{"$f":"R22+S22","v":11604.90172508572}]
[" ","1922-08-31",3523.3833015908849,10506.85959962503,0,0,0,4518.2434768676831,5561.07177734375,2633.0923778744154,7883.4076402867931,8785.6946525460644,792,2977.5233797341489,17846.115575851545,-10260.970818359718,6581.814388826082,4600,6680,6680,0,83.956092834472656,51.810558319091797,null,null,{"$f":"R23+S23","v":11280}]
[" ","1922-09-30",3400.0000000000005,6881.1018585532056,0,0,0,4892.9364999828649,5533.46826171875,2164.6722429012707,8425.918614053593,10550.562442384102,670.98311280976282,2477.8291966986262,19207.04259618339,-6188.3878100482107,12687.500000000087,800,6680,6680,0,75.987648010253906,51.387325286865234,null,null,{"$f":"R24+S24","v":7480}]
[" ","1922-10-31",3250,7454.4006244528791,0,0,0,6939.6199962179762,7086.25634765625,1982.2889468524029,4000,4003.6315457101337,626.22648631059417,1343.7475939949991,13441.167512511878,-5724.8042910390068,7656.25,3860.2278829420929,3672.8582295716328,3672.8582295716328,0,79.446891784667969,51.919380187988281,null,null,{"$f":"R25+S25","v":7533.0861125137253}]
[" ","1922-11-30",3252,6012.4938322814742,0,0,0,6167.9659975787572,6962.53369140625,1929.9740690779297,1700,1733.708375033448,567,3003.042461957139,13990.263067040458,-9137.4742439548827,5488.5811374979967,4600,6680,6680,0,84.369346618652344,53.411357879638672,null,null,{"$f":"R26+S26","v":11280}]
[" ","1922-12-31",3369,8713.1348635920949,0,0,0,14049.020620728774,15773.6123046875,1949.9738393298067,3795.7685791653239,1700,567,6910.8040287872773,27457.699881315424,-5290.322580645161,30955.965281566372,4599.9999999999891,3467.7025551718743,3467.7025551718743,0,60.1829833984375,50.747688293457031,null,null,{"$f":"R27+S27","v":8067.7025551718634}]
[" ","1923-01-31",3589.9597657034074,7264.1710197878419,0,0,0,10561.248980748291,11026.8388671875,2168.8028528322211,1700,8445.455039179993,567,4455.0765299196182,25088.902480893761,-5225.8064516129034,26547.180691926958,4600,4693.5377421836583,4693.5377421836583,0,62.454696655273438,47.235645294189453,null,null,{"$f":"R28+S28","v":9293.5377421836583}]
[" ","1923-02-28",3667.0698708310879,6349.6123598287977,0,0,0,8312.7535802710208,8937.7041015625,2228.3139968758014,2628.2325378788673,3112.9663793541267,567.00000000000011,2641.6369270973382,18346.450554582487,-5250,16321.429000000091,4600,3978.8064456723332,3978.8064456723341,0,67.824310302734375,47.257251739501953,null,null,{"$f":"R29+S29","v":8578.8064456723332}]
[" ","1923-03-31",3803.03818600964,4158.7733467453763,0,0,0,5331.6925117121664,5744.3916015625,2418.9774470529551,1700,3292.7887831054973,652.15041429906194,1559.0123285892273,11119.221948640221,-3370.1953152737619,9817.909155417763,3545.3614606684059,2381.6180258853274,2381.6180258853274,0,76.878334045410156,50.807712554931641,null,null,{"$f":"R30+S30","v":5926.9794865537333}]
[" ","1923-04-30",4254.4890807170059,6680.2569840581364,0,0,0,8750.7397219066534,10007.228515625,2777.004367270164,1000,9003.4467222422772,792,4530.71194270878,25048.018946932647,-3500,27519.369220795765,4600,3609.7114907391538,3609.7114907391538,0,61.110382080078125,53.285076141357422,null,null,{"$f":"R31+S31","v":8209.7114907391533}]
[" ","1923-05-31",4000.3368294868028,10567.02959884705,0,0,0,4164.8641662597656,5665.6328125,2913.6329006297074,1000,4742.1366857657122,967,3445.6555964167501,14360.40545834037,-3500,12559.694783245643,3410.4426445807239,2273.6284297204966,2273.6284297204966,0,74.355216979980469,52.846355438232422,null,null,{"$f":"R32+S32","v":5684.0710743012205}]
[" ","1923-06-30",3677.7176861326693,10865.086212841534,0,0,0,4091.4394836425859,5761.376953125,2753.2450246811886,3235.2561629845427,5624.8214342187975,967,1995.3239061985637,13501.248163123444,-5000,7866.6665000002049,3839.4777301640734,1992.4812440646401,1992.4812440646401,0,81.369186401367188,52.277015686035156,null,null,{"$f":"R33+S33","v":5831.9589742287135}]
[" ","1923-07-31",3315.2169893758073,11023.455941119191,0,0,0,4008.9449682235677,5460.318359375,2165.8969014882696,8557.9722999254591,8883.5216525946016,768.01175712864915,4359.1693685889049,19340.68666864777,-10022.229830325163,7101.9811447694046,3750.821086042512,6917.190280676321,6680,0,84.403968811035156,52.243946075439453,null,null,{"$f":"R34+S34","v":10668.011366718833}]
[" ","1923-08-31",3002.7616808010503,9913.8029459378704,0,0,0,4085.2166319194785,5199.0615234375,1672.2396828264532,7367.3765383414475,7948.6683071854959,708.92238385377368,1743.6753015989084,15145.471847730463,-9937.7878533117837,4142.7077690666574,3714.3280528141868,7180,6677.9215148419689,0,88.534698486328125,51.869758605957031,null,null,{"$f":"R35+S35","v":10894.328052814188}]
[" ","1923-09-30",2974.9484059074935,5429.3655389802952,0,0,0,4576.7650109622982,5172.73095703125,1612.371137430411,999.99999999985835,2425.5269675421455,530.27156276319818,3639.4254882619844,12161.365925276586,-8256.821372320981,3684.2596085265977,4600,5407.9658831639517,3790.898425299109,1596.7455230925007,89.838180541992188,52.707698822021484,null,null,{"$f":"R36+S36","v":10007.965883163952}]
[" ","1923-10-31",2930.8581935175321,5796.2301653032819,0,0,0,4532.5751914977982,4609.203125,1490.043810270111,1700.0000000000305,2136.2758326256308,476.39547681979235,1317.7714955264034,9123.8686266480145,-5454.7309224210348,4000,3545.3877720609344,3762.9023607367681,3627.0229988722895,0,91.328697204589844,52.100605010986328,null,null,{"$f":"R37+S37","v":7308.2901327977024}]
[" ","1923-11-30",2837.3290436873517,6249.8047694587949,0,0,0,4509.9428043365479,4720.77880859375,1307.815977015664,1700.0000000000255,2029.3355457262394,422.44088634502771,1835.7298631119972,9341.3756503900604,-5274.8767727974646,4500.0000000000873,3350.2111094354827,3457.0965944849431,3457.0965944849431,0,90.139595031738281,54.033889770507813,null,null,{"$f":"R38+S38","v":6807.3077039204254}]
[" ","1923-12-31",2764.5313487293206,5686.7477629916748,0,0,0,5397.8865102915734,5666.86279296875,1173.8407098009063,1700,1700,369.42202330884788,1838.9485487944405,10093.388544528199,-5602.3784164658337,4500.0000000000146,3630.8264207554193,3408.8761913163989,3408.8761913163989,0,89.41412353515625,51.453132629394531,null,null,{"$f":"R39+S39","v":7039.7026120718183}]
[" ","1924-01-31",2855.5365278081076,4406.5669221797834,0,0,0,5253.7023802459207,5477.2919921875,1193.1896945696903,1700,4171.4601985006111,319.46026439865801,1251.4977776873,12119.209112684754,-4635.7927189780403,8424.5669864084448,3591.4524823216898,2528.6154764430908,2528.6154764430908,0,83.937141418457031,48.469558715820313,null,null,{"$f":"R40+S40","v":6120.067958764781}]
[" ","1924-02-29",3062.5350887724599,5336.3481118443651,0,0,0,7605.3785114383163,8403.4921875,1372.93775180168,1700,2919.8146092130569,322.50097025767747,1274.2823545241838,17497.824968477602,-5000,13485.605053424981,3883.9366040976715,2589.2910693984572,2589.2910693984572,0,75.146446228027344,48.952957153320313,null,null,{"$f":"R41+S41","v":6473.2276734961288}]
[" ","1924-03-31",2795.9487017991391,8864.0331460914604,0,0,0,8909.1260442728326,9182.4658203125,1378.6958501452696,2390.0882411388602,2443.8580186590607,295.46763872826625,785.85724916107381,13253.231250007046,-4165.9992679847091,9525.8070000000298,4600,954.68786472696138,300,654.68786472696138,79.27813720703125,48.511009216308594,null,null,{"$f":"R42+S42","v":5554.6878647269614}]
[" ","1924-04-30",2689.6629173790507,5777.7519095375228,0,0,0,3980.5638339980919,4756.65478515625,1367.3023527057646,1376.2129511161329,2151.8735373169329,290.46975943070476,781.4951283930875,7950.5092168721576,-1531.8901678010789,5668.7500000000873,1718.7585173047846,331.93284677474094,331.93284677474094,0,85.174903869628906,50.916915893554688,null,null,{"$f":"R43+S43","v":2050.6913640795256}]
[" ","1924-05-31",2339.7659898418215,8964.8407007906317,0,0,0,3271.5798282623291,3799.4599609375,1250.9523404649251,2573.5378255842452,2844.9178330427881,271.07671439147754,776.81667999255978,7568.638061691624,-1798.4862154094012,4000,1761.6005318034986,300,300,0,90.3929443359375,53.819580078125,null,null,{"$f":"R44+S44","v":2061.6005318034986}]
[" ","1924-06-30",1867.0392170995694,11026.395312778242,0,0,0,5129.6080645682268,5917.58349609375,974.52803064928014,4963.7365406942554,4519.7197605732408,254.09595620027457,303.55702761809016,10894.486830814723,-2490.2982337999124,5847.9551712521206,1639.47119616338,300,300,0,86.445777893066406,55.434852600097656,null,null,{"$f":"R45+S45","v":1939.47119616338}]
[" ","1924-07-31",1485.9674312965633,10026.059270890846,0,0,0,4257.2590896442389,4916.6025390625,725.05366602944628,3848.7686499009028,3415.7620462187106,237.18172457638329,316.34012034328236,8899.1652641609071,-2568.0819233856037,4021.147474314821,800,1199.3687612763765,300,827.96622800934688,90.973342895507813,53.563819885253906,null,null,{"$f":"R46+S46","v":1999.3687612763765}]
[" ","1924-08-31",1218.2756268434694,8277.3116979718397,0,0,0,3872.2559920406002,4390.25537109375,566.98222167884762,2902.2801208084079,2668.5240677498123,221.00364057518746,332.38240760276119,8213.0256525026998,-2575.7469925612677,4176.2261803505662,1275.8749855278204,1204.4039184103899,300,0,91.537040710449219,52.850208282470703,null,null,{"$f":"R47+S47","v":2480.2789039382105}]
[" ","1924-09-30",1117.9012494262086,6178.9770067020772,0,0,0,4605.1038039461728,4783.38525390625,532.00146163512136,1314.4509473894459,1182.7020780960311,203.87222436884321,359.92774738984701,6572.1260885140773,-2848.0334754312535,3000.0000000000873,2995.5594299409631,468.85285658620205,468.85285658620205,0,93.363372802734375,55.689815521240234,null,null,{"$f":"R48+S48","v":3464.4122865271652}]
[" ","1924-10-31",1141.5577187578222,4482.4554439697858,0,0,0,3519.4527282715408,3820.911865234375,539.75435433005873,900,1348.3263969211537,214.36477630183902,476.11259001980233,6949.9013914352727,-3996.857727599956,3000,2801.5522380682387,2401.7024781404825,2401.7024781404825,0,94.699546813964844,57.551651000976563,null,null,{"$f":"R49+S49","v":5203.2547162087212}]
[" ","1924-11-30",1302.5089652373445,5320.4368714477832,0,0,0,4462.6363916102273,4573.876953125,584.55806068551101,900,1278.7009403840921,247.76996119090902,426.54771776468704,7047.5868067880247,-3052.3070456574569,4221.33382387657,1274.6424530768945,2888.1956388958952,2888.1956388958952,0,94.020042419433594,53.915706634521484,null,null,{"$f":"R50+S50","v":4162.8380919727897}]
[" ","1924-12-31",1416.7468491840048,5628.999847031474,0,0,0,7501.4561351067086,8848.8173828125,649.3031848028985,922.71048068630716,900,305.5064349952612,500,12639.591084860394,-5416.2782211542926,8725.324938658463,3684.9977412652502,3154.2935735020192,3154.2935735020192,0,84.187065124511719,49.194023132324219,null,null,{"$f":"R51+S51","v":6839.2913147672698}]
[" ","1925-01-31",1732.9275914547659,4979.4480724531768,0,0,0,6010.4230229265231,6357.8359375,785.9443519035425,900,4573.5868970828642,348.25429685269597,427.2025603111918,11989.888556581483,-5225.8064516129034,8082.3231582383087,3964.2663986161415,2642.8442657440955,2642.8442657440955,0,81.747611999511719,46.964916229248047,null,null,{"$f":"R52+S52","v":6607.110664360237}]
[" ","1925-02-28",2945.4493313253447,23113.132165701769,0,0,0,25250.379805067805,25285.58203125,1400.4581773123321,900,11107.878673034229,567,4394.2757329568203,51686.961344868418,-4464.2857142857147,68346.773485220881,3924.7473064568558,2616.4982043046666,2616.4982043045711,0,54,47.006610870361328,null,null,{"$f":"R53+S53","v":6541.2455107615224}]
[" ","1925-03-31",3319.8494092815731,6243.5858560663019,0,0,0,7705.7647493467148,8313.529296875,1628.6379772230744,799.99999999997874,5574.987596586564,656.00000000000023,2254.8252345569977,17292.788356235076,-3258.0645161290322,15619.001971302461,2913.4264645875628,2064.851646478488,2064.851646478488,0,68.816535949707031,48.543117523193359,null,null,{"$f":"R54+S54","v":4978.2781110660508}]
[" ","1925-04-30",4024.1176380790671,8782.2215134350026,0,0,0,13455.628098320884,14877.1240234375,1927.0477768458613,750,5339.4428163629536,792,4369.8305219219719,25569.660371738952,-3500,27267.974335643034,4379.0206831694404,2919.3471221130285,2919.3471221130285,0,59.858409881591797,50.999969482421875,null,null,{"$f":"R55+S55","v":7298.3678052824689}]
[" ","1925-05-31",4165.9554706918734,7633.8606714964244,0,0,0,4456.4917602539063,5347.31884765625,2069.373886611233,750,2826.1059074264867,967,3023.1920853731735,12410.536266548734,-3500,11480.282534961645,3962.7130899035315,2387.6891502851445,2387.6891502851463,0,72.419113159179688,54.101352691650391,null,null,{"$f":"R56+S56","v":6350.4022401886759}]
[" ","1925-06-30",3931.6653012556335,10142.217390384743,0,0,0,4628.0054780556065,5875.45556640625,1947.2742513806854,2311.5167059002119,3580.1611500385825,803.05729843912525,4256.4110383044917,12671.408017550206,-3534.0275320283586,7754.1665000001376,3506.0379346276559,300,300,0,78.560218811035156,54.634384155273438,null,null,{"$f":"R57+S57","v":3806.0379346276559}]
[" ","1925-07-31",3390.6889158039617,12725.260011843076,0,0,0,5899.6287457206263,6908.7822265625,1702.5108268740473,2812.9451700023228,3068.9289168903633,662.25381108567024,2921.8497484011532,13526.252057394167,-5708.6093633090641,5000,3269.6921458492816,2247.0336772579622,333.02351436723734,1315.0923631001601,85.497352600097656,52.957630157470703,null,null,{"$f":"R58+S58","v":5516.7258231072437}]
[" ","1925-08-31",3070.1845256235511,9589.6651334263897,0,0,0,4015.532151222229,4678.505859375,1540.6251681689914,2769.419928477937,3644.0041460377606,610.07581447813197,1541.1692020312983,10065.382432184377,-5168.0730791526712,3581.6232996771732,3404.437407071679,1959.021404183158,1298.173074858174,0,91.076423645019531,52.095233917236328,null,null,{"$f":"R59+S59","v":5363.4588112548372}]
[" ","1925-09-30",2948.7023179099683,6174.5749327836302,0,0,0,4525.5471458434304,5124.0283203125,1477.603445693655,787.1644521699285,2372.2029902808135,560.33075194372418,1549.7840820060076,9607.4749136001265,-6021.1342959830163,3013.8311188699481,4600,2622.2388288060101,2622.2388288060101,0,92.88360595703125,51.960933685302734,null,null,{"$f":"R60+S60","v":7222.2388288060101}]
[" ","1925-10-31",2847.8758628352057,5993.9399038147312,0,0,0,4520.0140628814688,4615.7412109375,1360.5662132839836,900,1500.6069044453832,507.57314139194233,1328.580821972211,8060.2626749703668,-4199.8929146943829,4000,3302.3483807306466,2343.3038263282006,2343.3038263282006,0,93.546707153320313,54.203594207763672,null,null,{"$f":"R61+S61","v":5645.6522070588471}]
[" ","1925-11-30",2789.349162396818,5885.8241477131442,0,0,0,4586.437812805184,4881.91259765625,1272.5741678924298,900,1251.937141179415,467.13104344720585,1851.532597482385,8842.7614745788487,-5155.8934459555294,4500.0000000000873,3583.2376780938712,3037.0303331737696,3037.0303331737696,0,92.443435668945313,53.480491638183594,null,null,{"$f":"R62+S62","v":6620.2680112676408}]
[" ","1925-12-31",2826.9903670284993,5142.9644985779014,0,0,0,5246.5321124675447,5704.55859375,1205.0302795422608,1631.7751329604389,900,455.52946686471239,1860.0926087487783,9426.6014041477974,-4640.7928481167382,4961.0219759016627,2729.0359459081469,3175.5741945487534,3175.5741945487534,0,91.200302124023438,50.380863189697266,null,null,{"$f":"R63+S63","v":5904.6101404568999}]
[" ","1926-01-31",2864.3121111577639,6711.1529358013468,0,0,0,8332.0840975375377,9003.5693359375,1318.7169754316394,900,5346.3515899323356,430.98297359916501,1258.0031416460356,17331.671666485192,-5000,14205.871961392739,3861.7124186280157,2574.4749457520043,2574.4749457520043,0,79.250312805175781,47.247776031494141,null,null,{"$f":"R64+S64","v":6436.18736438002}]
[" ","1926-02-28",3606.9285923085886,15168.154855057141,0,0,0,22157.018173148015,22192.220703125,1778.8045013147823,900,5612.1570013402152,567,1402.1371596718204,36206.415224151737,-4464.2857142857147,44616.123333603668,3676.4500752621793,2450.9667168414567,2450.9667168414567,0,54,47.163364410400391,null,null,{"$f":"R65+S65","v":6127.416792103636}]
[" ","1926-03-31",3674.5086693416038,7090.9405678955227,0,0,0,7805.3907296842162,8182.7978515625,2033.8900555191829,1332.418802459697,3937.6822542439859,548.81688792827333,2572.4863426244024,15596.098531551574,-3258.0645161290322,12912.902999999933,4263.9555851587102,300,300,0,71.460128784179688,50.304237365722656,null,null,{"$f":"R66+S66","v":4563.9555851587102}]
[" ","1926-04-30",3994.5818071189879,7819.5880443301958,0,0,0,9441.7826450884222,10807.021484375,2659.7451611634988,749.99999999993236,6328.6672144159929,792,1361.382168595539,20834.826735181261,-2660.6878740635361,24295.337783257404,2990.2453447734747,1993.4968965156509,1993.4968965156509,0,63.280605316162109,54.57293701171875,null,null,{"$f":"R67+S67","v":4983.7422412891256}]
[" ","1926-05-31",3722.8117264016328,10198.434810591019,0,0,0,5717.7546199109511,6289.44921875,2487.9803963390991,4468.9138112969258,6929.355149797193,759.71112617019526,1656.9297228908711,14527.633138150972,-2994.2864213102143,11055.645500000101,2489.5503089257736,1625.8214955510093,1625.8214955510093,0,77.787322998046875,55.095726013183594,null,null,{"$f":"R68+S68","v":4115.3718044767829}]
[" ","1926-06-30",3302.5000867308722,10923.258812201811,0,0,0,4695.398351374849,5610.25,2106.3888522004036,5646.3872092419588,5775.5553054557204,621.56733271082851,2076.9610614719254,13271.505060830268,-5000,5000.0000000000873,2249.2677658179387,2458.4029948129496,2458.4029948129496,0,84.835472106933594,53.085029602050781,null,null,{"$f":"R69+S69","v":4707.6707606308883}]
[" ","1926-07-31",2822.4275377563113,11896.259435936898,0,0,0,5840.8529776652595,6643.0830078125,1538.934562594714,8476.755111620314,8290.9665430309997,484.41949806784714,1748.4676601057809,16799.440762612372,-8467.6184567417004,5000,1867.4195669999835,6309.7801409121357,5137.3336942798578,842.29311096177389,87.134536743164063,52.106761932373047,null,null,{"$f":"R70+S70","v":8177.1997079121193}]
[" ","1926-08-31",2561.4659640549562,8898.3981330715196,0,0,0,3940.9874830674689,4593.78125,1368.3599870933308,2266.7871779253328,2327.7700698949056,399.64034866449208,1316.1960405203638,8509.7522202987457,-3188.4962575178433,3816.9896651774034,2397.9840487759075,696.82247082917343,300,0,91.483749389648438,52.382198333740234,null,null,{"$f":"R71+S71","v":3094.8065196050811}]
[" ","1926-09-30",2485.5551250883532,4937.809089877187,0,0,0,3917.4841679738147,4299.958984375,1259.7614343426767,1146.7382970992585,2755.7996535579359,352.58671850004828,1359.3645464609879,8905.3576906779708,-4924.6588620929615,3184.0131514275845,3195.9565817808725,2583.8045746170665,2583.8045746170665,0,92.011924743652344,52.991977691650391,null,null,{"$f":"R72+S72","v":5779.761156397939}]
[" ","1926-10-31",2393.6463708688207,5823.1010838329221,0,0,0,4858.2740761968225,4858.931640625,1165.2279174342427,963.80672166015768,1463.0273530416969,352.80127877568134,617.86277808386967,7978.6332556274829,-3955.9055240609632,4063.8067216601862,2675.397010255178,2424.4022072266926,2424.4022072266926,0,91.137672424316406,54.571231842041016,null,null,{"$f":"R73+S73","v":5099.7992174818701}]
[" ","1926-11-30",2857.8251177540669,7549.2623203373169,0,0,0,10122.8324327634,11320.544921875,1385.0617575722144,900,4579.6399389631169,536.20296114192695,705.95697042270206,20104.742900291272,-9339.0164466679453,12665.86146992576,4600,6680,6680,0,75.430671691894531,53.863658905029297,null,null,{"$f":"R74+S74","v":11280}]
[" ","1926-12-31",3347,10995.285163831142,0,0,0,13682.60645903108,15265.326171875,1294.6961897452959,4075.2248628170164,900,567,2186.6223146167067,19816.947248884135,-5290.322580645161,15078.617806593351,4104.0251613660639,2736.0167742440417,2736.0167742440417,0,70.005508422851563,49.197761535644531,null,null,{"$f":"R75+S75","v":6840.0419356101056}]
[" ","1927-01-31",3668,14091.036613578883,0,0,0,18104.366511143333,18104.3671875,1553.5801123957849,900,10304.642369533303,565,3575.8705218030104,32193.120615927084,-4516.1290322580644,33165.676596979887,3611.8778164715509,2407.9185443143801,2407.9185443143801,0,59.337608337402344,46.509624481201172,null,null,{"$f":"R76+S76","v":6019.796360785931}]
[" ","1927-02-28",3462,49408.651791985336,0,0,0,27006.887338996868,27042.08984375,2618.1536246377154,900,21352.359716521318,553,12892.937175668365,73345.774186348557,-4464.2857142857147,127608.64028987664,4377.1882392394655,2918.1254928263133,2918.1254928263102,0,54,44.931381225585938,null,null,{"$f":"R77+S77","v":7295.3137320657788}]
[" ","1927-03-31",4085.3751557241858,11047.079115535462,0,0,0,15954.279769747976,15954.279296875,2999,4308.5128557720545,16182.712477194131,647,4667.2616232992923,37104.442619601643,-3258.0645161290322,41481.648153660586,3286.8715834645545,2191.2477223096967,2191.2477223096967,0,55.109172821044922,47.743354797363281,null,null,{"$f":"R78+S78","v":5478.1193057742512}]
[" ","1927-04-30",4552,16483.615230435207,0,0,0,19493.702452331083,19511.919921875,3396,4780.4251037671784,14513.751301477187,792,6878.3137752416114,42951.029310826394,-3500,51281.927165727975,4569.2982592518783,3046.1988395012459,3046.1988395012459,0,54,49.720630645751953,null,null,{"$f":"R79+S79","v":7615.4970987531242}]
[" ","1927-05-31",4552,11315.240401314102,0,0,0,7392.8684625037531,8104.13720703125,3538,4032.7245360576908,10599.501263547631,967,3918.9691896471732,23986.556377729165,-3500,22431.418691964329,3270.9919746754317,2180.6613164502905,2180.661316450291,0,65.965126037597656,52.448612213134766,null,null,{"$f":"R80+S80","v":5451.6532911257218}]
[" ","1927-06-30",4346.3431123517239,9770.350210412249,0,0,0,4714.141845703125,5889.5224609375,3538,2024.2781683263288,6959.9199094409396,967,4326.5738292954984,17635.258195529696,-5000,12231.194643729901,3237.8779686866656,2158.5853124577679,2158.5853124577679,0,76.04974365234375,52.756801605224609,null,null,{"$f":"R81+S81","v":5396.4632811444335}]
[" ","1927-07-31",3826.5053208779041,13620.493125818602,0,0,0,6690.5908452605418,7756.26416015625,3010.0011013214771,8839.4302535447896,10485.601784112852,822.81774979712247,3345.2648875562459,22235.368161731181,-11180.282909571353,8000,4600,7004.9017250857196,6680,0,81.229461669921875,51.445735931396484,null,null,{"$f":"R82+S82","v":11604.90172508572}]
[" ","1927-08-31",3432.3080287656412,11047.601510059621,0,0,0,4747.7915305928418,5666.7607421875,2543.8277896951736,7875.8223094763443,8981.7629783313914,684.92321150625662,2702.4524501301844,17958.863590677422,-10396.65563846668,5914.9816414723646,4348.3606336759076,6680,6680,0,84.220283508300781,51.171844482421875,null,null,{"$f":"R83+S83","v":11028.360633675908}]
[" ","1927-09-30",3118.2020711507712,10206.016114064802,0,0,0,8366.3396505835972,8910.38671875,2066.1692301108437,7730.3142906549074,9445.9524227867823,566.29322967468408,2517.8851747924336,21579.282894289179,-8820.9190086059643,12218.750000000087,3697.840442737172,6680,6680,0,76.287117004394531,49.955024719238281,null,null,{"$f":"R84+S84","v":10377.840442737172}]
[" ","1927-10-31",2994.3775304385263,6913.2375391562191,0,0,0,5672.5732453970422,5717.0048828125,1786.7951690941316,4000,4435.7708985218469,520.24860488066486,1339.857857662774,12285.461227975911,-5410.864488679721,7031.25,2852.9702708239015,4342.3507875178848,4342.3507875178848,0,82.636451721191406,51.853126525878906,null,null,{"$f":"R85+S85","v":7195.3210583417858}]
[" ","1927-11-30",3252,7097.0304361993803,0,0,0,8018.2960127685947,8744.443359375,1838.5675403116845,1700,1736.5088943388757,562.3430373429544,1876.836972724413,13978.00631865059,-9199.1852777085769,5718.3223546979207,4600,6680,6680,0,84.399131774902344,52.666328430175781,null,null,{"$f":"R86+S86","v":11280}]
[" ","1927-12-31",3363,7042.656629778262,0,0,0,8532.4048734033368,9733.884765625,1756.8198697343107,2743.6051353473922,1700,565.69651625969448,2000,14981.488833504374,-9783.0326333726516,6017.0699262018388,4600,7117.4912745215925,7117.4912745215925,0,84.231460571289063,50.075767517089844,null,null,{"$f":"R87+S87","v":11717.491274521592}]
[" ","1928-01-31",3655.3713514180281,6907.3284765219614,0,0,0,9520.4479146591457,10605.6748046875,1895.4551874386682,1700,9085.2270605561007,567,1509.6525289638487,22445.433867306605,-5225.8064516129034,19551.10800470582,4300.6108796330773,2867.0739197553858,2867.0739197553858,0,67.952171325683594,47.459728240966797,null,null,{"$f":"R88+S88","v":7167.684799388463}]
[" ","1928-02-29",4099,10350.338177821348,0,0,0,16104.595637082755,16138.5830078125,2006.1840832638325,4400.8976973117133,1700,567,1984.6122154051984,24363.383371134852,-4482.7586206896549,24878.126649238529,3819.6384967460344,2546.4256644973557,2546.4256644973557,0,62.2960205078125,47.117935180664063,null,null,{"$f":"R89+S89","v":6366.0641612433901}]
[" ","1928-03-31",3965,27149.632863590556,0,0,0,21675.007912880948,21675.0078125,2797,7048.1147321652925,27171.063752029928,635,12107.642440172374,62289.062095698893,-3258.0645161290322,91767.369070953573,4497.3188360033218,2998.2125573355479,2998.2125573355479,0,54,47.685836791992188,null,null,{"$f":"R90+S90","v":7495.5313933388697}]
[" ","1928-04-30",4552,9043.4338769808601,0,0,0,11192.97017581153,13243.6962890625,3232.8420530459439,1000,7379.3982078754971,792,3233.6969634054453,24487.940694694262,-3093.466776571192,26188.01446864671,3791.332963061298,2527.5553087075332,2527.5553087075332,0,61.516921997070313,52.531063079833984,null,null,{"$f":"R91+S91","v":6318.8882717688311}]
[" ","1928-05-31",4419.4667492081117,9430.3301900097395,0,0,0,5536.7881554695214,6335.4111328125,3341.7187829425143,1304.6832235448965,3863.997234329443,919.56827782121786,1380.8498074780707,11620.227352333592,-3093.2351674563688,8535.4830000000075,3350.7511404323377,1299.6803651724413,1299.680365172441,0,77.015678405761719,53.337028503417969,null,null,{"$f":"R92+S92","v":4650.431505604779}]
[" ","1928-06-30",3880.9255858484748,13387.98306167748,0,0,0,7663.7829990517603,8696.94140625,3140.9266682388911,3465.3744181105267,4527.1190091470144,788.42084207167545,2272.6820770040586,15547.804514314264,-5000,8301.7860830919071,3317.2744259952251,1786.2246909205405,1786.2246909205405,0,80.014938354492188,52.101802825927734,null,null,{"$f":"R93+S93","v":5103.4991169157656}]
[" ","1928-07-31",3176.4583077570101,16351.551406794606,0,0,0,9495.8701843588551,10454.7783203125,2495.6623000289796,10284.566715618936,10366.614554424743,548.82036678577515,3253.7193824898759,24716.21362493953,-9600.3723594073163,11516.414450991891,2838.5119256198445,6920.4873138069324,6680,0,78.260795593261719,51.121685028076172,null,null,{"$f":"R94+S94","v":9758.9992394267774}]
[" ","1928-08-31",2747.359088366873,12858.375128043293,0,0,0,7038.4659088059652,7869.98583984375,1991.9448292807037,7952.5211724167602,8279.7132057380313,485.22293802659158,1538.4509130943682,18057.000102213227,-10589.144499958576,5030.2416999999996,4379.0267437633684,6680,6680,0,85.106071472167969,51.105327606201172,null,null,{"$f":"R95+S95","v":11059.026743763368}]
[" ","1928-09-30",2500,11576.2021782028,0,0,0,9932.699730529177,10411.9150390625,1556.5398879266399,7443.6357246636762,9075.5597186691884,433.81197298534772,1546.6562891382061,21490.982353561849,-8837.6976091993274,11348.280054722054,3503.8683497720444,6574.1650231487292,6574.1650231487292,0,77.069129943847656,50.324287414550781,null,null,{"$f":"R96+S96","v":10078.033372920774}]
[" ","1928-10-31",2273.216041858936,7652.0139739959659,0,0,0,5758.1629883108599,5760.5302734375,1382.973451328422,1700,2574.5585772950158,372.88544524207839,1325.3970740384748,10255.96542541857,-3110.8069606715999,7031.2500000000182,2272.6607772208163,2178.0423371354063,2178.0423371354063,0,83.564796447753906,51.905818939208984,null,null,{"$f":"R97+S97","v":4450.7031143562226}]
[" ","1928-11-30",2217.7523404095778,8383.5549845271998,0,0,0,7431.7886315493542,7630.90478515625,1241.9700180095083,1762.7542698121665,2596.6485671701707,332.02070040881438,1880.1020433209676,13546.11624423425,-8986.4272336125869,5115.0284391531195,4314.7852115505866,6680,5263.2109397941913,1358.7403459695634,88.744613647460938,53.299442291259766,null,null,{"$f":"R98+S98","v":10994.785211550587}]
[" ","1928-12-31",2276.1844000804281,5430.7910554096106,0,0,0,5942.0277432331159,6687.71435546875,1164.0838799479209,1700,2054.3234005315694,298.02711619241882,1874.7297070521827,12325.974486022025,-8111.7070610605915,4733.0709431535361,4524.8864103431206,5375.1736498190339,5253.1764766874012,120.69130419223536,88.417755126953125,51.251541137695313,null,null,{"$f":"R99+S99","v":9900.0600601621554}]
[" ","1929-01-31",2540.517783263128,4816.6542678866026,0,0,0,5656.7018068147563,5916.68896484375,1176.5557755892362,1700,4446.3733721950812,254.77654521688154,1227.1026024587811,12685.797553095887,-5000,8845.9585913130177,3955.9253941348834,2637.2835960899229,2637.2835960899229,0,83.092063903808594,47.084522247314453,null,null,{"$f":"R100+S100","v":6593.2089902248063}]
[" ","1929-02-28",2725.6759574033663,8126.3152582391731,0,0,0,10220.450906489546,11038.0654296875,1291.2615400592936,1700,2613.1227241162828,250.72654788042911,1236.2656504571426,18735.088022154931,-5000,15077.74597020615,3939.2097548606562,2626.1398365737696,2626.1398365737705,0,71.352455139160156,47.318496704101563,null,null,{"$f":"R101+S101","v":6565.3495914344257}]
[" ","1929-03-31",2896.6799349687722,4845.3990153661271,0,0,0,5617.4858952484319,6234.36572265625,1428.6322829634107,1700,3742.5478182218776,313.02423470319451,801.4397578262483,11857.914737274796,-3711.5583844567541,8949.809096863306,3401.6822068223828,1822.2519575197439,1822.2519575197439,0,79.489006042480469,49.129447937011719,null,null,{"$f":"R102+S102","v":5223.9341643421267}]
[" ","1929-04-30",3074.7996947920692,5410.4026207902052,0,0,0,5483.1294854254438,6153.84814453125,1409.3044782555605,1901.7046612006397,2571.0888370104731,390.1070022292127,771.92044530092357,9708.0134756396892,-1975.109976508571,7964.3750000000873,800,2255.5055539107198,2255.5055539107198,0,81.269866943359375,50.512168884277344,null,null,{"$f":"R103+S103","v":3055.5055539107198}]
[" ","1929-05-31",2842.6992809523636,9688.7529704408535,0,0,0,5202.8227066081263,6080.10205078125,1401.6084560303593,2148.1474300914047,2945.2935418439292,488.55550703415361,754.56149291969155,9700.1666985970387,-1634.3166033361949,7100,1878.7508103794678,300,300,0,82.655288696289063,51.532878875732422,null,null,{"$f":"R104+S104","v":2178.750810379468}]
[" ","1929-06-30",2608.0037067294634,9670.6768120513643,0,0,0,4940.6880680624372,6006.08056640625,1248.9977303608089,3192.0762771589825,3623.7452440388679,477.41418266310546,1073.3102784891159,10813.350739687154,-1725.4410953613115,7243.333500000037,1300.5204700372153,300,300,0,81.824432373046875,54.235977172851563,null,null,{"$f":"R105+S105","v":1600.5204700372153}]
[" ","1929-07-31",2305.6360119736401,8972.007748080885,0,0,0,3678.6979841800421,4455.35400390625,982.16294772198864,3112.9746401683274,3087.5496805671974,400.66863885642448,1073.8038707390008,8992.1804732143373,-2475.799078807815,4164.8610413306524,800.36423808740869,980.26338507208379,300,236.10881515024502,88.902153015136719,54.204044342041016,null,null,{"$f":"R106+S106","v":1780.6276231594925}]
[" ","1929-08-31",1911.3060567267712,10330.906535743612,0,0,0,5883.2182499281307,6514.81201171875,826.79426773662067,1851.6407768498032,1927.5415731800447,353.30871014065144,1076.7760796389662,9805.9469287509728,-5211.5523224009667,3084.3319386364024,4600,520.56919649769225,300,14.207737297159838,92.058143615722656,51.897987365722656,null,null,{"$f":"R107+S107","v":5120.5691964976922}]
[" ","1929-09-30",1811.2694495396497,5468.0631616357177,0,0,0,3751.868940515571,4127.36962890625,799.24590695967186,777.64478562455054,1026.1784987265933,323.61752974598681,1115.4552836689588,6489.8539297798889,-2912.6838127995179,3109.9606648697882,2982.2349163414547,664.91913734266564,664.91913734266564,0,93.912948608398438,53.631938934326172,null,null,{"$f":"R108+S108","v":3647.1540536841203}]
[" ","1929-10-31",1654.3484714971426,6464.2936550723634,0,0,0,4925.8871348004222,4911.99072265625,770.7968751627659,900,1231.9534865689641,314.38928887441898,500,6870.4669466827363,-3696.5645852370726,3000,3716.1925393679949,1133.0516511291125,1133.0516511291125,0,94.482688903808594,55.296379089355469,null,null,{"$f":"R109+S109","v":4849.2441904971074}]
[" ","1929-11-30",1495.8525976944479,6455.3863922226355,0,0,0,5214.6088902099973,5140.90478515625,758.11464709626546,919.10259317055022,900.00000000000068,333.47375127440449,500,6900.0000000000109,-3193.9140547223851,3716.0926689407943,3393.0941798967956,1018.9085372539697,1018.9085372539697,0,93.872909545898438,54.673164367675781,null,null,{"$f":"R110+S110","v":4412.0027171507654}]
[" ","1929-12-31",2037.4338247059516,7552.6840276063249,0,0,0,11296.759834500586,12627.59765625,1206.3517260865199,3906.6462213799468,900,511.74530023613738,575.300099982853,17245.814606328193,-4264.9102255823527,14152.070438585975,3142.1812425507082,2327.3123927768183,2327.3123927768183,0,78.688591003417969,51.968215942382813,null,null,{"$f":"R111+S111","v":5469.4936353275261}]
[" ","1930-01-31",2237.6099634364546,7336.1415353724851,0,0,0,9591.9434986870929,10768.24609375,1458.3280306839379,900,6536.7976100004544,567,1676.3719867861325,20718.52577021773,-5225.8064516129034,17649.466999669508,4118.7097919541166,2745.806527969411,2745.806527969411,0,67.554313659667969,47.550045013427734,null,null,{"$f":"R112+S112","v":6864.5163199235276}]
[" ","1930-02-28",2637.297243382834,8405.3239335003054,0,0,0,13491.363977931036,14436.8203125,1575.8869465553544,3992.1670657320128,900,567,2408.0388190648359,19989.084281749205,-4464.2857142857147,17631.672830482126,2980.2868280228313,3085.6127265992363,3085.6127265992363,0,65.986770629882813,48.026180267333984,null,null,{"$f":"R113+S113","v":6065.8995546220676}]
[" ","1930-03-31",3130.8081842416045,9632.7366167200471,0,0,0,14678.445597787722,16047.33984375,2038.591925318377,800,9721.1171686176731,659,2778.0562908226875,29934.675127569411,-3258.0645161290322,31031.045913574915,2044.6459365801395,2744.3804923097196,2744.3804923097159,0,58.876800537109375,49.042102813720703,null,null,{"$f":"R114+S114","v":4789.0264288898588}]
[" ","1930-04-30",3363.7971441256441,5034.7070492676703,0,0,0,5480.8819127029183,6139.51416015625,2381.2140650578813,750,5641.8701768435394,792,1419.5050382240679,13585.549532725969,-2247.0965244926601,11774.243526959472,1969.8833218905486,1188.1748832805404,1188.1748832805404,0,75.172157287597656,51.231788635253906,null,null,{"$f":"R115+S115","v":3158.058205171089}]
[" ","1930-05-31",3337.0460280845068,7514.2253186640328,0,0,0,3528.3982849121185,4320.5986328125,2520.2226985855773,907.80299731744162,4693.4792000854222,845.90537769620846,865.13863101859158,9939.042220596426,-2408.5217448791573,7038.7095000001136,2229.6492272984997,769.1829948724685,769.1829948724685,0,84.692611694335938,51.613529205322266,null,null,{"$f":"R116+S116","v":2998.8322221709682}]
[" ","1930-06-30",3001.4461222804798,9669.1705567879308,0,0,0,3335.2667617797852,4575.572265625,2137.6788656330787,6540.8938706891295,8095.5494209464405,739.16435195596694,2346.0211078886146,14853.954511875319,-5000,7100.0000000000873,1470.4652869129234,3347.9774958064481,3347.9774958064481,0,83.523139953613281,53.179164886474609,null,null,{"$f":"R117+S117","v":4818.4427827193713}]
[" ","1930-07-31",2642.1481157913126,9657.515237768228,0,0,0,3379.5743112221144,4263.578125,1642.0308051499806,7070.735963312186,7334.6647305947554,590.65140416996155,2008.1426978576419,14119.313990750867,-6519.0164869520177,5000,954.17740651410941,5294.7904815063384,4189.2826996222102,775.35444621363695,86.947166442871094,53.614974975585938,null,null,{"$f":"R118+S118","v":6248.9678880204483}]
[" ","1930-08-31",2302.3156781213029,9131.7296986191468,0,0,0,4241.0057256375621,4917.4814453125,1530.6215190926557,1969.5736184530003,2492.3998992320417,435.25960736949742,2798.8180997412542,10740.288280729752,-5349.4073202833861,3955.5084676375027,4600,837.57778120019066,300,140.7553103710045,90.589874267578125,52.05194091796875,null,null,{"$f":"R119+S119","v":5437.5777812001907}]
[" ","1930-09-30",2270.2534174272696,4702.9902292629258,0,0,0,3289.2780342102051,3734.16064453125,1463.4937165376082,773.33333330000005,2708.6620067898648,389.17725949958168,1435.044868834143,8331.9379976175896,-4720.9166404170155,3027.8042304778955,3317.629356083492,2417.5509714113737,2417.5509714113737,0,92.950897216796875,53.672328948974609,null,null,{"$f":"R120+S120","v":5735.1803274948652}]
[" ","1930-10-31",2150.5995583017507,5787.1130853834984,0,0,0,4704.0370015830986,4705.8779296875,1342.6443939586352,900,1558.0107066015594,352.35885051599001,890.36854969028275,7857.8519095636684,-3809.2812876292719,4000,2941.1964857656781,2105.2924857440562,2105.2924857440562,0,90.808311462402344,55.141193389892578,null,null,{"$f":"R121+S121","v":5046.4889715097343}]
[" ","1930-11-30",2062.5704169721575,5673.7452890694167,0,0,0,4290.765722431528,4266.8681640625,1252.2975697771415,900,1542.9432963139766,373.78854783121102,919.22247033804297,7776.0152778055399,-3543.3747332288858,4500.0000000000873,2313.9038850990805,2493.9628272416317,2493.9628272416317,0,89.146492004394531,54.59527587890625,null,null,{"$f":"R122+S122","v":4807.8667123407122}]
[" ","1930-12-31",2005.7186892332386,4917.1139745334258,0,0,0,4701.146755093012,4932.6748046875,1193.8662199712433,900,1704.0553728530531,366.83360157751002,895.97804376989473,8246.254315466058,-3691.9008993800762,4500,2573.2194142197236,2268.5874456444585,2268.5874456444585,0,90.399848937988281,52.435432434082031,null,null,{"$f":"R123+S123","v":4841.8068598641821}]
[" ","1931-01-31",2083.3691602558251,6798.1083412229473,0,0,0,8472.5947511248505,8976.2412109375,1297.4914492046553,900,1648.784367941164,375.54221730020663,619.04633686851594,13130.05201281609,-5000,9845.6866975547546,3919.2341721332741,2612.8227814221827,2612.8227814221827,0,83.610794067382813,48.567543029785156,null,null,{"$f":"R124+S124","v":6532.0569535554569}]
[" ","1931-02-28",2167.4654897901351,5399.0864402221905,0,0,0,6156.5315113084262,6734.66650390625,1422.6762412985854,900,2323.0017829825292,384.10999294750491,600.84029531493218,13702.896449562113,-5000,9562.1928389432051,3881.814505028578,2587.8763366857179,2587.8763366857188,0,79.73468017578125,47.955112457275391,null,null,{"$f":"R125+S125","v":6469.6908417142959}]
[" ","1931-03-31",2330.6270216294351,4416.5484869575885,0,0,0,5239.6108788167194,5526.67529296875,1575.7589472744862,800,1319.6111871603864,449.26706881078468,349.50807620575142,8217.7712909580332,-1384.8276692995546,7377.4194000000134,1233.1298784271141,1103.3582517481793,1103.3582517481793,0,81.55078125,49.789199829101563,null,null,{"$f":"R126+S126","v":2336.4881301752935}]
[" ","1931-04-30",2254.455135551314,5813.404495410211,0,0,0,4218.00439039096,4574.96044921875,1544.6078096754291,2400.1877217070346,2783.5906647231095,386.7273046243954,2057.7096771434312,9576.6558937563241,-838.7365018002647,7816.6665000001376,800,300,300,0,82.7862548828125,52.671394348144531,null,null,{"$f":"R127+S127","v":1100}]
[" ","1931-05-31",1951.1996702482818,8435.5896030123913,0,0,0,3319.4057464599609,3508.209716796875,1498.5944151479557,2324.4864185156152,2954.556327164722,420.95140915921297,311.0871615228229,7049.6753924742707,-1566.1015348843525,4000,1662.1078744247559,300,300,0,91.276123046875,55.237361907958984,null,null,{"$f":"R128+S128","v":1962.1078744247559}]
[" ","1931-06-30",1623.8647869933829,8864.2988534161559,0,0,0,3284.9253997802748,4105.81787109375,1319.8251333134308,3576.071408128058,3675.9859503255366,415.58099176877602,421.59622317502652,8416.8974301489288,-2016.8885786680207,4000.0000000000873,1304.6190936116407,300,300,0,91.475418090820313,56.18182373046875,null,null,{"$f":"R129+S129","v":1604.6190936116407}]
[" ","1931-07-31",1279.8539515610676,9101.078750981309,0,0,0,3649.4769250163445,4109.34765625,1035.3274762702181,4289.7299439436019,3872.980910888487,305.52201605116733,1750,10165.103743912907,-3041.9949047706396,4000,1232.2520785377728,1075.3570649239825,300,455.78045199962764,92.009986877441406,53.406047821044922,null,null,{"$f":"R130+S130","v":2307.6091434617556}]
[" ","1931-08-31",983.25498469579941,8308.8560730880745,0,0,0,3849.1753108640896,4230.130859375,835.37325805316266,3353.2846913708081,2925.3782432771231,288.588642614722,255.86257322012312,7746.2142037960002,-2025.3641487105451,3956.7224166929095,1274.700217502027,300,300,0,91.252128601074219,53.740516662597656,null,null,{"$f":"R131+S131","v":1574.700217502027}]
[" ","1931-09-30",803.20132745639512,5938.3119730082253,0,0,0,4634.5678715733538,4924.6533203125,801.47255291956822,1119.4985464489671,1060.0937833690577,270.62189094622295,314.7745872478767,6587.2982682725014,-2845.8880148988719,3000.0000000000873,2910.4378189941872,388.45488710544487,388.45488710544487,0,92.949676513671875,59.530632019042969,null,null,{"$f":"R132+S132","v":3298.8927060996321}]
[" ","1931-10-31",649.99999999999989,6237.0714482245539,0,0,0,5007.3344043941343,5009.70166015625,785.50798431676878,900,1065.5867194126167,268.64057017486806,375,6870.4669466826354,-3564.6431356583325,3000,3457.5437029305258,972.00238420915139,972.00238420915139,0,94.800636291503906,59.949363708496094,null,null,{"$f":"R133+S133","v":4429.5460871396772}]
[" ","1931-11-30",639.68004382918946,5222.2314300229509,0,0,0,4620.9410127545607,4629.51171875,799.47319780340592,900.70163335798759,943.77895672335399,278.32809204129779,411.91588934299602,6899.9999999999836,-3294.3705588457797,3633.877717326377,2813.6390830438277,1366.027698114983,1366.027698114983,0,92.551254272460938,54.068355560302734,null,null,{"$f":"R134+S134","v":4179.6667811588104}]
[" ","1931-12-31",828.49846929033538,10088.22638983797,0,0,0,13146.928642997902,14593.4970703125,693.4773670942742,4493.6962807732534,900,391.76540228127982,500,18999.492642474765,-9562.3221268581001,14173.592439600412,4600,7170.2544572336283,7170.2544572336355,0,75.761009216308594,48.285289764404297,null,null,{"$f":"R135+S135","v":11770.254457233628}]
[" ","1932-01-31",1078.1963111859718,6440.2751908349092,0,0,0,8100.3557360636651,9129.5966796875,896.18805956249582,900,9693.9751529212881,506.27524315272149,356.07536668636646,20020.305513818792,-5225.8064516129034,16876.428497272023,4246.9960582102476,2831.3307054734969,2831.3307054734978,0,71.493003845214844,45.005641937255859,null,null,{"$f":"R136+S136","v":7078.3267636837445}]
[" ","1932-02-29",1194.4363510110543,5032.1010347610591,0,0,0,6802.4418871945336,7526.70458984375,1079.2417839090958,900,4312.9627887456463,567,3894.2167474389726,17474.775111833249,-5000,17199.869022910643,4292.1901382006199,4032.9848034941242,4032.9848034942202,0,68.612335205078125,43.485897064208984,null,null,{"$f":"R137+S137","v":8325.1749416947441}]
[" ","1932-03-31",1646.3587095413629,4948.6369139898761,0,0,0,8100.8227312322915,8580.4267578125,1359.3838852041988,2691.3908871717949,750.00000000004889,664,2330.9887364407568,12866.418496706912,-3258.0645161290322,10930.665995767344,1949.8695779106129,3276.769696270374,3276.7696962703685,0,76.673408508300781,46.642135620117188,null,null,{"$f":"R138+S138","v":5226.6392741809868}]
[" ","1932-04-30",1888.1353460388052,4745.9922417282633,0,0,0,4993.7121234280712,5468.2490234375,1588.7070595997118,1130.749375569831,2799.9999999999227,792,2314.9375356848368,10895.35609426572,-2545.5828039326266,11153.333000000188,2426.9097478208428,3431.7355280945321,3431.7355280945321,0,75.817863464355469,52.3692626953125,null,null,{"$f":"R139+S139","v":5858.6452759153744}]
[" ","1932-05-31",2040.4023325435758,6678.112671461874,0,0,0,3691.6851196289063,4281.48974609375,1926.8722847483095,750,4002.2420412270549,967,3164.9918761527651,12764.954217218034,-3500,10457.124759045497,3283.4814577911388,2188.9876385274242,2188.9876385274242,0,76.578529357910156,55.570301055908203,null,null,{"$f":"R140+S140","v":5472.4690963185631}]
[" ","1932-06-30",1838.4789317237203,8166.1653374544776,0,0,0,3560.6900939941406,4259.60400390625,1882.2030930540193,2423.5682962571304,6026.5723143588521,966.99999999999977,3527.1974559083551,14488.051046112043,-2725.4376988408649,9920.0000000000873,2474.3752197970098,300,300,0,77.91015625,56.432510375976563,null,null,{"$f":"R141+S141","v":2774.3752197970098}]
[" ","1932-07-31",1554.1924633120038,9091.0745739007634,0,0,0,3441.3786087036242,3812.877197265625,1629.8471716187148,3193.2710826505186,4053.873256433862,879.34904975662539,2663.1963007611644,11137.583775493316,-3759.5932069339669,5002.2731738247421,1201.5193796697399,2462.7953618384977,1224.6973359916183,913.19630076116437,85.655418395996094,54.219169616699219,null,null,{"$f":"R142+S142","v":3664.3147415082376}]
[" ","1932-08-31",1316.502327325431,7763.4469203799508,0,0,0,3404.7800598144554,3645.994384765625,1541.0769747315971,1716.7418294600579,2459.9743455905409,792,1947.5705329899356,9149.3906861146606,-3984.2869738462705,3500,3023.4932858565148,933.04127105501243,363.12847995253378,0,90.822639465332031,53.439414978027344,null,null,{"$f":"R143+S143","v":3956.534556911527}]
[" ","1932-09-30",1201.9283513517476,4519.0416186724979,0,0,0,3466.1464254373059,3580.06396484375,1468.1825065490366,773.33333330000005,2603.9422507475492,676.60382156982314,2419.1333156991054,9298.7102820731907,-5510.6588707577303,3000.0000000000873,4600,1945.7860997642035,1945.7860997642035,0,92.8192138671875,54.321109771728516,null,null,{"$f":"R144+S144","v":6545.7860997642038}]
[" ","1932-10-31",1109.5888212808916,4536.2875214072856,0,0,0,3404.2062468528793,3294.35546875,1341.0993078063309,900,1469.2054517561171,530.73414026308956,2536.6870720704669,7948.2108042636555,-4098.4742711494036,4000.0000000001323,3681.2844179129479,1941.9689285345335,1941.9689285345335,0,93.719863891601563,56.555709838867188,null,null,{"$f":"R145+S145","v":5623.2533464474818}]
[" ","1932-11-30",1067.4636257439142,4437.8471039653004,0,0,0,3450.8492811981487,3326.099609375,1203.8380817281457,1213.0353007625076,900,412.91340351704326,2817.755604268209,7814.5208865056466,-3614.8960189149948,4500.0000000000873,2565.5153399380702,2244.0963982257376,2244.0963982257376,0,93.166305541992188,54.987339019775391,null,null,{"$f":"R146+S146","v":4809.6117381638078}]
[" ","1932-12-31",1048.2521574620607,4718.1588101151501,0,0,0,4845.2262398335997,5080.291015625,1154.0561273012734,900,1856.6892200624475,373.03094923683182,1862.0617661097137,9948.7603175351287,-5688.6883964012795,4500,3719.6601497456436,3254.4612326634665,3254.4612326634665,0,89.942497253417969,51.092544555664063,null,null,{"$f":"R147+S147","v":6974.1213824091101}]
[" ","1933-01-31",1064.6045751330223,6616.4790406069114,0,0,0,7886.1301650590658,8470.76953125,1226.2037401730252,900,2481.6880218866499,335.58339223177234,1280.8545575666346,14581.700918528672,-5000,12084.113602951915,2716.576884604171,3860.912710444245,3860.9127104442314,0,77.885765075683594,47.18670654296875,null,null,{"$f":"R148+S148","v":6577.489595048416}]
[" ","1933-02-28",1101.3913918282844,5256.2851065566392,0,0,0,5578.3708394412797,6195.25634765625,1313.7839927074972,900,4129.6771266959822,298.21754787457195,1229.0624676225621,15104.109956938746,-5000,10588.562346292709,1566.8950537418602,4962.487958371179,4962.487958371179,0,78.765701293945313,45.792926788330078,null,null,{"$f":"R149+S149","v":6529.3830121130395}]
[" ","1933-03-31",1698.827522700539,7712.9320729852461,0,0,0,10317.622035910183,10849.5966796875,1292.2084504437798,4503.9619658970023,750,320.88100388078192,1176.7980606965748,14191.431153140507,-4318.1919800084816,10746.644584036598,1606.1830379321907,4498.7052222659659,4498.7052222659659,0,77.674613952636719,47.766815185546875,null,null,{"$f":"R150+S150","v":6104.8882601981568}]
[" ","1933-04-30",1908.0097424080302,6064.8550414737811,0,0,0,6606.9670488765369,7390.55419921875,1362.3181170176845,782.08246881535933,2800,403.63645281463852,750.4754806133584,11259.980577063992,-1982.8656316361967,9673.3330000001879,800,2604.5635757757991,2604.5635757757991,0,79.634330749511719,53.159214019775391,null,null,{"$f":"R151+S151","v":3404.5635757757991}]
[" ","1933-05-31",1872.8827452560038,8796.1191522714798,0,0,0,4375.448436593766,4884.79638671875,1420.3139152041256,2058.5099041165877,2800.0000000000136,510.07437469470409,773.23267760675071,9049.9212923899449,-1755.0941193170415,7238.7095000001136,1283.9406543290031,1439.1032298599418,1439.1032298599418,0,83.257148742675781,54.351696014404297,null,null,{"$f":"R152+S152","v":2723.043884188945}]
[" ","1933-06-30",1720.2093737818325,8059.9516819846031,0,0,0,3524.0007934570294,4349.47265625,1328.677792409535,2632.8656905157159,3604.9817021351691,484.0206279465458,2528.8572092870227,10841.766463422462,-1397.7847570716676,7327.7842812787876,800,300,300,0,81.221878051757813,56.364952087402344,null,null,{"$f":"R153+S153","v":1100}]
[" ","1933-07-31",1432.5319728951663,8739.5496471068091,0,0,0,3688.3386534163883,4245.22119140625,1068.7403100982076,3123.3220950886348,3225.3508111716455,373.44875189766913,1750,10030.431469608582,-3113.8444272886481,4015.0274193237678,800,1691.0569281636749,300,553.32708939861038,89.470321655273438,54.364677429199219,null,null,{"$f":"R154+S154","v":2491.0569281636749}]
[" ","1933-08-31",1079.3907230754264,9442.4248695590413,0,0,0,5177.276148944642,5507.53564453125,901.74723333770396,2049.3653183709534,2232.7267781779419,285.04671526163872,1750.0000000000005,10054.687400894169,-5173.9626004439415,3220.5349766128784,4600,486.62196599994422,486.62196599994422,0,91.955635070800781,53.234207153320313,null,null,{"$f":"R155+S155","v":5086.6219659999442}]
[" ","1933-09-30",953.66966007769781,5190.5430881632228,0,0,0,3913.573643621291,3988.180908203125,867.57072718763231,803.72657013165872,1227.1100314757477,241.6601029616948,1316.6603074907616,6829.5987215000132,-2913.8153707774618,3236.0583843900831,2997.2846059492767,646.7944438914991,646.7944438914991,0,93.4112548828125,59.083438873291016,null,null,{"$f":"R156+S156","v":3644.079049840776}]
[" ","1933-10-31",798.04684896886306,5988.2608605352125,0,0,0,4814.6587367379807,4796.65478515625,846.99264034027624,899.99999999993497,990.24903358538882,245.84522057595393,553.48218195104243,6870.4669466825699,-3837.3199891623553,3000,3590.5161367262026,1372.3360807823165,1372.3360807823165,0,95.526779174804688,60.976459503173828,null,null,{"$f":"R157+S157","v":4962.8522175085191}]
[" ","1933-11-30",681.46233595034562,5528.8672630274705,0,0,0,4648.3994171397453,4660.26904296875,843.67402869135969,900,1334.2424420746788,279.41603233875401,538.81012251362188,6900.0000000000009,-3169.3342121603255,3765.756685634256,2833.9918074265665,1359.1924873184357,1359.1924873184357,0,92.858909606933594,56.110752105712891,null,null,{"$f":"R158+S158","v":4193.1842947450023}]
[" ","1933-12-31",805.46632461044908,6829.0039612845812,0,0,0,8977.2455719781919,10131.072265625,797.63930491463032,2678.780963694016,900,380.54752677297364,644.69245997729593,14286.386566696143,-4133.3805086259599,11611.165274656916,1733.248202220193,3605.9925144580193,3605.9925144580193,0,82.788764953613281,50.848396301269531,null,null,{"$f":"R159+S159","v":5339.2407166782123}]
[" ","1934-01-31",1090.8282399250522,7446.2210148497079,0,0,0,9309.9904148834958,10423.6474609375,984.15092169492732,900,5553.0696801887689,489.37793766040551,553.10384876211197,17676.290890466789,-5225.8064516129034,14444.836638870353,4009.5410322377033,2673.0273548251375,2673.0273548251375,0,72.298683166503906,44.567661285400391,null,null,{"$f":"R160+S160","v":6682.5683870628409}]
[" ","1934-02-28",1406.125052876584,7453.0333805342325,0,0,0,11023.405017654693,11834.7548828125,1072.0589806808564,3705.2934374967717,900,566,872.54541155798779,15818.466137404861,-5000,13655.497887313953,2870.1833382587092,3882.6894423294916,3882.6894423294916,0,69.285614013671875,44.125881195068359,null,null,{"$f":"R161+S161","v":6752.8727805882008}]
[" ","1934-03-31",1660.0849926502053,5509.1581629299353,0,0,0,7545.6257233993929,8020.583984375,1342.6256735742763,800,2228.8361392643042,655.00000000000011,1494.647370587905,12481.64840081309,-1831.7575330001987,11137.5,1330.2475266538709,1597.879064197195,1597.879064197195,0,74.878570556640625,47.2613525390625,null,null,{"$f":"R162+S162","v":2928.1265908510659}]
[" ","1934-04-30",1785.9566302190353,5008.4455792907829,0,0,0,4656.2089081480945,5335.86376953125,1431.9747567368333,1009.8240272816894,2923.3300178260529,571.21893225706492,2781.2091553295031,11280.141331835737,-809.52146342094693,9673.3330000001879,800,300,300,0,80.013664245605469,54.867973327636719,null,null,{"$f":"R163+S163","v":1100}]
[" ","1934-05-31",1594.3202907707291,8085.1876229697609,0,0,0,3408.6192932128915,3917.634033203125,1289.8144555475424,3705.2617100784391,3701.0312936777409,454.91315240531452,2143.1263988529522,10121.18291899524,-1551.8525146353704,7100,1546.7755315441859,300,300,0,85.293228149414063,54.933063507080078,null,null,{"$f":"R164+S164","v":1846.7755315441859}]
[" ","1934-06-30",1177.3290069034133,10646.48186474825,0,0,0,5346.9955820236783,6047.68212890625,1023.9205520569387,4900.5736688393099,4734.4144124703753,398.63829791838981,629.45297402651192,11654.715915815763,-2043.7376541164981,7100.0000000000873,1375.3152915495398,300,300,0,84.424949645996094,51.662979125976563,null,null,{"$f":"R165+S165","v":1675.3152915495398}]
[" ","1934-07-31",833.60318679002921,9260.6252270993464,0,0,0,4036.8736319135451,4609.1513671875,764.23256107811596,3948.5613344029289,3357.0190010394022,303.47087819497182,1000.0485299642418,9533.7293401725256,-2693.5608948350819,4102.4930283658487,699.68348133944164,1322.2459919702965,300,771.86248346078548,89.651435852050781,53.609748840332031,null,null,{"$f":"R166+S166","v":2021.9294733097381}]
[" ","1934-08-31",609.69787328991561,9558.7154153409338,0,0,0,5606.5855063819199,5933.41748046875,597.44236643384579,2899.7043088479568,2423.4625581529976,215.36553390882278,997.48879405989123,10247.405976630909,-5423.8169942836721,3000,4361.6925028364176,897.99610252818457,300,0,91.959800720214844,57.655532836914063,null,null,{"$f":"R167+S167","v":5259.6886053646022}]
[" ","1934-09-30",584.86872479911972,5221.1183762625733,0,0,0,3840.3109450724514,4142.63623046875,560.15498562112737,1277.5925026744264,1116.5722840536682,163.2243220781514,1037.7992258659747,6645.3864049680669,-2912.656670544884,3000.0000000000873,2870.9773016451854,526.76296707187817,395.0885650774967,0,94.0811767578125,61.961532592773438,null,null,{"$f":"R168+S168","v":3397.7402687170634}]
[" ","1934-10-31",550.00000000000091,5628.1039527586545,0,0,0,4636.7370225854129,4638.2490234375,522.84571033500379,1349.9927417200406,1186.8212672789386,163.4775509031908,477.78477218227323,6595.1573372108678,-2940.0044232223881,3491.2181140507209,2844.0977650223026,1141.7180962972766,1141.7180962972766,0,92.938453674316406,60.213249206542969,null,null,{"$f":"R169+S169","v":3985.8158613195792}]
[" ","1934-11-30",628.96436466483647,7129.4981210283231,0,0,0,7180.1295771270525,7387.23583984375,572.17719335142408,899.99999999990121,1272.3687894625523,217.70660723295421,556.88168949301291,10890.699895242884,-5378.8966679974219,5837.1094427450735,3567.2658564706621,3060.0977966625596,3060.0977966625596,0,85.314002990722656,54.438945770263672,null,null,{"$f":"R170+S170","v":6627.3636531332213}]
[" ","1934-12-31",663.93456108192629,5087.6773889053111,0,0,0,5912.9838861794724,6379.96630859375,635.55255292364302,900,1795.2721600462064,258.82341677612806,525.2305602714074,9999.5037982718641,-6767.1926961691534,3787.1488987886141,4542.0250946443239,3655.5596829895503,3655.5596829895503,0,88.4720458984375,48.397102355957031,null,null,{"$f":"R171+S171","v":8197.5847776338742}]
[" ","1935-01-31",935.81759352240192,11466.18715860209,0,0,0,15494.263433990029,15494.263671875,867.06767457969488,900,9041.4292283608374,367.42410423251209,557.24442393010361,26097.377866691677,-5225.8064516129034,29108.460330349124,4281.7966284941404,2854.5310856627575,2854.5310856627584,0,63.529075622558594,44.471767425537109,null,null,{"$f":"R172+S172","v":7136.3277141568979}]
[" ","1935-02-28",1254.0131640404161,7274.865223012257,0,0,0,10252.108502781824,11022.044921875,1062.2311543547241,900,1196.2634053469865,404.85678948789871,1587.8728784453617,14802.258675901381,-4585.7324902051105,11252.223386448377,2952.6448748851262,3373.6630037089894,3373.6630037089894,0,74.543159484863281,43.645977020263672,null,null,{"$f":"R173+S173","v":6326.3078785941161}]
[" ","1935-03-31",1642.8664835452012,8640.2907560962576,0,0,0,13382.351104356876,15536.76953125,1333.3832373599605,800,7171.1625348194211,492.72621335037439,1632.8662012510313,25928.721756536786,-3258.0645161290322,27474.872581945205,1598.0196982477787,3911.2904046387789,3911.2904046387789,0,60.204929351806641,45.262264251708984,null,null,{"$f":"R174+S174","v":5509.3101028865576}]
[" ","1935-04-30",2680.0169144934284,13058.354396281586,0,0,0,22153.186453320381,22161.50390625,2307.9800933915158,1000,8123.4569479200809,792,5772.9243881569955,41260.848134405154,-3500,52256.183927185659,2071.0724824655745,6273.1460454118396,6273.1460454118396,0,54,50.809886932373047,null,null,{"$f":"R175+S175","v":8344.2185278774141}]
[" ","1935-05-31",3026.28436914963,6384.9559623245186,0,0,0,3819.754638671875,4674.3701171875,2791.7222305209561,999.9999999999493,8585.1416197052349,967,4008.1865347040989,18653.252821448401,-3500,16698.242878991092,3481.2671290677713,2320.8447527118465,2320.8447527118474,0,68.955497741699219,53.849075317382813,null,null,{"$f":"R176+S176","v":5802.1118817796178}]
[" ","1935-06-30",2807.7243572458692,8841.5644831611389,0,0,0,3488.1369476318359,4363.814453125,2666.7127869613068,4024.7233383066887,8166.4014914245508,967,3223.9530250559424,16151.185769940992,-5000,9122.5000000000873,3293.558379775779,2070.3431158881749,2070.3431158881749,0,79.054313659667969,54.83758544921875,null,null,{"$f":"R177+S177","v":5363.9014956639539}]
[" ","1935-07-31",2466.752260108774,9450.7821339007151,0,0,0,3293.5205955505371,4209.0986328125,2088.8689268374451,8306.6238604037226,8982.648015541472,807.00559789475017,3357.0782050885837,17058.141876754882,-7721.5116555996865,6517.769232554544,800,7004.9017250857205,6680,0,83.820419311523438,53.740364074707031,null,null,{"$f":"R178+S178","v":7804.9017250857205}]
[" ","1935-08-31",2180.3592742053966,8296.3814087628853,0,0,0,3267.163408279479,3770.245849609375,1577.8408142794985,7709.3978597955911,8766.2168697021589,767.0836388226777,1486.2958731938647,14314.6764265577,-8285.3052875924768,4069.7176888258473,1426.1902893103425,7180,6680,0,88.320289611816406,52.306636810302734,null,null,{"$f":"R179+S179","v":8606.1902893103434}]
[" ","1935-09-30",2083.2823471360589,4626.4909887123968,0,0,0,3714.3334238221823,4090.82421875,1515.4978160924543,999.99999999998818,2939.8907535256126,614.68571778740227,3079.8793848152927,10890.8352878201,-7005.5682980812344,3000.0000000000873,4600,3595.454697053272,2685.5296669648546,837.68181261586142,91.789932250976563,53.591464996337891,null,null,{"$f":"R180+S180","v":8195.454697053272}]
[" ","1935-10-31",2040.1518023362876,4497.1242655561291,0,0,0,3593.2135909917251,3610.326904296875,1360.3668958596777,1699.9999999998747,2439.6607593796534,571.21257211088255,1334.478341596747,8268.9049418278519,-4579.8331303559135,4000,2776.0309017779173,3507.4333249407414,3507.43332494074,0,92.280593872070313,55.692497253417969,null,null,{"$f":"R181+S181","v":6283.4642267186591}]
[" ","1935-11-30",1988.8388443954054,4600.6413204677283,0,0,0,3269.626745223999,3448.9814453125,1207.7311587854681,1700,2298.8028539910492,543.26097462339817,1848.3134773576871,8417.6959301908337,-4584.5164841190563,4500.0000000000873,2442.236025515761,3523.3924876561605,3523.3924876561591,0,91.042900085449219,53.481403350830078,null,null,{"$f":"R182+S182","v":5965.6285131719214}]
[" ","1935-12-31",1996.5705550925197,5127.9237154420207,0,0,0,5408.1246857857213,5740.22802734375,1121.2336392705433,1700,1992.3017452495178,515.21187317129989,1858.4650205216608,10613.387783797541,-6291.1263645717827,4500,3586.0621115958015,4144.1246589953671,4144.1246589953662,0,88.476936340332031,51.221206665039063,null,null,{"$f":"R183+S183","v":7730.1867705911682}]
[" ","1936-01-31",2647.2021453321117,13425.5025952168,0,0,0,16447.305588775325,16447.3046875,1564.9403780818093,1700,9480.983024348232,567,5424.1365375051328,36130.250424004611,-3645.1612903225805,40611.117678830546,3144.1427945902778,2096.0951963935195,2096.0951963935195,0,55.145435333251953,47.795303344726563,null,null,{"$f":"R184+S184","v":5240.2379909837973}]
[" ","1936-02-29",3567.2250764989794,12555.419322230238,0,0,0,20114.278588081877,20148.265625,2338.4887500032623,1700,13594.43172926821,562,13035.814660966193,53534.671639076492,-4482.7586206896549,78525.720492805311,4599.9999999999945,6023.0339240915509,6023.0339240915509,0,54,45.97943115234375,null,null,{"$f":"R185+S185","v":10623.033924091545}]
[" ","1936-03-31",3936.1220566509019,5956.096242888234,0,0,0,8179.6625160124377,9143.12890625,2738.7294615502938,1700,13993.032175657374,651,4662.9735918934111,28247.57297299285,-3258.0645161290322,28981.006583672661,3178.6274550266926,2779.2903584345886,2779.2903584345886,0,58.525566101074219,49.167991638183594,null,null,{"$f":"R186+S186","v":5957.9178134612812}]
[" ","1936-04-30",4229.6331930462993,6080.2695546104442,0,0,0,7217.3133025856268,8307.25,3138.3575152565886,1000,8894.3659154855686,792,5539.1439570295861,23169.058797716254,-3500,25129.611948565791,2615.9894260940741,5255.5844933039134,5255.5844933039134,0,59.586463928222656,52.26739501953125,null,null,{"$f":"R187+S187","v":7871.573919397988}]
[" ","1936-05-31",4157.5697848644204,7989.5114358300489,0,0,0,4157.2821350097656,4579.78955078125,3329.9980258678661,1000,4667.5772551422224,967,3436.1828926245921,13264.705615017245,-3500,12524.456728394782,3727.4399372917837,2484.9599581945245,2484.9599581945245,0,69.737861633300781,54.067760467529297,null,null,{"$f":"R188+S188","v":6212.3998954863082}]
[" ","1936-06-30",3969.6734914214076,9141.9894651326977,0,0,0,4281.8986511230469,5310.443359375,3365.5490240630465,1000,3656.1425691883082,967,3578.1885613558579,13106.24129079962,-5000,8038.5373560718945,3795.0822084373867,2043.5058045432088,2043.5058045432088,0,78.452117919921875,53.302452087402344,null,null,{"$f":"R189+S189","v":5838.5880129805955}]
[" ","1936-07-31",3492.4674038274784,10938.206124446575,0,0,0,4071.4637680053706,4891.14794921875,2794.8240468816671,8171.8797678445098,8739.8246153383952,785.93882388656448,4040.6637024849392,18200.497662340626,-9080.325028616764,6509.1075269210978,2641.4769920044769,7004.9017250857205,6680,0,83.794975280761719,52.210983276367188,null,null,{"$f":"R190+S190","v":9646.3787170901978}]
[" ","1936-08-31",3070.5984796511002,9975.500272207486,0,0,0,4510.3444881439191,4934.06005859375,2305.6651062110222,7369.3194426528098,8332.3087548889835,728.56847491814472,1742.3366294180912,15378.484324160228,-9671.5643521435086,4257.6758759143977,3328.7105640605569,7091.6081773456017,6420.7978216743668,259.20217832563321,88.757652282714844,51.87310791015625,null,null,{"$f":"R191+S191","v":10420.318741406158}]
[" ","1936-09-30",2925.1958322494588,5704.4692147476017,0,0,0,4513.4201221466064,4899.818359375,1938.1338486075381,5624.0461282805172,7304.5559104802787,684.09059573242553,1544.936660481515,14186.75482293278,-9648.8770783195869,3950.9266459149803,4600,6680,6680,0,89.759963989257813,52.113578796386719,null,null,{"$f":"R192+S192","v":11280}]
[" ","1936-10-31",2771.5197470228868,5841.2434720401725,0,0,0,4507.1840448379426,4509.55126953125,1606.7752363246304,4000.0000000000864,4503.5503326072903,492.72905186838466,3355.3584020634203,13243.905150066414,-8677.2529419206912,4454.0550734102872,4224.6953682208696,6680,5354.0231397205716,1167.6722465225566,91.479339599609375,52.48223876953125,null,null,{"$f":"R193+S193","v":10904.69536822087}]
[" ","1936-11-30",2605.4987901811364,6208.9264112451638,0,0,0,4529.4142837524578,4752.6630859375,1471.5391583914695,1700,1809.5745595329574,433.26204927706107,1882.6678308323453,9030.5385953119549,-5051.8504718289932,4500.0000000000891,3634.3317425553505,2975.4285239486549,2899.4262455027661,76.002278445888876,91.825096130371094,53.680515289306641,null,null,{"$f":"R194+S194","v":6609.7602665040049}]
[" ","1936-12-31",2513.3107506321194,5688.6836282958911,0,0,0,5578.8506384266566,5927.18505859375,1364.0371366106085,1700,2432.3428131639071,402.00045292007889,1882.3672291999544,11583.669392309086,-7596.2799411133419,4500,4600,4818.6259863488986,4282.9573001582248,535.66868619067372,90.942970275878906,50.615097045898438,null,null,{"$f":"R195+S195","v":9418.6259863488995}]
[" ","1937-01-31",2488.440251540731,5016.1703567815857,0,0,0,6042.1130211900181,6448.50390625,1376.2485401272281,1700,3742.8888979882213,373.9715257215384,1272.6445717507729,13466.24286789606,-5000,11136.401787708335,4387.9805958371953,2925.3203972247984,2925.3203972247984,0,79.679855346679688,47.434242248535156,null,null,{"$f":"R196+S196","v":7313.3009930619937}]
[" ","1937-02-28",2567.5620564379074,10873.877787293448,0,0,0,14016.231777673516,16895.52734375,1546.7983429935791,1700,12132.458486052068,567,1874.9658196605603,33236.743029740661,-5250,43658.069141362241,3830.6159851878838,9376.2401205735732,9376.2401205735732,0,54,46.561714172363281,null,null,{"$f":"R197+S197","v":13206.856105761457}]
[" ","1937-03-31",3213.9328467439104,12263.822456209757,0,0,0,16780.245014581604,16780.244140625,1856.6683351335769,1700,12918.351952712281,664,3952.1865348829251,34090.202686291464,-2699.106699864954,47873.501109276476,999.07260438910441,8320.6059490420903,8320.6059490420903,0,54,48.252956390380859,null,null,{"$f":"R198+S198","v":9319.6785534311948}]
[" ","1937-04-30",3933.67757042839,6815.9067526015679,0,0,0,11104.137468040133,12431.0380859375,2240.6073404648705,1000,6727.9025742698477,792,3838.5841816678007,23569.188674433797,-2616.0652825390539,27298.837306628418,1658.4610602839798,6661.0384691156469,6661.0384691156469,0,60.774745941162109,51.583259582519531,null,null,{"$f":"R199+S199","v":8319.4995293996271}]
[" ","1937-05-31",4158.1516964796947,6756.9211711212274,0,0,0,3761.6497497558594,4232.181640625,2582.5888277723971,1000,6011.6669957819913,967,3948.8585752272647,14153.90345821638,-3500,14691.114790027392,2450.1013112981723,5409.8596252174393,5409.8596252174393,0,68.418144226074219,55.813304901123047,null,null,{"$f":"R200+S200","v":7859.960936515612}]
[" ","1937-06-30",4023.6189495867775,8834.2033705133817,0,0,0,3645.1505889892578,4747.5537109375,2349.283854936215,5704.4113877336104,7803.4284198101532,932.72840204844556,2154.3660871883653,14914.425626276072,-2890.2054740765971,12099.583000000188,800,3259.8397121270741,3259.8397121270741,0,72.137344360351563,55.741313934326172,null,null,{"$f":"R201+S201","v":4059.8397121270741}]
[" ","1937-07-31",3608.3552098173327,10934.763014686247,0,0,0,4665.2322778358548,5437.666015625,2078.3256664524483,3337.1003747915111,3954.9755136201697,776.85403960435133,3089.1430663352576,12970.990100695115,-4276.5861507622067,6504.5537634605489,1107.6561259125092,3257.3102419720976,1763.7531090215552,1073.4520301754437,82.0233154296875,53.817466735839844,null,null,{"$f":"R202+S202","v":4364.9663678846064}]
[" ","1937-08-31",3184.9438744367508,9679.5481518702964,0,0,0,4513.100893974306,4733.06640625,1752.643477100557,4788.9262568670765,5905.7202007828701,736.88045010657652,1490.8860185811279,12305.734691726901,-6976.0239631324839,4095.008275412707,3218.5417628443638,4294.1372755651182,3819.4278621520234,0,89.325790405273438,52.007999420166016,null,null,{"$f":"R203+S203","v":7512.679038409482}]
[" ","1937-09-30",3034.2300414992033,5720.752015842193,0,0,0,4507.3966856002808,4723.5595703125,1594.2535865742977,1957.3070494712222,3536.8918086256308,689.88593123718636,1546.9203315566947,10200.005114182975,-6937.6220375591074,3000.0000000000873,4600,3714.7539327357499,3714.7539327358427,0,91.460426330566406,52.714714050292969,null,null,{"$f":"R204+S204","v":8314.7539327357499}]
[" ","1937-10-31",2942.5412971566921,5945.79590047683,0,0,0,5257.6908590767916,5304.484375,1496.8827629382861,1700,2060.7649460579032,594.47585215679067,1934.9691090830961,10118.077105265256,-6173.0045502026842,4000,4600,3368.7967492910179,3368.7967492910179,0,91.147239685058594,54.534343719482422,null,null,{"$f":"R205+S205","v":7968.7967492910175}]
[" ","1937-11-30",3252,15366.365258445756,0,0,0,18644.732881731717,18644.732421875,1551.4923154673295,1700,2640.2609515081062,567,2359.995895108113,26963.234551258971,-9159.1914440154505,20127.796289338145,4600,6680,6680,0,68.377189636230469,53.100723266601563,null,null,{"$f":"R206+S206","v":11280}]
[" ","1937-12-31",3310,29334.617084485864,0,0,0,19496.6793572518,19496.6796875,2362.6365261609576,1700,13073.749761947081,567,6725.4655500911413,49341.62100139253,-5290.322580645161,66525.367532373755,4599.9999999998417,4553.1093197105947,4553.1093197105947,0,54,48.785896301269531,null,null,{"$f":"R207+S207","v":9153.1093197104365}]
[" ","1938-01-31",3668,9263.5020208016176,0,0,0,12157.321735901025,15046.1640625,2616.4067209286663,1700,9300.7347266705165,567,3083.7229653267036,28268.524458991207,-5225.8064516129034,27898.127681911959,3485.5842856462791,5387.807908804908,5387.8079088049089,0,61.391410827636719,45.741630554199219,null,null,{"$f":"R208+S208","v":8873.3921944511876}]
[" ","1938-02-28",3560,48264.962067832181,0,0,0,27152.000644380216,27187.203125,2788,8981.3735383813291,19689.176405445225,567,9858.2221443365015,69618.862936106831,1736.8325015279725,141066.26634304365,1295.2302489386464,9463.6,9463.6,0,54,44.340003967285156,null,null,{"$f":"R209+S209","v":10758.830248938646}]
[" ","1938-03-31",3416,53272.690490664369,0,0,0,27269.099595598655,27269.099609375,2788,19362.988384622142,36143.070021987398,662,10825.318510275321,72454.912169655203,8430.8033004545759,167195.85733140132,1987.030780236898,6773.4365695750466,6773.4365695750466,0,54,45.06597900390625,null,null,{"$f":"R210+S210","v":8760.4673498119446}]
[" ","1938-04-30",4058,17453.563107559814,0,0,0,23997.244780180499,24008.517578125,3277,13116.314865695569,27277.096320636891,792,7006.2235623114238,53565.792597807405,1233.1427120557755,76878.870387040733,2730.4570851234157,6680,6680,0,54,49.779678344726563,null,null,{"$f":"R211+S211","v":9410.4570851234166}]
[" ","1938-05-31",4552,11479.423186535147,0,0,0,15226.47155950978,15298.390625,3538,17332.709821488275,25945.240627643718,967,7822.7694219328605,50858.871699366508,2854.4471992336239,68446.426879479855,3934.6552952457164,6680,6680,0,54,53.36651611328125,null,null,{"$f":"R212+S212","v":10614.655295245717}]
[" ","1938-06-30",4500,9950.998634445863,0,0,0,5800.6037194500932,7068.05029296875,3538,8203.2843819246118,19247.930304396581,967,6861.2519786246512,33725.199672020506,-4631.4118750367952,37173.446606669473,4600,6680,6680,0,58.324638366699219,55.450389862060547,null,null,{"$f":"R213+S213","v":11280}]
[" ","1938-07-31",4121.0081616624129,11084.6885112658,0,0,0,4642.4268188476563,5757.09814453125,3348.1595539200393,4420.8082130330149,6592.6544207516808,941.99999999999989,2274.6691550505429,14946.476668444127,-8039.2660865124708,8000,4600,6680,6680,0,79.415260314941406,53.468624114990234,null,null,{"$f":"R214+S214","v":11280}]
[" ","1938-08-31",3699.9999999999995,11837.560955535873,0,0,0,5703.6040439606095,6456.28955078125,2988.8245067350363,6601.3640694064716,7402.8983590334683,791.99999999999989,3244.7120236570831,17606.06743081153,-10109.845752927824,6441.5319999998901,4600,6680,6680,0,84.321708679199219,51.540233612060547,null,null,{"$f":"R215+S215","v":11280}]
[" ","1938-09-30",3400,11384.067430204364,0,0,0,10233.728962677109,10731.5029296875,2611.1550227244052,7490.5976205826328,8988.5082306280965,751.99999999999989,1584.7086721113192,21777.022077637565,-9480.4167451129142,12062.500000000087,4600,6680,6680,0,76.7413330078125,50.815364837646484,null,null,{"$f":"R216+S216","v":11280}]
[" ","1938-10-31",3250,9709.8278395315356,0,0,0,8872.7218931613752,8895.4619140625,2450.9774115745213,4000,3960.1378959139865,704.7993535048754,1346.4983120739935,15220.163638435975,-7745.5523402778672,7500,4600,5611.5561683521646,5611.5561683521646,0,79.400306701660156,52.906410217285156,null,null,{"$f":"R217+S217","v":10211.556168352165}]
[" ","1938-11-30",3185.3037258628369,7034.9683102236131,0,0,0,5770.9361776954138,6045.1162109375,2359.533109206604,2500,2885.4501581898558,563.49388888441979,3612.2824366016816,13588.392933368536,-9045.3497698902247,4915.3945097389515,4600,6680,5891.5986531188573,764.89828927980761,84.455352783203125,53.631252288818359,null,null,{"$f":"R218+S218","v":11280}]
[" ","1938-12-31",3214.5498411632229,7784.7477222482548,0,0,0,8268.0259842874639,8667.142578125,2333.7634149288274,2409.1737696089231,3258.4381399998033,537.16071663707828,1878.791051869754,14946.7843455845,-9528.7019096203476,5138.0896108299812,4600,6936.2337779329464,5585.7780648137641,1341.4962793292179,84.556327819824219,51.418743133544922,null,null,{"$f":"R219+S219","v":11536.233777932946}]
[" ","1939-01-31",3357.6485348020451,4953.3598491205548,0,0,0,5387.2586933681232,5597.80517578125,2392.0407823718297,1700,2697.3870474262503,507.85188653007646,1241.47578062872,10656.143991693954,-5225.8064516129034,6740.7800541018869,3384.0038083791178,3619.2160484448295,3619.2160484448295,0,85.621681213378906,48.527172088623047,null,null,{"$f":"R220+S220","v":7003.2198568239473}]
[" ","1939-02-28",3482.3100194833596,5010.6814758771006,0,0,0,6089.9169303130175,6632.21630859375,2474.2825992839666,1700,2458.0098753876164,487.86860890327409,1227.2067129823047,13973.809406296432,-5000,10165.166993445886,2902.1869128792737,3948.7814542719484,3948.7814542719484,0,79.285507202148438,47.388652801513672,null,null,{"$f":"R221+S221","v":6850.9683671512221}]
[" ","1939-03-31",3898.8604415600062,5003.6792053395311,0,0,0,5557.3598091834619,5852.1025390625,2632.3397177978104,1700,3028.2572829889577,600.46593361978955,815.88325036436015,10906.28993316585,-3258.0645161290322,9863.9949154256228,2280.8804074497421,3170.7849902304797,3170.7849902304797,0,79.233917236328125,49.494094848632813,null,null,{"$f":"R222+S222","v":5451.6653976802218}]
[" ","1939-04-30",3851.1558327831372,7181.7035366322698,0,0,0,6665.3248094433002,6872.32666015625,2581.8995582951629,2693.6637584255996,2799.99999999999,658.1155392061354,1610.3347885234796,11424.477011459738,-2203.0915236545393,9673.3330000001879,1908.1795941012354,1777.5895285119716,1777.5895285119716,0,79.382942199707031,53.744121551513672,null,null,{"$f":"R223+S223","v":3685.7691226132069}]
[" ","1939-05-31",3634.1749227818464,9479.3453963480279,0,0,0,4027.7373098374219,4507.671875,2314.6828715262423,5279.7151399512777,6394.8523562124301,648.52739309996514,903.51028237112178,12097.775120291193,-2794.7448972689926,8292.7475436101849,1161.6569335193412,2524.4510126045725,2524.4510126045725,0,82.960067749023438,54.769447326660156,null,null,{"$f":"R224+S224","v":3686.1079461239137}]
[" ","1939-06-30",3198.5065939077872,12369.190197195763,0,0,0,5948.3839512487857,6551.25244140625,1983.8740245500617,5031.6396175204336,5292.0746637808534,578.51570911219835,858.93737210324707,12742.01602284929,-5000,4643.105099201659,3060.5182913281542,1790.9431853499261,1790.9431853499261,0,86.77593994140625,52.022922515869141,null,null,{"$f":"R225+S225","v":4851.4614766780805}]
[" ","1939-07-31",2671.4986820454224,14466.442041089767,0,0,0,7991.2095409685508,8608.11328125,1541.4793372896847,6655.5512063594706,6492.0825098821542,448.50457987493479,1562.1779553525275,16952.312986466484,-8286.053636568955,5223.8832042320664,3491.7103219824367,4577.9612495775973,3072.3548131349412,1261.4707529925743,87.481773376464844,52.120925903320313,null,null,{"$f":"R226+S226","v":8069.671571560034}]
[" ","1939-08-31",2353.4055115178285,10630.29363017367,0,0,0,5374.7034287892693,5760.568359375,1353.5116840032899,2666.1166554240212,2690.6220882003863,374.43121517215508,887.27189373090573,9479.3629315987491,-4105.3428453317465,3584.7963945982701,3630.3812943616372,500.01888647175713,300,0,90.593345642089844,51.968986511230469,null,null,{"$f":"R227+S227","v":4130.4001808333942}]
[" ","1939-09-30",2304.3205955388407,5868.3391094260369,0,0,0,4710.9176462840787,5276.84912109375,1273.1404542984881,1000,2602.0084937398092,360.40783462007545,776.51344319452369,8978.4109927775717,-5041.5752176144415,3105.6492125452442,3879.6118736015419,2245.404575100968,2245.404575100968,0,92.313011169433594,53.161655426025391,null,null,{"$f":"R228+S228","v":6125.0164487025104}]
[" ","1939-10-31",2198.630519956268,6396.1279961421715,0,0,0,5399.335804457296,5400.84814453125,1138.4334216525642,1200,1636.2768848463966,371.61691757842385,458.55063029275306,8009.3768266617517,-4025.7027242244021,4000,2882.314970354038,2485.1998259382535,2485.1998259382535,0,92.864143371582031,54.004619598388672,null,null,{"$f":"R229+S229","v":5367.5147962922911}]
[" ","1939-11-30",2067.8079994794925,7423.0368204069136,0,0,0,5519.8986888479267,5710.04833984375,994.05003163028368,1200.0000000000312,1343.2017340154798,390.70841541789963,446.83456047513334,7854.6783131717684,-3470.4111431074216,4500.0000000000873,2622.169120051085,2095.7118374501661,2095.7118374501661,0,91.067680358886719,53.833927154541016,null,null,{"$f":"R230+S230","v":4717.880957501251}]
[" ","1939-12-31",2171.3459013243382,6318.7423976275568,0,0,0,6251.2965113365317,6623.9189453125,940.52962867323879,1200,1530.5159068744867,414.97865540302234,500,9266.0350042650371,-4750.38968664405,4500,1825.9275048560378,4212.4468740998673,4212.4468740998673,0,90.580375671386719,51.749820709228516,null,null,{"$f":"R231+S231","v":6038.3743789559048}]
[" ","1940-01-31",3064.8916385797665,13395.869060410092,0,0,0,17443.036467998994,17443.037109375,1434.7122812412804,1200,4732.8130552995135,567,4503.4105296219204,27370.701657517431,-3645.1612903225805,35537.961141703636,3660.4419363407169,2440.2946242271455,2440.2946242271455,0,56.788551330566406,47.378776550292969,null,null,{"$f":"R232+S232","v":6100.7365605678624}]
[" ","1940-02-29",3252,40753.473448954188,0,0,0,21407.061972298812,21441.048828125,2383.5654262486642,1200,4615.5273543714738,557,10066.835135325699,42638.457991704643,-4482.7586206896549,66082.699068124159,4600,3097.8748500004813,3097.8748500004808,0,54,44.965797424316406,null,null,{"$f":"R233+S233","v":7697.8748500004813}]
[" ","1940-03-31",3435,31763.763809428929,0,0,0,22573.87397808471,22573.873046875,2788,14493.53362467127,37756.407808478318,626,10970.643576687173,68612.682975221236,-3258.0645161290322,106775.56159709785,4599.9999999999982,3369.3820075966596,3369.3820075966446,0,54,46.028732299804688,null,null,{"$f":"R234+S234","v":7969.3820075966578}]
[" ","1940-04-30",4205.4718943453963,10358.463340749378,0,0,0,17166.903307437369,17180.25390625,3238,3831.1517936491482,30330.999027132075,792,5060.0385448626412,49125.570858030769,-3500,68955.165425838815,4600,4500.3977038584835,4500.3977038584835,0,54,53.22454833984375,null,null,{"$f":"R235+S235","v":9100.3977038584835}]
[" ","1940-05-31",4255.8235823708183,7488.3705070950218,0,0,0,4314.6925048828125,4847.58935546875,3411.8961662024331,1000,6012.5720179147083,967,2860.4031840637117,14147.106480329599,-3500,12838.765455893084,3636.8962065807559,2424.5974710538344,2424.5974710538344,0,68.744911193847656,55.099559783935547,null,null,{"$f":"R236+S236","v":6061.4936776345903}]
[" ","1940-06-30",3957.644929788712,10312.59449040336,0,0,0,4655.8605384864677,5957.43603515625,3227.6942537139789,3693.6324340605361,5819.5422550731828,810.55142205443599,3577.4235661785465,15693.263838308043,-5000,9002.3324694839266,3389.4484708038435,1825.0876381251455,1825.087638125146,0,76.0362548828125,53.423042297363281,null,null,{"$f":"R237+S237","v":5214.5361089289891}]
[" ","1940-07-31",3266.4759371715518,15917.051070981181,0,0,0,8786.9232658539968,9637.494140625,2643.5829672176924,9443.4035430778476,9919.9047316774322,616.49113474741364,3513.8460865177854,23561.72394967033,-11029.662906878752,9250.5285453149445,4600,6824.780062228434,6665.9123725000054,0,79.654731750488281,52.008121490478516,null,null,{"$f":"R238+S238","v":11424.780062228434}]
[" ","1940-08-31",2913.5706274264276,10603.122670925295,0,0,0,4400.2572061926339,5109.44287109375,2146.4785830797159,8215.5164231537401,8548.8838258110682,518.70612755614388,2018.2595821285754,16235.424708117633,-9675.2660693187754,4747.9840000000004,3629.5209999421872,6680,6680,0,86.932228088378906,51.849498748779297,null,null,{"$f":"R239+S239","v":10309.520999942188}]
[" ","1940-09-30",2725.1023616929929,8526.7293032508733,0,0,0,7220.7249658677592,7786.16259765625,1694.1519244773303,8091.2105021041916,9967.5265122983037,432.94638518082422,1953.8250296940589,20427.683763229332,-8253.2676632206276,11517.996611810231,3028.5934484693548,6680,6680,0,77.906997680664063,50.717601776123047,null,null,{"$f":"R240+S240","v":9708.5934484693553}]
[" ","1940-10-31",2596.5601090051255,7303.5223508630206,0,0,0,5941.7812121317738,5942.4384765625,1548.1272016345313,3354.0947094218054,3451.7602173244895,380.08839923269113,1335.8820228964219,11226.218163989815,-4235.434952561176,6875,2913.1183303224093,2811.0795505483266,2811.0795505483266,0,82.969612121582031,52.113204956054688,null,null,{"$f":"R241+S241","v":5724.1978808707354}]
[" ","1940-11-30",2452.4462392028431,8511.6071407442359,0,0,0,6742.6208318326544,7147.462890625,1454.6406583244691,1709.5587568299857,3365.7486243053427,367.98757836443303,1863.3470716612253,13150.721683919568,-8977.0009811278142,4504.8532012541518,4600,6167.5573869134314,4414.1577534274584,1692.3852329750193,89.196830749511719,53.933845520019531,null,null,{"$f":"R242+S242","v":10767.557386913431}]
[" ","1940-12-31",3293,17340.074312625933,0,0,0,18215.388895040618,18215.388671875,1875.8557755358629,1700,4875.1300687124358,554.31531322834485,1982.0679791606781,30971.917644944966,-5290.322580645161,36842.416939905481,4599.9999999999964,3118.7432769637771,3118.7432769637767,0,56.596725463867188,50.319953918457031,null,null,{"$f":"R243+S243","v":7718.7432769637735}]
[" ","1941-01-31",3317,40157.29671005845,0,0,0,26595.288023298912,26595.287109375,2439.6442175266184,1700,10906.865368715444,567,4879.2758068811827,59613.510877722387,-4516.1290322580644,97782.947531518352,4600,3273.327097083351,3273.3270970833523,0,54,46.132347106933594,null,null,{"$f":"R244+S244","v":7873.327097083351}]
[" ","1941-02-28",3423,39166.449880933185,0,0,0,26528.901336091018,26564.103515625,2788,11349.758822938144,21270.945209484937,566,7404.8022119489742,64739.463202541912,-4464.2857142857147,115115.45002543781,4599.9999999999327,8094.4473506404302,8094.4473506404302,0,54,44.571056365966797,null,null,{"$f":"R245+S245","v":12694.447350640363}]
[" ","1941-03-31",3940,26861.313392287837,0,0,0,23670.012398828636,23670.01171875,2918,11431.620860380328,23881.525038215943,658,4504.5778127507101,53220.687120814269,-3258.0645161290322,92693.167711343413,4600,5783.8703401793664,5783.8703401793664,0,54,46.757827758789063,null,null,{"$f":"R246+S246","v":10383.870340179366}]
[" ","1941-04-30",4456,24809.384550199273,0,0,0,26216.858087902154,26224.220703125,3334,3793.2997617512256,6628.4578154137453,792,3184.7135064224049,49028.797145034492,-3500,74249.001849418448,4599.9999999999673,5530.3444854122645,5530.3444854122645,0,54,49.660511016845703,null,null,{"$f":"R247+S247","v":10130.344485412232}]
[" ","1941-05-31",4552,17351.064315456031,0,0,0,17764.428381149937,17822.73828125,3538,8516.8422045492589,15928.775903311522,967,4751.4620507665513,38806.522579851029,-3500,42479.388593926866,4600,4405.2798557446695,4405.2798557446695,0,54.842529296875,51.114490509033203,null,null,{"$f":"R248+S248","v":9005.2798557446695}]
[" ","1941-06-30",4500,10450.901548002321,0,0,0,5809.3451706749775,7146.625,3538,3079.4913958466868,6380.2364047942865,967,2336.29853017389,15808.645099237261,-5000,14190.37181799322,4600.0000000000637,4172.2610383028914,4172.2610383028914,0,69.30718994140625,52.658676147460938,null,null,{"$f":"R249+S249","v":8772.2610383029551}]
[" ","1941-07-31",4150.0000000000009,14160.19137927691,0,0,0,7234.0011999015896,8287,3219.3331239069512,5988.2818003257171,7432.0656815090497,942,1620.6108875289565,17459.710136277761,-9105.6879068018061,8000,4600,7004.9017250857196,6680,0,79.252281188964844,51.581436157226563,null,null,{"$f":"R250+S250","v":11604.90172508572}]
[" ","1941-08-31",3699.9999999999995,13242.645736856675,0,0,0,6667.0295742581729,7346.77001953125,2988.2044035856325,4252.6487855631176,5556.3683780475267,792,2909.8358255372805,16444.936122554518,-10142.621674383736,5593.9110888259293,4600,6680,6680,0,85.187492370605469,50.989299774169922,null,null,{"$f":"R251+S251","v":11280}]
[" ","1941-09-30",3399.9999999999995,11792.164806128638,0,0,0,9799.2991346084054,10022.6787109375,2518.742265699771,8519.2004726731611,10301.06591967629,744.30743581682998,1529.3376007625068,22370.219047956987,-8974.3430067588488,13000.000000000087,3916.0888347853588,6680,6680,0,75.664192199707031,49.747970581054688,null,null,{"$f":"R252+S252","v":10596.088834785358}]
[" ","1941-10-31",3249.9999999999995,9066.5306700731653,0,0,0,7637.7101047897795,7638.03857421875,2347.0007586258434,4000,3955.5131229202007,696.46362238427014,1348.4990910798128,13836.329440367677,-6731.9385666816634,7031.25,4600,4302.3806711372854,4302.3806711372854,0,80.663536071777344,51.328754425048828,null,null,{"$f":"R253+S253","v":8902.3806711372854}]
[" ","1941-11-30",3252.0000000000005,6008.6190012579555,0,0,0,4985.7314187802131,5321.65380859375,2277.8532374733168,2499.2293585704379,3146.8288285738968,567,3837.1539651124754,13402.498082460357,-8984.1435343995836,4968.4143921630639,4600,6680,6680,0,86.721351623535156,53.741710662841797,null,null,{"$f":"R254+S254","v":11280}]
[" ","1941-12-31",3316,27426.554085514614,0,0,0,22430.247354939635,22430.248046875,2788,3659.2399630508698,5983.4899510990281,567,5726.3859942057379,43208.9271571266,-5290.322580645161,51788.140765029646,4599.9999999999955,3299.0200715857682,3299.0200715857682,0,54,50.583084106445313,null,null,{"$f":"R255+S255","v":7899.0200715857636}]
[" ","1942-01-31",3389,28343.905800097178,0,0,0,21795.530049595243,21795.529296875,2788,13897.586734787679,18337.365556433619,564,9207.1831497155035,51472.078634301142,-4516.1290322580644,79938.817372620018,4600.0000000000018,4195.8980166749589,4195.8980166749589,0,54,46.305736541748047,null,null,{"$f":"R256+S256","v":8795.8980166749607}]
[" ","1942-02-28",3516,43561.99133155249,0,0,0,26028.74371459243,26063.9453125,2806,17628.852543376033,35054.955495535658,556,9807.0515942521179,70735.649590965477,-4464.2857142857147,140287.7824225834,4600,4259.469429969593,4259.469429969593,0,54,44.624504089355469,null,null,{"$f":"R257+S257","v":8859.469429969593}]
[" ","1942-03-31",3796.8800946642991,7021.2203020851075,0,0,0,9557.2932860369856,10888.78125,3058,2766.6403668107914,9706.0701098826939,649.72474148193851,2999.9999785506507,22533.74182364337,-3258.0645161290322,26909.397128794437,4014.0337879735011,3756.708691228147,3756.708691228147,0,61.420433044433594,47.673255920410156,null,null,{"$f":"R258+S258","v":7770.7424792016482}]
[" ","1942-04-30",4447.898207255228,11182.9000960387,0,0,0,15458.46549375207,15466.337890625,3281,10545.996877554941,21656.253042039058,792,5534.7642486984278,38006.633117939542,-3500,51952.210683437916,3894.3371806663954,5462.7944036553172,5462.7944036553172,0,54,51.222660064697266,null,null,{"$f":"R259+S259","v":9357.1315843217126}]
[" ","1942-05-31",4552,13102.253736275328,0,0,0,11593.434063623925,12683.4091796875,3538,5825.1726867506841,14126.102692918841,967,5088.5741894440298,30821.701951616269,-3500,33339.51815605977,4600,3127.3665931749438,3127.3665931749429,0,60.255115509033203,51.384540557861328,null,null,{"$f":"R260+S260","v":7727.3665931749438}]
[" ","1942-06-30",4500,10116.909925890915,0,0,0,6462.0116935519654,7638.70263671875,3538,6033.5752185797037,12424.4725549621,967,5134.8177003513829,24489.900615928018,-5000,23126.438375502832,4600.0000000000018,3731.0640463919935,3731.0640463919935,0,65.789535522460938,52.805267333984375,null,null,{"$f":"R261+S261","v":8331.0640463919954}]
[" ","1942-07-31",4150,12170.999980961647,0,0,0,5264.9253857861622,6346.50732421875,3226.957040495809,6117.0467639833914,8023.5317103730931,942.00000000000011,2045.3182213639502,16736.716828991339,-8860.3366535855603,8000,4600,7004.9017250857196,6680,0,80.1583251953125,52.077491760253906,null,null,{"$f":"R262+S262","v":11604.90172508572}]
[" ","1942-08-31",3700,12260.271857728667,0,0,0,5902.5846293322402,6578.7041015625,2876.1865746151175,6378.7828728797485,7287.5479130684653,792,2957.6872169376752,17387.860232355983,-10213.701380699757,6299.5566888257781,4600,6680,6680,0,84.127388000488281,51.437225341796875,null,null,{"$f":"R263+S263","v":11280}]
[" ","1942-09-30",3399.9999999999995,11000.28599200031,0,0,0,9256.1271991813537,9626.2890625,2557.8922078987257,5936.1130844946356,7424.0609270027126,747.01950371208363,1530.9608993032084,19112.672512128847,-6750.0838783647741,12375.000000000087,3946.0962519368154,4307.0638559755062,4307.0638559755062,0,76.3037109375,50.007896423339844,null,null,{"$f":"R264+S264","v":8253.1601079123211}]
[" ","1942-10-31",3250,8774.3449902630546,0,0,0,7693.3278963734001,7688.86083984375,2343.3409614762368,4000,4550.4028064174026,692.38002907362818,1328.4457815138896,14186.358853095706,-6782.3669302175585,7187.5,4600,4299.1898353783308,4299.1898353783308,0,79.085311889648438,51.603317260742188,null,null,{"$f":"R265+S265","v":8899.1898353783308}]
[" ","1942-11-30",3252,7037.4745717665828,0,0,0,6112.2765834030442,6480.93115234375,2394.6921547023971,1700,2113.7591981358487,567,5001.0717625936295,13618.268201425841,-8943.0467034190842,6152.372588782091,4600,6680,6680,0,82.830520629882813,53.050971984863281,null,null,{"$f":"R266+S266","v":11280}]
[" ","1942-12-31",3356,9870.5581294694384,0,0,0,11786.474301716262,12831.41796875,2636.8009310949947,1700,4833.8833957172283,567,4693.4953419577714,23063.613613269637,-5290.322580645161,19995.494556521764,4335.1310628892643,2890.0873752594998,2890.0873752594998,0,64.238143920898438,50.50030517578125,null,null,{"$f":"R267+S267","v":7225.2184381487641}]
[" ","1943-01-31",3541,24520.386322874067,0,0,0,23315.387274802961,23315.38671875,2788,13108.695593137858,19653.889060260921,556,10888.673772546319,55449.548863809774,-4516.1290322580644,77579.600607917149,4600,5602.7046563074055,5602.7046563073982,0,54,47.179752349853516,null,null,{"$f":"R268+S268","v":10202.704656307405}]
[" ","1943-02-28",3848,13739.755492234641,0,0,0,22653.206740312846,22688.408203125,2890,7488.2780301827188,16424.380545930595,529,7211.5339759530279,46343.295105648125,-4464.2857142857147,58037.217879465621,4600,5218.6866209172804,5218.6866209172804,0,54,45.906993865966797,null,null,{"$f":"R269+S269","v":9818.6866209172804}]
[" ","1943-03-31",4118,19025.373470002003,0,0,0,23182.586580377112,23182.5859375,2937,16061.270933450482,27672.127335210935,625,11829.455218333977,58744.783378299944,17.075905962255092,87483.267439522242,2744.7762608587386,8431.6129032258068,8431.6129032258068,0,54,47.053619384765625,null,null,{"$f":"R270+S270","v":11176.389164084545}]
[" ","1943-04-30",4552,8868.7384758133503,0,0,0,11675.34320103746,13180.060546875,3350,4215.0965184681208,11266.079501678292,792,4596.7983058545587,27122.890885343364,-3500,30799.914202302549,3152.2115324378965,5876.9933336985205,5876.9933336985205,0,58.795520782470703,51.230197906494141,null,null,{"$f":"R271+S271","v":9029.204866136417}]
[" ","1943-05-31",4552,9485.3717823637307,0,0,0,6760.3403862980758,7692.0546875,3526.1685826456337,1000,5435.8178555389122,967,1787.0214836400194,14708.525651468926,-3500,14056.809931653572,3453.4377087248881,2759.7334079699735,2759.7334079699735,0,69.847564697265625,52.643264770507813,null,null,{"$f":"R272+S272","v":6213.1711166948617}]
[" ","1943-06-30",4386.8810535712173,9541.8993819350562,0,0,0,4802.1427001953125,5925.353515625,3528.8517517233154,2115.3855425753572,3461.6704815393582,967,1876.382234502747,11262.669731956048,-4641.8618402188367,6897.1136556507527,3942.233776651844,2122.7412643509924,2122.7412643509924,0,81.737037658691406,52.752952575683594,null,null,{"$f":"R273+S273","v":6064.9750410028364}]
[" ","1943-07-31",3723.8337566251971,16057.864001592356,0,0,0,9349.3405212898979,10270.09765625,2987.0021908693589,9144.94867249655,9823.0765742542426,749.41683966620747,4323.1885572101746,24850.531892414889,-9768.2315472776681,12683.896861881167,4600,6140.3987112726345,5967.8939855769795,0,77.370834350585938,51.032375335693359,null,null,{"$f":"R274+S274","v":10740.398711272635}]
[" ","1943-08-31",3359.3708468366412,10724.154212754704,0,0,0,4511.9480333328265,5216.73046875,2596.9498169860449,6718.9569304530132,7738.4305597255525,693.30538660151035,1689.6224703039111,14975.226477849837,-8926.561143214738,4959.6772000000346,3966.0101453341936,5793.7866273528944,5793.7866273528944,0,86.028091430664063,51.420734405517578,null,null,{"$f":"R275+S275","v":9759.7967726870884}]
[" ","1943-09-30",3145.2619710767381,9042.6840559691773,0,0,0,7695.9591260082525,7775.56298828125,2128.7620679064994,8337.7075161863831,9796.92925871837,567.26999570693681,2634.4538335124089,20858.919805973303,-8360.4132138878231,11875.000000000087,3152.9782101128976,6680,6680,0,75.3314208984375,50.682907104492188,null,null,{"$f":"R276+S276","v":9832.9782101128985}]
[" ","1943-10-31",3071.2146932772762,6310.967683000752,0,0,0,5099.0646716900446,5101.10302734375,1912.8690438914318,4000.0000000000568,4721.0307037615439,511.01729009285464,1315.3134378675254,11793.989739911018,-5561.1707515097878,6093.75,3448.4375000000055,4040.6720522362616,4040.6720522362616,0,83.639358520507813,52.033840179443359,null,null,{"$f":"R277+S277","v":7489.1095522362666}]
[" ","1943-11-30",2877.4138613327632,8879.4192678186519,0,0,0,7414.1702512718921,7763.94873046875,1789.7340146386464,2500,2873.3167753656739,459.42022672243024,1842.944842578753,13469.429706530824,-8712.9340281276891,4683.6795942115859,4600,6247.6213691509311,4019.123866014289,2151.1111112532999,88.334953308105469,53.915962219238281,null,null,{"$f":"R278+S278","v":10847.621369150931}]
[" ","1943-12-31",2827.9121893816937,6145.5155243315303,0,0,0,6168.5686066521357,6630.71435546875,1587.824400606838,4347.0287475321566,5287.4767809025307,416.99347259031032,1860.0916860245095,14819.862352669459,-9461.330662321132,5102.2236735168972,4600,6904.3770330848456,6900.6833185165669,1.4550996784109884,87.703536987304688,51.363311767578125,null,null,{"$f":"R279+S279","v":11504.377033084846}]
[" ","1944-01-31",2917.3855683074053,5335.9603528547013,0,0,0,6845.2715966614696,7344.20166015625,1620.1636755538022,1700,3642.9102534302392,393.42303608848937,1253.1241182583115,13703.234094291936,-5225.8064516129034,9870.9958609425867,4198.0458005121664,2798.6972003414585,2798.6972003414585,0,81.881256103515625,48.331821441650391,null,null,{"$f":"R280+S280","v":6996.7430008536248}]
[" ","1944-02-29",3228.2356956441076,6726.9661007634295,0,0,0,11746.174497940719,13413.541015625,1784.0087713324367,1700,6655.9185395409895,428.17875345948949,1345.5610885578958,26065.278599750258,-5000,25545.040946627269,4376.440456921413,2917.6269712809453,2917.6269712809453,0,63.004627227783203,47.021732330322266,null,null,{"$f":"R281+S281","v":7294.0674282023583}]
[" ","1944-03-31",3544.0791392596952,5799.7796295697372,0,0,0,9350.3269944173171,9967.625,2025.711976386272,1700,6145.0020277574695,528.8594969597018,1415.7478465388572,18803.843116863827,-3258.0645161290322,18609.747997391489,3474.3119802227056,2316.2079868151377,2316.2079868151377,0,66.848457336425781,48.788585662841797,null,null,{"$f":"R282+S282","v":5790.5199670378433}]
[" ","1944-04-30",3747.0290194788195,4337.9714223632782,0,0,0,4245.5730009133222,4881.8681640625,2154.2078804120383,1808.1996569687331,2800,607.81808961563991,785.70128107867743,8930.0246993390938,-2382.6350987898822,8839.9011456897351,2141.6321314575252,3011.8638076355519,3011.8638076355519,0,78.578361511230469,52.702190399169922,null,null,{"$f":"R283+S283","v":5153.4959390930771}]
[" ","1944-05-31",3713.6559659057029,7083.7431838099074,0,0,0,4117.0946456235251,4775.78125,2291.1905151836822,2975.5579355581667,4256.8414509057657,728.76700067785634,1375.1497386816222,11139.009500253687,-3214.5570898543101,8366.1324051986867,2923.2507896468201,1616.3001825235219,1616.3001825235219,0,79.730377197265625,55.445953369140625,null,null,{"$f":"R284+S284","v":4539.550972170342}]
[" ","1944-06-30",3446.7731578756006,10871.064961148579,0,0,0,5407.2103933520175,6729.12939453125,2053.176371839168,5012.1144303897172,5711.9451644453948,663.1845647718078,2111.0230116537341,14589.887652943995,-5000,7550.0000000000891,3096.9106542373411,2250.0032807725675,2250.0032807725675,0,79.318000793457031,53.143714904785156,null,null,{"$f":"R285+S285","v":5346.9139350099085}]
[" ","1944-07-31",3015.763565033139,12171.462038598989,0,0,0,5958.8237932037464,6752.4169921875,1558.5650511832789,7738.8638034447613,7708.2946318899612,540.01981595166285,1967.4494525758446,17024.607525651903,-8565.7456974788402,5567.5192614844054,2845.9285595274359,5684.3879685265965,4413.8514617817873,940.38317107430805,84.235763549804688,51.931785583496094,null,null,{"$f":"R286+S286","v":8530.3165280540325}]
[" ","1944-08-31",2754.5076770427195,8997.4560458857413,0,0,0,4529.6566744894581,4873.08544921875,1413.3416935430018,1985.2971315230598,1972.8480345562111,471.57224517769896,1750.0000000000002,9125.0590542151822,-3926.8291836695425,3500,3182.4437720757001,696.82247082917627,300,0,90.669181823730469,52.378829956054688,null,null,{"$f":"R287+S287","v":3879.2662429048764}]
[" ","1944-09-30",2702.0923582392597,5073.4879190005968,0,0,0,4408.2265236426783,4687.20263671875,1308.8011431905966,1227.2711429835563,2582.1413322212366,428.02731808110224,1380.8398543283215,9153.0013388416519,-5146.3509410980387,3000.0000000000873,3558.9388590700628,2569.1407976506594,2569.1407976506594,0,92.465278625488281,53.279094696044922,null,null,{"$f":"R288+S288","v":6128.0796567207217}]
[" ","1944-10-31",2622.5854688982986,6093.2495099071321,0,0,0,5086.1551832918885,5043.755859375,1170.4264962038399,1720.389361420423,1700,422.9363683753574,637.41355000925557,8243.6679260150377,-4348.2599892908074,4000,2950.6706390830454,2921.6676971870738,2921.6676971870738,0,93.399581909179688,54.111061096191406,null,null,{"$f":"R289+S289","v":5872.3383362701188}]
[" ","1944-11-30",2810.4948056440267,6983.5051466376544,0,0,0,6782.126429139119,7301.59228515625,1142.8312807870582,1700,3207.0904335420983,545.47223703593079,693.73869375297875,13192.333502796957,-8910.4009938591953,5164.8429742291719,4233.4177225900985,6680,6680,0,89.834060668945313,52.921905517578125,null,null,{"$f":"R290+S290","v":10913.417722590098}]
[" ","1944-12-31",3116.5501144218615,6878.5523348082588,0,0,0,8829.4217145110269,9775.5556640625,1235.972781435172,1700,3322.5667862204764,567,2342.8109161868365,17227.383800536525,-5936.1544999646248,12665.701868160131,3978.5229876858393,3740.3779800768998,3740.3779800768998,0,79.217109680175781,49.451190948486328,null,null,{"$f":"R291+S291","v":7718.9009677627391}]
[" ","1945-01-31",3326.9757634990506,4626.2205476222589,0,0,0,6366.0187589349398,7273.74658203125,1361.5571558721274,1700,3768.2736494271767,567,1386.7059063273741,13409.936264107775,-5225.8064516129034,9577.3655333756997,4310.16150719094,2873.44100479396,2873.4410047939596,0,81.448936462402344,47.113075256347656,null,null,{"$f":"R292+S292","v":7183.6025119849}]
[" ","1945-02-28",3948,13929.970099444843,0,0,0,21477.157530092551,21512.359375,1924.7543864837087,1700,10847.360468104245,558,9329.1193497324857,46176.826242738643,-4464.2857142857147,56869.862238854592,4600.0000000001201,5658.3098465423518,5658.3098465423518,0,54,46.555923461914063,null,null,{"$f":"R293+S293","v":10258.309846542472}]
[" ","1945-03-31",4266.6979834966178,7462.4476506448209,0,0,0,9999.8251082365969,10879.189453125,2216.3890728565052,1700,5643.1018664788025,656,1849.7221320784688,19933.340465117795,-3258.0645161290322,22467.751296868468,4393.0261342598305,3455.6987636543327,3455.6987636543327,0,62.867420196533203,47.942111968994141,null,null,{"$f":"R294+S294","v":7848.7248979141632}]
[" ","1945-04-30",4530.8021073409345,4967.2946856861572,0,0,0,6557.1438027312652,7560.5068359375,2460.0008595985842,1000,3453.1136542479226,792,2156.8638266073826,13297.216049935338,-3500,13927.730671237563,3284.8810420162254,4317.9000981061081,4317.9000981061081,0,70.306739807128906,51.741092681884766,null,null,{"$f":"R295+S295","v":7602.7811401223335}]
[" ","1945-05-31",4552,9559.8194013887442,0,0,0,5995.7156555004449,6543.13525390625,2721.1124062729077,1051.3099565136058,2800,967,2912.7136477495774,13301.142286269,-3500,11708.353445490602,3539.1275194564905,2359.4183463043273,2359.4183463043273,0,74.824447631835938,52.314239501953125,null,null,{"$f":"R296+S296","v":5898.5458657608178}]
[" ","1945-06-30",4286.5662522602761,10608.445100159741,0,0,0,5233.0216878687788,6633.3427734375,2569.9301435820998,3904.9543870396733,5412.7918426823089,905.43257276738711,2740.1008061680886,14919.547189100642,-5000,8740.238562760811,3626.5924958534065,1952.7805746902891,1952.7805746902895,0,80.086257934570313,52.592056274414063,null,null,{"$f":"R297+S297","v":5579.3730705436956}]
[" ","1945-07-31",3755.7748812681898,13052.208566089583,0,0,0,5918.3770682951472,7011.7978515625,2003.247327255214,8635.3087390012006,8720.6251448517014,796.75916678301724,2381.4360237257042,18585.58009947131,-9743.4110513905616,6530.3996313853959,3840.2537367324039,6900.9597395002638,6680,0,83.660751342773438,51.746711730957031,null,null,{"$f":"R298+S298","v":10741.213476232668}]
[" ","1945-08-31",3358.3157900443134,10358.057817396271,0,0,0,4710.1875561023189,5410.60693359375,1632.3381859967997,5777.8727927813825,6676.299758796983,655.32631601772539,2662.7185245288429,15786.819765840031,-9962.6614556516652,4595.5264077484517,4033.2445536516279,6877.5956181824467,4765.449783562779,1667.678620169155,88.374710083007813,51.721939086914063,null,null,{"$f":"R299+S299","v":10910.840171834076}]
[" ","1945-09-30",3242.5116318302075,5708.1216130256962,0,0,0,4623.1343368709922,5029.51806640625,1542.8839800352939,1736.230242568784,3252.2136635797747,604.32837323076012,1532.9422758896264,10474.273620392292,-7049.4857823329912,3000.0000000000873,4600,3863.9721122860915,3649.2896868644611,0,91.607856750488281,51.861423492431641,null,null,{"$f":"R300+S300","v":8463.9721122860919}]
[" ","1945-10-31",3200,6699.6868976534142,0,0,0,5798.5380868007614,5874.97607421875,1438.423197262442,1949.0941775769218,1699.9999999999673,573.84658886706984,1373.7268171099659,10001.46062848767,-6532.2542499000519,4000,4600,4087.4744340546822,4087.4744340546822,0,91.552391052246094,52.181575775146484,null,null,{"$f":"R301+S301","v":8687.4744340546822}]
[" ","1945-11-30",3252,10169.610571772238,0,0,0,9727.0922230011965,9961.173828125,1420.4061457558901,1700,2598.4040533484003,567,3076.4207787633095,16719.902803646786,-9198.9167702021914,8307.9699321976514,4600,6680,6680,0,81.961105346679688,52.19146728515625,null,null,{"$f":"R302+S302","v":11280}]
[" ","1945-12-31",3265,34543.16658112852,0,0,0,23127.270777823902,23127.271484375,1968.8985481801819,1700,5950.4314450468764,567,8536.3786678836223,49051.83720592178,-5290.322580645161,70108.514405232796,4600.0000000000036,4594.9841564129074,4594.9841564129038,0,54,48.005973815917969,null,null,{"$f":"R303+S303","v":9194.984156412911}]
[" ","1946-01-31",3622,14239.503379589209,0,0,0,19929.696455880672,19929.697265625,2331.1540197833929,1700,13213.694246051245,564,5111.151673133314,41916.979298309838,-4516.1290322580644,46802.959503444676,4516.1056799663947,3010.7371199775957,3010.7371199775957,0,55.324005126953125,44.731655120849609,null,null,{"$f":"R304+S304","v":7526.84279994399}]
[" ","1946-02-28",3844.1937418783514,5785.9296596714157,0,0,0,7535.6933738480056,8407.3251953125,2535.2571501408379,1699.9999999999573,4578.7197463753891,558,2139.1892315113173,18213.092697267402,-5250,15035.714000000007,4600,3422.768449465977,3422.7684494659784,0,67.933563232421875,44.514083862304688,null,null,{"$f":"R305+S305","v":8022.768449465977}]
[" ","1946-03-31",4239.5428898487689,5530.9769413765098,0,0,0,7522.4326689346126,7785.05712890625,2826.933687146352,1700,3956.4287554365037,649,2770.3926926369991,15298.649082505613,-3258.0645161290322,15221.566743780757,2728.0267826913146,3549.7496949831288,3549.7496949831252,0,68.981521606445313,48.055442810058594,null,null,{"$f":"R306+S306","v":6277.7764776744434}]
[" ","1946-04-30",4552,6388.9890551548278,0,0,0,6895.5693987679861,7650.0087890625,3151.7020698339288,1000,4375.8174575339672,792,3244.3559121192543,15807.534431538754,-3500,15552.042011902397,3398.5230312609506,3461.2857117268836,3461.2857117268836,0,68.52813720703125,51.327007293701172,null,null,{"$f":"R307+S307","v":6859.8087429878342}]
[" ","1946-05-31",4503.166123555503,9289.1892663857689,0,0,0,4993.8457380458467,5590.64501953125,3347.0178672024731,1287.832655323763,3501.9551959438836,967,2873.2680714979097,12425.037704005437,-3500,10411.290000000037,3744.4550560293683,2016.2450301696599,2016.2450301696599,0,78.424774169921875,52.514320373535156,null,null,{"$f":"R308+S308","v":5760.7000861990282}]
[" ","1946-06-30",4114.155363564736,11277.392034072251,0,0,0,5497.3511986107751,6508.07421875,3137.6425664929202,4458.7754072553871,5546.0840800071437,855.69866256675073,2897.9859588235781,15152.535616844432,-5000,8720.8144470131756,3540.5231821997918,1906.435559646105,1906.435559646105,0,82.062339782714844,52.153537750244141,null,null,{"$f":"R309+S309","v":5446.9587418458968}]
[" ","1946-07-31",3562.5489147910944,13792.869464559106,0,0,0,6915.4924575599507,7886.02685546875,2558.2616446708403,9619.2126816584114,9460.3813598891429,725.5706528177717,2489.6254235316146,20434.227939322893,-10624.498310512256,6613.1986493033082,4065.5602961132186,6786.0837880706313,6680,0,84.800331115722656,51.455047607421875,null,null,{"$f":"R310+S310","v":10851.64408418385}]
[" ","1946-08-31",3247.251039377526,10188.888968994002,0,0,0,4552.7000008289579,5164.3857421875,2057.8292777528718,8399.3055891398017,8845.520842370297,629.57010216437391,2000.7373303751031,16607.15424234949,-10348.00147124851,4482.5473613077793,4139.2671897888231,6892.5698365063527,6680,0,87.403457641601563,51.384014129638672,null,null,{"$f":"R311+S311","v":11031.837026295176}]
[" ","1946-09-30",3200,5388.3019585903394,0,0,0,4564.091415405278,4881.91748046875,1705.0828126231077,5730.0155885043796,7445.4203668173286,583.84680872958972,1545.4040545999133,14330.998372474012,-9501.8283435015401,4027.0672642748796,4600,6680,6680,0,89.360748291015625,51.776096343994141,null,null,{"$f":"R312+S312","v":11280}]
[" ","1946-10-31",3020.9920811317766,7375.5864269022613,0,0,0,6237.974868473314,6090.3896484375,1547.5316144859903,2290.6433683507785,2935.6599448991446,532.01943353288175,1332.660523431271,11318.636353136768,-7330.8579911588313,4000,3515.3782498294854,5820.6909662762264,3830.5782639317649,1713.1776348917733,90.2371826171875,51.811592102050781,null,null,{"$f":"R313+S313","v":9336.0692161057123}]
[" ","1946-11-30",3034.9902309875993,6402.908897639174,0,0,0,5451.441709908373,5534.86669921875,1501.2881899551564,1704.7055555759212,2088.1442892969762,553.92527135913713,1878.4209412322632,10660.116973850883,-6874.6192493424278,4500.0000000000873,4189.3611844325987,4560.7877647745681,4499.2346976573954,0,89.887519836425781,51.979087829589844,null,null,{"$f":"R314+S314","v":8750.1489492071669}]
[" ","1946-12-31",3141.9640196407508,5461.9393343620377,0,0,0,7569.1852833825797,8464.921875,1519.7803548544657,1700,3331.2252710930588,567,1993.4853657405488,15211.766653547376,-6961.7519824809096,9165.2798650878103,4223.3092194537821,4949.9677552331495,4708.5204368868272,0,80.712905883789063,48.945789337158203,null,null,{"$f":"R315+S315","v":9173.2769746869308}]
[" ","1947-01-31",3172.4370835838163,4095.7115519829772,0,0,0,4528.6252155303955,4764.13720703125,1544.3677694104517,1700,2916.3118305579992,532.37970258433154,1214.6478023686852,10851.642501273534,-5000,7100.1876528278844,4174.0971542486832,2782.7314361657873,2782.7314361657873,0,82.981758117675781,46.390605926513672,null,null,{"$f":"R316+S316","v":6956.8285904144705}]
[" ","1947-02-28",3437.9795109911643,6394.4927273200228,0,0,0,9285.4623176986752,10167.8984375,1779.9607428280676,1700,3527.2801532252574,567,1759.0020923155664,20561.877476760204,-5250,17157.457041968933,4385.2244717631647,2923.4829811754444,2923.4829811754444,0,69.376388549804688,46.74871826171875,null,null,{"$f":"R317+S317","v":7308.7074529386091}]
[" ","1947-03-31",3962.5023576252056,7398.9497935995587,0,0,0,9593.0904489242657,9924.376953125,2107.6859485982527,1700,4735.6195075847809,661,2088.5901302795378,19944.13907086648,-3258.0645161290322,18375.638175139495,2913.1323687798781,1942.0882458532456,1942.0882458532501,0,67.334815979003906,49.353378295898438,null,null,{"$f":"R318+S318","v":4855.2206146331237}]
[" ","1947-04-30",4202.5244017783098,5506.7667874925392,0,0,0,6511.2271302934641,7007.91552734375,2263.6199786677898,1000,3314.762179486167,760.01162352814583,748.70427446980148,12754.88888519703,-2153.1647085594127,10988.506211360469,2020.2921646480659,1592.2397708712929,1592.2397708712929,0,75.499885559082031,54.243843078613281,null,null,{"$f":"R319+S319","v":3612.5319355193587}]
[" ","1947-05-31",3864.6982732290317,9998.632925284166,0,0,0,4493.7424229842318,4664.765625,2130.8168857438063,2636.7207746799677,3671.4476607204379,735.5532074863429,1568.3578742711263,10650.459811352957,-2811.4936757600335,6610.4164391626373,2800.8952350188006,664.75115027906304,664.75115027906304,0,83.432968139648438,53.681793212890625,null,null,{"$f":"R320+S320","v":3465.6463852978636}]
[" ","1947-06-30",3510.1027009622858,13511.591979613224,0,0,0,7849.6167499681396,8992.6640625,1908.9773677781077,3787.5555416232783,4444.4711722724514,681.45270220065936,1004.8309879176686,15044.059123920133,-5000,7323.2410510678783,3232.5674223367046,1740.6132274120719,1740.6132274120719,0,81.753875732421875,51.961502075195313,null,null,{"$f":"R321+S321","v":4973.180649748776}]
[" ","1947-07-31",2981.5592787422747,13423.025271799617,0,0,0,7164.8110532449573,8001.02978515625,1539.4749269180434,5464.2502701882977,5141.5048921475372,517.465990521359,1785.700724741761,16479.235298566255,-7931.9691380537006,5018.784273874915,3192.7084990283374,4469.5913100546422,2290.2164170976812,1203.568441279542,87.223709106445313,51.482295989990234,null,null,{"$f":"R322+S322","v":7662.2998090829797}]
[" ","1947-08-31",2685.5215183130645,9368.4652092448941,0,0,0,4455.4005440506753,4978.49658203125,1386.9265679336906,2064.0843928828317,2300.5879014157563,445.1862306496385,1464.4867764483008,9565.5806408993922,-3843.6127006785573,4026.402754111964,3588.0650412700688,300,300,0,89.659713745117188,52.005229949951172,null,null,{"$f":"R323+S323","v":3888.0650412700688}]
[" ","1947-09-30",2618.7990690369811,5184.9449273689961,0,0,0,4481.0170885566977,4750.453125,1277.90976774253,1138.9146211715263,2821.7788150359947,395.40370131490869,1368.4226928078615,9535.468030603668,-5206.0412944125928,3195.3416031508468,3717.5029742598272,2445.9507098763502,2445.9507098763502,0,91.286758422851563,52.65496826171875,null,null,{"$f":"R324+S324","v":6163.4536841361769}]
[" ","1947-10-31",2663.8888110700154,5898.5906076064675,0,0,0,5434.0196535612222,5509.3125,1227.8164853255532,1199.999999999972,1747.5815970120027,421.46869944314977,634.35947941619895,9020.0771859727956,-5139.3237866523232,4000,2851.2217449665663,3840.5889880755703,3840.5889880755703,0,92.737327575683594,52.705265045166016,null,null,{"$f":"R325+S325","v":6691.8107330421371}]
[" ","1947-11-30",2667.4148473933483,5241.8753883385198,0,0,0,5075.718925539788,5319.779296875,1133.5546865040274,1200,1842.5351916945247,459.35348889280993,631.15858971452371,9676.6494419053943,-5293.9395408376331,4500.0000000000873,2569.3345460510427,4206.2076857626253,4206.2076857626253,0,92.015449523925781,53.047412872314453,null,null,{"$f":"R326+S326","v":6775.542231813668}]
[" ","1947-12-31",2646.6890243227781,5294.937371295613,0,0,0,5391.1758140089942,5728.0185546875,1066.5538263775165,1203.804571268566,1655.930158401761,428.15754834701607,1627.5361415650655,10112.699681608119,-5414.2659479395406,4535.6276364911719,3525.4716702811274,3265.0316259884548,3265.0316259884548,0,91.067680358886719,50.389389038085938,null,null,{"$f":"R327+S327","v":6790.5032962695823}]
[" ","1948-01-31",3211.941293401605,7753.6337159378099,0,0,0,9736.7447290629134,9989.1533203125,1336.5457207314855,1296.3329302949173,1200,560.12758264187221,588.53543682692828,14433.560971216177,-3645.1612903225805,11718.311455427473,2892.6050853059014,1928.4033902039364,1928.4033902039364,0,79.954917907714844,47.257114410400391,null,null,{"$f":"R328+S328","v":4821.0084755098378}]
[" ","1948-02-29",3214.8727762060635,6028.0273557845994,0,0,0,6502.7086598984724,6900.9873046875,1431.4973570961026,1200,1688.8663508245936,463.98804211194528,2578.6085518922878,15871.982654235062,-4996.3716467838376,11144.827000000048,4600,1756.4484621518977,1245.1206030126923,511.32785913920543,77.985679626464844,45.865867614746094,null,null,{"$f":"R329+S329","v":6356.4484621518977}]
[" ","1948-03-31",3541.5903071339058,7922.8570449651015,0,0,0,9496.4456252849377,9439.603515625,1587.6383289090318,1000,2362.1640557518658,481.10502095192663,1617.1555553403548,16041.344427643815,-3500,13721.882311978194,3037.3739035302465,2024.9159356868272,2024.9159356868281,0,73.234672546386719,47.360172271728516,null,null,{"$f":"R330+S330","v":5062.2898392170737}]
[" ","1948-04-30",4422,13419.498025386405,0,0,0,16696.158577379196,16702.248046875,2247.3802227684114,1000,6467.5680488655507,792,1763.7386826362615,24630.01168779892,-2624.4606904311258,26757.412399461726,3138.8582449865171,2137.9043681623207,2137.9043681623207,0,59.762924194335938,50.24090576171875,null,null,{"$f":"R331+S331","v":5276.7626131488378}]
[" ","1948-05-31",4552.0000000000109,15405.269113447393,0,0,0,16772.295319619792,16794.623046875,2712.3057421221033,1000,8940.5008898457454,965.10321363192713,2999.999978553582,29731.50538129059,-2984.9694178019536,28255.980610567505,2837.9188718519727,1891.9459145679821,1891.9459145679821,0,58.084548950195313,51.247093200683594,null,null,{"$f":"R332+S332","v":4729.8647864199547}]
[" ","1948-06-30",4500,11782.828611112753,0,0,0,8442.7837790447957,9746.388671875,2873.4834709513725,1000,5362.2296391467589,967,3424.1851186986714,20795.65780688716,-5000,14552.01027681983,3236.1785955451169,2157.4523970300752,2157.4523970300752,0,67.148040771484375,52.744369506835938,null,null,{"$f":"R333+S333","v":5393.6309925751921}]
[" ","1948-07-31",4020.1612901486324,11834.356757773696,0,0,0,5211.2039562237442,6250.61083984375,2349.4033561725282,8766.1438463810537,10223.984151366312,894.16468584423296,1970.1820573581094,19760.180542928767,-9781.8785660843168,6500,3031.7445413012611,7004.9017250857205,6680,0,81.020477294921875,51.873760223388672,null,null,{"$f":"R334+S334","v":10036.646266386982}]
[" ","1948-08-31",3681.3628342646916,10196.104994649175,0,0,0,4532.563064575188,5142.69482421875,1850.6321049329583,7869.9622307436484,9366.1598849517213,792,2044.4750150194,17177.259198917411,-10715.834878099202,4069.7176888258873,3991.9968624140738,7180,6680,0,87.829048156738281,51.869152069091797,null,null,{"$f":"R335+S335","v":11171.996862414075}]
[" ","1948-09-30",3400,8506.9447868282332,0,0,0,8059.3918312161641,8343.34375,1677.1662636321491,2315.9902002943904,4634.0474074159265,740.40284379063939,1538.9543249347271,15304.814205291361,-9952.6437158774061,4008.0131749518041,4600,6680,6680,0,88.666290283203125,50.256763458251953,null,null,{"$f":"R336+S336","v":11280}]
[" ","1948-10-31",3226.022052205823,7500.6488802585254,0,0,0,6757.3693741063935,6735.7841796875,1547.2891177714982,1768.2770169188952,2735.5772583728917,654.45292529397545,1756.4780552417433,11789.256712052524,-7526.5179549122622,4000,4600,4567.550577841077,3471.3617744779558,1026.2760122606485,89.691116333007813,51.974517822265625,null,null,{"$f":"R337+S337","v":9167.550577841077}]
[" ","1948-11-30",3184.4016666818425,5724.5409447401989,0,0,0,4602.459541320799,4565.61474609375,1412.4371773184807,1700,1877.3234165297206,566.99999999999989,2704.0382397767808,10375.443009472219,-5820.0870163821746,4500.0000000000873,3662.9366261608611,3567.9714116940631,3567.9714116940631,0,90.669342041015625,53.380870819091797,null,null,{"$f":"R338+S338","v":7230.9080378549243}]
[" ","1948-12-31",3247.8162036473291,5217.9147320966404,0,0,0,5710.0203430624715,6193.84228515625,1354.3458033002235,1700,2855.2384001914852,558.31304547240893,1889.3073403712347,13112.127005376129,-6549.4209457419493,6802.1003680570284,3468.8658254463544,4478.2314662288709,4478.2314662288709,0,87.801689147949219,50.486263275146484,null,null,{"$f":"R339+S339","v":7947.0972916752253}]
[" ","1949-01-31",3264.05848885163,4294.4765158341434,0,0,0,5152.0950115039977,5517.697265625,1369.2121536916036,1700,2621.9809521533975,521.49601156844039,1238.5588740077737,10683.392237462172,-5000,7108.1022904505862,3869.0751239854949,2579.3834159903377,2579.3834159903295,0,84.975547790527344,47.408168792724609,null,null,{"$f":"R340+S340","v":6448.4585399758325}]
[" ","1949-02-28",3462.9964441126663,5631.9336832220361,0,0,0,6350.1863152548422,6841.89306640625,1450.1010904722398,1700,2601.836471979449,504.97060973066175,1489.7095675882988,14730.64400495904,-5250,10598.974292298744,4149.4881703618112,2766.3254469078738,2766.3254469078738,0,80.174407958984375,46.879112243652344,null,null,{"$f":"R341+S341","v":6915.813617269685}]
[" ","1949-03-31",4071,21348.253812367024,0,0,0,23844.652045101975,23844.65234375,1697.3301110111745,1700,7181.2561214989482,664,2079.0049318227398,39523.060044244128,-3258.0645161290322,46986.400011758138,3132.2946094754725,2088.1964063169844,2088.1964063169844,0,54,47.010284423828125,null,null,{"$f":"R342+S342","v":5220.4910157924569}]
[" ","1949-04-30",4503.4103933009328,5230.7494917120785,0,0,0,6823.7330592687167,7369.580078125,1976.4599031622649,1389.0983987273216,2800,792,2952.4131481683185,13557.562901409132,-2293.8906687031522,12968.797295999902,2781.460540271371,1553.7278762780538,1553.7278762780538,0,71.195579528808594,53.00787353515625,null,null,{"$f":"R343+S343","v":4335.1884165494248}]
[" ","1949-05-31",4422.4105749650353,9789.8860303596084,0,0,0,6340.5018262206304,6934.849609375,2115.933795854065,1894.2752339940125,3472.3526735883697,950.04689012967083,2449.7238865778081,14707.873392829242,-2984.2081969224964,11854.435999999987,2810.180001409145,1513.1738469126167,1513.1738469126167,0,76.453300476074219,52.501560211181641,null,null,{"$f":"R344+S344","v":4323.3538483217617}]
[" ","1949-06-30",4028.0193221154691,10838.868632496624,0,0,0,4728.8626677189077,5864.93505859375,1850.4530581492008,4583.9735570793191,4911.0195818586189,830.85172753330846,2706.5194220714407,14100.634829915489,-5000,6752.9165000001376,3331.498358389897,1793.8837314407133,1793.8837314407133,0,81.847335815429688,52.621410369873047,null,null,{"$f":"R345+S345","v":5125.3820898306103}]
[" ","1949-07-31",3423.873072757573,13907.490122667945,0,0,0,7393.029638429216,8357.43359375,1539.8348307800873,4959.4330013718991,4581.496229762698,674.47955312121121,2199.0359039239611,17043.420139116908,-8566.741244816978,5000,3945.5094733550291,4475.9538078253754,1648.0143726398651,1534.1827146698658,85.809104919433594,51.347690582275391,null,null,{"$f":"R346+S346","v":8421.463281180404}]
[" ","1949-08-31",3110.0897975934081,9729.4668090446648,0,0,0,4518.7627029418954,5309.556640625,1417.1366305567656,1628.3092608256495,1633.3457936462255,605.3316739745926,1750,9488.8507052430123,-4246.7028849830476,3698.4851008330861,4070.4005379398222,300,300,0,91.616691589355469,51.848670959472656,null,null,{"$f":"R347+S347","v":4370.4005379398222}]
[" ","1949-09-30",3030.059518463891,5414.9259216790806,0,0,0,4565.5457916259766,5255.12744140625,1323.7818039386227,999.49901934476497,2765.2686649944144,553.32462982313973,1513.3295070222207,10044.890036017037,-5913.392538826005,3156.2337495413967,4257.4904312771196,2560.6998762173298,2560.6998762173298,0,91.998054504394531,52.015888214111328,null,null,{"$f":"R348+S348","v":6818.1903074944494}]
[" ","1949-10-31",2910.1402346143241,6091.107509962696,0,0,0,4598.8969500066842,4631.80322265625,1190.9224259521654,900,1532.3225878785377,498.71088578783963,1227.2731370016536,7908.7074703319868,-3907.6065371223394,4000,3092.5023664747523,2003.6133796628847,2003.6133796628847,0,91.287086486816406,51.911735534667969,null,null,{"$f":"R349+S349","v":5096.115746137637}]
[" ","1949-11-30",2812.2150629920134,6401.9114529959979,0,0,0,5031.1518375353189,5496.54052734375,1079.9216554085522,900,1322.000654695845,474.48559359952327,1598.2101998801816,9394.3130849055724,-5049.9541307423351,4500.0000000000873,3541.0823671968401,2841.8574068911503,2841.8574068911503,0,88.2908935546875,53.306709289550781,null,null,{"$f":"R350+S350","v":6382.9397740879904}]
[" ","1949-12-31",2668.4335321459744,6635.1837126436476,0,0,0,6496.6591310741951,6769.72216796875,1019.8736704343386,900,1329.5679456315077,432.33149410158359,1875.4908020721707,11311.449182055161,-6733.2362990681067,4500,4600,3549.5368284010256,2881.2730526491541,668.26377575187144,89.068214416503906,50.368488311767578,null,null,{"$f":"R351+S351","v":8149.5368284010256}]
[" ","1950-01-31",2960.2092161719447,7985.3320734095087,0,0,0,10193.215812869703,10524.794921875,1274.1425263342337,900,3975.9281756820319,567,2382.6582266733462,19605.472011905371,-3645.1612903225805,19010.288013037338,3146.2098506710795,2097.4732337807186,2097.4732337807186,0,69.335479736328125,46.806827545166016,null,null,{"$f":"R352+S352","v":5243.6830844517981}]
[" ","1950-02-28",3368.4868532130795,9804.2192104277747,0,0,0,14768.802722316177,16054.5712890625,1694.6994796791009,900,7425.7697336236652,565,5263.5886204959543,36122.718652888492,-4464.2857142857147,36447.875504720883,3721.6744353813119,2481.1162902542128,2481.1162902542128,0,58.125431060791016,46.158523559570313,null,null,{"$f":"R353+S353","v":6202.7907256355247}]
[" ","1950-03-31",3820.6979342563554,6761.7728961086486,0,0,0,8667.2813540627631,8862.515625,2133.2260235547647,800,3720.7758271801181,658,2887.8651860319414,19100.905797944222,-3258.0645161290322,17493.660688847107,2977.3613397142763,1984.9075598095133,1984.9075598095133,0,65.640464782714844,48.379840850830078,null,null,{"$f":"R354+S354","v":4962.2688995237895}]
[" ","1950-04-30",4232.9061392727917,5721.1883161987625,0,0,0,7693.0494480463085,8034.92236328125,2626.7880075275566,1000,6302.4278041729485,792,4947.8195573664671,22184.367955913523,-3209.5956542714366,21902.479803983028,3483.8302667046228,2322.5535111364143,2322.5535111364143,0,63.286155700683594,53.666366577148438,null,null,{"$f":"R355+S355","v":5806.383777841037}]
[" ","1950-05-31",4224.1605909329419,7889.5223397424497,0,0,0,3545.1512603759766,4071.0673828125,2912.8735289870942,1262.3054442327675,4635.3897454499511,967,3027.703406455149,13995.514388969917,-3290.1904204384773,11645.16100000008,3105.8881930825,1672.4013347367318,1672.4013347367318,0,76.967384338378906,54.413871765136719,null,null,{"$f":"R356+S356","v":4778.2895278192318}]
[" ","1950-06-30",3991.0391085143738,8826.0628983613788,0,0,0,3541.3732757568359,4700.22216796875,2872.0761931214215,2662.8856894538631,5404.0788221512539,949.443747210982,2999.9999999999995,14583.468656570174,-5000,8440.0000000000873,3495.4177703449086,1882.1480301857191,1882.1480301857191,0,81.86126708984375,53.15423583984375,null,null,{"$f":"R357+S357","v":5377.5658005306277}]
[" ","1950-07-31",3642.1447402161866,9952.7663739798609,0,0,0,3457.6038322448753,4484.974609375,2316.253247942589,9089.5085201360562,9685.8222637072577,817.9592021316015,3013.3573257699304,18537.474218852174,-9050.1426863353227,6578.6850915617561,2009.0960649734111,6926.216633523969,6680,0,85.288673400878906,52.844524383544922,null,null,{"$f":"R358+S358","v":8935.3126984973806}]
[" ","1950-08-31",3271.5976648713986,9768.507373407303,0,0,0,4509.0981788635181,5338.3916015625,1962.4830763696473,5943.67043559999,7141.9015861177595,715.07220937779846,2160.4195080658574,16376.140170785242,-10232.101936257532,4386.81805081114,4506.3241183274076,6118.0361973604595,4663.795229568942,994.20339137830342,88.454170227050781,52.051856994628906,null,null,{"$f":"R359+S359","v":10624.360315687867}]
[" ","1950-09-30",3199.2892102276437,5477.6303333821033,0,0,0,4560.8753776550293,5494.716796875,1670.1390796020369,4924.7024056934033,6989.0752644194818,670.57158749502071,1544.9628303531297,14814.744612725959,-9899.1115656846814,4269.4751721209886,4600,6680,6680,0,88.716400146484375,52.502960205078125,null,null,{"$f":"R360+S360","v":11280}]
[" ","1950-10-31",3250.0000000000032,10050.886898520383,0,0,0,8872.1307159651806,8735.8466796875,1616.9772542530741,2060.3792851548988,1700.0000000000691,649.81862612852785,1375.3942697690611,13337.63890496891,-8721.5991779256146,4392.5527678331109,4600,5893.282820742249,5893.282820742249,0,87.43865966796875,52.012107849121094,null,null,{"$f":"R361+S361","v":10493.28282074225}]
[" ","1950-11-30",3252,13209.996263210036,0,0,0,15219.194052188819,15219.1943359375,2074.8418706011462,1700,11679.979895673674,449,15818.523526658817,44931.542200885306,-9146.4615611097142,45956.980678798958,4600,6680,6680,0,54,53.385368347167969,null,null,{"$f":"R362+S362","v":11280}]
[" ","1950-12-31",3322,23569.067986387825,0,0,0,22618.494098436429,22618.494140625,2866,2085.0807638738206,22119.704754069669,367,15584.340771299392,62107.656150387651,-4992.3666372131938,89813.041248068228,4600,8665.1612903225796,8665.1612903225796,0,54,49.24139404296875,null,null,{"$f":"R363+S363","v":13265.16129032258}]
[" ","1951-01-31",3624,15129.890695898648,0,0,0,20503.78215037363,20503.78125,2846,11313.456177138709,21672.79460310116,384,9796.7105968473843,52223.802317512091,-2935.8839541781913,66881.866506837556,3066.3284741813654,6123.8194254815116,6123.8194254815116,0,54,45.687328338623047,null,null,{"$f":"R364+S364","v":9190.1478996628775}]
[" ","1951-02-28",3794,25299.966625315577,0,0,0,21216.196157995768,21251.3984375,2925,10840.078517811122,20592.245695366077,407,7228.7675841677201,56300.975907061395,-3512.1496966649288,71758.797052114154,1393.7011250015619,6255.6098287541481,6255.6098287541481,0,54,44.936527252197266,null,null,{"$f":"R365+S365","v":7649.3109537557102}]
[" ","1951-03-31",4196.0563624340857,8143.221299638788,0,0,0,11573.141496767053,11838.3046875,3105,4533.5108865811872,11588.536600666674,599,4288.4872714524599,28576.339902002906,-3258.0645161290322,31481.438008884255,2743.7706895211231,4221.2272845985262,4221.2272845985262,0,59.564697265625,47.702774047851563,null,null,{"$f":"R366+S366","v":6964.9979741196494}]
[" ","1951-04-30",4423.606449375764,5873.671617711635,0,0,0,6406.2291381001414,6708.7294921875,3361.5644753212305,1000,4379.833802395231,792,2235.6312102301617,14210.603995953381,-3500,14315.856931512615,3531.5411287384563,3867.4375165501747,3867.4375165501747,0,67.652633666992188,51.690666198730469,null,null,{"$f":"R367+S367","v":7398.978645288631}]
[" ","1951-05-31",4552,7920.0273628014747,0,0,0,5364.8676865510524,6261.74462890625,3538,1747.3727155970232,5153.1517580407744,967,2682.5397119981367,16041.17893410236,-3500,14000.08705553479,3139.2756427785675,2092.8504285190452,2092.8504285190452,0,69.520126342773438,53.023544311523438,null,null,{"$f":"R368+S368","v":5232.1260712976127}]
[" ","1951-06-30",4187.9566892001221,10551.196295364558,0,0,0,5011.0017947927527,6143.1533203125,3403.7938670196786,3120.0165292604197,4027.6652924432615,876.98750650003501,2179.6985092479167,13098.512559897088,-5000,6338.677118107591,3324.6189076977689,1790.1794118372609,1790.1794118372604,0,81.845588684082031,52.458957672119141,null,null,{"$f":"R369+S369","v":5114.7983195350298}]
[" ","1951-07-31",3473.3658047333333,15954.311946044405,0,0,0,8741.3756731280009,9886.1640625,2792.0434646338326,9949.615412787567,9754.2253835618776,591.99999999999966,4481.5189267865644,25194.961118395466,-8929.2066079453543,12801.455520931981,3117.70565987788,5883.8931893260333,5788.2756152375032,0,76.777099609375,51.026153564453125,null,null,{"$f":"R370+S370","v":9001.5988492039141}]
[" ","1951-08-31",3053.8419152787724,11682.788350214934,0,0,0,5859.6465973305931,7007.033203125,2302.3179288307228,8229.9057617484377,8557.5855490871618,530.63268879037162,1749.9999999999995,18090.676780735637,-10785.457374001806,5030.2416999998968,4600,6680,6680,0,84.746696472167969,51.238147735595703,null,null,{"$f":"R371+S371","v":11280}]
[" ","1951-09-30",2845.8093992037916,8863.0367349203825,0,0,0,8081.4471732529364,9072.5634765625,1853.1327096513594,8017.0154589270396,9991.8630169375574,429.71209542501521,2274.1835250940039,22263.25912862871,-9677.8326042257468,11250.000000000087,4225.3505776642151,6680,6680,0,76.400588989257813,50.585418701171875,null,null,{"$f":"R372+S372","v":10905.350577664216}]
[" ","1951-10-31",2813.6585107333485,6449.5456699959796,0,0,0,5753.6553198720185,5739.01806640625,1677.5822698166064,3999.9999999999927,4460.3145856332812,398.06928523847273,1352.7819655716385,12353.396721355113,-5104.6399583366492,7031.25,2932.8125,3581.9411136963981,3581.9411136963981,0,82.742561340332031,51.734481811523438,null,null,{"$f":"R373+S373","v":6514.7536136963981}]
[" ","1951-11-30",2917.2748743972729,8177.1243135400455,0,0,0,7734.4669146418282,8273.2373046875,1625.1315236993526,1719.388383990376,2883.915736518331,429.52815770414804,1870.0947560296875,14276.664754836298,-9509.6933753465855,4904.9592502618325,4600,6680,6680,0,88.764068603515625,52.667991638183594,null,null,{"$f":"R374+S374","v":11280}]
[" ","1951-12-31",3306,21987.159902915446,0,0,0,21114.203183907415,21114.203125,2036.7205235948441,1700,3141.6083792777176,567,3622.983003225675,35134.799490298123,-5290.322580645161,38232.2500435568,4294.7571324778746,2863.1714216519149,2863.1714216519149,0,55.565456390380859,48.677696228027344,null,null,{"$f":"R375+S375","v":7157.9285541297895}]
[" ","1952-01-31",3604,18279.12203344499,0,0,0,25504.069272612731,25504.068359375,2477.0086801512539,1700,17285.229335235443,567,8779.2552872888882,58784.218259096902,-4516.1290322580644,82940.037565629085,4600.0000000000018,4878.4065254026227,4878.4065254026245,0,54,45.333305358886719,null,null,{"$f":"R376+S376","v":9478.4065254026245}]
[" ","1952-02-29",3739,27617.98636178454,0,0,0,24417.574645280612,24451.5625,2832,6734.1373562376739,16018.327142350112,566,9258.4480413909841,57725.472996801298,-4482.7586206896549,74450.794563776537,4600.0000000000018,4355.3896541136037,4355.3896541136037,0,54,44.32696533203125,null,null,{"$f":"R377+S377","v":8955.3896541136055}]
[" ","1952-03-31",4022,18006.352045242566,0,0,0,23391.975974724668,23391.9765625,2988,7072.5615818602928,16215.821324603156,661,6724.1683584916109,49057.527727084227,-3258.0645161290322,65422.186516430214,4600,6106.7471056398681,6106.7471056398663,0,54,46.391399383544922,null,null,{"$f":"R378+S378","v":10706.747105639868}]
[" ","1952-04-30",4290,22972.518909116574,0,0,0,20432.400855169777,20447.2421875,3452,17581.454905803068,28595.067028614692,792,8670.5547220250974,56063.600248375093,-3500,71957.022212559066,4600,5953.020650249231,5953.020650249231,0,54,49.523628234863281,null,null,{"$f":"R379+S379","v":10553.020650249231}]
[" ","1952-05-31",4552,12531.62588668167,0,0,0,11072.897544908081,11887.7216796875,3538,20391.224884264655,34935.479313023527,967,9164.492925807499,56129.861201202104,-3500,63700.594009000146,4407.4603040855545,6205.615893148316,6205.6158931483187,0,54,52.327434539794922,null,null,{"$f":"R380+S380","v":10613.07619723387}]
[" ","1952-06-30",4500,9284.713308600556,0,0,0,6127.6377606319438,7082.4384765625,3538,9069.6248646801778,18113.234382911774,967,7725.0460226740806,34866.181305043297,-5000,36482.653877133111,4599.9999999999982,6156.0795751736805,6156.0795751736423,0,55.443065643310547,53.318618774414063,null,null,{"$f":"R381+S381","v":10756.079575173679}]
[" ","1952-07-31",4150,13604.006429516176,0,0,0,7717.9290276371921,8999.4873046875,3538,2346.8912159792017,5230.9160947286327,942,3078.744056516719,18479.908556406779,-8354.9242919379685,10888.297728125597,4600,6680,6680,0,73.464225769042969,51.928478240966797,null,null,{"$f":"R382+S382","v":11280}]
[" ","1952-08-31",3700,12276.659735387218,0,0,0,6550.165857083447,7578.595703125,3450.9121036423303,2505.0410302918353,4500.9626435051441,791.99999999999989,3709.9433828416718,16496.846116593395,-9473.7240042617341,6764.7742251563232,4600,6680,6680,0,83.084968566894531,51.381183624267578,null,null,{"$f":"R383+S383","v":11280}]
[" ","1952-09-30",3399.9999999999995,11169.485584029559,0,0,0,10848.447319408559,11685.138671875,3162.7377778565301,5558.9411708932366,7319.5024162563786,743.36563902579303,1750,21343.853957411815,-8943.7854916942415,13000.000000000087,4600,6680,6680,0,74.526901245117188,50.437126159667969,null,null,{"$f":"R384+S384","v":11280}]
[" ","1952-10-31",3250,8551.9295880162608,0,0,0,7861.7295876785538,7781.1533203125,2942.5611223314245,4000.0000000000164,4745.6751615059429,708.7132357305743,1319.7734800172198,14286.855568486484,-6246.8942955887687,7656.25,4600,3544.4287691723475,3544.4287691723475,0,80.791572570800781,51.726806640625,null,null,{"$f":"R385+S385","v":8144.4287691723475}]
[" ","1952-11-30",3174.1422803205442,6597.6057644212287,0,0,0,6101.989363739277,6218.75927734375,2852.1333410087968,2499.999999999904,2979.8130288224752,560.83108687647268,3879.3581825956603,13989.930980532929,-9163.874772011819,5052.4343988418368,4600,6680,5748.8536716480521,918.31101992109234,88.181785583496094,53.500110626220703,null,null,{"$f":"R386+S386","v":11280}]
[" ","1952-12-31",3345,18681.042782232864,0,0,0,22658.100839751554,22658.1015625,2918,3099.9835862366976,4133.6684127553563,567,2457.4572952842645,32149.102330269954,-9492.2362381132516,30337.265384724218,4600,7101.1519903964745,7101.1519903964745,0,60.019134521484375,51.060600280761719,null,null,{"$f":"R387+S387","v":11701.151990396475}]
[" ","1953-01-31",3366,44509.366894808045,0,0,0,26500.855290953543,26500.85546875,2809,20514.185152789327,20502.895603194745,566,6964.1051977667457,61599.313387211601,-3645.1612903225805,99802.88586538675,4053.8681526349937,2702.5787684233292,2702.5787684233292,0,54,46.488014221191406,null,null,{"$f":"R388+S388","v":6756.4469210583229}]
[" ","1953-02-28",3713.3586565432374,5710.6860063590793,0,0,0,10329.163143245447,10988.3251953125,3058.0397751760192,1700,8403.9824798004865,558.05846791747342,1999.9999785508192,24353.923819299071,-5000,22692.438697358237,3382.3128449321066,4230.8665850910256,4230.8665850910256,0,63.833980560302734,45.852371215820313,null,null,{"$f":"R389+S389","v":7613.1794300231322}]
[" ","1953-03-31",4147.3133950118427,7705.1702742151356,0,0,0,10182.830374961557,10331.4384765625,3059,6148.4057198642586,7737.4576654061802,619.72650872218185,1583.5301037719478,20854.655188517958,-3258.0645161290322,19706.559547444329,2764.7345184502165,2889.9950629332816,2889.9950629332807,0,64.241645812988281,48.338596343994141,null,null,{"$f":"R390+S390","v":5654.729581383498}]
[" ","1953-04-30",4512.312480886163,7537.4806450008391,0,0,0,8465.2635872318824,8344.7958984375,3284,4531.8288506699464,6918.0249666723166,792,2579.3585557495708,18372.177178338541,-3097.5438937160602,18093.23609617259,3302.2322409194767,2713.2987889779261,2713.2987889779261,0,67.236763000488281,52.133968353271484,null,null,{"$f":"R391+S391","v":6015.5310298974027}]
[" ","1953-05-31",4552,13238.821981552765,0,0,0,11285.995559404859,12655.6533203125,3538,3272.6752488537495,8494.2723135994893,967,2126.3852049151142,23930.848117110581,-3500,21924.616359023123,3264.5853406354536,2176.3902270903209,2176.3902270903209,0,66.3529052734375,51.325969696044922,null,null,{"$f":"R392+S392","v":5440.9755677257745}]
[" ","1953-06-30",4500,11748.484715600065,0,0,0,7813.83571261415,9014.2529296875,3538,5514.254915460866,10746.484440917455,967,4309.2597099654249,24818.772674271862,-5000,18600.495395230384,3137.999094023507,2091.9993960156703,2091.9993960156703,0,67.209831237792969,52.307281494140625,null,null,{"$f":"R393+S393","v":5229.9984900391773}]
[" ","1953-07-31",4058.9786407655679,13699.750021136453,0,0,0,7717.7274024849612,8748.12890625,3045.6684538160471,9364.4677180125163,10422.138952502224,908.46581501889318,2779.2507584862665,22650.989472187834,-11122.056044679637,8000,4600,7004.9017250857205,6680,0,79.635612487792969,51.865238189697266,null,null,{"$f":"R394+S394","v":11604.901725085721}]
[" ","1953-08-31",3700,10875.367967227796,0,0,0,5682.2807906738344,6504.32470703125,2635.6702780813648,7559.3831686341591,8267.9655602122803,792,2690.3140227084386,18264.963924705491,-10699.955645301037,5770.3226888259687,4600,6680,6680,0,85.872093200683594,51.630409240722656,null,null,{"$f":"R395+S395","v":11280}]
[" ","1953-09-30",3399.9999999999991,11185.935644708457,0,0,0,10865.407742414496,11751.0703125,2203.101337462926,7891.4404351986777,9756.2737057512259,748.93517931998281,1533.4641605379356,22790.394295192349,-9806.9284485850512,11906.250000000076,4600,6680,6680,0,77.863182067871094,50.414161682128906,null,null,{"$f":"R396+S396","v":11280}]
[" ","1953-10-31",3250.0000000000005,8994.365269280448,0,0,0,8470.2501506970202,8426.95703125,2004.3486383405188,3999.9999999999968,4546.0675256340746,699.16319351218181,1332.6075201148903,14604.823932399344,-6736.2821712510922,7343.75,4600,3723.4904394430541,3723.4904394430505,0,79.742805480957031,51.432682037353516,null,null,{"$f":"R397+S397","v":8323.4904394430541}]
[" ","1953-11-30",3252,9979.3753214795124,0,0,0,9614.1682111798127,9858.1005859375,2024.0731996468344,1700,2307.7862021246351,567,3787.26969545664,16305.051711517293,-9343.9166468443218,6521.7704015169147,4600,6680,6680,0,81.831657409667969,52.791301727294922,null,null,{"$f":"R398+S398","v":11280}]
[" ","1953-12-31",3312.0105890082564,7044.0635182427377,0,0,0,7573.8077035087063,7872.43310546875,1888.1323330419586,4606.1804860958391,5293.6295387557821,556.95112079210503,1889.9078819550496,15477.098521174288,-9787.5454131820516,5073.064659984122,4600,7030.701696800239,6765.7340396710779,264.96765712916113,84.785354614257813,49.850826263427734,null,null,{"$f":"R399+S399","v":11630.701696800239}]
[" ","1954-01-31",3552,21111.954781908149,0,0,0,20291.972995622771,20291.97265625,2035.5899733417743,2928.3065753909832,1700,567,1665.9068246152715,25612.737861953494,-3645.1612903225805,24589.322207865625,3037.6915868115134,2025.1277245410088,2025.1277245410088,0,63.945823669433594,47.251480102539063,null,null,{"$f":"R400+S400","v":5062.8193113525222}]
[" ","1954-02-28",3661,28169.645419545603,0,0,0,24213.632991291706,24248.833984375,2402.197268906813,1700,7410.8635023563429,567,2951.8514946196433,47387.222423087325,-4464.2857142857147,55256.454201230175,3590.8698363730505,2393.9132242487026,2393.9132242487026,0,54,45.510860443115234,null,null,{"$f":"R401+S401","v":5984.7830606217531}]
[" ","1954-03-31",4106,18301.3995557054,0,0,0,21704.678315663528,21704.677734375,2943,1973.086914062942,8669.4303464159257,656,4012.2327000205782,37144.078298734465,-3258.0645161290322,40729.210574784374,3000.7901825578065,2000.5267883718734,2000.5267883718725,0,54.35638427734375,47.149154663085938,null,null,{"$f":"R402+S402","v":5001.3169709296799}]
[" ","1954-04-30",4546,17753.360199353468,0,0,0,20623.104907269695,20634.595703125,3292,6219.0309677556206,13935.773641165999,792,3710.4573669114993,38256.213769309994,-3115.2751792004406,43280.404073841797,3775.7596236969466,2517.1730824646311,2517.1730824646311,0,54.303966522216797,49.974147796630859,null,null,{"$f":"R403+S403","v":6292.9327061615777}]
[" ","1954-05-31",4506.4877496101117,9736.8599849981547,0,0,0,6191.0125446751917,6720.9033203125,3416.5121586242844,2028.4393796158834,5549.4166569753907,889.37584798542844,1154.9547489231356,13780.569532830781,-3178.8940879639554,10697.581000000006,3117.1808914410412,1678.482018468254,1678.482018468254,0,75.726448059082031,53.013927459716797,null,null,{"$f":"R404+S404","v":4795.6629099092952}]
[" ","1954-06-30",4162.4166991057373,11910.713832757832,0,0,0,7174.740511922897,8784.3359375,3253.8126870621381,3779.9536141194808,5034.911214596289,833.76128895151305,1136.1411671441399,14887.387447160199,-5000,7706.6665000001376,3399.8549648495114,1830.6911349189691,1830.6911349189691,0,82.254951477050781,52.270275115966797,null,null,{"$f":"R405+S405","v":5230.5460997684804}]
[" ","1954-07-31",3494.096049553888,16178.905923971395,0,0,0,9689.3698315576439,10852.6708984375,2678.707500307909,9320.1487475729264,8950.1122820260844,535.83132950596166,4219.7637902244351,24964.30302349267,-9296.4144323412984,11891.869151665484,3356.1319152214223,6107.7414554332436,5866.078959778577,0,78.439788818359375,51.399349212646484,null,null,{"$f":"R406+S406","v":9463.8733706546664}]
[" ","1954-08-31",3181.6663826748118,12088.521250178705,0,0,0,7248.4741910828907,8281.984375,2222.3288254152644,7787.1346331845889,7719.3520557645306,485.57153616393509,1482.404227242308,17907.865779984477,-10519.309997640728,5312.5,4343.3132709061465,6680,6680,0,84.571479797363281,51.512508392333984,null,null,{"$f":"R407+S407","v":11023.313270906146}]
[" ","1954-09-30",3050.7155104505387,9659.5792098729889,0,0,0,8750.6410950866793,9649.87890625,1783.4458842958238,7796.7652543887516,9606.5947060882136,392.21716467560299,2045.7635255721111,22121.240665700596,-8937.0039311683067,11875.000000000087,3435.2037393969404,6680,6680,0,77.147651672363281,50.746017456054688,null,null,{"$f":"R408+S408","v":10115.20373939694}]
[" ","1954-10-31",2976.2393091191439,6575.188988842865,0,0,0,5660.9201135706317,5864.0322265625,1583.6020964026156,3999.99999999998,4861.5793410653141,336.23485695293471,1316.8616994115569,12771.397706485866,-5486.5336932809059,6718.75,3104.6875000000009,3912.1835463182397,3912.1835463182397,0,82.340171813964844,51.812484741210938,null,null,{"$f":"R409+S409","v":7016.8710463182406}]
[" ","1954-11-30",3098.3890151290871,7846.4616920937078,0,0,0,9518.4702150205467,10043.2265625,1515.370239913721,1700,2289.5339783548411,320.34352516771867,1525.2021157351587,14723.662725604559,-9400.9900243399534,5071.4692593960972,4600,6680,6574.33558486519,105.66441513481004,85.400489807128906,52.895500183105469,null,null,{"$f":"R410+S410","v":11280}]
[" ","1954-12-31",3360,8494.041080816427,0,0,0,12597.511149397757,13524.97265625,1539.0882664449209,1700,3896.9948384295221,382.23815010410181,1553.6670810604503,21740.384366276059,-9703.4505861351354,13148.492984353572,4600,7042.1602267537228,7042.1602267537237,0,75.188949584960938,50.155536651611328,null,null,{"$f":"R411+S411","v":11642.160226753724}]
[" ","1955-01-31",3506.5732605657431,6636.4806842414318,0,0,0,9746.5111608656716,10617.060546875,1595.4978684209127,1700,4013.9125809347411,446.42002529808502,1237.1941767865599,17366.890838714618,-5225.8064516129034,15803.845725650839,4453.5992399060742,2969.0661599373798,2969.0661599373798,0,70.549774169921875,46.753959655761719,null,null,{"$f":"R412+S412","v":7422.665399843454}]
[" ","1955-02-28",3659.1228380315656,5094.1398613391266,0,0,0,6423.4385621420206,6952.95751953125,1682.1079463068425,1700,2228.7804546311436,454.02354786054491,1194.0995354511265,14200.804621446261,-5000,10324.136377030283,3997.5044297913282,2607.3476709116248,2607.3476709116248,0,76.968833923339844,46.784503936767578,null,null,{"$f":"R413+S413","v":6604.8521007029531}]
[" ","1955-03-31",3827.5649433029998,4599.7343225035147,0,0,0,6126.5576308232257,6221.30029296875,1806.4975305675898,1700,2281.4154904971765,456.3218326335159,1527.4217090741565,10984.231472919841,-3428.8908666454536,8392.3328973269145,3263.0106273056927,1757.0057223953336,1757.0057223953718,0,81.023406982421875,49.576873779296875,null,null,{"$f":"R414+S414","v":5020.0163497010262}]
[" ","1955-04-30",4199.7216108621969,5762.8050916967259,0,0,0,5998.8461353919529,6470.7373046875,1878.6986493995287,1654.3981622464812,2800,550.16240723907583,841.62290447793521,10947.632471649767,-1752.2414948919927,10540.769296255075,800,2858.2524336450197,2858.2524336450197,0,79.127357482910156,52.91546630859375,null,null,{"$f":"R415+S415","v":3658.2524336450197}]
[" ","1955-05-31",4308.1468141776249,8097.3029202779171,0,0,0,4744.3022156676743,6393.6005859375,2058.2720808078016,1093.1581139036116,2800,715.37780890372176,815.57417803190083,11206.666353846551,-2598.3616427089364,8520.3559150136025,1760.6136107317752,1946.1681934180206,1946.1681934180187,0,80.9031982421875,53.520912170410156,null,null,{"$f":"R416+S416","v":3706.7818041497958}]
[" ","1955-06-30",3823.1026904186019,13606.943739891869,0,0,0,8362.4237337815794,9692.498046875,1891.2204425612267,3345.8108403619631,3342.9882153186554,735.5179973450862,765.43380339350449,14128.393899637545,-3755.5025762692035,7935.3984408521128,3331.5262412600146,300,300,0,80.812164306640625,51.973136901855469,null,null,{"$f":"R417+S417","v":3631.5262412600146}]
[" ","1955-07-31",3319.6478290586861,13078.43604828842,0,0,0,7619.8655339288844,8948.2080078125,1610.8477883238679,3728.7778860146159,2769.8418779817357,643.48055976146418,1750,13797.876252085316,-5315.4462635073396,5608.2983840334027,3207.0082358304389,1708.1264389452631,453.99969944129055,910.02343324583876,85.385856628417969,51.6876220703125,null,null,{"$f":"R418+S418","v":4915.1346747757016}]
[" ","1955-08-31",3069.7133206155127,9199.8150947080994,0,0,0,5022.2524936803411,6268.94873046875,1521.6728312445873,1736.7529944947023,1249.8995266754453,558.96333396217085,1750.0000000000002,9800.8549976108588,-4542.9196413756981,3500,3998.4064296583906,586.21991171055015,334.59337921961924,0,89.827980041503906,52.480968475341797,null,null,{"$f":"R419+S419","v":4584.6263413689412}]
[" ","1955-09-30",3051.8647740473402,5290.1732769412229,0,0,0,4574.5283660888526,5420.92919921875,1448.1033895674068,1000,2641.6456734444255,518.014339720973,1425.1127240513067,10433.044049241915,-6474.2578973180371,3000.0000000000873,4399.576932759589,3190.0416279175629,3190.0416279175629,0,90.791610717773438,52.826316833496094,null,null,{"$f":"R420+S420","v":7589.6185606771523}]
[" ","1955-10-31",2948.6253360701648,6162.5638400831613,0,0,0,5406.4099451692091,5334.73681640625,1286.4913963209192,1704.0102558530662,1923.4016824252958,487.14085447498309,982.1823111004345,8955.4385181072666,-3612.7023527149395,5155.0507919364445,2429.9676833674002,2357.5498481470395,2357.5498481470395,0,90.647560119628906,52.319709777832031,null,null,{"$f":"R421+S421","v":4787.5175315144397}]
[" ","1955-11-30",2974.8400976164558,7735.6596680054545,0,0,0,6989.3454114593087,7127.37646484375,1154.7422476421129,1700,1845.0484181939944,481.11758009084826,1352.2786783859342,11401.893193712225,-6809.8334573056454,4500.0000000000873,3410.4745921526346,4924.3957603500339,4924.3957603500339,0,90.397994995117188,53.201648712158203,null,null,{"$f":"R422+S422","v":8334.8703525026685}]
[" ","1955-12-31",3252,42139.842904259713,0,0,0,21116.996284271907,21116.99609375,2602.5085726167408,1700,3379.1303495998341,524,16971.334260903986,48367.989156632277,-5290.322580645161,93785.735879640328,4600,5540.5554127135383,5540.5554127135383,0,54,49.375156402587891,null,null,{"$f":"R423+S423","v":10140.555412713538}]
[" ","1956-01-31",3252,51402.133821740092,0,0,0,27198.404544803478,27198.404296875,2788,17886.274296735504,34601.01719493467,460,16136.964278096028,75614.655354215793,-1635.3812945644054,161968.30047504307,4599.9999999999072,9749.7999999999993,9749.7999999999993,0,54,44.746829986572266,null,null,{"$f":"R424+S424","v":14349.799999999907}]
[" ","1956-02-29",3288,31348.777717245939,0,0,0,19928.391206880216,19962.37890625,2788,11341.567931953043,18694.765539123789,458,6473.0801570289896,51111.894778579328,-4482.7586206896549,86088.238453087921,4600,6485.0416734693281,6225.9701558654515,259.0715176038766,54,43.301090240478516,null,null,{"$f":"R425+S425","v":11085.041673469328}]
[" ","1956-03-31",3971.4022266969519,8516.8049953142072,0,0,0,13949.24414059755,14235.966796875,3018,6429.4211394704334,16980.085268010975,616,2911.2176497817386,33273.537633082087,-3258.0645161290322,40062.187943691039,2028.5797755275571,5765.4856609153621,5765.4856609153621,0,55.535884857177734,47.268650054931641,null,null,{"$f":"R426+S426","v":7794.0654364429192}]
[" ","1956-04-30",4487.0189046219884,7310.1616645758495,0,0,0,10276.354686357185,11337.03125,3427,3236.9900161792093,7004.7221827247149,792,2375.1829814394014,20955.029784058803,-3500,21508.19780138346,3288.5122070625803,4459.9686156451598,4459.9686156451598,0,64.219230651855469,51.68804931640625,null,null,{"$f":"R427+S427","v":7748.4808227077401}]
[" ","1956-05-31",4552,14571.350281605095,0,0,0,11992.852418984705,13250.212890625,3538,10828.195293546401,17921.760838824393,967,5262.5263156124456,37677.681944146512,-3500,39330.609370193852,4437.612067149651,2958.4080447664342,2958.4080447664342,0,54.439098358154297,51.866584777832031,null,null,{"$f":"R428+S428","v":7396.0201119160847}]
[" ","1956-06-30",4461.9995723362354,9078.1998924570089,0,0,0,4746.6148986816406,6330.72314453125,3538,4355.8938223891182,8521.9405985644116,967,4470.8260410261573,19590.501945406249,-5000,18462.285849756125,4599.9999999999982,4312.4551734478428,4312.4551734478428,0,64.983985900878906,53.376708984375,null,null,{"$f":"R429+S429","v":8912.4551734478409}]
[" ","1956-07-31",4115.1220977205166,10401.388536025344,0,0,0,4604.2074279785156,5865.70556640625,3138.1721825057184,8086.9153637220261,9026.6497529664975,942.00000000000023,1797.9217937242825,17384.227688312931,-9239.1980991814344,8000,4600,7004.9017250857196,6680,0,78.201316833496094,52.568683624267578,null,null,{"$f":"R430+S430","v":11604.90172508572}]
[" ","1956-08-31",3700.0000000000005,12191.098997507017,0,0,0,7202.6812549135757,8574.37109375,3056.8013443123009,1924.0630020907668,2420.2340527990359,792,3180.1713083283144,15049.633202952999,-8330.0062910016022,5947.580599999952,4600,4703.3972675961668,4703.3972675961668,0,84.888702392578125,51.156047821044922,null,null,{"$f":"R431+S431","v":9303.3972675961668}]
[" ","1956-09-30",3399.9999999999995,11594.363772529108,0,0,0,10570.949816825329,11203.6240234375,2725.7393488569924,6537.4145445531067,8323.087730660689,751.99999999999989,1609.8293022311275,21979.214366549175,-9342.4918611662069,12531.250000000087,4600,6500.7959315607659,6500.7959315607659,0,76.057716369628906,50.054832458496094,null,null,{"$f":"R432+S432","v":11100.795931560766}]
[" ","1956-10-31",3249.9999999999995,10184.277068091653,0,0,0,8992.5134792860517,8938.4013671875,2574.1367727000629,4000,3820.176494063162,712.00000000000011,1481.6727963506476,15255.702193374891,-7567.1719114280349,7500,4600,4922.2164951327813,4922.2164951327813,0,80.689010620117188,51.255401611328125,null,null,{"$f":"R433+S433","v":9522.2164951327813}]
[" ","1956-11-30",3144.5892733543883,7322.3344542516561,0,0,0,6766.3660792518476,6749.4013671875,2485.8204033991219,2500,2936.3842515167498,553.78058378597541,3951.9205698394794,14470.832051191528,-9440.512589607195,4640.2196202681953,4600,6680,4633.2144896619538,1888.1091705341096,87.228950500488281,53.367172241210938,null,null,{"$f":"R434+S434","v":11280}]
[" ","1956-12-31",3134.2578817414537,5399.8149047191509,0,0,0,5438.3046376662887,5830.45654296875,2245.4191032840413,5751.6106620742967,5929.3015508169983,543.81150124419094,1811.202195046576,14435.906855711786,-9179.4430720369382,4644.4752924965724,3945.7407531448316,7053.4600191736081,7053.4600191736081,0,88.964431762695313,51.063446044921875,null,null,{"$f":"R435+S435","v":10999.20077231844}]
[" ","1957-01-31",3249.8571138520829,5360.1604022758602,0,0,0,6818.0662094043601,7382.53759765625,2326.6871610533726,1700,2992.8519155643198,524.36240570183202,1248.417170074553,12335.693997981134,-5225.8064516129034,8189.2262966227336,4112.7082083380783,2741.8054722253846,2741.8054722253846,0,83.109764099121094,48.303966522216797,null,null,{"$f":"R436+S436","v":6854.5136805634629}]
[" ","1957-02-28",3675,12658.85569361347,0,0,0,15078.000023502538,15113.2021484375,2728.8408341028057,3834.5802637757779,1700,563,3512.4627903893788,24349.545085537444,-4464.2857142857147,22861.054557293653,3693.4929677484174,2462.3286451656136,2462.3286451656136,0,64.593345642089844,46.776756286621094,null,null,{"$f":"R437+S437","v":6155.821612914031}]
[" ","1957-03-31",4129,17154.164791568204,0,0,0,20839.177364967582,20843.71484375,2990,4980.0075500563935,15163.248050555429,652,4223.9511312398354,40178.640621803854,-3258.0645161290322,43716.07839444594,3379.7195251427415,2253.1463500951572,2253.1463500951572,0,54,48.141841888427734,null,null,{"$f":"R438+S438","v":5632.8658752378988}]
[" ","1957-04-30",4538.9204290728067,5465.7126060636383,0,0,0,6239.7171248363657,6832.9404296875,3165.3727035824154,1000,3327.4640238407969,747.68390409530059,1262.6525412610845,11688.820329533499,-3336.8266222337697,10628.425342319002,2038.2342692368184,4168.9662623991317,4168.9662623991317,0,74.740280151367188,53.253707885742188,null,null,{"$f":"R439+S439","v":6207.20053163595}]
[" ","1957-05-31",4552,14528.883221092801,0,0,0,10920.942756374043,12023.0947265625,3456.6236591398583,1000,4847.479608306824,967,2206.0732932082387,20290.453223123735,-3500,18683.255102901294,2938.8824746084229,2525.0310392304773,2525.0310392304773,0,68.077613830566406,51.920001983642578,null,null,{"$f":"R440+S440","v":5463.9135138389001}]
[" ","1957-06-30",4318.3930290624739,9918.9626274612056,0,0,0,4735.0885772705451,6040.0166015625,3331.0451444777987,3495.0339342224529,5632.0028432604222,937.88742464126494,2301.8380820022971,13534.253045809795,-5000,6541.6665000001376,3296.2431090521595,1774.9001356434701,1774.9001356434712,0,82.547271728515625,53.176166534423828,null,null,{"$f":"R441+S441","v":5071.1432446956296}]
[" ","1957-07-31",3650.4460168247419,16071.545317072039,0,0,0,9801.5476474343304,11129.162109375,2804.5056884689329,8341.424077242069,8350.1082265722853,691.51898011536537,4258.8627682820043,24398.961129932071,-9653.794558716847,11161.444761639737,4240.7621904259977,5695.4349366078231,5506.0313641078938,0,79.832084655761719,51.234725952148438,null,null,{"$f":"R442+S442","v":9936.1971270338217}]
[" ","1957-08-31",3274.7733208007239,10926.285616801164,0,0,0,5423.2107272834273,6754.2470703125,2344.5500366295742,7078.5087739932269,7992.3445708824083,628.97627202793512,1750,17017.571018132974,-9602.8169023274095,5421.0301414722808,3355.6422220644308,6680,6680,0,85.956138610839844,51.538516998291016,null,null,{"$f":"R443+S443","v":10035.642222064431}]
[" ","1957-09-30",3189.6856180594659,8424.0459226892017,0,0,0,7955.9223823579632,8568.568359375,1918.4207163776491,7995.6866706911178,9561.4311672237873,546.84871781821448,1941.6408561274507,21227.174548774354,-8483.0702096130553,11718.750000000087,3032.3488705316704,6680,6680,0,76.995010375976563,51.257114410400391,null,null,{"$f":"R444+S444","v":9712.3488705316704}]
[" ","1957-10-31",3249.9999999999995,8765.8893383268241,0,0,0,10763.223871410473,11382.236328125,1858.6123256266014,1700.0000000000127,2207.4468689675618,508.88429495715241,1355.9213852044518,15476.36700725445,-8615.0071681656009,6718.75,4600,5880.2381403704931,5880.2381403704931,0,81.24468994140625,52.045330047607422,null,null,{"$f":"R445+S445","v":10480.238140370493}]
[" ","1957-11-30",3252,10431.171262600892,0,0,0,11116.566223727334,11170.8388671875,1767.0530764211892,1970.7016394363363,1700,498.1253244573378,1712.0476739024641,15235.660330205019,-9440.7696756586338,5622.8166874982562,4599.9999999999945,6680.0000000000055,6680.0000000000055,0,83.340110778808594,53.180038452148438,null,null,{"$f":"R446+S446","v":11280}]
[" ","1957-12-31",3338,15192.64542398812,0,0,0,17385.148741017292,17385.1484375,1910.6956405284143,1700,2888.364425703151,548.23185630251078,1755.6841413737629,23116.317381392848,-5290.322580645161,18686.656751941384,4053.3413232337389,2702.227548822495,2702.227548822495,0,66.735572814941406,50.096057891845703,null,null,{"$f":"R447+S447","v":6755.5688720562339}]
[" ","1958-01-31",3531,22403.726322035931,0,0,0,23340.23285231346,23340.232421875,2188.4630172434813,1700,4624.6908987487368,567,2210.4190660646927,34446.94003711854,-4516.1290322580644,38018.201240162598,3829.5977860572484,2553.0651907048341,2553.0651907048341,0,55.377296447753906,46.863685607910156,null,null,{"$f":"R448+S448","v":6382.6629767620825}]
[" ","1958-02-28",3252,84427.759756849438,0,0,0,27809.926697103147,27845.12890625,2788,11571.565138621252,15619.95374714328,557,10417.888765205189,70371.114104919005,-4464.2857142857147,173027.00082725988,4585.9483624899867,3057.2989083266584,3057.2989083266584,0,54,45.071887969970703,null,null,{"$f":"R449+S449","v":7643.2472708166451}]
[" ","1958-03-31",3416,31077.430450612712,0,0,0,24426.029598472218,24426.029296875,2788,11899.292666411442,30935.283967770192,656,7159.7374650980737,64857.956789237411,-3258.0645161290322,98431.209759183344,4600.0000000000018,5568.6437120990468,5568.6437120990468,0,54,45.5765380859375,null,null,{"$f":"R450+S450","v":10168.643712099049}]
[" ","1958-04-30",4173,23018.087393594877,0,0,0,25085.12045941141,25093.248046875,3235,7670.6297925840918,25455.823013860754,792,10107.506312303558,64061.12974627842,431.32577383695298,102448.24805237413,4433.4595998621726,6679.9999999999991,6680,0,54,49.831794738769531,null,null,{"$f":"R451+S451","v":11113.459599862172}]
[" ","1958-05-31",4552,12093.894329220258,0,0,0,11224.602853673923,12004.904296875,3538,10506.737447973803,19190.435433809427,967,7832.7627867176707,40268.105255241651,-3500,45125.753744875125,3940.3920074454222,5995.5288152711873,5995.5288152711873,0,55.083835601806641,52.403125762939453,null,null,{"$f":"R452+S452","v":9935.9208227166091}]
[" ","1958-06-30",4500,11894.672953402425,0,0,0,8965.4459112870518,10394.333984375,3538,6741.4085380777542,12417.585316784238,967,5534.7149282190048,29894.152103470842,-5000,30456.15898293518,4600.0000000000018,5290.3994720465926,5290.3994720465907,0,61.251808166503906,52.849441528320313,null,null,{"$f":"R453+S453","v":9890.3994720465944}]
[" ","1958-07-31",4150,14388.241879132584,0,0,0,7735.2898554339727,9260.97265625,3422.2224648706792,3248.1292242536192,4839.6224637457162,941.99999999999989,1920.5445518423903,16994.559067370101,-9075.1489330610675,8000,4600,7004.9017250857196,6680,0,80.692085266113281,51.596485137939453,null,null,{"$f":"R454+S454","v":11604.90172508572}]
[" ","1958-08-31",3700,13744.332397294627,0,0,0,8098.6942521398314,9335.0341796875,3369.0441009796677,1524.0247173310449,2459.29407308999,792,3371.193611844265,16082.125108461099,-9614.5601391389282,6560.3617211335859,4600,6680,6680,0,83.865989685058594,51.385040283203125,null,null,{"$f":"R455+S455","v":11280}]
[" ","1958-09-30",3399.9999999999995,12434.415104512052,0,0,0,11194.64349169745,11343.669921875,3251.1959214006956,2603.9652585346385,4759.3000593791967,752,1622.1248768942778,18107.267267466497,-7242.4573719930449,11593.750000000087,4600,4893.1811211437143,4893.1811211437143,0,79.109451293945313,50.285362243652344,null,null,{"$f":"R456+S456","v":9493.1811211437143}]
[" ","1958-10-31",3249.9999999999995,9587.5620376649022,0,0,0,8247.8905818955063,8186.50146484375,3026.785726537154,4000,5181.8934223313272,698.32362879101129,1327.7651966747535,15333.447547167114,-6881.4637644082468,8125,4600,4324.2122599987415,4324.2122599987415,0,80.041030883789063,52.094139099121094,null,null,{"$f":"R457+S457","v":8924.2122599987415}]
[" ","1958-11-30",3156.2545466041192,7097.8631971198456,0,0,0,5940.6071328296339,5891.7119140625,2924.9802378207951,2500,2961.5109296253104,556.56358468983979,3442.0964825342694,13395.493787826688,-9243.0483943275322,4865.5567607461271,4600,6680,5354.8513873782103,1186.8915082141939,86.482078552246094,54.074649810791016,null,null,{"$f":"R458+S458","v":11280}]
[" ","1958-12-31",3239.488516928936,4598.4388856054047,0,0,0,4796.5509160774027,4972.033203125,2719.6829852225069,5362.0007096382351,5757.1937102633601,526.52698335475782,1825.4884386300064,13709.279722909259,-8766.7150101001425,4566.0783867194714,3597.4299273625625,7092.5382276393721,7092.5382276393721,0,86.283889770507813,54.456573486328125,null,null,{"$f":"R459+S459","v":10689.968155001934}]
[" ","1959-01-31",3648,17072.428128189571,0,0,0,19450.239100523206,19450.23828125,2978,2366.7059925486901,2919.4891976737517,567,1603.3155718580122,26886.083902133272,-3645.1612903225805,26930.062625061917,3173.1883761946815,2115.4589174631224,2115.4589174631224,0,60.72393798828125,50.570259094238281,null,null,{"$f":"R460+S460","v":5288.6472936578039}]
[" ","1959-02-28",3777,20445.583985386154,0,0,0,23701.8466894831,23737.048828125,2839,9567.3876704194317,16634.449715687366,567,3036.0602310148852,45977.11792674123,-4464.2857142857147,53360.228139729268,4227.7224471174641,2818.4816314116406,2818.4816314116406,0,54,48.323005676269531,null,null,{"$f":"R461+S461","v":7046.2040785291047}]
[" ","1959-03-31",4221.0812314040368,5448.5854137897104,0,0,0,8732.0937732496386,8922.9453125,3054,2242.7864675250075,5202.0809261216518,620.58435900760867,1062.3196393629612,15992.52994929289,-3258.0645161290322,14391.899901560622,3148.6073458363667,2099.0715638909119,2099.0715638909119,0,69.60150146484375,51.560283660888672,null,null,{"$f":"R462+S462","v":5247.6789097272786}]
[" ","1959-04-30",4513.1061213962212,4584.8624919292379,0,0,0,4782.7453918457031,5135.224609375,3137.7480043271012,1888.7703436173633,2800,694.80703671461413,772.50490190728613,9043.5162426497373,-1931.967510669657,7219.4817793528164,800,2528.2735658667916,2528.2735658667916,0,81.21405029296875,55.898731231689453,null,null,{"$f":"R463+S463","v":3328.2735658667916}]
[" ","1959-05-31",4322.1117344385912,9686.0981997360395,0,0,0,5252.4954185783918,6910.20703125,3063.604205798767,3439.378278280105,5054.8557486152631,700.55099005157706,754.97123417656155,13192.265235068056,-2870.0578752051906,9191.6347955004949,2570.9138999246643,1149.1678479068582,1149.1678479068582,0,78.51495361328125,53.692184448242188,null,null,{"$f":"R464+S464","v":3720.0817478315225}]
[" ","1959-06-30",3759.76157603504,14639.724369926356,0,0,0,8083.4493907206079,9391.8427734375,2718.6609037794738,5468.0226453057912,5788.8784371887505,652.30239929853542,612.32338360843551,16072.338747300582,-5000,7983.9437662302162,2008.4406236185496,2881.9000876341861,2881.9000876341865,0,81.560188293457031,51.9498291015625,null,null,{"$f":"R465+S465","v":4890.3407112527357}]
[" ","1959-07-31",3145.0546419631942,16052.403313262424,0,0,0,8888.2519845923416,10103.166015625,2052.8389751212135,10016.806349250064,9572.8560891646302,357.33538387727998,3871.7839679226886,24245.094411995611,-11447.077131594451,8801.0663385683511,4600,6830.5499289167765,6663.1936507499577,0,80.93212890625,51.592628479003906,null,null,{"$f":"R466+S466","v":11430.549928916776}]
[" ","1959-08-31",2727.8834327964064,12543.856599720179,0,0,0,7698.5694833035332,9003.0068359375,1638.5190996488707,6280.6057689669078,6058.0718082848362,267.36775824400377,1243.5971673179342,16998.946935924319,-10556.151603538594,4079.9476326015451,4252.6182431949956,6714.8896345825024,5017.2719311695291,1337.3776150863523,86.120185852050781,51.70458984375,null,null,{"$f":"R467+S467","v":10967.507877777498}]
[" ","1959-09-30",2864.7475087002013,5175.2089433016426,0,0,0,5102.927591011362,5931.15478515625,1612.597408309053,1000,2355.9537201663597,240.03637693305234,1347.2123834027534,10601.978968933721,-6838.9662093918014,3384.20723955835,4600,3672.9027312530852,3640.4308937397982,0,90.838455200195313,54.285625457763672,null,null,{"$f":"R468+S468","v":8272.9027312530852}]
[" ","1959-10-31",2729.1137723831444,7204.4818450179509,0,0,0,6273.9124646648997,6209.599609375,1496.2059304742704,1199.9999999999543,1626.0171485609303,230.16047105519235,508.36397253223595,8944.1644238448207,-4715.1179628277605,4000,3116.4627493383032,2888.8413128764414,2610.132199488643,0,91.198554992675781,52.762538909912109,null,null,{"$f":"R469+S469","v":6005.3040622147446}]
[" ","1959-11-30",2538.8508837566224,8139.9745668012629,0,0,0,6965.7547964302776,6772.7314453125,1351.1492140231082,1200,1328.3374839044047,226.37682630939932,520.7901226811947,9075.3470622625409,-4454.568216950076,4500.0000000000873,3371.4123390532686,2360.3482153776031,2360.3482153776031,0,91.404693603515625,53.939449310302734,null,null,{"$f":"R470+S470","v":5731.7605544308717}]
[" ","1959-12-31",2478.2216980540015,6038.2593683052683,0,0,0,5607.4528531963515,5852.076171875,1280.6835245534951,1200,1661.4798453790033,233.02774012931656,546.93730926013177,8760.0885995073859,-4192.590482746511,4500.00000000001,2725.7664534567002,2649.4061723896975,2649.4061723896975,0,91.930625915527344,53.62518310546875,null,null,{"$f":"R471+S471","v":5375.1726258463978}]
[" ","1960-01-31",2702.714336438326,5824.5057330638592,0,0,0,7049.506357460119,7784.744140625,1381.8916656115787,1200,2870.2319966450395,266.43531579462149,393.12711836408403,12330.709819779962,-4975.4914086444796,8559.5939255866724,2581.474174531264,3894.0962650372353,3894.0962650372353,0,84.861732482910156,49.822113037109375,null,null,{"$f":"R472+S472","v":6475.5704395684988}]
[" ","1960-02-29",3425.8399600740822,12296.143656138302,0,0,0,16861.648596357198,16895.63671875,1939.1873737577205,1200,4214.0499065360464,455.26880666948938,1365.3403085481477,28400.457425294309,-4482.7586206896549,29595.689077987474,3799.6211746173676,2533.0807830782478,2533.0807830782478,0,60.356948852539063,48.251075744628906,null,null,{"$f":"R473+S473","v":6332.7019576956154}]
[" ","1960-03-31",4119.2249259285991,8098.8095988818568,0,0,0,12323.984978698792,12456.8701171875,2503.2985479732142,1000,2641.5719975180823,654,1965.1884958415883,17968.570976425461,-3258.0645161290322,16230.838929041736,2755.4798022382597,1836.9865348255075,1836.9865348255075,0,66.987831115722656,50.035037994384766,null,null,{"$f":"R474+S474","v":4592.4663370637672}]
[" ","1960-04-30",4199.5298883425667,8113.9278065031522,0,0,0,8502.38715808909,8682.220703125,2742.3726331424027,1299.7926407676955,2800,724.66652837733238,2048.4255274988654,14045.895140637745,-1631.4391090284944,12616.666999999987,2210.8440171360394,335.29034565907591,335.29034565907591,0,73.615547180175781,53.544055938720703,null,null,{"$f":"R475+S475","v":2546.1343627951155}]
[" ","1960-05-31",4313.710151423712,7021.0159496085198,0,0,0,3880.7035326949663,5494.65771484375,2822.0354829273251,1413.433666892111,2800,769.97727497643496,883.87425173304291,10539.304023363507,-2578.1821716021791,7166.5849797718056,1295.9150743356486,1769.4185536445202,1769.4185536445202,0,82.580581665039063,54.666980743408203,null,null,{"$f":"R476+S476","v":3065.3336279801688}]
[" ","1960-06-30",3804.9987039329908,14095.010576599601,0,0,0,8023.9376597114597,9209.4375,2541.8120254879623,4770.6488040931954,5123.574878615198,736.47653505768164,840.50187961903725,15499.830154137362,-5000,7243.333500000037,3016.4362889474901,1624.2349248178793,1624.2349248178789,0,80.522216796875,52.378383636474609,null,null,{"$f":"R477+S477","v":4640.6712137653694}]
[" ","1960-07-31",3293.2383680334442,12759.968412147999,0,0,0,6734.1268910153522,8088.84423828125,1889.5571887131446,9790.9915967514899,9570.7843442153571,626.35097769653225,1419.4616582664257,19355.837615490505,-10740.57285457629,5000,3646.467975594187,6914.9499579811081,6680,0,84.364463806152344,52.196956634521484,null,null,{"$f":"R478+S478","v":10561.417933575296}]
[" ","1960-08-31",3030.4185576409122,9320.1236765893755,0,0,0,4722.0830690910243,5985.0146484375,1590.9196115591139,4256.5492313885452,4251.8206993245358,545.55898393270695,1728.5856320200635,12611.397920049676,-6736.654819989395,3803.2128995569365,3071.5092705381044,3803.9753567051566,2916.2054837040564,701.45718076310482,90.366226196289063,52.468975067138672,null,null,{"$f":"R479+S479","v":6875.4846272432605}]
[" ","1960-09-30",2965.4085768069745,5810.6360695291114,0,0,0,4845.8828125374639,5329.7275390625,1522.2554319697942,1259.4531264390723,2817.4338413926944,495.57959123681297,1453.3954585454765,9921.8755828333124,-5777.2550943314727,3000.0000000000873,3848.6020005914206,2885.7987494425306,2569.8951546192711,0,92.297698974609375,52.502155303955078,null,null,{"$f":"R480+S480","v":6734.4007500339512}]
[" ","1960-10-31",2834.4095606816081,7184.6007072656957,0,0,0,5876.0309698325318,5822.7734375,1386.9928624599431,1199.9999999998952,1953.3919162302166,457.98672404471665,928.7029001361733,9185.5599743984912,-4177.9041336987284,4640.0350873947118,3227.1049509765812,2032.8045394995825,2032.8045394995825,0,91.067062377929688,52.384304046630859,null,null,{"$f":"R481+S481","v":5259.9094904761641}]
[" ","1960-11-30",3002.8927298924586,5389.9775095163086,0,0,0,5539.3302001953125,5705.31591796875,1321.2504823799663,1200,2262.1459948267084,485.16079420783473,1013.1162131894258,10668.580048401651,-5118.0555743848672,5976.3825896923236,2491.3179936844672,4027.8594766750994,4027.8594766750994,0,89.459358215332031,53.227573394775391,null,null,{"$f":"R482+S482","v":6519.1774703595665}]
[" ","1960-12-31",3350,9871.6095430014902,0,0,0,13454.630332039906,14100.6181640625,1333.6031919901206,1323.4317940265973,1200,518.33259392011996,955.88183942227056,17232.452411877272,-4148.1377435418181,13319.715721303539,3323.7795571020911,2047.5591142041822,2047.5591142041822,0,78.195571899414063,50.316299438476563,null,null,{"$f":"R483+S483","v":5371.3386713062737}]
[" ","1961-01-31",3549.556535256314,5936.0839504347805,0,0,0,6667.9566085774586,7858.89599609375,1419.7122908022436,1200,1959.6673536850435,487.59742065942788,966.76586438360459,12424.057417973514,-5225.8064516129034,8920.7658950184323,4129.5339350176409,2753.0226233450931,2753.0226233450931,0,81.981101989746094,46.785846710205078,null,null,{"$f":"R484+S484","v":6882.556558362734}]
[" ","1961-02-28",3914,17431.738881820791,0,0,0,22921.558528485337,22956.759765625,1679.069101687212,1200,4249.5784556991148,523.51531344266027,687.28827799350813,32941.091878091545,-4464.2857142857147,33449.874229130663,3536.0726857509258,2357.3817905006158,2357.3817905006158,0,58.401271820068359,46.778923034667969,null,null,{"$f":"R485+S485","v":5893.4544762515416}]
[" ","1961-03-31",4280,10484.357130466602,0,0,0,15515.873943817356,15515.8740234375,1940.4189538287953,1047.5421953010973,1000,577.54679326207531,708.74072946329829,17699.823206070236,-3258.0645161290322,15870.107413094862,2807.3089228035656,1871.539281869043,1871.539281869043,0,66.918014526367188,48.501392364501953,null,null,{"$f":"R486+S486","v":4678.8482046726085}]
[" ","1961-04-30",4551.9999999999991,5832.024041224744,0,0,0,7003.4794194086799,7256.654296875,2062.3290786657726,1229.1404754765292,2800,640.77375009560296,648.42951959857578,10836.030302348254,-1963.9730013895787,8376.8669999999875,800,1577.8198833416118,1577.8198833416118,0,79.424064636230469,53.288291931152344,null,null,{"$f":"R487+S487","v":2377.8198833416118}]
[" ","1961-05-31",4502.1341317810411,9910.0003582362133,0,0,0,5681.1524765999611,7044.97705078125,2147.2444969738235,1159.3565587860198,2857.4341641081182,692.93635050287969,634.00672177078638,10935.625749880162,-2165.7589194720404,7636.7761237533232,1918.4905329411813,693.871465789181,693.871465789181,0,84.405784606933594,52.438053131103516,null,null,{"$f":"R488+S488","v":2612.3619987303623}]
[" ","1961-06-30",4044.5084626516691,13414.381688146073,0,0,0,7674.3063013000119,9160.490234375,1888.4313645958823,4953.7675772568418,5329.3391027362668,657.45480221367836,589.68679075465843,15313.929240408077,-5000,7100.0000000000873,2891.2779395864832,1684.7776015998043,1684.7776015998043,0,83.086921691894531,52.274040222167969,null,null,{"$f":"R489+S489","v":4576.0555411862879}]
[" ","1961-07-31",3432.2512482295588,14729.705121393286,0,0,0,8010.1168085429899,9107.8203125,1539.5628380444632,5462.9955066236544,5046.5907356673788,573.02664670360366,723.19964147775499,15671.874820120309,-6935.9325256540415,5000,2782.7505607591493,3587.5094172098188,1748.0568724218811,681.49555546406668,87.934661865234375,51.586761474609375,null,null,{"$f":"R490+S490","v":6370.2599779689681}]
[" ","1961-08-31",3142.9376120397546,9854.4351769691639,0,0,0,5095.2642846692816,6354.93115234375,1370.0160372579817,2400.4439071319071,2105.7591633662751,501.95640270560767,723.7408519317305,9451.9996514349823,-3352.0620467621648,4238.1397819922986,2901.3586578851427,300,300,0,90.391799926757813,52.342281341552734,null,null,{"$f":"R491+S491","v":3201.3586578851427}]
[" ","1961-09-30",3084.113827364718,5807.4865403708636,0,0,0,5011.5493714162776,5699.00537109375,1278.631993314202,1049.0451389815628,2826.7588527715138,482.49363006916997,766.34072187717356,9455.1595582128411,-5256.7234778032889,3114.2419251581759,3396.6338149377189,2550.8798260316771,2550.8798260316771,0,91.88238525390625,52.228164672851563,null,null,{"$f":"R492+S492","v":5947.513640969396}]
[" ","1961-10-31",2859.6681216695661,8585.0078213628531,0,0,0,7211.9847084427256,7168.81396484375,1158.3069069227922,900,1571.4969010168002,471.55591076837072,500,9403.4652422330764,-4898.9326025872306,4000,3973.3616450474542,1788.1642550860342,1788.1642550860342,0,89.894859313964844,52.114337921142578,null,null,{"$f":"R493+S493","v":5761.5259001334889}]
[" ","1961-11-30",2869.0895569573759,7977.9433715869109,0,0,0,6831.9761397330403,6872.59521484375,1072.1403625835792,900,1167.3537751063163,488.05422287411687,586.10120113266589,9348.1746760071801,-3087.0184124763327,6423.0429450201191,1647.677662038991,2296.8709813569303,2296.8709813569303,0,87.585990905761719,53.713939666748047,null,null,{"$f":"R494+S494","v":3944.5486433959213}]
[" ","1961-12-31",3208.8410247251063,8125.3686791140335,0,0,0,11522.028879816115,12236.365234375,1085.3390205889611,900,1150.6291665253348,530.79759186273952,500,15387.238588251406,-5201.9293097820664,10265.814426067212,2992.1447897462058,3285.1515285040468,3285.1515285040468,0,78.679214477539063,49.410915374755859,null,null,{"$f":"R495+S495","v":6277.2963182502526}]
[" ","1962-01-31",3283.0173383451024,6405.2686436035856,0,0,0,7359.839716063565,7824.45361328125,1169.4373077715029,900,1553.0441072873666,542.96783974020548,452.33747149418048,10717.352192666212,-5225.8064516129034,6000,4133.7431135690458,2225.8616765371776,2225.8616765371776,0,84.04449462890625,46.644351959228516,null,null,{"$f":"R496+S496","v":6359.6047901062229}]
[" ","1962-02-28",3675,26107.171514632588,0,0,0,20715.861539624748,20751.0625,1700.5669038756944,900,10516.183577216105,567,5953.58690671365,48442.229419365089,-4464.2857142857147,64064.941730186772,4600,3581.7254268738452,3581.7254268738452,0,54,45.289573669433594,null,null,{"$f":"R497+S497","v":8181.7254268738452}]
[" ","1962-03-31",4209.3343553099467,8751.6785186475699,0,0,0,13254.685838313464,13795.919921875,2043.5293776427932,800,4754.3104397419338,664,1636.7388768835601,21218.148215485005,-3258.0645161290322,21873.96671476333,3442.28969562266,2294.8597970817723,2294.8597970817723,0,63.103935241699219,47.898075103759766,null,null,{"$f":"R498+S498","v":5737.1494927044323}]
[" ","1962-04-30",4552,5873.3124724347554,0,0,0,6859.8770749368568,7176.60400390625,2546.1138958231918,779.72487176146205,2800,792,3181.550355892171,13825.93032740689,-3500,13167.972308656206,4218.8906248241601,2812.5937498827734,2812.5937498827734,0,69.517784118652344,53.616970062255859,null,null,{"$f":"R499+S499","v":7031.4843747069335}]
[" ","1962-05-31",4448.1338405761499,9794.3064924851151,0,0,0,5330.5110077864501,6766.8525390625,2647.3670423881572,2785.4000144739111,4232.644803182432,916.86054931050967,1445.8904201974392,13128.864241224328,-3500,10000,3558.3431704897553,1916.0309379560226,1916.0309379560229,0,77.110816955566406,52.937828063964844,null,null,{"$f":"R500+S500","v":5474.3741084457779}]
[" ","1962-06-30",4125.6097518409615,10574.248410816837,0,0,0,4627.7497634887468,5987.15673828125,2493.1812947326703,4720.1638988236382,5200.4765587426446,894.37155856391576,1788.1572591286658,13679.145420849984,-5000,6280.0000000000864,3290.564740309992,1771.8425524746126,1771.8425524746117,0,84.005157470703125,52.649814605712891,null,null,{"$f":"R501+S501","v":5062.4072927846046}]
[" ","1962-07-31",3509.8179403532899,14620.069295139672,0,0,0,7873.4598592612419,9481.705078125,1870.2914573439496,9489.3520297987216,9243.886442550629,706.14345170910667,3093.8207403061615,22792.7351579979,-10650.97674498336,8495.7577560173158,3719.7786317292712,7027.6757054951022,6680,0,82.696464538574219,51.349803924560547,null,null,{"$f":"R502+S502","v":10747.454337224373}]
[" ","1962-08-31",3149.4679241562812,10872.158620163904,0,0,0,5432.8209479784509,6703.2646484375,1540.9801567041306,5589.4297622004351,6410.4303649825688,582.04373506900936,2290.2649812072236,16152.570264675742,-9970.8230231543785,4000,3683.1409683288402,6722.0035340771956,4544.5572173828587,1422.6233662025679,89.575477600097656,51.718921661376953,null,null,{"$f":"R503+S503","v":10405.144502406036}]
[" ","1962-09-30",3102.6034747700287,5347.2152129372698,0,0,0,4672.5990553546562,5236.626953125,1465.816052585536,792.92677791625408,2557.7876973251778,528.19197956157404,1537.0327146789919,9772.1355314466982,-5837.0551477182362,3000.0000000000873,4167.9585405466796,2603.5936257431649,2603.5936257431645,0,91.24298095703125,52.715938568115234,null,null,{"$f":"R504+S504","v":6771.5521662898445}]
[" ","1962-10-31",3250,12504.321791197865,0,0,0,15358.125605289613,15358.1259765625,2042.4977684054732,1200,11117.240960371939,712,1929.5324075623757,33127.960649600878,-9438.5489797492846,28399.553649273577,4600,6680.0000000000009,6680,0,61.719879150390625,51.920692443847656,null,null,{"$f":"R505+S505","v":11280}]
[" ","1962-11-30",3252,6774.6316798006201,0,0,0,6158.8461335154543,6271.7470703125,2050.0445550583777,1200,4928.4423029384989,567,4567.9816631557378,16503.900406650715,-9634.2973811790398,6109.7515934822131,4600,6680.0000000000009,6680,0,80.934616088867188,53.747127532958984,null,null,{"$f":"R506+S506","v":11280}]
[" ","1962-12-31",3349,13437.338653129929,0,0,0,16381.422100520305,16381.421875,2339.2631405882557,1200,7338.4920316160024,567,3614.7055892354074,28205.390239896944,-5290.322580645161,24997.603261040174,3889.5289690712962,2593.0193127141974,2593.0193127141974,0,63.112628936767578,50.150569915771484,null,null,{"$f":"R507+S507","v":6482.5482817854936}]
[" ","1963-01-31",3538.2302725873933,5778.2043157382686,0,0,0,7089.2627747881124,8122.44677734375,2654.0396414552165,1200,1251.0749923246153,544,4455.4865229363995,15456.320309948314,-4516.1290322580644,14252.100262186681,3674.0947698950781,2449.3965132633853,2449.3965132633853,0,73.818893432617188,46.46234130859375,null,null,{"$f":"R508+S508","v":6123.4912831584634}]
[" ","1963-02-28",3944,17058.556818484758,0,0,0,23422.714164711466,23457.916015625,3057,11242.564923076339,23169.20625719634,499,12195.468914604331,59931.116206968625,-4464.2857142857147,74233.720151908346,4041.0073193593757,2694.0048795729158,2694.0048795729158,0,54,46.528873443603516,null,null,{"$f":"R509+S509","v":6735.0121989322915}]
[" ","1963-03-31",4226,9724.9968443763555,0,0,0,12853.61730181723,12916.556640625,2927,8289.0912678305867,9759.2268006164286,629,2279.7472893105651,25373.021782888562,-3258.0645161290322,26323.834970687676,3058.0257241666077,2038.6838161110672,2038.6838161110672,0,61.035236358642578,48.307628631591797,null,null,{"$f":"R510+S510","v":5096.7095402776749}]
[" ","1963-04-30",4137,40883.647691724844,0,0,0,25103.383950723513,25110.619140625,3180,13104.972986281256,27116.580981488711,792,5964.9605647463413,62336.926414254776,-3500,94663.436631760895,4600,3096.9477066928512,3096.9477066928512,0,54,48.330039978027344,null,null,{"$f":"R511+S511","v":7696.9477066928512}]
[" ","1963-05-31",4552,8428.3362757978139,0,0,0,5671.9469292929361,6210.01123046875,3538,3138.9920120357669,12766.785233624898,967,5674.8243773422073,25392.670320854762,-3446.5495260918342,24933.723934096146,3177.5426946023072,2118.3617964015384,2118.3617964015384,0,60.780498504638672,53.867046356201172,null,null,{"$f":"R512+S512","v":5295.9044910038456}]
[" ","1963-06-30",4386.2046865251195,9299.8243002249965,0,0,0,5133.4774946151683,6616.1259765625,3458.9937449294262,3326.5907955149851,5654.9128631939948,934.17442880532269,2853.5821953777536,15236.792619604217,-5000,9651.0419999999867,3574.8637458151411,1924.9266323619991,1924.9266323619991,0,73.873634338378906,53.394218444824219,null,null,{"$f":"R513+S513","v":5499.7903781771402}]
[" ","1963-07-31",3782.1218604752967,15608.656229525672,0,0,0,8775.7568370502177,10039.4306640625,2914.3251353616365,9076.5984860390217,9973.5665056488815,806.46594859616187,2441.7783265377707,23375.398298742206,-10977.639818810374,9650.9115118645022,4600,6877.6406950428882,6663.5245450000111,0,76.957084655761719,51.219936370849609,null,null,{"$f":"R514+S514","v":11477.640695042888}]
[" ","1963-08-31",3463.7728776722975,10531.428503715242,0,0,0,4529.8263664245787,5920.07568359375,2474.3272518844128,7196.2565031019194,8604.7550744681394,701.2545325833255,2030.7028870616946,17376.153193539059,-10412.135268890244,5292.1370590167407,4306.1710134855648,6680,6680,0,84.903167724609375,51.726001739501953,null,null,{"$f":"R515+S515","v":10986.171013485564}]
[" ","1963-09-30",3244.4129816523596,9091.5164509820152,0,0,0,8578.5767521534763,9184.9423828125,2026.5371366800202,8009.9608860895396,10088.140073559858,604.87976467918429,2165.2152004544491,22347.161674971147,-8862.868765942665,13000.000000000087,3650.8061341409748,6680,6680,0,74.122291564941406,50.76055908203125,null,null,{"$f":"R516+S516","v":10330.806134140974}]
[" ","1963-10-31",3241.8452285040253,6404.3550550116206,0,0,0,6402.1651125411909,6290.6044921875,1875.8256610629694,2980.9673882432753,3616.9559868584802,563.67198800841402,1347.9885938897928,12505.67071170143,-5824.0070425248832,6562.5,3335.8070009318021,4173.9904737599973,4173.9904737599973,0,81.38671875,52.489227294921875,null,null,{"$f":"R517+S517","v":7509.7974746917989}]
[" ","1963-11-30",3252,12380.641523953513,0,0,0,13138.993392605606,14089.2060546875,1957.224412009175,1700,4537.6259620312976,567,3348.3168996115696,23785.755290659235,-9308.4622911522565,16752.499388811906,4600,6680,6680,0,70.87884521484375,53.806613922119141,null,null,{"$f":"R518+S518","v":11280}]
[" ","1963-12-31",3241.417071765311,7198.4945061132139,0,0,0,7902.1198750110143,8420.71875,1919.9025377874812,1756.9413675098385,2920.6661950550347,542.97534755751383,2574.6486792398459,15249.89293604454,-9753.9342680738773,5217.8705938476596,4600,7068.2674583109092,5384.3853475229662,1631.494506738647,84.777252197265625,50.436279296875,null,null,{"$f":"R519+S519","v":11668.267458310909}]
[" ","1964-01-31",3688.2825157828447,6975.8483028683804,0,0,0,9344.4824752716286,10171.12109375,2041.4619900908651,1700,6254.337601640842,567,2049.5931998657707,21034.764018818594,-5225.8064516129034,19314.992677598733,4242.260045164162,2828.1733634427737,2828.1733634427737,0,67.590278625488281,46.999172210693359,null,null,{"$f":"R520+S520","v":7070.4334086069357}]
[" ","1964-02-29",3918.9530824217172,4914.0212242013968,0,0,0,6944.0350701128846,7632.62255859375,2168.3582980489609,1700,2175.7774882667609,567,1458.100394413141,15308.623023884556,-4794.3214297676623,11106.585974182153,4127.6573783104404,2222.5847421671601,2222.5847421671601,0,75.098541259765625,47.269927978515625,null,null,{"$f":"R521+S521","v":6350.2421204776001}]
[" ","1964-03-31",4067.1046791373683,4764.2123343554376,0,0,0,5566.2598789332187,5735.9609375,2293.4621204772293,1700,2294.3135065368069,553.9498634126395,1592.8892533589262,11150.583838709485,-3500,8252.3607375900501,3156.912729226497,1736.2735507967896,1736.2735507967896,0,80.98492431640625,49.370143890380859,null,null,{"$f":"R522+S522","v":4893.1862800232866}]
[" ","1964-04-30",4023.8923042700189,7571.9398712278526,0,0,0,6192.7276326112915,6499.44677734375,2396.3513718560689,1227.3405282186504,2800,659.79168760286132,845.78855338481276,10519.784228601487,-2131.4228137945011,8559.7610977832446,2187.9218528873412,1241.5717589634974,1241.5717589634974,0,80.372154235839844,52.108551025390625,null,null,{"$f":"R523+S523","v":3429.4936118508385}]
[" ","1964-05-31",3878.1724984794237,8270.8619759130816,0,0,0,3597.1959525958437,5343.82568359375,2424.5173732811168,2244.5624125724335,4156.2439346095261,744.68710983075891,1488.5772859616948,11881.558981602127,-2807.4378699353911,8303.4831885335807,2604.9855074215748,1054.4493796351921,1054.4493796351921,0,81.253837585449219,54.348915100097656,null,null,{"$f":"R524+S524","v":3659.4348870567669}]
[" ","1964-06-30",3578.6352140076251,11342.795192768879,0,0,0,5283.4784507044797,6648.68310546875,2218.2996992288968,4059.0155826267719,5069.6852795926679,701.22169634835336,1888.1271240813599,14497.422037083968,-5000,7243.333500000037,3190.0624490574264,1936.1227606243629,1936.1227606243631,0,81.654045104980469,54.560546875,null,null,{"$f":"R525+S525","v":5126.1852096817893}]
[" ","1964-07-31",3196.6396276887285,11613.667664952522,0,0,0,5070.378551437926,6033.22900390625,1568.1257482255003,9974.7849468415752,10202.428019042329,579.73121734937752,1778.6305574340352,18763.958551026142,-9974.9085827736017,5467.1285257597465,2977.3980383061516,6914.9499579811081,6680,0,84.725074768066406,52.1146240234375,null,null,{"$f":"R526+S526","v":9892.3479962872589}]
[" ","1964-08-31",2902.2629920511117,9520.2349324420484,0,0,0,4959.9357762960935,5916.0908203125,1451.8559446993017,1606.8722044482201,2267.792553421209,517.76316895522837,1750,10221.790306180817,-4919.9594989136367,3637.7089227657389,3286.7214030329924,1736.9917482720869,300,944.96589975351753,91.62255859375,52.129783630371094,null,null,{"$f":"R527+S527","v":5023.713151305079}]
[" ","1964-09-30",2858.8194245961022,5258.1701551334363,0,0,0,4427.464453277229,5092.04296875,1374.6291488607765,1000,2352.6920119481342,473.72013653828662,1437.5961817102734,8637.6411748949395,-4856.7715167186107,3000.0000000000873,3584.5851070927547,2221.2228981906833,2221.2228981906833,0,92.415908813476563,52.735240936279297,null,null,{"$f":"R528+S528","v":5805.8080052834375}]
[" ","1964-10-31",2786.333662371384,5989.3806648675745,0,0,0,5245.1057551987506,4980.6689453125,1230.8606698166993,1706.3673857400827,1846.1821825511824,419.44204201777734,1431.5452316606631,8792.7834950238866,-4754.3360290479923,3999.9999999999982,3336.8892349119865,2827.9913790068485,2827.9913790068485,0,92.492660522460938,54.339900970458984,null,null,{"$f":"R529+S529","v":6164.8806139188346}]
[" ","1964-11-30",2940.4742219757959,6839.3755531115839,0,0,0,8024.4303406074414,8785.7578125,1145.0766161896083,1700,2963.2776135790441,479.42597659562011,910.93367210125325,13716.406390942002,-5136.2632773464338,8898.2685845470987,2935.036945975713,3639.1958632872206,3639.1958632872206,0,82.40289306640625,52.433582305908203,null,null,{"$f":"R530+S530","v":6574.2328092629341}]
[" ","1964-12-31",3252,35602.17309870835,0,0,0,16648.720018387507,16648.720703125,2664.2460737731226,1700,7561.41164034962,428,20871.417031604375,42116.567724043256,-5290.322580645161,85005.391505672334,4431.265693809466,2954.1771292063158,2954.1771292063149,0,54,48.415740966796875,null,null,{"$f":"R531+S531","v":7385.4428230157819}]
[" ","1965-01-31",3368,31849.649260963855,0,0,0,25970.97516767768,25970.974609375,2788,16801.373413635869,35783.167667523965,425,12407.229461213747,70474.985153143789,-4516.1290322580644,110611.41886230043,4599.9999999999982,3816.9749882987671,3816.9749882987667,0,54,44.362968444824219,null,null,{"$f":"R532+S532","v":8416.9749882987653}]
[" ","1965-02-28",3772.4335342625091,6761.8127611175405,0,0,0,11374.079278217438,12027.83984375,2997,4858.8294242985048,12805.383170776158,443,5210.9521365073779,32962.976491916903,-4464.2857142857147,35596.580528666316,4600.0000000000637,3948.8056139110631,3948.8056139110631,0,57.942245483398438,44.490211486816406,null,null,{"$f":"R533+S533","v":8548.8056139111268}]
[" ","1965-03-31",4010.5754010548076,5463.5698101243452,0,0,0,7665.0082040962197,8023.32470703125,3096,5238.4411289131913,8150.8081034979741,612,1916.43620848769,19039.120161686991,-3258.0645161290322,19188.078970249586,4201.7199069728231,2801.1466046485275,2801.146604648528,0,65.169364929199219,47.944412231445313,null,null,{"$f":"R534+S534","v":7002.8665116213506}]
[" ","1965-04-30",4500,18282.80901563081,0,0,0,21740.939943286532,21755.14453125,3354,7799.2225792727004,13295.775665341074,792,5368.2343703008492,42780.203242634649,-3500,51163.97701986078,3409.4628434414108,5484.5048385936798,5484.5048385936489,0,54,49.441661834716797,null,null,{"$f":"R535+S535","v":8893.9676820350905}]
[" ","1965-05-31",4539.5838566371058,8909.6718094885582,0,0,0,4885.1060180664063,5577.3486328125,3538,3484.9882244787873,8546.787009120073,967,3205.3432317822699,17489.566371688776,-3500,15998.105848501373,3347.7064201372268,2231.8042800914855,2231.8042800914855,0,71.065391540527344,53.127841949462891,null,null,{"$f":"R536+S536","v":5579.5107002287123}]
[" ","1965-06-30",4308.8549002805466,9444.709621863225,0,0,0,4655.3186187744141,5726.58056640625,3538,2160.6912452638753,5586.8376298636804,967,3000,14464.626185344463,-5000,9437.0855219171299,3517.6262740382031,2345.0841826921355,2345.0841826921355,0,80.482292175292969,52.596778869628906,null,null,{"$f":"R537+S537","v":5862.7104567303386}]
[" ","1965-07-31",3856.6604356530133,12906.140301328973,0,0,0,5533.0211385620241,6444.3349609375,3030.2425184646095,8651.6630885260729,9740.052364033505,833.92752892479473,3376.011901077462,20252.461314307562,-10084.212432467422,8902.8995775487128,4600,7004.9017250857196,6660.411869999939,19.588130000061028,79.615425109863281,51.568019866943359,null,null,{"$f":"R538+S538","v":11604.90172508572}]
[" ","1965-08-31",3590.4062239720647,9682.9816969596941,0,0,0,4587.0862960815448,5535.45166015625,2738.7820652787618,5740.8701034901969,7786.9071050407501,788.85884987221721,1749.9999999999995,15541.356712652021,-9764.378787416219,5645.337306961279,4600,6680,6680,0,86.492340087890625,52.167205810546875,null,null,{"$f":"R539+S539","v":11280}]
[" ","1965-09-30",3400,8322.6856983639082,0,0,0,7564.3991272799612,8179.89208984375,2301.7341069205077,8127.0468628807448,10502.175009893223,691.54403783696512,2669.834162024817,21134.251422249876,-8779.7492393752691,12375.000000000087,3851.4040128867946,6680,6680,0,78.099555969238281,50.394828796386719,null,null,{"$f":"R540+S540","v":10531.404012886795}]
[" ","1965-10-31",3250,6666.0421987438995,0,0,0,5830.641023216036,5818.37109375,2121.6994665662287,3999.9999999999836,5010.3197063280022,648.9202951855932,1313.396714475414,11827.747376844229,-4741.4836437696722,6874.9999999999927,3147.2522262284433,3138.9076700868154,3138.9076700868154,0,81.620323181152344,52.270538330078125,null,null,{"$f":"R541+S541","v":6286.1598963152592}]
[" ","1965-11-30",3252,12889.574368406866,0,0,0,14135.539921570529,14476.9775390625,2190.4146730048001,1700,3090.8065040171759,567,3482.465530486229,22079.443960508208,-8617.1825967031436,15612.805594536403,4600,6680,6680,0,69.286705017089844,52.367969512939453,null,null,{"$f":"R542+S542","v":11280}]
[" ","1965-12-31",3359,6064.8637061136769,0,0,0,6127.3092808282254,6837.10888671875,2235.3047801888501,1700,3663.6532004337887,567,2127.3086992305107,13695.903518334533,-9067.8356592506134,6770.2202599907178,4599.9999999999991,7383.311348827011,7383.311348827011,0,79.566719055175781,47.943695068359375,null,null,{"$f":"R543+S543","v":11983.31134882701}]
[" ","1966-01-31",3725,12257.880998869008,0,0,0,17246.421606552485,17246.421875,2384.328498833062,1700,5106.8805645010025,567,1937.995735919241,26042.694547644056,-5225.8064516129034,26978.716363179788,4599.9999999999982,3577.1710157295947,3577.1710157295947,0,60.892242431640625,45.985946655273438,null,null,{"$f":"R544+S544","v":8177.1710157295929}]
[" ","1966-02-28",4037,11040.301129950789,0,0,0,15225.027099004608,15260.228515625,2473.7032376284533,1700,4904.9114474826811,567,1630.2914613271605,24844.483723984646,-5250,24434.651367120467,4600,3365.3931262487095,3365.3931262487095,0,61.523548126220703,45.087139129638672,null,null,{"$f":"R545+S545","v":7965.3931262487095}]
[" ","1966-03-31",4229,16535.373759797971,0,0,0,18324.275031021505,18326.4453125,2695.3990750702042,1700,3232.178084222754,633.88493673500193,1299.6790185120219,22488.124679138684,-3258.0645161290322,22374.070998518757,3457.8110499129962,2305.2073666086635,2305.2073666086635,0,64.712188720703125,46.574771881103516,null,null,{"$f":"R546+S546","v":5763.0184165216597}]
[" ","1966-04-30",4552,10298.916435711077,0,0,0,11081.183406525704,11424.7958984375,3001.8538536791857,1000,4876.6598685576655,792,914.42838419106602,17397.077870036213,-2804.0713968153341,16047.612258340367,2295.1928494308504,2938.7947773480792,2938.7947773480792,0,67.383949279785156,51.020523071289063,null,null,{"$f":"R547+S547","v":5233.9876267789296}]
[" ","1966-05-31",4410.215737658199,9067.8568402303172,0,0,0,5008.5505071153912,6265.23095703125,2990.8551757368891,2506.3350179370696,5086.3652980833785,823.68550406870202,891.30779716913094,12392.783896574931,-2927.4977226710312,8735.8870000001043,2799.3178675266695,1309.2384346306376,1309.2384346306376,0,78.005592346191406,52.70782470703125,null,null,{"$f":"R548+S548","v":4108.5563021573071}]
[" ","1966-06-30",3786.7032040132863,14938.902935272848,0,0,0,8110.679183156758,9230.556640625,2720.1952051743442,3900.766110222457,4596.515671160796,761.24130884998647,786.46278988753272,14914.15710909731,-5000,7176.8750000000873,3235.5870896908173,1742.2392021412688,1742.2392021412693,0,82.965988159179688,51.823612213134766,null,null,{"$f":"R549+S549","v":4977.8262918320861}]
[" ","1966-07-31",3243.9796388128148,14821.04734474752,0,0,0,7504.7626759537488,8377.4716796875,2068.4183333936808,10519.138681864588,10633.437938023133,605.82168769851376,1750.0000000000009,21392.406067591804,-10013.021239009136,8141.2326248398876,3222.3113194794896,6844.9807092395477,6571.7047055372495,108.29529446275046,82.755699157714844,51.090175628662109,null,null,{"$f":"R550+S550","v":10067.292028719037}]
[" ","1966-08-31",3016.0097129662645,9572.9027356181996,0,0,0,4331.5352817955072,5687.31640625,1572.439734290067,8042.1242886143791,8369.4966602115092,536.48303181224844,1354.1393258789526,15716.1968825766,-9796.6803262453541,4000,3160.5475970890752,6929.9467638096894,6680,0,88.880645751953125,51.996444702148438,null,null,{"$f":"R551+S551","v":10090.494360898765}]
[" ","1966-09-30",2946.0294380606024,6689.9377954741822,0,0,0,5905.2306881450941,6185.912109375,1501.7151142855737,1313.2782736475947,2827.2224650482331,493.47938797267761,1362.3182838615332,10490.321693074087,-6678.3864998680365,3000.0000000000873,3772.8557154876303,3981.2338104563946,2735.9068384699403,962.87496146029935,91.98040771484375,51.410137176513672,null,null,{"$f":"R552+S552","v":7754.0895259440249}]
[" ","1966-10-31",2812.9186747108029,7233.3644266940491,0,0,0,6039.9010401789938,5900.7763671875,1322.549435659934,1699.9999999999693,2312.4298723625661,485.82912220639173,671.38616288589276,9197.990906068042,-4914.8949939758932,4000,3449.5243040313358,2822.670726027131,2783.9630479245825,0,91.582992553710938,51.9849853515625,null,null,{"$f":"R553+S553","v":6272.1950300584667}]
[" ","1966-11-30",3207.7299236028475,6167.1950227674934,0,0,0,6732.8811056951808,7516.3818359375,1345.0964301030667,1700,2079.5333014915209,567,1016.132378771191,13341.544743480963,-6383.7607822121008,7762.6800381115318,2567.3702392421637,5321.7349374728346,5321.7349374728346,0,85.664283752441406,52.255321502685547,null,null,{"$f":"R554+S554","v":7889.1051767149984}]
[" ","1966-12-31",3335,18595.744547255275,0,0,0,23045.058163144291,23045.05859375,1607.0154838414746,1700,6831.6213088784907,567,5092.4952663780387,38319.604243943671,-5290.322580645161,40859.90290225271,4319.8873753569833,2879.9249169046579,2879.9249169046579,0,55.129772186279297,49.216560363769531,null,null,{"$f":"R555+S555","v":7199.8122922616412}]
[" ","1967-01-31",3551,18773.852091276738,0,0,0,19547.022855471154,19547.0234375,2237.2848774849017,1700,4711.3916959574708,563,6896.4143072486613,36354.49757322904,-4516.1290322580644,49173.8388858244,4369.0995379380129,2912.733025292011,2912.733025292011,0,54,45.810218811035156,null,null,{"$f":"R556+S556","v":7281.8325632300239}]
[" ","1967-02-28",3920,12379.147702138147,0,0,0,19549.527019697569,19584.728515625,2678.4800213893254,1700,18042.258102363383,552,4967.9756791260024,46056.057690377726,-4464.2857142857147,53810.258985400324,3782.8125983185741,2521.8750655458139,2521.8750655458139,0,54,44.958560943603516,null,null,{"$f":"R557+S557","v":6304.687663864388}]
[" ","1967-03-31",4033,20359.524606658095,0,0,0,17283.32358069683,17283.32421875,2847,9963.2782812910136,15479.887262330509,636,6850.6294093966235,44594.281021315415,-3258.0645161290322,59221.18702278538,4600.0000000000018,3780.2575670737042,3780.2575670737028,0,54,46.376369476318359,null,null,{"$f":"R558+S558","v":8380.257567073706}]
[" ","1967-04-30",4479,17451.097852472383,0,0,0,21219.990072343822,21226.51171875,3236,2159.9974501671572,8385.1481083768394,792,4479.8209839755018,35575.246057949094,-1740.1875353290934,54776.45558520942,4600,6680,6680,0,54,48.558582305908203,null,null,{"$f":"R559+S559","v":11280}]
[" ","1967-05-31",4552,18116.552420274296,0,0,0,16906.330757567684,16980.22265625,3538,9235.6495308922913,16018.753734252883,967,7060.9502965188467,42159.876429438489,-3500,48248.857687205767,4408.1334327481218,5205.501303934353,5205.5013039343557,0,54,50.668708801269531,null,null,{"$f":"R560+S560","v":9613.6347366824739}]
[" ","1967-06-30",4500,11392.158310627659,0,0,0,8547.7540494880886,10015.0673828125,3538,8491.6192567388316,18550.283088435299,967,7372.0992813127123,37050.980303410455,-4630.4906831756416,40628.679685644704,4600,6680,6680,0,54.106815338134766,52.652156829833984,null,null,{"$f":"R561+S561","v":11280}]
[" ","1967-07-31",4150,12092.626456461721,0,0,0,4819.2113450134311,5775.3720703125,3538,1416.5323970547574,5050.0647695139878,942,2983.5201334974977,14313.934293601127,-5601.5146896076039,13887.197694568938,4600,6969.9165533871028,6680,0,69.127517700195313,52.563327789306641,null,null,{"$f":"R562+S562","v":11569.916553387102}]
[" ","1967-08-31",3699.9999999999995,12182.981610647008,0,0,0,6782.158790896081,7762.95263671875,3361.02629221707,3369.2164129320827,5278.067520207801,792,3280.0656589564733,17044.859997796724,-9919.993741809998,6514.7311090073817,4600,6680,6680,0,82.33636474609375,51.631011962890625,null,null,{"$f":"R563+S563","v":11280}]
[" ","1967-09-30",3399.9999999999991,10674.596818150978,0,0,0,10131.643937515368,10237.6943359375,2999.3742606657538,6612.8035607003985,8154.9966168316114,754.56602132258047,1749.9999999999998,21315.837801751899,-9327.8186906511582,12218.750000000087,4600,6680,6680,0,74.57568359375,50.562507629394531,null,null,{"$f":"R564+S564","v":11280}]
[" ","1967-10-31",3250,8950.723894120787,0,0,0,8783.7040299448545,8658.8876953125,2797.9626188164757,4000,4442.3381311160956,712,1706.5957005165665,15872.504170440387,-8141.1497573451961,7500,4600,5869.8134696933812,5869.8134696933812,0,79.78070068359375,51.641387939453125,null,null,{"$f":"R565+S565","v":10469.813469693381}]
[" ","1967-11-30",3209.7851999195213,6068.8061599436405,0,0,0,6255.00314190479,6145.3974609375,2749.0072803252483,1700,1946.9667498080555,567,4298.1432537080009,13298.506818170114,-9306.5069838746131,4934.7143911530002,4600,6680,6218.584796008754,461.41520399124602,88.542472839355469,53.981037139892578,null,null,{"$f":"R566+S566","v":11280}]
[" ","1967-12-31",3240.0393936169003,7213.2930178146644,0,0,0,8344.8201760454958,8717.4423828125,2756.5741778863098,1755.5063583641549,2558.5680078554014,542.15675590892158,2263.5991997671663,14651.996045396127,-9332.5754574591338,5065.6869748600766,4388.4495899651865,6844.6505267503753,5158.5083441737279,1635.1895876729877,89.442253112792969,51.128673553466797,null,null,{"$f":"R567+S567","v":11233.100116715563}]
[" ","1968-01-31",3493.6389867995586,8814.5135312735074,0,0,0,13695.839958834469,14150.044921875,2910.6302716366986,1700,4015.9816560240147,567,1501.09695778933,21739.980718125349,-5225.8064516129034,19973.024796104881,2234.8911510155667,4839.8143017704942,4839.8143017704942,0,67.51513671875,47.834636688232422,null,null,{"$f":"R568+S568","v":7074.705452786061}]
[" ","1968-02-29",3654,27774.377910131698,0,0,0,22135.404761006739,22169.392578125,2962,11581.006790043564,15608.393499824761,547,6325.8601686387447,50565.742911009147,-4482.7586206896549,63363.079016870295,2805.090071730544,3411.5888047427161,3411.5888047427161,0,54,46.424118041992188,null,null,{"$f":"R569+S569","v":6216.6788764732601}]
[" ","1968-03-31",4242.4410290080023,7811.633103380047,0,0,0,13808.30860704915,14113.5732421875,3036,6618.577403436766,14747.821089448229,640,1963.6055229687477,30477.173306240064,-3258.0645161290322,32735.739699181006,2595.355504561745,2976.9525292837006,2976.9525292837006,0,58.36700439453125,50.044570922851563,null,null,{"$f":"R570+S570","v":5572.3080338454456}]
[" ","1968-04-30",4481.1532266702879,4926.8395079845732,0,0,0,5429.9663551907342,5631.9951171875,3179.9466480898463,1998.1146557302091,2800,718.15430917860601,889.1606164809964,9984.4625280726304,-2069.639685866428,8363.8467693027724,1838.1128707583839,1734.085481560076,1734.085481560076,0,78.682769775390625,53.931411743164063,null,null,{"$f":"R571+S571","v":3572.1983523184599}]
[" ","1968-05-31",4384.3690812540717,8400.9275559086891,0,0,0,4601.189865112292,6192.09814453125,3237.4357335341101,1592.2880181357682,3223.3781548059187,740.57243533348333,900.43465763477411,11347.216754875186,-2816.9963557321007,7696.1220223340297,2882.830854664347,889.73106844859467,889.73106844859467,0,82.172523498535156,53.628925323486328,null,null,{"$f":"R572+S572","v":3772.5619231129417}]
[" ","1968-06-30",3829.218778464141,14168.323711249062,0,0,0,7718.4268528964494,8686.333984375,2986.9082569662437,4323.9251087162238,4846.9530970339501,687.90240445295012,858.11075634112308,15163.010965787707,-5000,7223.2357299145224,3175.9375635288238,1710.120226515583,1710.1202265155832,0,82.651512145996094,51.955684661865234,null,null,{"$f":"R573+S573","v":4886.0577900444068}]
[" ","1968-07-31",3139.9077501222669,16344.706946548949,0,0,0,8262.5713309285002,9105.2783203125,2345.9988685534549,10000,10121.847222150136,411.77999439677353,3703.1787970452642,24154.131864450152,-11078.460391175558,9252.1078165274703,4540.0650117987861,6563.3928897653841,6346.4323941221937,0,80.272224426269531,51.300521850585938,null,null,{"$f":"R574+S574","v":11103.45790156417}]
[" ","1968-08-31",2987.8851300275724,8858.3197419258868,0,0,0,4138.3172760009829,5640.00048828125,1911.1530023304567,7523.9574721735007,7138.533301100013,353.24376541201315,1404.0390693067734,15852.884762139558,-10122.159726329955,3999.9999999999363,3916.2067998369657,6929.9467638096903,6680,0,87.633468627929688,52.720710754394531,null,null,{"$f":"R575+S575","v":10846.153563646656}]
[" ","1968-09-30",2882.6880020154736,7895.4999023127066,0,0,0,6535.2128119774807,6923.23486328125,1807.2473620586616,2033.916648943992,2677.790206338992,309.54353389573282,1462.3813891196355,12148.314127804701,-8047.7757411289604,3000.0000000000873,4376.7218125054678,4890.8732979040833,3191.2502379656166,1572.6387025873644,91.165534973144531,51.27197265625,null,null,{"$f":"R576+S576","v":9267.5951104095511}]
[" ","1968-10-31",2917.5363944853907,5274.7108464233688,0,0,0,5248.4968376467541,5137.46240234375,1592.9059037313232,4000,4364.4179512181481,284.18527464085071,974.96174998124377,11530.899512259286,-7065.1630430870318,4000,3020.6850672578989,5619.2327121835597,5482.0522528958936,0,90.516120910644531,52.492225646972656,null,null,{"$f":"R577+S577","v":8639.9177794414591}]
[" ","1968-11-30",2984.5346044407447,5802.9703751255975,0,0,0,6086.3278615333911,6405.3330078125,1551.6155053144819,1700,2401.7773946356047,354.53890060852609,1033.1746194944326,11307.886623402193,-6285.0402820660729,5326.8453811107083,3098.2488522260091,4739.643424467381,4739.643424467381,0,87.691535949707031,52.973533630371094,null,null,{"$f":"R578+S578","v":7837.8922766933902}]
[" ","1968-12-31",3341.6570163129741,10913.40982310537,0,0,0,15670.153375933382,15670.1533203125,1707.2714661141822,1700,2794.3188261313289,491.7966118897977,1031.626624173884,20893.494687803603,-9674.4755272960974,13810.854198250319,4600,7061.3860035275702,7061.3860035275702,0,75.722396850585938,49.932334899902344,null,null,{"$f":"R579+S579","v":11661.38600352757}]
[" ","1969-01-31",3358,40896.59149300115,0,0,0,23410.353076949425,23410.353515625,2788,6967.0311992633087,26291.107710593027,543,15755.01459090093,54870.222256416761,-3645.1612903225805,118325.9737000117,4600,6653.979392700965,6653.979392700965,0,54,46.345401763916016,null,null,{"$f":"R580+S580","v":11253.979392700965}]
[" ","1969-02-28",3480,37317.777333237929,0,0,0,26238.018338160327,26273.220703125,2788,12472.486521227966,31109.492397918784,527,10428.499114509112,70636.086259338437,1565.2958716941857,135302.62103122886,4600,9463.6000000000804,6779.5667794049705,2684.0332205951099,54,44.190872192382813,null,null,{"$f":"R581+S581","v":14063.60000000008}]
[" ","1969-03-31",4029.9999999999995,12478.696325301054,0,0,0,18814.076779015944,18814.076171875,3027,6449.6062836080428,18595.234062347186,637,4680.9925756923903,41042.905620903155,4998.3187787434254,66704.767593940865,2382.5392275422682,3619.206252871074,3619.206252871074,0,54,46.948062896728516,null,null,{"$f":"R582+S582","v":6001.7454804133422}]
[" ","1969-04-30",4434,16835.766855264708,0,0,0,20625.681653952051,20642.408203125,3470,7559.9754220683126,14909.786252440907,792,6216.7585341404629,40584.823568566397,5708.6016022245858,63504.096300894445,2734.0985350629617,3430.6049528097774,3430.6049528097774,0,54,50.409469604492188,null,null,{"$f":"R583+S583","v":6164.7034878727391}]
[" ","1969-05-31",4552,14608.771345666744,0,0,0,11718.801274683821,12530.9189453125,3538,12825.092370915501,21980.186606922398,967,6962.517531745325,43310.260905062132,3688.0187906975798,59629.348966929589,3942.3588866754321,5152.512128697218,5152.512128697218,0,54.135360717773438,51.908836364746094,null,null,{"$f":"R584+S584","v":9094.8710153726497}]
[" ","1969-06-30",4454.5612717101912,9206.5232436907718,0,0,0,4842.0259704589844,5950.09814453125,3538,3740.8514265680387,8190.6209607941128,967,5288.2602161724144,21190.592847756685,-1199.815431936448,32079.942186815369,4600,6680,6628.2119922930306,51.788007706969438,62.383388519287109,52.938602447509766,null,null,{"$f":"R585+S585","v":11280}]
[" ","1969-07-31",4061.9534912867121,11410.515962888268,0,0,0,4628.6461639404297,5507.01953125,3317.9815805634016,3818.4152732736693,4520.6891458749369,942,1816.0273291412959,13263.787414284672,-7382.2574016834551,8000,4600,6680,6680,0,80.006759643554688,52.349746704101563,null,null,{"$f":"R586+S586","v":11280}]
[" ","1969-08-31",3700.0000000000005,11035.346256201508,0,0,0,4867.9302143184295,5962.345703125,3024.3850788036079,5528.9946211769684,5999.300146433804,792.00000000000011,3189.0373210398602,16708.036749579209,-9728.8252093172559,6688.5083000001032,4600,6680,6680,0,84.41796875,51.914100646972656,null,null,{"$f":"R587+S587","v":11280}]
[" ","1969-09-30",3399.9999999999995,12128.053069956384,0,0,0,11225.076390139642,11544.046875,2764.6382555002451,5647.2099028638477,7654.1735086677536,752.00000000000011,1687.7127500445033,21557.227180885573,-8946.7584366617193,13312.500000000087,4600,6680,6680,0,75.695930480957031,50.562526702880859,null,null,{"$f":"R588+S588","v":11280}]
[" ","1969-10-31",3249.9999999999995,9868.005963725991,0,0,0,9477.2211454209137,9320.779296875,2670.5116630831494,3505.3847240101927,3512.0117549815386,712.00000000000023,1614.6190351361902,15484.394279797358,-8432.3243943998277,7187.5,4599.9999999999627,6454.8538180573505,6454.8538180573505,0,81.150497436523438,51.493152618408203,null,null,{"$f":"R589+S589","v":11054.853818057312}]
[" ","1969-11-30",3182.2554541745271,6833.3487004770468,0,0,0,6324.265160256793,6554.77001953125,2675.4894734352833,1700,1727.2027260343843,561.49919079410358,4069.8448852048764,13521.420415356202,-9003.4062839491635,4942.7669034110149,4600,6680,5788.9323746162099,822.4358673575116,84.756820678710938,53.857780456542969,null,null,{"$f":"R590+S590","v":11280}]
[" ","1969-12-31",3317,24900.13020198762,0,0,0,18887.752450525124,18887.751953125,2806,7528.7370756158371,14255.676557846598,567,5313.3458652860127,39657.625207911507,-5290.322580645161,46890.701488245206,4599.9999999999964,3127.487825130097,3127.487825130097,0,54,51.087013244628906,null,null,{"$f":"R591+S591","v":7727.4878251300934}]
[" ","1970-01-31",3252,75708.373743895965,0,0,0,24697.593772712691,24697.59375,2787,35835.053088410226,67724.021868188211,453,19992.04112567594,69094.100287834226,-117.41256635166064,210599.06171851809,2190.2736998002392,7537.52247791634,7537.52247791634,0,54,45.8848876953125,null,null,{"$f":"R592+S592","v":9727.7961777165801}]
[" ","1970-02-28",3431,20842.691066974603,0,0,0,24842.817233565987,24878.01953125,2787,10654.558121625201,33779.507002844999,446,6354.5177025587018,61555.307402979146,-3872.2989685732186,80225.310249093862,2309.4100961047866,6258.6306032324119,6258.6306032324119,0,54,44.503013610839844,null,null,{"$f":"R593+S593","v":8568.040699337198}]
[" ","1970-03-31",4098.2630271489743,8522.2941049625697,0,0,0,14526.825382798283,15037.0224609375,3163,4108.8340238298679,14087.115482869982,611,3588.987688748487,32177.282690939617,-3258.0645161290322,38375.830176186391,2682.6958822315437,4961.2742133715537,4961.2742133715537,0,56.23516845703125,48.522304534912109,null,null,{"$f":"R594+S594","v":7643.9700956030974}]
[" ","1970-04-30",4185.3399588863795,6862.4514722056147,0,0,0,7820.581539620749,7957.3125,3239.9709820264443,1495.2557564208405,2800,702.880836339506,1274.1713372667009,12653.748064094212,-3316.5192763782406,11661.077800329944,3227.21081185204,3079.7941385767172,3079.7941385767172,0,71.285568237304688,52.268768310546875,null,null,{"$f":"R595+S595","v":6307.0049504287572}]
[" ","1970-05-31",4112.1718834263738,8261.1941604831154,0,0,0,4050.3990478515625,5637.1787109375,3293.8322904430051,1000,3346.8440724021848,809.91016130681464,1296.1713991162128,11569.395876603141,-3273.1278920267732,8225.4062956371818,2947.8557121842132,1759.5715340486995,1759.5715340486995,0,80.126663208007813,53.889556884765625,null,null,{"$f":"R596+S596","v":4707.4272462329127}]
[" ","1970-06-30",3759.8959935556077,12822.557521983454,0,0,0,7283.87854567657,8392.5625,3113.7675588640964,2554.7457163658601,4011.2197766602139,753.50845967950227,1994.0624191024046,15465.213260028793,-5000,8383.214590367761,3273.1874614507992,1762.4855561658164,1762.4855561658164,0,81.973381042480469,52.288589477539063,null,null,{"$f":"R597+S597","v":5035.6730176166157}]
[" ","1970-07-31",3119.0719588030083,16309.807023387764,0,0,0,9180.440783529164,10262.990234375,2493.87235092336,9245.0061459092794,9520.4743020664719,524.83249956713303,3861.4263783659649,24557.723098743103,-9241.0553973896822,11919.043861781902,2665.0105067604418,6937.6405491781952,6680,0,78.3096923828125,51.235618591308594,null,null,{"$f":"R598+S598","v":9602.651055938637}]
[" ","1970-08-31",2761.3528439421079,11694.014559570816,0,0,0,5735.5138733223102,7365.65478515625,2041.3912119136653,7671.2652064053727,8218.719705271551,475.46383453695603,1524.6031118611113,17660.809733046852,-10815.395912780168,5227.8227999999999,4600,6680,6680,0,84.064361572265625,51.409732818603516,null,null,{"$f":"R599+S599","v":11280}]
[" ","1970-09-30",2623.2239654634745,8769.5196767907219,0,0,0,7641.252802076966,8356.578125,1893.6079626706278,3106.6389776119067,4642.9725264777189,429.94376281057407,1546.9611505001046,14997.121464271528,-5589.9807878074062,8699.9436984038839,4281.4243647446228,2341.6418139449102,2341.6418139449102,0,79.983001708984375,50.831863403320313,null,null,{"$f":"R600+S600","v":6623.0661786895325}]
[" ","1970-10-31",2591.8591370557542,6677.1712669447488,0,0,0,6280.2441341203912,6195.2314453125,1680.5467027649968,4000.0000000000377,4367.4831570112019,379.14873770937237,1347.0246794635048,12655.046725376322,-3607.1863161252586,9062.5,1815.6249999999998,3360.1292943478729,3360.1292943478729,0,79.925788879394531,52.197441101074219,null,null,{"$f":"R601+S601","v":5175.7542943478729}]
[" ","1970-11-30",3102.5452514064696,10439.465086009041,0,0,0,10301.909788264798,11243.2919921875,1806.7805005658549,2500,1466.3115679073394,471.1160569790913,1962.4492773501777,17343.325998123062,-9209.8081131769432,10100.110521004379,4600,6680,6680,0,80.340431213378906,52.745529174804688,null,null,{"$f":"R602+S602","v":11280}]
[" ","1970-12-31",3319,24249.832995491481,0,0,0,25669.967367119021,25669.966796875,2157.5138667353767,1700,12401.596034806873,567,4946.7264684376305,49320.291649558523,-5290.322580645161,58019.006593330727,4383.4160644912317,2922.277376327489,2922.277376327489,0,54,49.964454650878906,null,null,{"$f":"R603+S603","v":7305.6934408187208}]
[" ","1971-01-31",3515,23284.773258289555,0,0,0,24335.434206285605,24335.43359375,2493.7631489130013,1700,8679.4167209861898,567,4739.2072679413486,42356.913364315915,-4516.1290322580644,47957.219993568215,3966.2419162632746,2644.1612775088483,2644.1612775088483,0,54,45.993797302246094,null,null,{"$f":"R604+S604","v":6610.4031937721229}]
[" ","1971-02-28",3907.3550764703737,6236.5488617019591,0,0,0,9729.6815002693766,10478.873046875,2790.1952707222317,1700,5427.8646540354321,558,3267.2153471844467,23109.906109407482,-4464.2857142857147,20719.807642612661,3811.381480998195,2540.9209873321252,2540.9209873321252,0,64.406623840332031,45.682907104492188,null,null,{"$f":"R605+S605","v":6352.3024683303202}]
[" ","1971-03-31",3873,24719.998342951767,0,0,0,17158.082820215608,17163.60546875,3162,7651.3714697854221,10607.865118133621,648,4065.2487615371015,35545.878703892202,-3258.0645161290322,45240.123497607638,3524.1968655180149,2349.4645770120128,2349.4645770120128,0,54.442935943603516,46.215450286865234,null,null,{"$f":"R606+S606","v":5873.6614425300277}]
[" ","1971-04-30",4518.1403881054102,6366.9400948894327,0,0,0,7275.1536147896149,8023.98486328125,3433,3840.2524773502018,12725.05410690717,792,2305.0676202278523,23194.715502265342,-3268.8620750837454,23704.505848389927,3862.2124362144314,2574.8082908096212,2574.8082908096212,0,62.998245239257813,52.489315032958984,null,null,{"$f":"R607+S607","v":6437.0207270240526}]
[" ","1971-05-31",4552,13957.663980373451,0,0,0,10418.305807150471,11717.9130859375,3538,8566.2912796144283,13393.897161618692,951.93896786086907,2999.9999785535038,29680.505568913661,-3394.2671538388554,27839.245819338536,3088.8969027548628,2059.2646018365749,2059.2646018365749,0,58.361686706542969,51.223960876464844,null,null,{"$f":"R608+S608","v":5148.1615045914377}]
[" ","1971-06-30",4500,10701.296643392769,0,0,0,5742.4481551541803,6738.4677734375,3538,5600.3577084572726,10287.343978087667,961.20553052742594,2999.9999785545706,20615.434100727653,-5000,13986.717748706844,3013.6767316831442,2009.1178211220963,2009.1178211220963,0,67.539886474609375,52.959083557128906,null,null,{"$f":"R609+S609","v":5022.7945528052405}]
[" ","1971-07-31",3994.6467605336215,13609.644431675324,0,0,0,6578.6422011276281,7382.07568359375,3050.8958344272119,9119.533032677924,11828.483507450248,884.76459598607107,2568.5615911793266,22493.160934150328,-11141.124393508304,8000,4600,7004.9017250857196,6680,0,78.075790405273438,51.867538452148438,null,null,{"$f":"R610+S610","v":11604.90172508572}]
[" ","1971-08-31",3700,9987.5565689452487,0,0,0,4522.5497264862061,5368.8291015625,2618.7171511034408,8160.4037358509677,10203.666276582208,791.99999999999989,2049.6525042323074,18070.63799990082,-10489.173290443516,5645.3049636870883,4261.6744370753177,6680,6680,0,84.236740112304688,52.380985260009766,null,null,{"$f":"R611+S611","v":10941.674437075319}]
[" ","1971-09-30",3399.9999999999995,11401.689225380376,0,0,0,10538.046712659616,10925.7314453125,2216.7451980772416,7574.4284113915301,10352.962744854422,740.3137181319554,1539.6999245549455,22484.369579245253,-9855.8160011438595,11750.000000000087,4600,6680,6680,0,76.086051940917969,50.318111419677734,null,null,{"$f":"R612+S612","v":11280}]
[" ","1971-10-31",3250,9800.7494315897002,0,0,0,9204.2044600592453,9013.654296875,2128.1888317929383,2799.9059161598821,4036.1631463634062,694.95419565493387,1329.1700006142651,14056.171448401399,-6300.6075603727804,7500,4600,3500.2836228440597,3500.2836228440597,0,79.300758361816406,51.453758239746094,null,null,{"$f":"R613+S613","v":8100.2836228440592}]
[" ","1971-11-30",3177.4708036840034,7821.2440139428854,0,0,0,6415.0464227205875,6633.7548828125,2087.1066306549678,1925.8030177686715,2385.76952040679,561.62517745032642,3819.3492606411992,13239.509929134227,-8239.4009746819065,4721.1806707603537,4600,5420.6229914988007,4007.2526441034788,1343.4765640550365,87.661460876464844,53.405815124511719,null,null,{"$f":"R614+S614","v":10020.6229914988}]
[" ","1971-12-31",3365,6041.9197299674379,0,0,0,7260.0159220772548,7861.82470703125,2137.1936121062063,1700,3596.467176538184,567,2777.2746586172148,16162.0201687968,-9681.1996936516407,7357.6924975792354,4600,7054.5125744843463,7054.5125744843463,0,85.673789978027344,49.599388122558594,null,null,{"$f":"R615+S615","v":11654.512574484346}]
[" ","1972-01-31",3714,7041.4111619152482,0,0,0,9101.4865409327267,9440.9375,2295.4807135175824,1700,4007.0438756656463,567,1680.3120519450761,15814.650108534413,-5225.8064516129034,11601.990401206725,3985.495028050997,2656.9966853673409,2656.9966853673409,0,79.546745300292969,45.990524291992188,null,null,{"$f":"R616+S616","v":6642.4917134183379}]
[" ","1972-02-29",3979,8597.8014554165457,0,0,0,9807.7017687187399,10527.177734375,2544.823409228416,1700,4524.8805805416769,567,2760.5913694465717,20802.280237332361,-4482.7586206896549,17550.421331780264,3641.0239546614603,2427.3493031076541,2427.349303107655,0,67.825729370117188,46.423866271972656,null,null,{"$f":"R617+S617","v":6068.3732577691144}]
[" ","1972-03-31",4249,18042.27990181854,0,0,0,19593.410811708229,19616.751953125,2963.6441100219495,1700,5250.7811110592047,646,3669.9345856687382,28534.224310469504,-3258.0645161290322,27876.64673822252,2638.9074285051061,1759.2716190033948,1759.2716190033948,0,60.094558715820313,48.618160247802734,null,null,{"$f":"R618+S618","v":4398.1790475085008}]
[" ","1972-04-30",4552,8244.0365352461049,0,0,0,8175.9013261459177,8599.390625,3123.5704710703062,1000,4166.9894201740935,767.34678572379266,1107.4869884942254,14020.639368786644,-2275.0183647738936,12502.0401650885,1116.3351037520661,2621.2545619995649,2621.2545619995649,0,71.914024353027344,52.167961120605469,null,null,{"$f":"R619+S619","v":3737.5896657516309}]
[" ","1972-05-31",4461.5769541317495,8899.2871271094082,0,0,0,4592.6874237060538,5910.12744140625,3203.4098828075498,1000,3878.1641041318662,889.78736247373126,1110.2234136749398,10823.859395746125,-2883.1074103793517,6958.1502278204161,2150.0136183560562,1465.1366107032331,1465.1366107032331,0,82.305282592773438,53.404243469238281,null,null,{"$f":"R620+S620","v":3615.1502290592894}]
[" ","1972-06-30",3915.1940922749559,14269.959639483868,0,0,0,7984.4360294033468,8971.794921875,2951.3611363869491,3231.3450030507079,4344.9315343020589,798.30598815623728,2101.0839538411169,15352.605772608273,-5000,7644.4514439523264,3153.4327217851965,1698.0022348074203,1698.0022348074201,0,82.993598937988281,51.985919952392578,null,null,{"$f":"R621+S621","v":4851.4349565926168}]
[" ","1972-07-31",3235.9651446295916,16026.29471024992,0,0,0,9113.4359624180397,10153.7978515625,2302.9916837579212,9248.2762599918515,10032.883465224602,554.40496667648392,3628.3407110807302,24265.234442199824,-11339.77256213759,9196.7245593176685,4583.4572209999778,6835.4898223163818,6680,0,80.521797180175781,51.156074523925781,null,null,{"$f":"R622+S622","v":11418.947043316359}]
[" ","1972-08-31",2915.2613340857097,10600.743783511047,0,0,0,5772.9850566006371,6909.80126953125,1885.9946098211271,6395.2481918344647,8347.6410187924794,492.00821647956286,1657.7788982270527,16723.674059942095,-10703.365437664052,4172.324415205182,3955.3969262995483,7180,5492.4633275531523,696.23968426775991,88.05902099609375,51.840545654296875,null,null,{"$f":"R623+S623","v":11135.396926299549}]
[" ","1972-09-30",2896.0719087262919,6535.7043858722627,0,0,0,5913.5517793127983,6391.93798828125,1776.2970648020701,1791.6721605271455,4241.0329636467113,450.08844949284463,1538.1943104557179,11972.52751678441,-7779.9665567573829,3273.9789704992463,4499.4035968776143,4530.9260767150099,3888.641801194146,618.98935608556576,91.234214782714844,51.757171630859375,null,null,{"$f":"R624+S624","v":9030.3296735926233}]
[" ","1972-10-31",3013.193444961873,5564.7935960544328,0,0,0,5800.0101126758809,5782.1201171875,1648.395715835097,1798.850119348554,2584.7657235669326,411.92109215937387,1295.3058192677131,9898.1142386796691,-5903.1334327039604,4098.8501193485281,3038.0488796258069,4394.6458037399934,4394.6458037399934,0,89.765861511230469,52.279277801513672,null,null,{"$f":"R625+S625","v":7432.6946833658003}]
[" ","1972-11-30",3252,7994.8479208226072,0,0,0,9578.3150706536089,10797.4599609375,1719.6050591479009,1700,4282.8777721993811,479.86845097494211,1354.8417543178298,17782.327303612998,-9156.9491320086127,10534.993109593552,4600,6680,6680,0,80.523834228515625,52.457324981689453,null,null,{"$f":"R626+S626","v":11280}]
[" ","1972-12-31",3346,11782.287857506493,0,0,0,15362.941712034266,15362.94140625,1924.9737418291049,1700,5638.9957698912558,567,2424.619354775622,24711.627155976606,-5290.322580645161,22016.43717894562,4182.296531068886,2788.1976873792564,2788.1976873792573,0,64.201065063476563,49.884372711181641,null,null,{"$f":"R627+S627","v":6970.4942184481424}]
[" ","1973-01-31",3552,26135.444611233328,0,0,0,24932.441046984404,24932.44140625,2531.8426759040267,1700,16157.743735642225,559,9559.695048123458,55609.52253040878,-4516.1290322580644,79006.805786164783,4261.2342054338187,2840.8228036225455,2840.8228036225455,0,54,46.519599914550781,null,null,{"$f":"R628+S628","v":7102.0570090563642}]
[" ","1973-02-28",3636,29500.827476591847,0,0,0,24613.328723275859,24648.53125,2788,5507.6311556462297,19568.212281991058,555,7429.8975217279276,59473.586728521819,-4464.2857142857147,88274.977718326554,4600,3534.7828815591024,3534.7828815591024,0,54,44.934009552001953,null,null,{"$f":"R629+S629","v":8134.782881559102}]
[" ","1973-03-31",4162,14361.683070796611,0,0,0,20454.567183414678,20454.56640625,2951,6099.7891027778214,20059.239481305169,652,3584.4167606502415,43933.67011167515,-3258.0645161290322,58686.167749855595,4600,3472.6552504136289,3472.655250413678,0,54,46.76190185546875,null,null,{"$f":"R630+S630","v":8072.6552504136289}]
[" ","1973-04-30",4516.0051072040324,5986.7010274269978,0,0,0,8377.6969644562596,9837.234375,3293.0803776685448,1000,5308.203281901865,792,2241.0833724320164,17304.600506917304,-3500,17760.450670373237,3844.8644453854504,3913.0058750034013,3913.0058750034077,0,65.800582885742188,52.131538391113281,null,null,{"$f":"R631+S631","v":7757.8703203888517}]
[" ","1973-05-31",4552,9154.786400345085,0,0,0,5313.2407468196197,6122.2705078125,3538,2591.8769759703018,7004.1253416100699,967,3201.2779075143626,16639.156118227329,-3500,14782.331504002477,3491.2273148216218,2327.4848765477482,2327.4848765477482,0,72.863716125488281,53.779956817626953,null,null,{"$f":"R632+S632","v":5818.71219136937}]
[" ","1973-06-30",4058.2133041803249,13489.8894736857,0,0,0,7392.3583871145584,8384.822265625,3316.039828362691,3512.5845524798442,6277.54969001672,827.68838896501222,2999.9999999999991,18086.695641345003,-5000,11476.119323176892,3545.1845993817892,1908.9455535132715,1908.9455535132715,0,77.505157470703125,52.270759582519531,null,null,{"$f":"R633+S633","v":5454.1301528950607}]
[" ","1973-07-31",3405.3744350321927,16042.580465202025,0,0,0,8483.054494100903,9420.041015625,2746.7762814846214,7876.3417142509525,8872.1856985583945,667.66426553817632,2781.3919004312065,21771.766868684652,-10699.920734683044,8018.7842738749259,4376.8825397213377,6780.9764629727488,6680,0,81.978591918945313,51.313014984130859,null,null,{"$f":"R634+S634","v":11157.859002694087}]
[" ","1973-08-31",3193.3692763572767,9832.0067187812747,0,0,0,4560.9562950134277,5986.84375,2304.4533276628085,6623.9144547758169,8730.8254791782565,618.14133364613883,1493.5138067216901,16542.198634527253,-9783.7806835970223,5806.4517000000924,3958.9217421460562,6680,6680,0,86.777328491210938,52.222721099853516,null,null,{"$f":"R635+S635","v":10638.921742146056}]
[" ","1973-09-30",3073.6548231923975,8159.7887052201231,0,0,0,7216.050278843526,7907.8134765625,1863.6634701521421,6982.5699854400382,9710.3839624659013,542.92210969197538,1976.8675158035467,20023.589003155295,-7750.0240891565554,11906.250000000087,2516.8409228172309,6680,6680,0,79.368698120117188,50.953086853027344,null,null,{"$f":"R636+S636","v":9196.8409228172313}]
[" ","1973-10-31",3133.1671661275122,6423.4598667433338,0,0,0,6591.5297956696304,6515.42041015625,1665.203726835424,3999.9999999999936,4710.6948978796727,511.11375712930419,1353.8354977562649,13523.669152911449,-6539.1578214156361,7187.5,3163.2987610842188,5612.3440990890722,5612.3440990890722,0,81.252494812011719,52.186965942382813,null,null,{"$f":"R637+S637","v":8775.6428601732914}]
[" ","1973-11-30",3252,36086.363914297312,0,0,0,21744.556572636971,21744.556640625,2344.4676553618824,1700,7416.8642620487199,567,5190.6864318050748,45405.455364898953,-9076.6778947059029,50290.213527463588,4600,6680,6680,0,54,52.592159271240234,null,null,{"$f":"R638+S638","v":11280}]
[" ","1973-12-31",3267,29871.201516546123,0,0,0,25445.502611025142,25445.501953125,2800,1961.548379816928,10323.394812057351,567,7091.4110163865098,49312.749787027133,-5290.322580645161,58357.02937742207,4599.9999999999991,3144.3931749975791,3144.3931749975873,0,54,47.754161834716797,null,null,{"$f":"R639+S639","v":7744.3931749975782}]
[" ","1974-01-31",3252,55182.336342632923,0,0,0,26302.803492353203,26302.802734375,2870,20186.784519593039,38495.730796797849,505,11683.924071128911,69828.727411760046,-4516.1290322580644,130457.94954089823,4600,3908.4852325029988,3908.4852325029988,0,54,44.477668762207031,null,null,{"$f":"R640+S640","v":8508.4852325029988}]
[" ","1974-02-28",3694,11910.569484819882,0,0,0,16599.958257875245,16635.16015625,3009,5792.2143431768918,15757.831027472123,499,4768.9474920181447,40983.632751042278,-4464.2857142857147,44653.940349100689,4600,3067.2045164408701,3067.2045164408705,0,54.301467895507813,44.409629821777344,null,null,{"$f":"R641+S641","v":7667.2045164408701}]
[" ","1974-03-31",3416,47255.292724613937,0,0,0,25510.492777085157,25510.4921875,2788,26259.007573738701,34654.522074986678,622,9540.9725004040247,67963.694078131899,-3258.0645161290322,111365.21653421417,4599.9999999999509,3276.0006919939624,3276.0006919939638,0,54,45.012763977050781,null,null,{"$f":"R642+S642","v":7876.0006919939133}]
[" ","1974-04-30",4289,15593.170075827416,0,0,0,22049.054388951878,22062.212890625,3292,8450.1798528262298,27654.119099341933,792,5790.7906697284088,50612.489259028647,-3500,67343.42192935184,4600,4008.8612411272875,4008.8612411272875,0,54,50.494327545166016,null,null,{"$f":"R643+S643","v":8608.8612411272879}]
[" ","1974-05-31",4552,8870.4800849911644,0,0,0,5240.8833226178276,5988.53515625,3538,5777.794306184881,9908.6520420255856,967,3665.8199349592601,19925.43501165411,-3500,18940.903846465633,3576.8228199753471,2384.5485466502341,2384.5485466502328,0,66.011184692382813,53.940677642822266,null,null,{"$f":"R644+S644","v":5961.3713666255808}]
[" ","1974-06-30",4473.8816391558394,9662.0094037168128,0,0,0,4832.4889526367188,5574.9609375,3538,4360.8583618267949,9027.0124640010999,967,3054.7587690472924,18395.246227288742,-5000,14279.399862867955,4131.4613368166647,2754.3075578777816,2754.3075578777784,0,70.812149047851563,53.425773620605469,null,null,{"$f":"R645+S645","v":6885.7688946944463}]
[" ","1974-07-31",4150.0000000000009,12994.444289257206,0,0,0,7682.780525278873,8776.5029296875,3337.6950424717943,5118.6442884086864,7755.9965075767304,942.00000000000011,2195.8330783983411,19868.028693203007,-10270.936433587587,8000,4600,7004.9017250857196,6680,0,80.462661743164063,52.067115783691406,null,null,{"$f":"R646+S646","v":11604.90172508572}]
[" ","1974-08-31",3700,13580.433252346034,0,0,0,8041.5179244238752,9078.7880859375,3311.6888049669928,1549.9494648759869,3815.6338365311776,792.00000000000023,3166.5206317822085,16822.329299440753,-10279.755589434644,5567.9785635101798,4600,6680,6680,0,85.509620666503906,51.337577819824219,null,null,{"$f":"R647+S647","v":11280}]
[" ","1974-09-30",3399.9999999999995,12454.628152881152,0,0,0,12151.349387138425,12702.8603515625,3064.9127506805389,4708.0317208874094,7589.8446859217347,751.99999999999989,1594.8742485304249,21789.297698684939,-9214.2715458530838,12531.250000000087,4600,6680,6680,0,74.989547729492188,49.665611267089844,null,null,{"$f":"R648+S648","v":11280}]
[" ","1974-10-31",3250,9605.8948742549346,0,0,0,9648.0220138090426,9268.115234375,2900.3270613221866,3295.4456338067785,3262.306935036042,705.10697030123549,1342.7228280820432,14313.345761727922,-7590.5253441438326,6718.75,4600,5430.9864351823617,5430.9864351823617,0,81.579071044921875,51.579261779785156,null,null,{"$f":"R649+S649","v":10030.986435182362}]
[" ","1974-11-30",3175.7018312623923,7799.883422690421,0,0,0,7171.7381476479059,7450.099609375,2874.759760594442,2041.9949062496869,1778.2973590192269,561.20315117259929,3488.7697804991803,13294.807308932282,-8890.0486777034057,5003.3311179579669,4600,6680,5653.7163005151469,951.60961819741351,88.13397216796875,54.040454864501953,null,null,{"$f":"R650+S650","v":11280}]
[" ","1974-12-31",3347.3834727889034,6250.5445998239138,0,0,0,8044.3621804555742,8670.1259765625,2871.4111081278329,1700,3216.9021698548736,555.28943720297286,1869.4710232717853,14896.641406934677,-9466.0297084649283,5795.3555532544851,4600,7208.5517745495299,7208.5517745495299,0,85.152435302734375,51.390621185302734,null,null,{"$f":"R651+S651","v":11808.551774549531}]
[" ","1975-01-31",3437.9404034330373,6772.1610711139292,0,0,0,8127.3982841894276,8510.8427734375,2907.1074084237734,1700,3047.6253542098611,567,1231.4828722533011,14077.198268229222,-5225.8064516129034,10204.796392567103,4599.9999999999964,2603.4266231721658,2603.4266231721658,0,82.631462097167969,48.521297454833984,null,null,{"$f":"R652+S652","v":7203.4266231721622}]
[" ","1975-02-28",3936,17238.483736425966,0,0,0,22969.153323703194,23004.35546875,2884,8613.2478823821111,19420.470280377205,567,4372.0739443822031,52477.30356763069,-4464.2857142857147,63966.227267504335,4600,3986.8115985984332,3986.8115985984332,0,54,47.179336547851563,null,null,{"$f":"R653+S653","v":8586.8115985984332}]
[" ","1975-03-31",3756,41097.201868151002,0,0,0,25218.220060052758,25218.220703125,2833,12899.874407000229,19030.747630215938,662,4743.0854972164161,59544.023616254519,-3258.0645161290322,89253.031335807784,4600,4042.5781999049614,4042.5781999049609,0,54,47.025291442871094,null,null,{"$f":"R654+S654","v":8642.5781999049614}]
[" ","1975-04-30",4415.8293137917199,7385.5053088362747,0,0,0,10682.690691709189,11561.158203125,3276.5509634081245,1000,7272.9140744782562,792,2042.9409865068535,21184.29075909446,-3500,23663.709861766143,4600,3127.2458551399768,3127.2458551399768,0,63.573947906494141,51.366100311279297,null,null,{"$f":"R655+S655","v":7727.2458551399768}]
[" ","1975-05-31",4552,13484.346241093486,0,0,0,10144.220939654295,10849.2529296875,3538,8359.8590642244053,13505.190465673233,967,4664.3827740567494,29884.628415583749,-3485.1266238889948,28451.441138149581,3029.8383872201161,2019.8922581467446,2019.8922581467446,0,58.857257843017578,52.40972900390625,null,null,{"$f":"R656+S656","v":5049.7306453668607}]
[" ","1975-06-30",4469.7749699012438,10211.427161906486,0,0,0,4940.6778259277344,5686.27783203125,3538,6123.0943323400834,11953.164021348799,967,4312.625976862847,22369.264700628162,-5000,19442.988578920835,4600.0000000000136,3325.1465601720975,3325.1465601720975,0,63.860946655273438,53.251579284667969,null,null,{"$f":"R657+S657","v":7925.1465601721111}]
[" ","1975-07-31",4150,12336.634386445416,0,0,0,5837.5477996973768,7156.83740234375,3090.9835894953781,7766.0770797260038,9945.1582689043662,936.97511475641568,1750.0000000000002,19542.505366254489,-10147.354700732507,8000,4600,7004.9017250857196,6680,0,77.622291564941406,52.210029602050781,null,null,{"$f":"R658+S658","v":11604.90172508572}]
[" ","1975-08-31",3699.9999999999995,12714.880048151439,0,0,0,7174.8343265464673,8438.4482421875,3031.7089862298335,1926.1388766061648,4282.6656586369427,792,3080.5388413728415,16458.017934247997,-10114.793267120258,5743.969196646276,4600,6680,6680,0,83.710220336914063,51.301033020019531,null,null,{"$f":"R659+S659","v":11280}]
[" ","1975-09-30",3400,11918.127162052901,0,0,0,11224.44231916416,11674.1298828125,2729.6445628999036,5728.670706089204,8675.6798438333462,745.58274053241757,1529.4231587102686,21764.505654736455,-9640.6571694667546,11750.000000000087,4600,6680,6680,0,76.547943115234375,50.307445526123047,null,null,{"$f":"R660+S660","v":11280}]
[" ","1975-10-31",3250,11557.070069326979,0,0,0,10980.302375935195,10864.83203125,2699.7018924123881,1700,2569.7835372157665,711.00489083619527,1878.9999857006032,16718.098738777106,-8689.0617636295174,8182.42519933329,4600,6680,6680,0,78.95587158203125,51.320728302001953,null,null,{"$f":"R661+S661","v":11280}]
[" ","1975-11-30",3252,6959.9959170338043,0,0,0,5663.8991451102038,5975.19580078125,2738.2175391399951,1700,2034.4467606074147,567,4374.2302986289415,13765.641552637191,-8960.0435126980119,4965.8027636694296,4600,6680,6680,0,84.938392639160156,53.573867797851563,null,null,{"$f":"R662+S662","v":11280}]
[" ","1975-12-31",3263.7840754747444,6977.2068615116914,0,0,0,7011.8050515216801,7506.04150390625,2794.2144788609553,1756.941367509869,3465.3566255527903,546.27516124344299,2046.60514470813,14322.255077278174,-9098.8699803335439,4739.9473967424674,4600,6356.2077827794692,4428.04071146977,1875.779467260398,88.649482727050781,51.625431060791016,null,null,{"$f":"R663+S663","v":10956.207782779469}]
[" ","1976-01-31",3517.2366719482029,4573.2084991350548,0,0,0,5384.867514516438,5588.6484375,2864.3583649437633,1700,2948.2049717521581,499.7150825066675,1211.6378168197223,10435.322637700816,-4645.0133036284724,6546.9865463869146,3737.5313166637752,2454.3453165483893,2454.3453165483893,0,87.707931518554688,48.242992401123047,null,null,{"$f":"R664+S664","v":6191.876633212165}]
[" ","1976-02-29",3670.4837392057248,6925.256516519521,0,0,0,5866.2666015624973,6572.9755859375,2993.2203273870714,1700,2658.1918159644397,456.02709644324159,1223.7273790193447,13506.574264937772,-5000,9126.4156503334507,4017.1351228651838,2678.0900819100998,2678.0900819100998,0,83.250541687011719,48.75103759765625,null,null,{"$f":"R665+S665","v":6695.2252047752836}]
[" ","1976-03-31",3902.7167531076043,6144.5678829118242,0,0,0,8002.2800698648962,9565.990234375,3102.6362772727307,1700,3170.5461408356446,457.3862772256623,780.44647555178949,14418.956740445119,-4757.4574240931433,9908.3639032755345,3998.9098797989159,2143.8360891224852,2143.8360891224852,0,80.183197021484375,50.991828918457031,null,null,{"$f":"R666+S666","v":6142.7459689214011}]
[" ","1976-04-30",4093.2760739027208,5269.0282054410009,0,0,0,5639.1538462152348,6516.01025390625,3025.0068747796117,1000,3553.8605448540447,451.73490868018808,776.81998930109512,11390.812687057187,-2015.7792247740817,8909.6101642833291,800,2003.4299895212562,2003.4299895212562,0,81.363624572753906,53.302162170410156,null,null,{"$f":"R667+S667","v":2803.4299895212562}]
[" ","1976-05-31",3858.3364799238902,9279.2571278526102,0,0,0,4988.2565788434267,5971.6171875,2908.7881513236298,1135.097833719354,1000,460.58438213460261,755.54394517677952,8139.7623285639074,-2188.5905463203894,4000,1774.8684187643164,798.20337833891904,798.20337833891904,0,89.618568420410156,54.978519439697266,null,null,{"$f":"R668+S668","v":2573.0717971032354}]
[" ","1976-06-30",3363.5750237877096,12524.80732767448,0,0,0,7733.1928162393851,8477.3583984375,2593.6741208408798,3161.903715600507,3020.1646242965298,453.44116167438807,267.84266122517431,12043.869111336306,-4977.021253249779,4278.8234951923987,2030.077464870041,2629.2596733390528,2629.2596733390528,0,89.104827880859375,53.775199890136719,null,null,{"$f":"R669+S669","v":4659.3371382090936}]
[" ","1976-07-31",3038.4825111005948,11471.925067395183,0,0,0,6376.4766766394423,6975.10986328125,1869.9470795437148,9219.2635050496901,9520.3057570994297,434.44421646918994,393.25245609815397,16966.230565624519,-8590.7955965751098,5249.9336101649487,1649.9010361053961,6904.1937683797169,6673.0776913600703,6.9223086399297244,88.821876525878906,53.157184600830078,null,null,{"$f":"R670+S670","v":8554.0948044851139}]
[" ","1976-08-31",2943.9643467466503,7767.0223665271787,0,0,0,5462.1859661387589,6715.96923828125,1646.2706027519957,2318.2539706477451,3334.8223569105162,426.48345691826199,281.11116485198409,10395.26121451546,-6262.8896445667524,3005.0640382313468,2047.2891801215906,4767.186289205657,3297.1592905236312,718.41431538432346,92.802818298339844,53.426567077636719,null,null,{"$f":"R671+S671","v":6814.475469327248}]
[" ","1976-09-30",2911.5899342072898,6015.8701095914394,0,0,0,5322.8703808142782,5932.8037109375,1628.313879620154,1000,1943.2450980059425,413.69133799115787,318.71602485408198,7681.077451725384,-3713.5597359762905,3467.8509840061506,3168.6196275218063,1447.366493880992,1447.366493880992,0,94.120628356933594,53.589218139648438,null,null,{"$f":"R672+S672","v":4615.9861214027987}]
[" ","1976-10-31",2709.5394814798733,8401.6349856286179,0,0,0,7353.2466624879307,7072.30126953125,1528.9708957294883,1200,1721.2578675102177,405.52428159707739,375,8757.3281111586311,-4441.27572128258,3842.9936167203823,3706.3938989982116,1955.0274667137191,1955.0274667137191,0,90.428413391113281,54.178928375244141,null,null,{"$f":"R673+S673","v":5661.4213657119308}]
[" ","1976-11-30",2588.9847284478674,8075.0437355462745,0,0,0,6592.0539569795747,6747.177734375,1403.6300205546472,1200,1526.6693985189108,394.19394808095626,375,8891.4927504620646,-2877.1415335009988,5845.153492415764,2472.2777714427357,1361.1774737258586,1361.1774737258586,0,88.306266784667969,54.014492034912109,null,null,{"$f":"R674+S674","v":3833.455245168594}]
[" ","1976-12-31",2402.2200501735638,8984.1342328845512,0,0,0,8321.9394025323363,8516.13671875,1280.0545047255848,1200,2020.6333300532242,359.03129815900598,500,10883.04550696462,-6821.159008135779,3499.9999999999918,4600,3532.4051837103016,2520.4020798251959,1012.0031038851059,90.341423034667969,51.463325500488281,null,null,{"$f":"R675+S675","v":8132.4051837103016}]
[" ","1977-01-31",2083.6888146090878,10284.461139944331,0,0,0,10125.409652313092,10519.4404296875,1199.1248188962963,1630.9813352672561,3281.8510456452696,338.61465496538244,345.054503691592,14390.677025021268,-3043.0538940969345,11969.389534735217,3848.9892499920311,300,300,0,78.080085754394531,47.939800262451172,null,null,{"$f":"R676+S676","v":4148.9892499920315}]
[" ","1977-02-28",2022.2963660377436,6180.3108601454896,0,0,0,6054.2182230371536,6752.9658203125,1182.8464688967879,1200,1557.6031063443502,317.51192568570474,337.19922445784266,11331.520854821292,-4715.4628583518106,6316.0713000000196,3602.6927223334042,2250.0879171291604,2250.0879171291604,0,82.337593078613281,47.577423095703125,null,null,{"$f":"R677+S677","v":5852.7806394625641}]
[" ","1977-03-31",1902.1196602988023,7043.2848772852158,0,0,0,6986.2721513399347,8082.76904296875,1166.0759528211938,1000,1688.0175597898449,293.14280717290808,346.99509525613087,10420.449696282561,-2694.2764116499752,7238.7095000001136,2522.8803367723503,669.59988368123231,669.59988368123231,0,82.150138854980469,48.572834014892578,null,null,{"$f":"R678+S678","v":3192.4802204535827}]
[" ","1977-04-30",1692.1584874328016,7152.9948630764848,0,0,0,5929.9971051706898,7068.64990234375,1033.3104967132583,1319.6135440486582,1438.6018391638979,257.48500983983195,325.83484644316638,9065.3799563371776,-908.43767543067906,7100.0000000000873,800,300,300,0,84.11114501953125,52.912639617919922,null,null,{"$f":"R679+S679","v":1100}]
[" ","1977-05-31",1546.8862229232827,7250.4907126161206,0,0,0,3353.7669601440443,4558.83837890625,974.5310968375278,987.47040415297511,750,235.58387256496727,376.09521222837196,5888.1951656214678,-1010.8366251501293,4000.0000000000268,1292.0960399581672,300,300,0,91.122947692871094,52.850597381591797,null,null,{"$f":"R680+S680","v":1592.0960399581672}]
[" ","1977-06-30",1059.0408317339711,11771.228076462088,0,0,0,4925.8967030942613,5627.05615234375,648.66048583548513,4350.1156994099747,2571.4675504951083,189.16419767456003,317.64472261513305,8815.7179503929456,-2068.1739359693261,4000.0000000000873,800,300,300,0,92.443550109863281,52.862686157226563,null,null,{"$f":"R681+S681","v":1100}]
[" ","1977-07-31",622.31898373184322,13417.963517869299,0,0,0,7221.1113725744572,7940.55126953125,438.80529950677754,2684.3403308153124,750,136.53785175396672,320.97014424549513,9333.5761806722439,-2546.309479856196,4004.5537634605516,717.08528873339537,867.64547355972786,300,532.38308453805939,93.679817199707031,55.147602081298828,null,null,{"$f":"R682+S682","v":1584.7307622931232}]
[" ","1977-08-31",550,8970.3809699132726,0,0,0,4997.4710097087891,5971.9541015625,286.24143105972558,2672.8539277747154,1176.7070391097327,98.976842019435779,336.34830957167793,8388.3906494858529,-2327.8774370971787,4514.6215343895701,1393.0879905466154,379.88277227626702,300,0,92.631591796875,61.490756988525391,null,null,{"$f":"R683+S683","v":1772.9707628228825}]
[" ","1977-09-30",550,4916.3041012863678,0,0,0,4305.1876509109161,4796.03857421875,256.54446061727435,1760.4731992233483,1492.8118228493988,90,377.92265575372983,6777.8390873370709,-3002.2845584965489,3000.0000000000873,1422.0247105785213,1848.2567793351609,1848.2567793351609,0,93.457748413085938,65.952018737792969,null,null,{"$f":"R684+S684","v":3270.281489913682}]
[" ","1977-10-31",550.00000000000011,5487.866151688504,0,0,0,4688.8200062617198,4372.0947265625,177.54278621607014,2062.6307594135778,2011.8162629794015,90,390.55307327915631,6509.7078701934133,-2661.2475059383814,3232.7007619356918,1505.4790005345403,1669.7610031723946,1669.7610031723946,0,93.717918395996094,60.633548736572266,null,null,{"$f":"R685+S685","v":3175.2400037069347}]
[" ","1977-11-30",550,5757.3468528583198,0,0,0,4900.2094504239894,5004.83154296875,202.1429746350762,900,1352.8295139268055,90,446.71438520089509,6900.0000000000036,-2825.5242537855975,3924.3276535258378,2014.1311947527395,1493.8608533971719,1493.8608533971719,0,91.854896545410156,54.376346588134766,null,null,{"$f":"R686+S686","v":3507.9920481499112}]
[" ","1977-12-31",964.51806884288408,8789.7528366776951,0,0,0,10880.782037265397,11358.1376953125,406.46346239307837,900,2661.4798870849186,193.5605518800707,500,15395.711479425523,-4547.7298282431666,11628.365168260907,2867.1803551954799,2655.0252425013855,2655.0252425013855,0,78.952827453613281,48.240211486816406,null,null,{"$f":"R687+S687","v":5522.2055976968659}]
[" ","1978-01-31",2874.4169273451766,19497.639031599425,0,0,0,23568.905509087825,23568.90625,1311.2038055677981,900,11513.461519058017,567,1720.928840121953,45011.384913234469,-4516.1290322580644,65798.475829755655,4212.5069161203228,2808.3379440802164,2808.3379440802164,0,54,46.450454711914063,null,null,{"$f":"R688+S688","v":7020.8448602005392}]
[" ","1978-02-28",3567,16613.553429568441,0,0,0,22516.568240897457,22551.76953125,1778.2943902804625,900,5951.8084469625383,567,5051.3786974236009,41277.069874290741,-4464.2857142857147,51397.401483084017,4600.0000000000018,4272.5577756624243,4272.5577756624243,0,54,43.840709686279297,null,null,{"$f":"R689+S689","v":8872.5577756624261}]
[" ","1978-03-31",4000,26587.033296638678,0,0,0,25054.329263483305,25054.330078125,2653.4554110144582,800,9618.2266608533846,657,6221.4302024723966,50218.404786469699,-3258.0645161290322,68357.981572655888,4600,3820.3141408790289,3820.3141408790289,0,54,46.574390411376953,null,null,{"$f":"R690+S690","v":8420.3141408790289}]
[" ","1978-04-30",4552,14056.75390713794,0,0,0,19883.730437689384,19893.970703125,3170.7744579063383,1000,5852.8496684714319,792,4440.5317550836335,32194.065330086753,-3412.3974944598522,39796.102252745834,4600,5682.6808935404497,5552.808430176995,129.87246336345416,55.120563507080078,51.194900512695313,null,null,{"$f":"R691+S691","v":10282.68089354045}]
[" ","1978-05-31",4552,11360.48960782577,0,0,0,8429.8591821403006,9060.943359375,3487.852140354566,1000,4789.3905208160049,967,3091.1078160980292,17961.630718445409,-2635.7131014726961,20376.499966594605,3936.5402195462184,4401.0051783398821,4401.0051783398821,0,64.273643493652344,52.969860076904297,null,null,{"$f":"R692+S692","v":8337.5453978861005}]
[" ","1978-06-30",4288.7981397819294,10365.987332726816,0,0,0,4704.2212524414063,5631.859375,3522.7930720680411,1000,4764.5499684099696,960.3461391260563,2999.9999785549517,14040.924018625932,-5000,11208.546506560213,4600,3929.009475776289,3929.009475776289,0,74.043983459472656,53.036899566650391,null,null,{"$f":"R693+S693","v":8529.009475776289}]
[" ","1978-07-31",3884.5777781371507,11556.040819230369,0,0,0,4601.6706848144531,5591.73876953125,3009.7248679481181,7174.812520537891,8568.2944131855784,852.62109582359756,2815.3695938103124,17666.672472056336,-7886.9088300286639,8000,2516.6841537864839,6680,6680,0,80.792335510253906,52.505905151367188,null,null,{"$f":"R694+S694","v":9196.6841537864839}]
[" ","1978-08-31",3570.3395342719691,9621.4862686619217,0,0,0,4554.8929290771484,5857.00439453125,2554.0784144624722,7738.9487628697052,9335.5359126807889,792,1641.8268656051468,16850.055299069783,-9871.7493714491175,5383.064500000095,4213.2408404352072,6680,6680,0,85.634262084960938,52.331016540527344,null,null,{"$f":"R695+S695","v":10893.240840435206}]
[" ","1978-09-30",3400.0000000000005,7335.7993801454013,0,0,0,7829.210269679279,8579.6884765625,2179.7229898659016,7723.2085396240518,10238.318501176229,752,1641.7279077100752,20881.975823682798,-8229.1611841078848,12218.750000000087,3487.0729095294105,6680,6680,0,76.45330810546875,51.111507415771484,null,null,{"$f":"R696+S696","v":10167.07290952941}]
[" ","1978-10-31",3239.4116583313471,6842.7298520631812,0,0,0,5784.1375886802325,5604.35400390625,1935.4220150410017,3999.9999999999891,5163.1251863594935,686.58797999523279,1322.4270079759383,12331.874992284531,-5364.497620092814,6562.5,3105.4158730955592,3765.3035734170599,3765.3035734170599,0,82.184425354003906,52.694374084472656,null,null,{"$f":"R697+S697","v":6870.7194465126195}]
[" ","1978-11-30",3201.3776521808213,5508.7813154994419,0,0,0,4711.4339413183225,4917.90087890625,1798.1186580567683,2500.0000000000205,3671.0913247325097,566.99999999999989,3241.5670571371406,13156.35655780422,-9108.8932485102014,4979.9546282892788,4600,6680,6619.4568979621881,47.627538679095778,86.804084777832031,53.057029724121094,null,null,{"$f":"R698+S698","v":11280}]
[" ","1978-12-31",3128.7149356945824,5435.0715676859018,0,0,0,5667.2992047409034,5934.19970703125,1553.0923205290535,5021.2657594542961,6195.9773282926399,539.00966647691803,1832.9466092873245,14778.55171194753,-9596.7469010597815,4924.941469022946,4365.5767248707089,7125.4500531520498,7125.4500531520498,0,88.770240783691406,50.257328033447266,null,null,{"$f":"R699+S699","v":11491.026778022759}]
[" ","1979-01-31",3285.235346223958,7114.9490555149514,0,0,0,10014.399249893026,10787.5302734375,1707.7148561379317,1200,5927.430125615555,567,2383.0769260913848,21212.754037671326,-5225.8064516129034,21440.415481821117,4600,3484.4060158055745,3484.4060158055745,0,68.50347900390625,47.621810913085938,null,null,{"$f":"R700+S700","v":8084.4060158055745}]
[" ","1979-02-28",3626.4723070388059,10658.789810589144,0,0,0,15909.260995318702,15944.462890625,2022.0450379004039,1200,7290.2439397471562,567,3823.6672210377419,31063.560454269042,-5250,36715.855928658864,4600,4970.6556618532559,4970.6556618532559,0,57.050857543945313,46.680389404296875,null,null,{"$f":"R701+S701","v":9570.6556618532559}]
[" ","1979-03-31",4132.7877544813891,7682.3389794815321,0,0,0,11840.116255397304,12585.3525390625,2389.0026840910496,1000,7191.4089220808328,657,3493.5754444364966,25177.488097507718,-3258.0645161290322,29381.382116580098,4600,3938.9958048070712,3938.995804807073,0,60.1519775390625,49.528980255126953,null,null,{"$f":"R702+S702","v":8538.9958048070712}]
[" ","1979-04-30",4394.9463706209845,5602.2477981516295,0,0,0,8440.0064244803871,9616.5517578125,2614.442011250896,1000,3903.8643196348867,792,1741.0070488773163,16715.144285445123,-3500,17788.983481980064,3618.3141931248633,4377.6818170355891,4377.6818170355891,0,67.925758361816406,53.584857940673828,null,null,{"$f":"R703+S703","v":7995.996010160452}]
[" ","1979-05-31",4508.7451324563635,8305.3318580529231,0,0,0,4941.2190551757813,5750.7890625,2899.4244629916238,1000,4562.6139725477606,964.03009082504002,2999.9999785544023,13954.115384747296,-3500,13907.384116911455,3734.8060557410313,3340.9379100972769,3340.9379100972769,0,71.239265441894531,54.676910400390625,null,null,{"$f":"R704+S704","v":7075.7439658383082}]
[" ","1979-06-30",3897.050699469135,14084.193588913677,0,0,0,7421.616975430381,8221.2646484375,2597.6377047423957,4799.0971699023175,5553.9510901842905,793.07231715455794,3263.5857944388517,17595.493711446379,-5000,10525.000000000087,3339.2797960475768,1798.0737363333114,1798.0737363333119,0,73.777290344238281,52.044872283935547,null,null,{"$f":"R705+S705","v":5137.3535323808883}]
[" ","1979-07-31",3304.0446877139657,14342.060391998042,0,0,0,7434.9760478945373,8598.8408203125,2126.7474941669093,7079.8114041444123,8024.6020512434461,630.3322533683031,2727.0251221031845,20200.599465364383,-10636.385552481566,6500,3876.4686287334716,7004.9017250857205,5057.7046472661868,1622.2953527338132,81.225410461425781,51.727275848388672,null,null,{"$f":"R706+S706","v":10881.370353819191}]
[" ","1979-08-31",3083.9957067851842,8175.3240935410277,0,0,0,4055.4576072692876,5240.79443359375,1865.0251105143864,4189.6672279179293,6361.1674423111117,575.67756106281172,1553.8818768681631,13460.439345156532,-8373.2203410852126,4000.0000000001155,4600,4572.5254696812435,3942.2334138106439,60.574367044771051,88.588897705078125,53.013362884521484,null,null,{"$f":"R707+S707","v":9172.5254696812444}]
[" ","1979-09-30",3050.150694958234,5361.9137291485167,0,0,0,4582.2300556982773,5338.01220703125,1740.8640582968783,1748.4850274862654,4263.5893438904204,526.25181527402935,1545.9738184741445,10830.790796123698,-7122.8143190474475,3000.0000000000873,4600,3894.9196904132646,3894.7180847273985,0,91.141754150390625,53.638484954833984,null,null,{"$f":"R708+S708","v":8494.9196904132641}]
[" ","1979-10-31",3137.3680056680687,5449.7489653356006,0,0,0,5058.9345189810792,5175.86181640625,1615.183622648128,3437.8364208371736,4033.3457817857648,496.12869428953343,1368.3681246060646,11334.366289448804,-7492.7643161534397,4047.1816297988071,4070.7786206369665,5563.1499199591426,5563.1499199591426,0,90.506317138671875,53.295700073242188,null,null,{"$f":"R709+S709","v":9633.9285405961091}]
[" ","1979-11-30",3252,6711.2533610251903,0,0,0,7318.4548465552962,8471.248046875,1560.5259845352264,1700,2468.3642641259212,531.88564480790922,1579.352813984664,13003.239830308959,-5720.6258864806423,8046.8436503051762,3241.7334466153707,4190.6173937478979,4190.6173937478979,0,84.105789184570313,53.127712249755859,null,null,{"$f":"R710+S710","v":7432.3508403632686}]
[" ","1979-12-31",3367,9514.9438208215324,0,0,0,11604.496644272782,12801.9736328125,1611.4382080684757,1700,3241.4236717675326,567,2029.015823000788,19832.31027860062,-9655.990901514906,11718.830336361279,4600,7085.9522516358065,7085.9522516358065,0,80.422744750976563,50.3953857421875,null,null,{"$f":"R711+S711","v":11685.952251635807}]
[" ","1980-01-31",3528,27084.516618581234,0,0,0,23081.141029904153,23081.140625,2744.6771505924744,1700,23274.136573490436,481,16727.882714664844,52735.031700793923,-3645.1612903225805,98577.469233707758,4600.0000000000018,6253.0308336344406,6253.0308336344406,0,54,47.374900817871094,null,null,{"$f":"R712+S712","v":10853.030833634442}]
[" ","1980-02-29",3292,43395.32220622625,0,0,0,23122.126280002685,23156.11328125,2788,16953.648398815545,35677.070912906151,457,13158.616493044761,56168.53655665413,1269.5639894058013,132465.76159098261,4600,6311.1066685718051,5550.4013719225377,760.70529664926744,54,45.105541229248047,null,null,{"$f":"R713+S713","v":10911.106668571805}]
[" ","1980-03-31",4016.8630267426579,10368.497567024016,0,0,0,15737.670328360884,15737.669921875,3028,5309.5412356700263,21897.040145781677,621,4731.7795359066195,38421.883734566305,3064.2307176529666,62989.172281617633,1883.3961428658738,3828.3672786419706,3828.3672786419702,0,54,48.388484954833984,null,null,{"$f":"R714+S714","v":5711.7634215078442}]
[" ","1980-04-30",4231.6965744630206,8285.1227043538875,0,0,0,9557.7897002131631,10621.5078125,3295.2193456133577,1000,6926.3509699864771,792,2707.6064362935367,20564.809249935053,-1656.8309563785849,23265.682081037354,2562.9524490918984,3346.0013222011712,3346.0013222011712,0,62.99078369140625,52.075843811035156,null,null,{"$f":"R715+S715","v":5908.9537712930696}]
[" ","1980-05-31",4249.4166541457071,8155.7579932296294,0,0,0,4195.9342041015625,5672.39404296875,3492.9363592427271,1000,4864.4416689944956,967,2787.6717099157286,13431.698532624529,-3500,13359.027565529759,4130.3581212295358,2753.5720808196902,2753.5720808196902,0,72.767486572265625,53.203262329101563,null,null,{"$f":"R716+S716","v":6883.930202049226}]
[" ","1980-06-30",4032.3296424360515,10187.896047000288,0,0,0,4145.3860321044922,5412.6298828125,3465.5806355792574,1000,3492.9299885972355,967,2674.2887777471719,11660.800075583416,-4237.1454318445749,11451.886847610236,4600,3842.7738599042791,3842.7738599042791,0,76.956634521484375,52.635570526123047,null,null,{"$f":"R717+S717","v":8442.7738599042787}]
[" ","1980-07-31",3645.0917239997893,11490.137831322603,0,0,0,4580.0386047363281,5658.0517578125,3079.1026395486056,6139.2749786276672,7710.5829086313452,941.99999999999989,1950.0181623587121,16004.497035391141,-8731.4857597615919,8000,4600,7004.9017250857196,6680,0,81.565887451171875,52.066051483154297,null,null,{"$f":"R718+S718","v":11604.90172508572}]
[" ","1980-08-31",3348.024605011768,9543.6922979929968,0,0,0,4511.2980546951258,5973.619140625,2997.0867814588933,1000,2457.0598473493797,792,3116.7739252973474,12541.334372083415,-6096.2717885995407,6023.346688825839,4600,2378.6239172558544,2378.6239172558544,0,86.025077819824219,52.083702087402344,null,null,{"$f":"R719+S719","v":6978.6239172558544}]
[" ","1980-09-30",3380.4455670882503,5359.4150226867896,0,0,0,4573.1732635498884,5603.0732421875,2561.604077700837,7423.2618854378306,9331.9796858198533,680.5150487249856,2488.3069813743255,17867.095913116806,-6069.3343723288999,11750.000000000087,800,6680,6680,0,79.381553649902344,52.544998168945313,null,null,{"$f":"R720+S720","v":7480}]
[" ","1980-10-31",3236.5485014285441,6566.7977365786483,0,0,0,5950.3852826560696,5898.75439453125,2310.2795405031666,3999.9999999999277,4767.8553267284042,631.70027464086911,1316.805002803854,12121.429118040893,-5032.2770194746645,7031.25,2932.8125000000023,4040.0127227342505,4040.0127227342505,0,81.850799560546875,52.485603332519531,null,null,{"$f":"R721+S721","v":6972.8252227342527}]
[" ","1980-11-30",3022.6604938369251,8017.0720755666516,0,0,0,6565.7562571849539,6805.2216796875,2159.5308412117824,2500,2756.493378534597,524.6918606725236,2696.1285081049964,13138.483064975282,-8456.2944533213376,4500.0000000000873,4600,6048.876657564273,3741.7841812365891,2160.6379854002134,86.963829040527344,53.577339172363281,null,null,{"$f":"R722+S722","v":10648.876657564273}]
[" ","1980-12-31",3173.1794511364992,6002.9256040038199,0,0,0,7631.884338429094,8181.5849609375,2098.9348430513742,3465.3041561994014,4042.4050580497369,499.02735622322894,1861.3411241934564,15366.752270078909,-9707.2537670304228,5162.9398737109641,4600,7068.9082055712242,7068.9082055712242,0,84.792320251464844,49.632061004638672,null,null,{"$f":"R723+S723","v":11668.908205571224}]
[" ","1981-01-31",3491.9686318293498,9270.8269452897875,0,0,0,14023.4661910584,15053.8857421875,2232.1573829022941,1700,1882.1981066747148,492.08781869733144,1594.1324077027873,20998.811604927341,-5225.8064516129034,18932.878977972148,4282.7405630016319,2855.1603753344216,2855.1603753344216,0,65.790534973144531,47.107131958007813,null,null,{"$f":"R724+S724","v":7137.9009383360535}]
[" ","1981-02-28",3899.1738320457312,8866.5089346313671,0,0,0,12950.456762615602,14227.22265625,2471.1999787070631,1700,6721.4257282383151,507.50061272660844,1220.7599594513567,25735.112088882226,-5000,22661.728167810455,4094.3389716761058,2729.5593144508321,2729.5593144508321,0,63.175113677978516,47.695770263671875,null,null,{"$f":"R725+S725","v":6823.8982861269378}]
[" ","1981-03-31",4256,13982.545145573669,0,0,0,17412.911705993309,17412.912109375,2743.2339161266327,1700,4146.8214683880569,613.59910795248402,1355.2526241038784,23181.674226523221,-3258.0645161290322,24599.575168551004,3491.9429892944727,2327.9619928629791,2327.9619928629791,0,61.797332763671875,48.274398803710938,null,null,{"$f":"R726+S726","v":5819.9049821574517}]
[" ","1981-04-30",4492.3457842470852,5417.2015997650888,0,0,0,7730.0624227386115,8848.73046875,2907.8126413158202,1000,5008.6885258562643,677.3819217257892,984.43105308366978,15334.136288963889,-2229.0544109545008,13977.265534150751,2559.3267243321352,1601.8045925189372,1601.8045925189372,0,70.149375915527344,53.779319763183594,null,null,{"$f":"R727+S727","v":4161.1313168510724}]
[" ","1981-05-31",4286.1395711632576,9968.4569512568323,0,0,0,4714.8600921630459,4737.1298828125,2891.4423447837366,1021.0323159490353,3734.9269271096114,676.26359605369396,981.25024440992843,9680.3916156225678,-2672.4153467530414,6217.6206269254571,2915.0036114959335,765.04116108971084,765.04116108971084,0,84.065238952636719,53.466381072998047,null,null,{"$f":"R728+S728","v":3680.0447725856443}]
[" ","1981-06-30",3625.9529714565128,15547.886197777187,0,0,0,8032.2749425358761,8151.435546875,2494.9828359381995,5785.8522132965309,6183.2507577091119,621.48587248140825,530.59728129322639,15293.111956348837,-5000,7180.5686982427032,3099.0275852142472,1760.401266402358,1760.4012664023585,0,83.958503723144531,52.195289611816406,null,null,{"$f":"R729+S729","v":4859.4288516166052}]
[" ","1981-07-31",3155.8818815117716,13774.989224056433,0,0,0,6301.004791816873,6732.43994140625,1788.5091695519725,9845.6677168437054,9910.2070769679576,510.55579971062377,1249.653021492868,18323.795593747378,-9757.7444202985462,5018.7842738748586,2811.2877970999889,6928.947995304241,6680,0,87.903480529785156,51.818340301513672,null,null,{"$f":"R730+S730","v":9740.2357924042299}]
[" ","1981-08-31",2873.4473937648163,9381.6064829915249,0,0,0,4976.0694473986459,5832.009765625,1540.5605698019212,3700.7175312533868,4984.220109638175,450.18162350294648,1007.8087019538887,13122.149266668172,-7491.6337242240406,3751.2593780904763,3452.2642856606308,4318.7540719587141,3210.2710008481945,941.77936255977602,90.769645690917969,52.346271514892578,null,null,{"$f":"R731+S731","v":7771.0183576193449}]
[" ","1981-09-30",2856.7774492297785,4825.7159291074968,0,0,0,4664.5362340676875,4688.30224609375,1483.2705840792719,1000,2898.5699607962579,417.7558094962983,1056.5522303619566,9464.9124807185235,-5604.0878321384498,3000.0000000000873,3673.295797293234,2960.512668584603,2524.3652625108539,0,92.611419677734375,53.408973693847656,null,null,{"$f":"R732+S732","v":6633.8084658778371}]
[" ","1981-10-31",2913.0291269635532,5132.6717437638508,0,0,0,5366.7817368741762,5083.7978515625,1481.1070127154444,1200,1723.6423790324,452.31834154324258,513.19188623048012,8320.1690681164473,-4503.5550959187494,4000,2915.497895449626,3069.8700815787324,3069.8700815787324,0,91.478660583496094,52.570335388183594,null,null,{"$f":"R733+S733","v":5985.3679770283579}]
[" ","1981-11-30",3252,21082.34982984126,0,0,0,21412.056064302491,21412.056640625,2283.7065097198629,1200,5910.5488707812492,546,5281.1890517034253,37583.893408350079,-9364.6253773343051,33222.332364609378,4600,6680,6680,0,58.199111938476563,53.009963989257813,null,null,{"$f":"R734+S734","v":11280}]
[" ","1981-12-31",3276,34650.385705403489,0,0,0,24536.988659333078,24536.98828125,2788,9826.0009839969625,26433.038865640978,433,13585.274668041422,57972.915031145174,-5290.322580645161,82450.866979236744,4042.6803902204219,2695.1202601469477,2695.1202601469477,0,54,48.083961486816406,null,null,{"$f":"R735+S735","v":6737.8006503673696}]
[" ","1982-01-31",3616,15493.498884214341,0,0,0,22354.293826285288,22354.29296875,2943,8086.8911909420085,31377.203579602527,459,9043.06521272194,55654.207727647125,-4516.1290322580644,78252.770909887811,4599.9999999999982,3436.863963364468,3436.8639633644675,0,54,44.557949066162109,null,null,{"$f":"R736+S736","v":8036.8639633644661}]
[" ","1982-02-28",3530,34358.695827557094,0,0,0,21026.134098493949,21061.3359375,2987,17980.579868048477,35543.996464990269,402,15956.907211593156,56197.293410062804,-3852.0925096612382,107672.4506194049,4599.9999999999818,9463.6,9463.6,0,54,44.018424987792969,null,null,{"$f":"R737+S737","v":14063.599999999982}]
[" ","1982-03-31",3953,21257.79513013563,0,0,0,23732.164307470157,23732.1640625,2936,13394.440787873034,29194.033732957891,590,8762.9919420940751,59234.521035493148,-3258.0645161290322,84020.020204728731,4187.4950904823418,7998.5376562989459,7998.5376562989441,0,54,46.608821868896484,null,null,{"$f":"R738+S738","v":12186.032746781288}]
[" ","1982-04-30",4094,33941.931120793248,0,0,0,24284.01397503979,24292.650390625,3303,18990.840901497733,49217.216868644377,792,15330.191631024831,71484.659804579307,6991.750742272292,143444.31451672202,2725.6300528416336,6679.9999999999991,6680,0,54,48.440982818603516,null,null,{"$f":"R739+S739","v":9405.6300528416323}]
[" ","1982-05-31",4541.6954884821535,5941.2815195467392,0,0,0,4432.2958984375,3525.413330078125,3538,8015.0533715237434,17384.344059408671,967,8447.15452562459,30541.67920769941,-1684.8094545959202,39257.592276870098,3935.5567760233853,6679.9999999999991,6680,0,55.192756652832031,56.431636810302734,null,null,{"$f":"R740+S740","v":10615.556776023384}]
[" ","1982-06-30",4500,8484.676445213996,0,0,0,4973.4453130239472,5774.1025390625,3538,3732.9672242060774,9131.9481040421579,967,4931.4101086199917,20266.420984232114,-5000,19830.394211517341,4600,4856.8482271479461,4856.8482271479443,0,64.185791015625,55.350498199462891,null,null,{"$f":"R741+S741","v":9456.8482271479461}]
[" ","1982-07-31",4150,10481.923111462171,0,0,0,4768.7427581574666,5629.87939453125,3357.8798199525031,3792.3751604353433,6114.0813687789469,941.99999999999989,1921.3579335528775,14163.105885056439,-7880.1331119415845,8000,4600,6680,6680,0,79.277259826660156,53.657424926757813,null,null,{"$f":"R742+S742","v":11280}]
[" ","1982-08-31",3700.0000000000005,11358.440355562749,0,0,0,6662.5705889843666,7315.16552734375,3309.172945476319,1486.5743364682178,3128.3149091200412,792.00000000000023,3180.4214594247983,14336.85343800115,-9396.5078046711642,5524.1933999999892,4600,6680,6680,0,85.619125366210938,51.568881988525391,null,null,{"$f":"R743+S743","v":11280}]
[" ","1982-09-30",3400,11556.757577601173,0,0,0,12231.793606436089,12257.6142578125,3344.6216989834393,1000,3931.5634270182209,752,2081.1906247369889,18877.194371485708,-7250.0076501937328,14535.713433369237,4600,6680,6680,0,71.271034240722656,50.938774108886719,null,null,{"$f":"R744+S744","v":11280}]
[" ","1982-10-31",3250,11008.361499611805,0,0,0,11313.761616395819,11074.689453125,3149,5489.6071000613256,7279.0039762791503,712,2859.590613759342,22224.226658374926,-7173.2522710562589,16948.352660019373,4600,6680,6680,0,67.490806579589844,52.793933868408203,null,null,{"$f":"R745+S745","v":11280}]
[" ","1982-11-30",3252,10489.105337047866,0,0,0,12076.328969200098,13050.9482421875,2981,7151.9195117728077,10384.130796135123,565,7557.4631382994667,33127.331671185617,-4765.337264802336,39715.126510084679,4600,6680,6680,0,56.051624298095703,52.722324371337891,null,null,{"$f":"R746+S746","v":11280}]
[" ","1982-12-31",3328,21955.515801109927,0,0,0,24100.054862248067,24100.0546875,2930,9719.0483587413892,20065.130206833877,565,9501.2172790269215,54680.276264391359,-1383.296476843379,80760.702763467212,4600,8665.1612903225796,7112.0165407113736,1553.144749611206,54,49.651859283447266,null,null,{"$f":"R747+S747","v":13265.16129032258}]
[" ","1983-01-31",3371,32220.169287510471,0,0,0,21455.513666338891,21455.513671875,2854,12500.555087549066,16360.096665216812,556,8681.0150068295952,48575.811875521169,10658.530581575755,113053.87932924897,2969.3919607951566,3427.8706388688279,3427.8706388688279,0,54,45.671703338623047,null,null,{"$f":"R748+S748","v":6397.2625996639845}]
[" ","1983-02-28",3252,55089.007650888285,0,0,0,27450.578775525257,27485.78125,2788,21721.95020159462,36590.386342557067,543,13560.520621475451,75564.150018044253,14529.594326703245,184169.44563399616,2308.5934921591593,3171.8358922634984,3171.8358922634802,0,54,44.363090515136719,null,null,{"$f":"R749+S749","v":5480.4293844226577}]
[" ","1983-03-31",3417,73214.995541937416,0,0,0,27656.440645353163,27656.44140625,2788,31802.542903352791,59103.253176308594,628,17882.364967353951,82458.364862135975,25297.579675617861,268921.67660932371,1990.9645269734417,3097.642107653769,3097.642107653769,0,54,45.812633514404297,null,null,{"$f":"R750+S750","v":5088.606634627211}]
[" ","1983-04-30",4074,17893.110779231065,0,0,0,22978.427119582666,22986.42578125,3208,8770.901304266954,17898.721657998325,792,6462.354184527122,48415.485969557136,8413.9425118121726,87257.650699186634,2721.7345506967758,2800.7672774685575,2800.7672774685575,0,54,50.177555084228516,null,null,{"$f":"R751+S751","v":5522.5018281653338}]
[" ","1983-05-31",4552,17249.701620327985,0,0,0,19593.693788269287,19005.544921875,3538,11874.513093835078,23957.486874426133,967,9023.5611203790049,53056.576797297421,5028.9478205770993,74667.746502014779,3932.7703787608716,3627.317495243632,3627.317495243632,0,54,52.193340301513672,null,null,{"$f":"R752+S752","v":7560.0878740045036}]
[" ","1983-06-30",4500,17361.723547872574,0,0,0,16796.16269221553,16480.43359375,3538,11717.672245904087,22425.094833503066,967,11015.34019529634,50347.718628923452,895.00258192303681,68882.654602326787,4600,6159.6127161286577,4611.6732151837814,1547.9395009448758,54,53.282436370849609,null,null,{"$f":"R753+S753","v":10759.612716128657}]
[" ","1983-07-31",4150,15800.256760938146,0,0,0,11027.59511321293,11537.275390625,3538,2860.0070066999697,6980.9814269901026,942,4885.9287028052877,23678.96547741237,-1393.6123199333779,34282.660849399515,4600,6680,4868.3024016846884,1811.6975983153116,57.258708953857422,52.136135101318359,null,null,{"$f":"R754+S754","v":11280}]
[" ","1983-08-31",3700,15101.618630011095,0,0,0,10420.136136131774,11338.8076171875,3537.9999999999973,1500.8319242986261,4728.3455019536568,792,4096.5945369493274,20106.944561820957,-7264.3714474902299,16447.88251117662,4600,6680,6680,0,67.85223388671875,51.418949127197266,null,null,{"$f":"R755+S755","v":11280}]
[" ","1983-09-30",3400,13442.632614663826,0,0,0,14157.327849892086,13823.705078125,3351,5055.6268426382394,7297.8365138153094,752,2719.5584063697875,23856.257450402838,-6856.3589574062753,20232.285742222099,4600,6680,6680,0,66.446807861328125,51.209140777587891,null,null,{"$f":"R756+S756","v":11280}]
[" ","1983-10-31",3250,10467.871619329555,0,0,0,11195.261925759833,10782.056640625,3163,3785.5881922303915,5134.0016610811563,712,1941.9655698892302,18250.558568523044,-8111.7955139562364,10631.914383703886,4600,6680,5810.9458700009609,869.05412999903945,74.490310668945313,53.843208312988281,null,null,{"$f":"R757+S757","v":11280}]
[" ","1983-11-30",3252,19643.965008819076,0,0,0,22677.294752778667,22677.294921875,2950,13178.394588962519,21702.352969221723,472,13763.058327678009,54271.560299078548,77.350349103087865,78082.69195393876,1926.571056039207,6680,6680,0,54,54.237014770507813,null,null,{"$f":"R758+S758","v":8606.5710560392072}]
[" ","1983-12-31",3285,42593.463470537725,0,0,0,26760.757473744845,26760.7578125,2788,23709.415130764086,47789.651013765557,406,16266.07339965977,72577.288788786333,5151.8586986120026,156586.35415213913,1461.7980912893925,7182.1727339739327,7182.1727339739327,0,54,50.35845947265625,null,null,{"$f":"R759+S759","v":8643.9708252633245}]
[" ","1984-01-31",3650,12030.450959122987,0,0,0,17830.819490480819,17830.8203125,3091,4877.6929879103463,21281.11556107612,427,6364.2459521634673,43617.707551106534,-312.73295041676465,63546.321097425636,1972.7168751644206,6129.4022865763545,6129.4022865763545,0,54,45.697002410888672,null,null,{"$f":"R760+S760","v":8102.1191617407749}]
[" ","1984-02-29",4005,8080.663302042376,0,0,0,11026.667011000021,11979.5068359375,3078,8595.1600631082547,16421.189870320577,458,5446.0612579249246,34710.588075535205,-3329.7730266652152,40216.156042150891,2765.1840893105441,6224.7284811502159,6224.7284811502159,0,55.581584930419922,45.99322509765625,null,null,{"$f":"R761+S761","v":8989.9125704607595}]
[" ","1984-03-31",4246,13862.702775127047,0,0,0,16067.887852212265,16071.2412109375,3120,9025.4174405026733,14849.459852201475,615,3762.8493422083579,33603.356815414525,-3258.0645161290322,37219.165692432027,2782.4065959766122,4534.203386911051,4534.203386911051,0,55.232276916503906,48.430110931396484,null,null,{"$f":"R762+S762","v":7316.6099828876631}]
[" ","1984-04-30",4552,6127.8273883157381,0,0,0,8639.8280766421667,9502.54296875,3355.9981824023516,1000,4794.5340080261294,792,1437.9476750676292,15928.385876184569,-3500,16135.023250201381,3607.0017031553311,4070.1262838755451,4070.1262838755451,0,66.904556274414063,52.808982849121094,null,null,{"$f":"R763+S763","v":7677.1279870308763}]
[" ","1984-05-31",4552,8984.0831663009558,0,0,0,4608.9591812769368,5189.2646484375,3504.7621397244066,1000,5425.236191417338,967,2385.1288925415874,11984.078436101945,-3500,9337.0048849837731,3535.6133100936904,1754.2104542358138,1754.2104542358138,0,79.693267822265625,53.557899475097656,null,null,{"$f":"R764+S764","v":5289.8237643295042}]
[" ","1984-06-30",4280.4342178834122,11026.830973251184,0,0,0,6074.1060180055738,6290.89404296875,3363.1122490982534,3597.269951281507,5721.1051131224449,903.66371669713817,2923.4852913526629,14143.74253347157,-5000,7700.0000000000873,3539.1183446199825,1905.6791086415328,1905.6791086415328,0,82.282943725585938,52.857925415039063,null,null,{"$f":"R765+S765","v":5444.7974532615153}]
[" ","1984-07-31",3612.1672830229645,16477.85547326173,0,0,0,9181.8769500873968,10212.83984375,2806.5062625017536,9319.3884476836447,10199.813684172395,670.67894252538815,4346.9213864077965,24690.864854237941,-10033.474407813897,11664.968137821223,4600,5996.4600710201375,5987.1113920577527,0,79.582756042480469,51.546337127685547,null,null,{"$f":"R766+S766","v":10596.460071020138}]
[" ","1984-08-31",3381.03204007563,8962.5627366507833,0,0,0,4621.7939605712918,5650.0029296875,2387.2966984308182,7090.0674797652755,9166.4079716618089,624.50549983494705,1484.4301874459177,17033.64659159381,-10379.604136595037,5312.5,4546.1392006121987,6680,6680,0,85.680549621582031,52.687061309814453,null,null,{"$f":"R767+S767","v":11226.139200612199}]
[" ","1984-09-30",3234.9247046673531,8591.2361558148841,0,0,0,8113.1472319706763,8279.640625,2104.8750157161635,5366.6997322318321,6868.1931876470471,531.07697104040687,2165.0090731693508,17467.593808896698,-5955.6031462927604,11562.500000000087,3632.3301862790986,4107.9997717272854,4107.9997717272854,0,78.101814270019531,51.621822357177734,null,null,{"$f":"R768+S768","v":7740.329958006384}]
[" ","1984-10-31",3247.0903522359131,6523.1133191606841,0,0,0,6225.8336408486193,5890.9677734375,1935.6239493760759,4000,3655.3643547921201,502.26585426840302,1346.8678648036741,12119.601989364141,-7025.1348994271029,6875,4329.299201332944,5474.3814172348557,5474.3814172348557,0,81.661338806152344,52.364192962646484,null,null,{"$f":"R769+S769","v":9803.6806185677997}]
[" ","1984-11-30",3252,16914.965172561962,0,0,0,19167.773019796114,19167.7734375,2055.1379219233795,1700,2421.0357483055991,567,2401.282507746771,27096.378702797439,-8826.5443623764113,22853.86843901778,4600,6680,6680,0,62.266185760498047,53.579257965087891,null,null,{"$f":"R770+S770","v":11280}]
[" ","1984-12-31",3360,8860.9406895401553,0,0,0,12846.676068532361,13677.2001953125,2136.2896121491995,1700,3812.8953536355707,567,2721.8448583226132,21865.161177064943,-9683.4429322426258,12816.719371842031,4600,7048.2051109499953,7048.2051109499953,0,68.385932922363281,49.884876251220703,null,null,{"$f":"R771+S771","v":11648.205110949995}]
[" ","1985-01-31",3541.5708774154605,4881.3787603263891,0,0,0,6355.5579605113335,7044.607421875,2187.4078453293359,1700,3229.589075543608,538.27791652275937,1563.9739978548537,12723.317012767598,-5225.8064516129034,8783.0893315962367,4245.3673181793556,2830.2448787862368,2830.2448787862368,0,75.917549133300781,46.366306304931641,null,null,{"$f":"R772+S772","v":7075.6121969655924}]
[" ","1985-02-28",3713.6708782581632,5789.8405629910139,0,0,0,7706.8603335101952,8612.7041015625,2377.171297937497,1700,4077.8807280887154,567,1409.2443288269881,17331.295727575922,-5000,13879.349835446888,4222.3926889471777,2814.9284592981157,2814.9284592981157,0,69.890151977539063,47.443752288818359,null,null,{"$f":"R773+S773","v":7037.3211482452934}]
[" ","1985-03-31",3925.3710421797186,5646.0397427595144,0,0,0,7284.4515338078318,8046.71923828125,2610.1960353326303,1700,3638.4236433912542,620.54362711380804,1588.0070182419263,13566.303652376617,-3500,13058.67473388239,3737.774189532824,2309.0033421589246,2309.0033421589246,0,70.19183349609375,49.976566314697266,null,null,{"$f":"R774+S774","v":6046.7775316917487}]
[" ","1985-04-30",4151.7636401387035,4894.9470567823846,0,0,0,6209.0254105631348,7168.21142578125,2860.727368182299,1000,3784.1072503074706,792,1146.8546000498088,12358.559047741675,-2166.8771193353587,11398.26533111203,1086.1139766193762,3205.0032097207295,3205.0032097207295,0,73.04083251953125,54.949657440185547,null,null,{"$f":"R775+S775","v":4291.1171863401059}]
[" ","1985-05-31",3833.7062948592838,10307.659726429001,0,0,0,4676.8246807486385,4787.751953125,2678.4581341295525,4101.3487200447989,6251.5871970281887,780.73918514941397,1829.0225481920145,12936.110098035522,-3033.3395466597517,9012.9029999999329,2471.9446388992656,1536.7951541380676,1536.7951541380676,0,78.929557800292969,53.273200988769531,null,null,{"$f":"R776+S776","v":4008.7397930373331}]
[" ","1985-06-30",3316.7179061147713,13205.700306555436,0,0,0,5931.4504239196831,6704.82958984375,2308.8797261215313,4862.747443758899,5695.4071076224027,625.66862676387609,2568.6655190406186,15015.78282923187,-5000,7100.0000000000873,3191.2628673225176,1718.3723131736647,1718.3723131736647,0,82.466590881347656,52.086708068847656,null,null,{"$f":"R777+S777","v":4909.6351804961823}]
[" ","1985-07-31",2983.155160214545,11931.338627316858,0,0,0,5169.1789429583632,6411.6748046875,1657.1866873655515,9918.1647529407528,10887.303280813232,506.91301641575376,1521.6614885642052,18670.357954648174,-9989.7105728824718,5253.9128383036714,3119.8763589720706,6914.9499579811081,6680,0,86.937889099121094,52.654956817626953,null,null,{"$f":"R778+S778","v":10034.826316953178}]
[" ","1985-08-31",2694.4871211371687,10345.802909735043,0,0,0,4938.5200326970598,6128.421875,1541.283511041361,1656.3643015304613,3456.3403030318841,436.16894625635075,1413.2057201319026,11191.32142698672,-6115.0158672996968,3500,4104.3153072014775,2368.959922366832,938.30927985850212,938.62479398976041,90.770805358886719,52.176246643066406,null,null,{"$f":"R779+S779","v":6473.2752295683094}]
[" ","1985-09-30",2706.5501064712739,5729.840175666649,0,0,0,4142.6063079833457,5061.587890625,1499.7444300120037,1000,4528.7420675778303,397.10394169245586,1432.2253926398539,10741.367375522315,-6820.8200779612416,3205.6641249178892,4600,3583.8662188494309,3583.8662188494309,0,91.672355651855469,52.843166351318359,null,null,{"$f":"R780+S780","v":8183.8662188494309}]
[" ","1985-10-31",2722.4047624361651,5691.17012057177,0,0,0,4376.8091196377381,4286.14599609375,1388.0600413765353,1700,2620.8404990693953,383.37427377594815,765.87174631040682,7881.6204203976831,-3992.009367355322,4000.0000000000182,2289.017909916161,3120.4350989517498,3120.4350989517498,0,92.2642822265625,52.583576202392578,null,null,{"$f":"R781+S781","v":5409.4530088679112}]
[" ","1985-11-30",2686.7025590380199,7280.7451798472448,0,0,0,5377.3141479492197,6218.41259765625,1261.4017960568904,1700,2871.8558497925292,451.96481421780032,864.08401330318748,11104.858146085626,-7192.6824245900279,4500.0000000000846,3721.8970235321494,5283.0248939936146,5283.0248939936146,0,91.018157958984375,53.514617919921875,null,null,{"$f":"R782+S782","v":9004.921917525764}]
[" ","1985-12-31",2875.1237385333925,6282.1162666261171,0,0,0,7651.5238176749999,8883.830078125,1253.5779998006344,1700.8264517262919,4818.2186313845386,567,1273.6006755287035,16392.424008999129,-5125.9795674921716,12604.263441083185,2101.8605643471419,4591.075438750986,4591.075438750986,0,78.564338684082031,50.690803527832031,null,null,{"$f":"R783+S783","v":6692.9360030981279}]
[" ","1986-01-31",3450.1199584381779,8777.7437471327012,0,0,0,11075.368218917265,13077.853515625,1553.5431623369225,1700,5829.8929505902797,551,5067.0402724653877,24013.938222904057,-3645.1612903225805,23606.136172316874,3125.397402645543,2083.5982684303603,2083.5982684303603,0,62.582614898681641,48.084663391113281,null,null,{"$f":"R784+S784","v":5208.9956710759034}]
[" ","1986-02-28",3252,69748.376417824358,0,0,0,27115.375960354733,27150.578125,2788,19932.392750458257,46409.318948650551,440,32575.541124670312,76333.234095576394,145.75318506349595,227337.14453040547,4600,9463.5999999999767,9463.6,0,54,45.250232696533203,null,null,{"$f":"R785+S785","v":14063.599999999977}]
[" ","1986-03-31",3534,33911.903587022796,0,0,0,24629.628048848877,24629.62890625,2788,21845.344114842468,47753.26351119941,593,12470.81131871443,71015.986133004422,3344.2516659657031,142500.55650165345,4600,8431.6129032258068,8431.6129032258068,0,54,47.045303344726563,null,null,{"$f":"R786+S786","v":13031.612903225807}]
[" ","1986-04-30",4030.3765964253635,5287.2491690041097,0,0,0,7816.0983430236338,9269.7314453125,3142.1538548259787,1000,7021.8076892621139,792,2453.8462028928329,19416.396364003776,-1886.5143308850188,23843.932553458035,3389.1978216580969,4965.8466437046254,4965.8466437046254,0,65.06915283203125,52.150638580322266,null,null,{"$f":"R787+S787","v":8355.0444653627219}]
[" ","1986-05-31",4025.5847969345623,9364.8990905154642,0,0,0,4298.7788696289063,5284.568359375,3231.6536889687022,1000,4213.2635574202377,967,2020.7266354838332,11673.882918908348,-3500,12516.41676154862,3421.2179613958515,4572.9460643812072,4572.9460643812072,0,71.872726440429688,55.425483703613281,null,null,{"$f":"R788+S788","v":7994.1640257770587}]
[" ","1986-06-30",3728.8317739120644,10324.715071643568,0,0,0,4293.2470092773438,5523.0830078125,3177.2802556293914,1645.0575923084114,2848.6835934749374,967,2112.0927571941852,10623.877088777241,-4056.0281564399229,9174.2636405594913,4600,2803.5087240834127,2733.9184234170925,69.590300666320218,77.516563415527344,55.293083190917969,null,null,{"$f":"R789+S789","v":7403.5087240834127}]
[" ","1986-07-31",3407.9092334891225,11208.575684883388,0,0,0,4058.6322898864728,5667.74853515625,2665.2622896783355,8026.6848707531453,8567.9419562815965,728.61113032868036,4272.7522325093805,18964.326212651227,-8499.2535001248871,8350.5153445714677,2397.0624432219388,6872.4155778792283,6358.8148258107403,307.58442212077171,81.920051574707031,53.315116882324219,null,null,{"$f":"R790+S790","v":9269.4780211011675}]
[" ","1986-08-31",3090.4335097995058,10632.428157427783,0,0,0,4533.4380722045953,5993.01708984375,2514.504262169055,2539.5466391246518,3752.7324266977334,681.29441117426552,1480.6252204439375,11603.07261771933,-5303.1009616023275,5453.6290000000517,4354.173466592556,1570.7533196106015,1570.7533196106015,0,85.918800354003906,51.745914459228516,null,null,{"$f":"R791+S791","v":5924.9267862031575}]
[" ","1986-09-30",3194.2918210280245,5317.3620574215256,0,0,0,4727.2230834960938,5522.92822265625,2180.1946449580555,7799.6408441865742,10045.390085409492,652.78314138563769,1565.8471222188866,17473.585119271222,-6277.0504141235397,11406.250000000087,1493.2390838635031,6680,6680,0,75.093498229980469,52.659557342529297,null,null,{"$f":"R792+S792","v":8173.2390838635029}]
[" ","1986-10-31",3186.8803370716619,5887.6421081580029,0,0,0,5277.0417779584441,5067.98388671875,1974.9508723431038,4000.0000000000082,4917.2050554326197,611.09193173812366,1327.0518287259495,12335.246824556179,-5673.670355452934,6875.0000000000218,3018.7500000000032,4860.7559289749852,4860.7559289749852,0,81.160232543945313,53.902362823486328,null,null,{"$f":"R793+S793","v":7879.5059289749879}]
[" ","1986-11-30",3042.4119386083676,7212.7036981350047,0,0,0,5378.829708743644,5713.8896484375,1868.5338436123507,2500,2680.8325443482345,529.40399106799623,2422.022001217797,11952.135668403718,-7610.8362764554913,4500.0000000000873,4600,5341.127782921807,3751.4815608078752,1461.97731961402,87.958930969238281,53.97723388671875,null,null,{"$f":"R794+S794","v":9941.127782921807}]
[" ","1986-12-31",2970.0076016739263,6427.9728029447979,0,0,0,6627.8685125603006,7105.8837890625,1599.0248383732876,4855.9709732232268,5455.7155132676007,490.01292371507543,1954.6725295684598,15230.490152424785,-9592.47297065577,5076.8349411904965,4474.4363178734602,7073.5410782471326,7073.5410782471326,0,89.796371459960938,50.898670196533203,null,null,{"$f":"R795+S795","v":11547.977396120594}]
[" ","1987-01-31",3104.4374810801933,6254.999801091637,0,0,0,7500.9749463343769,7847.0283203125,1581.2793812302057,1700,3754.0929969220383,465.18937368532931,1248.9275164123069,13609.68565723151,-5225.8064516129034,9303.2809448211265,3659.2161241098383,3133.0140476565566,3133.0140476565566,0,83.135841369628906,47.732330322265625,null,null,{"$f":"R796+S796","v":6792.230171766395}]
[" ","1987-02-28",3436.0977804232248,7572.6392338668429,0,0,0,11528.807778720287,12332.017578125,1741.015974748072,1700,4916.0955989113218,495.39071964963347,1270.4861299289562,21951.622173931206,-5000,18627.096285242904,3979.7440279069265,2653.1626852713803,2653.1626852713803,0,68.881233215332031,47.758029937744141,null,null,{"$f":"R797+S797","v":6632.9067131783067}]
[" ","1987-03-31",4161.6660405454677,9661.865809865445,0,0,0,15168.511839118584,15168.51171875,2063.5626014356744,1700,4755.3444417492747,601.4769273919494,837.2192480627109,22910.2785005511,-3258.0645161290322,23237.124546997286,3098.6704369307367,2065.780291287188,2065.7802912871871,0,64.290664672851563,49.863407135009766,null,null,{"$f":"R798+S798","v":5164.4507282179247}]
[" ","1987-04-30",4121.3205893895156,7903.1100544568071,0,0,0,7848.3779803474099,8985.9033203125,2084.6698916215441,1000,2201.3352911040374,643.43440103740545,756.38329748654451,12194.363535862574,-2227.0377443804728,9201.6669999999867,1837.8410750964354,1044.0586802988582,1044.0586802988582,0,81.061439514160156,53.578041076660156,null,null,{"$f":"R799+S799","v":2881.8997553952936}]
[" ","1987-05-31",3764.4606877586871,11146.579307602951,0,0,0,5146.0860450816772,6344.826171875,1948.3938950223876,1262.1400050321845,3573.5800490698875,610.68488424994325,1018.2154999965935,10886.774234318804,-2360.7217051074167,6763.1512166102611,2471.9254160170794,300,300,0,84.154327392578125,53.660297393798828,null,null,{"$f":"R800+S800","v":2771.9254160170794}]
[" ","1987-06-30",3155.9538606199467,15491.391214230156,0,0,0,8372.5146574878108,9741.39453125,1580.5319397906103,3980.696884856779,3924.4445314969344,537.44997228754369,809.48024387098826,14332.167327092553,-4187.813140262112,7191.1085860719822,2976.0236514346147,969.29237795214897,969.29237795214897,0,83.23968505859375,51.484790802001953,null,null,{"$f":"R801+S801","v":3945.3160293867636}]
[" ","1987-07-31",2701.545974845757,14418.752641867042,0,0,0,7930.6252604013771,9353.14453125,1321.0000066839161,2675.3649216312397,1900.5606666960452,434.30418186095119,1193.4222017897659,13217.142328254182,-5304.3690193564707,5148.5574926796216,2686.4214605116508,2158.1334867696287,300,985.58920358535181,85.1103515625,51.663639068603516,null,null,{"$f":"R802+S802","v":4844.55494728128}]
[" ","1987-08-31",2412.5639177606581,9821.0395167669194,0,0,0,5505.2922094372052,7007.568359375,1153.1196678196886,1192.6764278919395,1231.4358086370055,373.8640422465304,647.94188642151153,9193.8671622832626,-3591.185862186996,3983.4710720584912,3051.5485799070511,403.26216849314244,300,0,90.410614013671875,52.258907318115234,null,null,{"$f":"R803+S803","v":3454.8107484001935}]
[" ","1987-09-30",2294.6397645009561,6786.0632312016214,0,0,0,5451.8947440787178,6227.52490234375,1069.6839401460118,1194.4065490177557,2579.1715774429631,382.31987955340941,426.91912403558274,8871.4394492468782,-4859.8604582791559,3000.0000000000873,3594.3575763188255,2057.6432330793832,2057.6432330793832,0,93.076171875,51.711471557617188,null,null,{"$f":"R804+S804","v":5652.0008093982087}]
[" ","1987-10-31",2150.5425889956523,6966.9981865777627,0,0,0,6028.2330342778341,5649.1806640625,1021.244557911011,1200,1839.5038474799385,376.08187180727577,385.31096090503019,7914.4957331368469,-3753.9363415882217,4000,3642.1619320772443,1243.2270048113969,1243.2270048113969,0,91.275848388671875,52.805027008056641,null,null,{"$f":"R805+S805","v":4885.3889368886412}]
[" ","1987-11-30",2105.9587587263009,6233.972791304348,0,0,0,4083.2723356166553,4996.2646484375,1024.1182358287815,1200,1649.8398928012939,404.39317691439715,417.30438488365263,7745.442846579007,-3467.20584252769,4500.0000000000873,2831.301347694729,1778.493336863974,1778.493336863974,0,90.598846435546875,53.891090393066406,null,null,{"$f":"R806+S806","v":4609.794684558703}]
[" ","1987-12-31",2616.5142806583112,8744.4337328106994,0,0,0,11840.020253180068,13216.3955078125,1292.830181738515,1200,2390.68558005364,506.54675636218718,499.99999999999989,17652.787233706829,-4709.4745473316198,13477.964753573789,3322.3318073332384,2639.9504645401539,2639.9504645401539,0,76.622756958007813,51.608234405517578,null,null,{"$f":"R807+S807","v":5962.2822718733923}]
[" ","1988-01-31",3046.3269963238595,10231.146747261475,0,0,0,16724.021467787814,16724.021484375,1513.8777219209101,1200,4824.1966632780232,567,1514.6833066571864,25146.348293984014,-5225.8064516129034,24851.44508281213,4086.1038582800161,2724.0692388533466,2724.0692388533466,0,64.533592224121094,47.549568176269531,null,null,{"$f":"R808+S808","v":6810.1730971333627}]
[" ","1988-02-29",3225.6791042487921,4763.8649866834385,0,0,0,6486.8023213056731,7277.96142578125,1552.0805548017418,1200,2042.3512791759113,567,958.71516893695571,13133.002225035918,-4075.4625365969741,9259.4270138716165,3468.3290226385961,1858.1387044976873,1858.1387044976873,0,80.034423828125,47.980175018310547,null,null,{"$f":"R809+S809","v":5326.4677271362834}]
[" ","1988-03-31",3375.4579680582951,4401.3802986114415,0,0,0,5090.9616241789145,5019.7685546875,1642.0042485812012,1067.0408827606429,1000,520.05210045371564,1927.4560747568419,8601.3571100424797,-655.49562676482219,8334.4760000000242,800,640.63214384490198,640.63214384490198,0,80.507118225097656,49.977462768554688,null,null,{"$f":"R810+S810","v":1440.632143844902}]
[" ","1988-04-30",3491.5268785796966,4662.7992396457757,0,0,0,4754.3052806803062,6949.939453125,1677.9236247154706,749.99999999995293,3269.6724372865383,575.94228597292386,417.71181061686576,11724.954857794877,-1769.9235536307992,9602.4751985944367,1334.5622315640333,1259.3303234485682,1259.3303234485682,0,77.834220886230469,51.15899658203125,null,null,{"$f":"R811+S811","v":2593.8925550126014}]
[" ","1988-05-31",3379.1607310166119,9370.722808448616,0,0,0,4879.1492077888161,6106.2080078125,1633.7750249992571,1932.563368193596,3510.6341588296646,576.35592754595348,526.54394022945928,10419.26652953645,-2051.0216766962108,7100,1614.1522097934414,924.78348956141031,924.78348956141031,0,84.382087707519531,51.237510681152344,null,null,{"$f":"R812+S812","v":2538.9356993548517}]
[" ","1988-06-30",3005.8582034201268,12777.367014570715,0,0,0,6523.079812777175,7702.25048828125,1408.5078381562535,4102.6045790782819,3773.4000740145957,517.49736950414706,707.83030320932846,12259.339366223412,-2563.2682324273082,7101.9419196925201,1835.4347777924736,300,300,0,84.905914306640625,52.985671997070313,null,null,{"$f":"R813+S813","v":2135.4347777924736}]
[" ","1988-07-31",2633.4912550835738,11133.209099203636,0,0,0,5671.7925563663048,6719.048828125,1109.6927398263181,4302.9037406445796,2910.5712937029066,450.96479194593866,510.8054906020285,10231.394846192728,-3075.4864517482893,4004.8906966718391,1423.0701020553979,673.48073995083735,300,231.30663932243291,90.712173461914063,53.998046875,null,null,{"$f":"R814+S814","v":2096.5508420062351}]
[" ","1988-08-31",2323.0959525137996,9580.3672874854856,0,0,0,5872.1742104736095,7181.42041015625,966.49372465246472,2194.3119589106709,2414.0149358191893,396.94933728630497,390.31105403004636,9964.9899032527173,-5056.0645080854556,3000,4464.3702215719341,477.40251229595043,300,0,93.51654052734375,52.339439392089844,null,null,{"$f":"R815+S815","v":4941.7727338678842}]
[" ","1988-09-30",2241.5261424059145,5080.3042743017731,0,0,0,3411.3143537995848,4172.662109375,903.42725408645413,1480.4884610870984,2735.179804840237,376.89223704449279,391.68429786896223,6837.8493342602505,-2755.6601893280513,3168.1340966710236,2134.0656236668906,1132.4940798435246,1132.4940798435246,0,94.672508239746094,53.841636657714844,null,null,{"$f":"R816+S816","v":3266.5597035104151}]
[" ","1988-10-31",2066.0073354165052,6586.5310225802832,0,0,0,5393.1019498349006,5107.60595703125,880.13735704155215,952.96160614693463,1353.6385684777188,368.99183113892281,375,6952.9616061469778,-2754.2455420739389,3632.1896687604844,3159.8444173410721,311.61428387690466,311.61428387690466,0,93.841331481933594,54.879234313964844,null,null,{"$f":"R817+S817","v":3471.4587012179768}]
[" ","1988-11-30",2260.2438384810207,6430.2992494092377,0,0,0,6030.4244406130056,6014.9296875,940.43426176161336,900,1547.5798706269813,464.38107637130224,407.40082563122292,9004.1554268650616,-5355.8324329280003,3499.9999999999582,2042.1637292665655,4604.729144320987,4604.729144320987,0,90.53521728515625,53.816627502441406,null,null,{"$f":"R818+S818","v":6646.8928735875525}]
[" ","1988-12-31",2365.6996730508249,4902.8558620637959,0,0,0,5818.9187423152462,6481.2119140625,955.44052017468402,900,1673.2093894839675,543.49868763215738,500,9803.5964819140318,-2792.3447451630109,7193.1752939895623,1023.9199019334777,2797.9276479885939,2797.9276479885939,0,84.974853515625,51.512401580810547,null,null,{"$f":"R819+S819","v":3821.8475499220717}]
[" ","1989-01-31",2466.7865920152067,5941.8154269807601,0,0,0,7902.326595525823,8595.9951171875,980.54535923277217,900,2638.0909676915535,567,785.00916645537859,12491.766231172627,-5225.8064516129034,7763.7576529738672,3964.7497128463292,2643.1664752308861,2643.1664752308861,0,83.80535888671875,48.358905792236328,null,null,{"$f":"R820+S820","v":6607.9161880772153}]
[" ","1989-02-28",2528.3242236154601,5386.3700854965991,0,0,0,5787.4872087487456,6774.44677734375,1120.2062867496973,900,1620.0103310864974,562.65928233209445,1581.0012456888783,12558.517429445725,-4437.6306431426028,8635.7140000000072,4017.4518781584165,1829.6460289333024,1829.6460289333024,0,81.524887084960938,47.813175201416016,null,null,{"$f":"R821+S821","v":5847.0979070917192}]
[" ","1989-03-31",3841,15066.074075843837,0,0,0,21676.49885537423,21676.498046875,2270.7892648021216,800,12187.069845433176,642,9286.1771557989105,43896.423947292911,-3258.0645161290322,47777.581545722744,2716.5438064635,1811.0292043089994,1811.0292043089994,0,54,49.858757019042969,null,null,{"$f":"R822+S822","v":4527.5730107724994}]
[" ","1989-04-30",4293.3984052304331,6273.5302675511721,0,0,0,9271.9281844785219,10999.3955078125,2656.0162153739539,750,8870.9539861594149,792,3157.0492084030802,23355.366621803594,-2377.6865013929532,21289.19651690076,1961.3580389444412,1307.5720259629609,1307.5720259629609,0,63.447052001953125,55.631565093994141,null,null,{"$f":"R823+S823","v":3268.9300649074021}]
[" ","1989-05-31",3907.916715222339,12740.074451874292,0,0,0,7591.9816015936885,8254.455078125,2514.7917628685186,2941.2342254928599,5123.0562174527959,877.85055413712644,1939.6478476549814,15051.174349545781,-2718.4999567634768,10906.450999999885,1861.9981741230761,996.30332059500802,996.30332059500802,0,75.829727172851563,53.438175201416016,null,null,{"$f":"R824+S824","v":2858.3014947180841}]
[" ","1989-06-30",3550.108754287256,10079.918256719784,0,0,0,4443.4882010837173,5548.689453125,2225.6264770453467,3908.7467972175536,4243.9776768055508,692.99290989055464,3528.2901869352063,13754.127083952839,-5000,5937.5000000000873,3058.6319014080555,1646.955639219849,1646.955639219849,0,84.131843566894531,52.983722686767578,null,null,{"$f":"R825+S825","v":4705.5875406279047}]
[" ","1989-07-31",3082.5226686824585,11886.124560822416,0,0,0,5950.7137742732702,7585.0830078125,1556.7174981453222,9471.0771912386899,9113.466476090427,541.42164846916785,1952.9918226749612,19192.662147039562,-10627.04450127708,5000,3449.7948497520661,6914.9489334448681,6680,0,87.267265319824219,52.265621185302734,null,null,{"$f":"R826+S826","v":10364.743783196935}]
[" ","1989-08-31",2780.7487622224435,9177.4884414921435,0,0,0,4850.344590636636,5831.02685546875,1469.3882354188866,1488.013345149669,2589.7195384747965,452.20194247514064,1750,10904.99934135142,-5476.2049343571798,3558.0137222491649,3405.9939062233943,2112.5652847859392,300,969.57335794448488,91.123046875,52.460475921630859,null,null,{"$f":"R827+S827","v":5518.5591910093335}]
[" ","1989-09-30",2815.7863853916474,4363.5775413222109,0,0,0,5035.5836816180799,5833.80078125,1478.8738902807779,773.33333330000005,2584.8952989932814,423.11916838100581,1589.8909167281045,10363.856095159314,-6437.5876955022904,3441.0122236920679,4324.3913622113778,3240.3508010433065,3240.3508010433065,0,91.317626953125,53.661350250244141,null,null,{"$f":"R828+S828","v":7564.7421632546848}]
[" ","1989-10-31",2940.0209668738948,5020.6474870753118,0,0,0,5833.8879269716954,5736.96484375,1501.8086497039624,900,986.82241157281146,401.84892547384641,1361.0704681499424,8888.8935299439636,-4669.7467599758347,4000,2593.7992067883897,3095.9173101025758,3095.9173101025758,0,92.039741516113281,53.432636260986328,null,null,{"$f":"R829+S829","v":5689.7165168909651}]
[" ","1989-11-30",2870.4536179506122,5794.4813986421541,0,0,0,5113.6269605988682,5134.27197265625,1492.3783417779764,900,1089.1863076387792,407.18012037769984,1771.2103909961311,8494.5376740733136,-4105.3889112282523,4500.0000000000873,3146.2978567568307,1998.1999043976621,1998.1999043976621,0,91.660713195800781,54.204780578613281,null,null,{"$f":"R830+S830","v":5144.4977611544928}]
[" ","1989-12-31",2793.3612522836593,5533.7771326726515,0,0,0,5928.0392506260205,6320.15869140625,1504.1405734229982,900,978.9281558471173,393.22180301643783,1742.9906057909495,9293.4099196887419,-4583.1047586605546,4500,3739.774364737269,1841.5232310757715,1841.5232310757715,0,90.023551940917969,51.604011535644531,null,null,{"$f":"R831+S831","v":5581.297595813041}]
[" ","1990-01-31",3032.6303185555762,7453.4733193250158,0,0,0,10263.227576268449,10709.30078125,1578.8636481756771,900,4996.3099915302846,428.05370503513456,1218.0425885186842,18678.605136611412,-5225.8064516129034,14543.520172044671,3861.616372855633,2574.4109152370875,2574.4109152370875,0,76.25006103515625,48.552947998046875,null,null,{"$f":"R832+S832","v":6436.0272880927205}]
[" ","1990-02-28",3125.4884676513402,4983.7386004014497,0,0,0,6522.7313271130242,7154.88427734375,1662.7883264617119,900,4233.2988634786216,437.31210246859627,1214.2614013964965,16219.010386018201,-5000,12329.348940128197,3756.0470567138809,2504.0313711425933,2504.0313711425933,0,76.31231689453125,47.699672698974609,null,null,{"$f":"R833+S833","v":6260.0784278564743}]
[" ","1990-03-31",3390.157316167014,5825.994771391388,0,0,0,7797.2427130982878,7890.365234375,1926.3450464976295,800,2948.6544830648954,547.363686888487,743.57411220573033,12000.646341996711,-4052.4124977179654,8128.5541472002242,3302.7222156011176,1768.9658084006269,1768.9658084006269,0,83.322883605957031,49.746639251708984,null,null,{"$f":"R834+S834","v":5071.6880240017445}]
[" ","1990-04-30",3376.510650907996,4814.672191811128,0,0,0,4799.9805749775787,6639.61572265625,1931.9078773961176,749.99999999997317,3814.9583789704848,567.44258048534823,1706.1961491022234,12243.105081122416,-1998.3054267245025,9580.0000000000873,1491.2879704051677,912.13009570049894,912.13009570049894,0,81.676353454589844,51.589675903320313,null,null,{"$f":"R835+S835","v":2403.4180661056666}]
[" ","1990-05-31",3526.058997731282,7933.8186757300091,0,0,0,4324.3851318359375,5011.65771484375,1952.6108203450472,788.56006317460822,2181.8831800699168,590.15359650567268,731.66277806827316,7809.234359650367,-1568.232758363004,5892.8528379182717,1034.9298232376912,1363.9123216029122,1363.9123216029122,0,85.716964721679688,52.388080596923828,null,null,{"$f":"R836+S836","v":2398.8421448406034}]
[" ","1990-06-30",3261.6072312813799,11224.040285824354,0,0,0,6441.5549106590843,7432.99609375,1723.4026495162036,3471.7564460509188,4528.366322981371,564.05336893065351,630.70568350781855,12225.938705816499,-5000,4094.6064522036631,2183.2534175440469,2407.8465675670532,2407.8465675670532,0,86.985214233398438,53.513717651367188,null,null,{"$f":"R837+S837","v":4591.0999851111001}]
[" ","1990-07-31",2863.1227164681595,11035.739242855838,0,0,0,5330.6091398990911,6378.8681640625,1471.9153266500641,3362.2686818735133,4096.6111793702785,465.13795611435609,1150.7509692322737,11423.987014412667,-4435.3615899544693,4005.1993506868885,1925.9414377047799,1691.9412465429427,300,554.21140777787821,90.377113342285156,53.963279724121094,null,null,{"$f":"R838+S838","v":3617.8826842477229}]
[" ","1990-08-31",2502.994460755986,9616.843823962623,0,0,0,5612.1743116510161,6888.09765625,1314.6017883192631,2001.2971108669185,3581.4063488923002,416.66657739469429,1065.4310736381583,11192.062958426392,-5670.4359640763123,3681.9328037456976,4600,839.26589775730463,839.26589775730463,0,90.201942443847656,52.513858795166016,null,null,{"$f":"R839+S839","v":5439.2658977573046}]
[" ","1990-09-30",2455.3301515970111,4637.4093597130932,0,0,0,3773.6858931551633,4402.48388671875,1230.4175236393899,1270.5225911440555,2728.5136499871278,386.04173804142403,1013.9049272964096,7545.735248548729,-3335.3069792603292,3209.9632776302951,1966.301040489875,1761.9671897908486,1761.9671897908486,0,92.221366882324219,54.788398742675781,null,null,{"$f":"R840+S840","v":3728.2682302807234}]
[" ","1990-10-31",2316.9725144320169,6162.2642275467724,0,0,0,5246.9928866570881,5023.29833984375,1145.223736449856,1043.9813659319457,947.33894886666531,362.63197961143266,469.81367996260957,6899.9999999999882,-2947.4417386771511,3648.4631686611374,2473.4453252647404,1240.6117897207553,1240.6117897207553,0,92.635780334472656,55.458145141601563,null,null,{"$f":"R841+S841","v":3714.0571149854959}]
[" ","1990-11-30",2176.3068332918133,6579.1255689655454,0,0,0,5366.6062282429239,5258.1240234375,1059.4629594949074,900,900.00000000000512,376.54387904317497,490.06170142196208,6869.4825115720487,-3254.008603491513,3500.0000000000873,2402.0031729588281,1757.1954847345205,1757.1954847345205,0,93.009063720703125,54.649379730224609,null,null,{"$f":"R842+S842","v":4159.1986576933487}]
[" ","1990-12-31",2065.7641156903514,5486.5349779012295,0,0,0,5878.9287931787339,6078.38916015625,993.47553271847255,1292.1778735472749,900,384.23484596790109,503.19390861869852,7958.6431949615207,-2750.5099475331008,5025.397543087026,2024.4937991490883,1488.3622339782632,1488.3622339782632,0,91.767768859863281,52.827617645263672,null,null,{"$f":"R843+S843","v":3512.8560331273516}]
[" ","1991-01-31",1956.2695731959545,5764.575686692312,0,0,0,6287.8250248905515,6400.98583984375,940.90045768702066,900,1736.5108494708081,354.98983040512144,468.52763964896701,8744.0155625945099,-3395.9890155203184,5700.4336229269193,2796.0596313649439,1502.4644025492107,1502.4644025492107,0,89.864860534667969,49.622249603271484,null,null,{"$f":"R844+S844","v":4298.5240339141546}]
[" ","1991-02-28",1985.7606481338537,4434.7477077297281,0,0,0,4838.836978875057,5346.42626953125,955.41041933175245,900,1785.091767396412,310.97238529569734,863.69279969293586,11612.021578417582,-4465.8176415603457,7407.1430000000109,3245.261259129064,2432.8363869097998,2432.8363869097998,0,88.409416198730469,50.099811553955078,null,null,{"$f":"R845+S845","v":5678.0976460388638}]
[" ","1991-03-31",2410.2607703737222,9366.4785037188267,0,0,0,17027.727413585988,17027.7265625,1340.2515604510888,800,7371.9594954248796,483.81521819071804,973.01325969566494,28338.904239730979,-4516.1290322580644,30391.23947633768,3766.1446023782864,2510.7630682521885,2510.7630682521904,0,60.187625885009766,50.037883758544922,null,null,{"$f":"R846+S846","v":6276.907670630475}]
[" ","1991-04-30",2579.2259284652487,4987.7458490421232,0,0,0,7513.0105385918832,8455.779296875,1539.6451097765034,750.00000000006867,4094.5658635481923,618.82954683039418,724.72426074200234,13657.630839632446,-1833.8669733617548,11984.690523549851,1958.1503896761069,866.90936054433951,866.90936054433951,0,76.436622619628906,52.326404571533203,null,null,{"$f":"R847+S847","v":2825.0597502204464}]
[" ","1991-05-31",2497.6054943953927,7908.5618886956709,0,0,0,3482.6717758178711,3585.974853515625,1631.1480622831009,750,3207.221210359522,741.30278495042512,720.60649215015735,7409.8755910229374,-1885.4913238435138,4705.6524070202377,2030.4935475640673,332.96040107742419,332.96040107742419,0,87.988616943359375,53.743274688720703,null,null,{"$f":"R848+S848","v":2363.4539486414915}]
[" ","1991-06-30",2239.1945742574185,8084.5976176293416,0,0,0,3498.261329650878,3929.201904296875,1541.7229631258379,2348.9748718432488,3280.5185048197918,750.5782075560677,1236.670083284886,8571.4401402045278,-2482.6295873094864,4068.7256839217125,1550.6735788233264,471.53157619181093,471.53157619181093,0,89.422492980957031,55.940750122070313,null,null,{"$f":"R849+S849","v":2022.2051550151373}]
[" ","1991-07-31",1935.642270939577,8860.5058434062958,0,0,0,3687.8790454061791,3976.542236328125,1358.7886719915325,3292.2193247006671,4169.2434051881592,672.05249004572454,1749.9999999999998,10632.469249816113,-3772.9163408444729,4014.0882054060958,1313.4642884033356,1607.6911869283758,300,541.39457472121182,90.635612487792969,54.705638885498047,null,null,{"$f":"R850+S850","v":2921.1554753317114}]
[" ","1991-08-31",1720.4596813330895,7240.6631735097899,0,0,0,3604.734368167899,3961.556884765625,1227.6587755945775,2333.3369133935321,3188.395307732827,477.10094976259609,3201.4636454849538,10475.506517910277,-5252.8866209998614,3502.0186632441146,4600,399.70668540073711,300,92.839319062159007,91.326255798339844,53.561077117919922,null,null,{"$f":"R851+S851","v":4999.7066854007371}]
[" ","1991-09-30",1655.4555398996997,4732.6852398796664,0,0,0,4025.9871258980806,4150.10107421875,1200.7717399039257,1376.3250624379207,2565.6972245804091,414.69109576934642,1261.1791838937727,7413.8829698957188,-3261.652566055267,3000.0000000000873,2730.3310769178534,738.72414961288223,738.72414961288223,0,94.271705627441406,55.613990783691406,null,null,{"$f":"R852+S852","v":3469.0552265307356}]
[" ","1991-10-31",1612.0493387291856,4511.6251514108371,0,0,0,3749.3280891801264,3365.9228515625,1105.3445432818357,899.99999999999068,1512.1797704585351,330.14259852706397,1896.299728135916,6900.0000000000127,-2471.3145633805561,4237.741760427929,1732.1700757710537,1460.5046707836254,1460.5046707836254,0,91.509963989257813,56.797306060791016,null,null,{"$f":"R853+S853","v":3192.6747465546791}]
[" ","1991-11-30",1438.6479951715048,6902.3843459106747,0,0,0,5698.4587808895994,5208.40185546875,997.58572886423394,951.21733955620778,900.00000000002069,342.62962136062185,799.5249959470782,6893.277777777339,-3275.5469168157924,3500.0000000000873,2412.5872358037154,1747.8919549137077,1747.8919549137077,0,91.261192321777344,54.249416351318359,null,null,{"$f":"R854+S854","v":4160.4791907174231}]
[" ","1991-12-31",1435.3021150236962,4683.3507842460676,0,0,0,4570.3641530545119,4714.74072265625,944.13511085089942,900,1653.9461829345917,385.88981375220374,546.06212393623332,6770.0632489967265,-2425.5947955185948,4226.6624409738288,835.98118750359231,2263.9215997066935,2263.9215997066935,0,92.406326293945313,51.859882354736328,null,null,{"$f":"R855+S855","v":3099.9027872102861}]
[" ","1992-01-31",1470.064786264647,5014.8256232514577,0,0,0,6869.7280502201174,7303.2802734375,949.30790761042408,900,2909.2656999959709,386.48957695454357,522.13303883650383,10667.995529420259,-3662.4699600001668,7637.0828662364256,2214.2825505785158,2404.0664960223685,2404.0664960223685,0,87.325485229492188,48.263896942138672,null,null,{"$f":"R856+S856","v":4618.3490466008843}]
[" ","1992-02-29",2113.2871917465195,10809.509015389709,0,0,0,17277.816210241715,17311.8046875,1208.2787761422512,900,7946.99855302176,567,823.03905054562085,29216.258662209289,-4482.7586206896549,32909.788273019905,3972.4689190494905,2648.3126126996608,2648.3126126996617,0,59.555347442626953,48.865280151367188,null,null,{"$f":"R857+S857","v":6620.7815317491513}]
[" ","1992-03-31",2556.4347646315114,7435.8051292440923,0,0,0,12562.647755112404,14234.6826171875,1448.4520228235276,800,4137.1768645686661,658,1262.6518344662691,19686.465912259904,-4516.1290322580644,16991.810351658794,3531.5193964229406,2354.3462642819572,2354.3462642819572,0,66.315353393554688,50.920997619628906,null,null,{"$f":"R858+S858","v":5885.8656607048979}]
[" ","1992-04-30",2806.1614887714995,5349.0562232304655,0,0,0,7189.476617161281,8599.52734375,1549.6381063790707,750,3618.6713893838214,735.39708376165856,468.6085586356121,12790.791250510963,-2048.7930891542001,10249.6497163078,800,1623.4146414066527,1623.4146414066527,0,76.256271362304688,53.248672485351563,null,null,{"$f":"R859+S859","v":2423.4146414066527}]
[" ","1992-05-31",2485.8206062026843,10142.096493720515,0,0,0,4687.7631437858172,4730.97900390625,1383.2274122970985,2502.5692649372086,3215.9871765322946,635.2357280390022,1750.4100734225901,9648.0791484562433,-1797.01312556532,6184.6772000000346,1384.6456400384907,300,300,0,86.055419921875,54.116359710693359,null,null,{"$f":"R860+S860","v":1684.6456400384907}]
[" ","1992-06-30",2023.9641929189033,11500.087011651409,0,0,0,6005.9998659435223,6566.1240234375,1054.1491600805102,3843.27763398155,4123.7859698446709,501.99805505547425,1687.8192680544871,12564.924922579763,-2571.5214578743426,7100.0000000000873,1627.4400063720761,300,300,0,84.971946716308594,55.751194000244141,null,null,{"$f":"R861+S861","v":1927.4400063720761}]
[" ","1992-07-31",1595.2957641876797,11184.27791815463,0,0,0,5022.2575622369195,5334.5439453125,728.33521725098103,3664.8644168361702,3204.1329477328204,398.26403647918778,1097.7084422107616,10189.606594154353,-3395.737994276551,4006.7699737935177,1371.8886642430871,1132.587037924977,300,513.01042500062226,90.849853515625,53.523109436035156,null,null,{"$f":"R862+S862","v":2504.4757021680643}]
[" ","1992-08-31",1086.9826882554469,11911.035778917816,0,0,0,7439.7007771482522,7705.8359375,554.82479996807137,1849.8545067526998,1818.7106775955326,334.7150478685121,563.79355194741277,10226.333130827576,-5234.0814244428075,3036.8149762097455,4567.6707725901324,300,300,0,93.534812927246094,53.729846954345703,null,null,{"$f":"R863+S863","v":4867.6707725901324}]
[" ","1992-09-30",1075.5496554694173,4601.2861502719416,0,0,0,4370.1122476172513,4887.78515625,419.55223862959406,2024.2290773823995,2671.2643224837939,294.05080046350963,459.73968900469742,7450.535459853897,-3211.1516063118197,3102.5879855548574,1652.6612310040168,2031.7634870283405,2031.7634870283405,0,94.535133361816406,60.27191162109375,null,null,{"$f":"R864+S864","v":3684.4247180323573}]
[" ","1992-10-31",1013.3150236215539,5496.5541889389797,0,0,0,4976.5924978643689,4550.81884765625,408.33217117444906,1906.1613069513114,1785.2954629503729,274.48865410363453,409.71108877301054,6900.0000000000136,-1417.9416059370942,5171.8185446970365,1573.299545856227,300,300,0,91.964836120605469,61.050212860107422,null,null,{"$f":"R865+S865","v":1873.299545856227}]
[" ","1992-11-30",878.39726363201009,6619.1716694039042,0,0,0,5692.2440899777739,5635.7705078125,439.17839680493847,900,963.78172838369574,265.54347827732028,387.708001941666,6869.4825115720359,-3136.3435621411536,3500.0000000000873,3478.3488991164581,433.39159414419828,433.39159414419828,0,90.801071166992188,56.679218292236328,null,null,{"$f":"R866+S866","v":3911.7404932606564}]
[" ","1992-12-31",1106.865359881052,7259.5696935115884,0,0,0,8526.1181264805145,9357.9287109375,601.73669067556079,900,1873.2537362347923,366.90666313086984,503.11139143719834,13092.801153149785,-5017.2830056247731,9129.3344565526641,3449.9956291345393,2703.4056539766198,2703.4056539766198,0,81.779190063476563,51.331871032714844,null,null,{"$f":"R867+S867","v":6153.4012831111595}]
[" ","1993-01-31",1756.0961448264825,15052.874415340468,0,0,0,24488.131609626285,24488.130859375,1176.3742791752034,900,11319.528815254071,567,5395.5421884757561,48790.246402581186,-3645.1612903225805,67052.058549035952,4423.9904035424315,2949.3269356949513,2949.3269356949518,0,54,45.257663726806641,null,null,{"$f":"R868+S868","v":7373.3173392373828}]
[" ","1993-02-28",2471.3201180694291,12354.144823279739,0,0,0,23737.716371138969,23772.91796875,1645.9827016646227,900,10028.79965164677,553,6891.4060419168545,46212.094597272706,-4464.2857142857147,57395.297571210875,4587.2744479909088,3058.1829653272707,3058.1829653272707,0,54,45.194324493408203,null,null,{"$f":"R869+S869","v":7645.4574133181795}]
[" ","1993-03-31",3928.5071081570641,11595.294723284091,0,0,0,16286.987657503108,16286.9873046875,2823.3779677733569,800,6397.3025574619796,637,8330.3964615604855,31350.444891924453,-3258.0645161290322,35561.864147949025,3490.0142192888643,3174.6434528789405,3174.6434528789405,0,56.506752014160156,48.804325103759766,null,null,{"$f":"R870+S870","v":6664.6576721678048}]
[" ","1993-04-30",4477.0099627719137,12126.04113611066,0,0,0,18128.007349482541,18143.5625,3456,1211.6636180481378,11431.40121176614,792,3645.9967462796781,35517.11435740337,-3500,39119.109603729186,3476.8109252282743,3359.5950432446293,3359.5950432446293,0,54.626026153564453,52.513881683349609,null,null,{"$f":"R871+S871","v":6836.4059684729036}]
[" ","1993-05-31",4552,12873.882440279473,0,0,0,10619.219206719097,11503.7939453125,3538,7748.6148968663665,11836.668598874221,967,4026.1383489309792,29752.388129070805,-3500,28367.691093260892,3718.9073470681033,2479.2715647120667,2479.2715647120667,0,59.722991943359375,52.759113311767578,null,null,{"$f":"R872+S872","v":6198.17891178017}]
[" ","1993-06-30",4500,13248.9548511711,0,0,0,11773.706119624972,12525.5498046875,3538,4438.6138252998553,8039.2358364426682,967,4085.1219792946049,26312.956622172514,-5000,22363.15322151269,4036.0181814987718,2690.6787876658482,2690.6787876658482,0,64.241844177246094,52.815448760986328,null,null,{"$f":"R873+S873","v":6726.69696916462}]
[" ","1993-07-31",3897.0743911945306,13899.560585409703,0,0,0,7619.0528470944264,7551.00537109375,3013.0607755883402,9026.7664526339031,9676.9580041828522,848.81688096640607,2998.5910378300237,20925.688792621899,-10476.817837307492,8000,4238.0093120666352,7004.9017250857205,6680,0,79.90777587890625,51.738666534423828,null,null,{"$f":"R874+S874","v":11242.911037152357}]
[" ","1993-08-31",3610.2570534015808,9637.237087799911,0,0,0,6119.4613734087598,6174.85693359375,2571.4237537396311,7611.2097831940482,8350.8987023141708,756.10282136063222,1866.1288371322653,17027.164990579895,-9397.0546623109003,6197.2400414722033,3448.7563309164075,6680,6680,0,85.234909057617188,52.610271453857422,null,null,{"$f":"R875+S875","v":10128.756330916407}]
[" ","1993-09-30",3364.7692255710717,9135.1969122660921,0,0,0,9014.7977359996839,8851.419921875,2101.4616888851128,7974.5150042999385,9179.2510912457237,639.78307541561082,2388.7977338346723,20656.555220830334,-7941.1033486619053,12218.750000000087,2746.7755401486675,6680,6680,0,76.693397521972656,50.667915344238281,null,null,{"$f":"R876+S876","v":9426.7755401486684}]
[" ","1993-10-31",3250,6898.2641377866366,0,0,0,7030.2047756850388,6654.4052734375,1912.8572873133453,4000,4323.5205681424632,581.47287059705434,1326.4480327756294,12757.95447996598,-5083.2818881984949,7500,3148.9381682486242,3582.7866560393927,3582.7866560393927,0,81.454887390136719,52.660884857177734,null,null,{"$f":"R877+S877","v":6731.7248242880169}]
[" ","1993-11-30",3014.640747329579,8639.4679375167216,0,0,0,7700.5259041663694,7389.25341796875,1804.5348412694018,2500,2429.4858935553357,507.33935587159789,2208.0278364465385,13084.923602059882,-8536.4085560603307,4500.0000000000873,4600,5706.5644164608148,3361.8501758649381,2301.6904049533337,87.305183410644531,54.0845947265625,null,null,{"$f":"R878+S878","v":10306.564416460815}]
[" ","1993-12-31",3075.0531369529317,6599.268703987882,0,0,0,8133.4292375616333,8406.052734375,1752.6759341509842,3256.9930354571679,3520.193446964598,485.09461206589214,1861.3384242215579,15559.231569232294,-10104.392749516672,5178.4297636198717,4600,6999.5364388631706,6328.0267882927419,671.50965057042868,87.55633544921875,51.902587890625,null,null,{"$f":"R879+S879","v":11599.536438863171}]
[" ","1994-01-31",3265.8939121949984,5415.9877458900446,0,0,0,6983.0761000958237,7536.65087890625,1757.6679395954304,1200,2647.9075240751272,435.45166798769736,1240.1452290097143,12793.904106828028,-5000,8879.026097992717,3151.6989119676537,3269.3868624081506,3269.3868624081506,0,82.356231689453125,49.136039733886719,null,null,{"$f":"R880+S880","v":6421.0857743758042}]
[" ","1994-02-28",3490.2267820368816,7766.5465180449792,0,0,0,12431.979370564401,13804.1767578125,1866.3113502518956,1200,4184.0753948561896,435.71997138531771,1272.2772456203329,24150.828948808266,-5000,22117.570976008596,3953.8217176438375,2635.881145095892,2635.881145095892,0,66.42974853515625,48.085704803466797,null,null,{"$f":"R881+S881","v":6589.7028627397294}]
[" ","1994-03-31",3663.3009279166363,5659.931836107422,0,0,0,7529.489592483149,7632.94140625,2052.5179043663165,1000,2464.7009806601586,463.76986592054431,768.13777739539569,11518.292695790995,-3790.6087657393882,7938.8783704210218,3201.4749638084531,1714.4480574353151,1714.4480574353151,0,81.405868530273438,51.449329376220703,null,null,{"$f":"R882+S882","v":4915.9230212437687}]
[" ","1994-04-30",3726.0186695523694,4700.6391534592403,0,0,0,4082.2151870727539,5895.34716796875,2023.8240871811615,1000,3608.7132683636032,513.96626621385667,768.52687309320697,10783.993264215913,-1849.0492857563845,8343.4870979199659,800.00000000000091,1690.041898351421,1690.041898351421,0,82.958198547363281,56.233104705810547,null,null,{"$f":"R883+S883","v":2490.0418983514219}]
[" ","1994-05-31",3635.7031809894688,7145.1870692561906,0,0,0,3566.8839416503906,4320.5634765625,1992.547801002549,1000,2546.3580605003003,552.08965533945229,778.8693410069601,8501.6269533161121,-1858.9565544619095,5989.4554443322286,892.05452216739013,1862.281852565779,1862.281852565779,0,86.6051025390625,56.444690704345703,null,null,{"$f":"R884+S884","v":2754.3363747331691}]
[" ","1994-06-30",3188.9003538359716,12766.834122856044,0,0,0,5981.6689674638601,6766.634765625,1582.3057700942957,5087.3740966414061,4748.0002018681307,543.09953986985897,603.8759717650687,12313.728999768546,-5000,4091.8463620150142,2241.6751178232462,2345.8492032761114,2345.8492032761133,0,87.721305847167969,52.491863250732422,null,null,{"$f":"R885+S885","v":4587.5243210993576}]
[" ","1994-07-31",2742.6995840697668,12002.729675025021,0,0,0,6087.3336144397053,7477.373046875,1290.6622029074952,3957.7516764306479,3382.1010051260378,481.30913782135974,849.08588069733992,12808.857079963622,-5014.0575777137838,4557.4556102702963,2453.9984735276225,1974.9333165219755,300,699.12686484455605,88.475433349609375,53.215774536132813,null,null,{"$f":"R886+S886","v":4428.931790049598}]
[" ","1994-08-31",2415.491948401364,9663.1716074274627,0,0,0,6263.3772435780093,7473.2783203125,1138.3635260329311,1533.3505152223042,1686.3138965825856,420.79416263119947,642.541770451042,10505.975570300729,-5252.6792886492258,3049.9336655006509,4542.4141242959295,630.50335698546314,300,0,90.94183349609375,52.130828857421875,null,null,{"$f":"R887+S887","v":5172.9174812813926}]
[" ","1994-09-30",2421.5892334398227,4876.7781496299394,0,0,0,5407.5903216922443,6615.80712890625,1009.5946040870341,2000.931320404168,2850.527753567781,396.66327903930579,325.42598656623767,10315.204101133577,-5379.0715401233629,3620.7648083875765,3085.5535118544421,2979.0306648288597,2979.0306648288597,0,90.488296508789063,54.585655212402344,null,null,{"$f":"R888+S888","v":6064.5841766833018}]
[null,"1994-10-31",2249.5271491817234,6638.8314744174322,0,0,0,6053.5314329932016,5632.1943359375,893.27773713914439,2019.6680373807801,1200.000000000038,390.08727946716652,375,7950.0458395038831,-3560.6058782439395,4045.9543955361114,2632.7035563960344,1683.7504889752695,1683.7504889752695,0,90.317634582519531,54.563388824462891,null,null,{"$f":"R889+S889","v":4316.4540453713034}]
[null,"1994-11-30",2226.6955593442303,5353.2071101691336,0,0,0,4097.0732872966346,4362.01025390625,906.03141420166048,1200,1348.0944609225953,436.0061821622304,421.55756741389098,6899.2352767180428,-2693.5132048115665,4613.9111657440098,1863.6682643295242,1696.2880502618091,1696.2880502618091,0,90.995407104492188,53.284305572509766,null,null,{"$f":"R890+S890","v":3559.9563145913335}]
[null,"1994-12-31",2271.1066286763489,5894.8102599946524,0,0,0,7574.6122707580289,8594.8505859375,985.47711288036726,1200,4913.2739856598819,559.32210201029909,500.00000000000017,15143.915755513553,-7291.625564698792,8141.0274800992092,4214.5946921275563,4293.906749605756,4293.906749605756,0,85.100234985351563,50.903900146484375,null,null,{"$f":"R891+S891","v":8508.5014417333114}]
[null,"1995-01-31",3252.10009765625,46984.995848947794,0,0,0,26116.736459148837,26116.736328125,2213.6950606327991,1200,17612.137628226737,546,13774.040355078621,66856.398462879806,-3645.1612903225805,125908.48205969777,4166.8154025826843,2777.8769350551256,2777.8769350551256,0,54,46.71868896484375,null,null,{"$f":"R892+S892","v":6944.6923376378099}]
[null,"1995-02-28",3742.5,16351.357979158965,0,0,0,21022.957981774449,21058.16015625,2738.740609315259,1200,14545.960876303392,530,5621.9581390559215,42487.999328463055,-4464.2857142857147,47271.881441885038,3918.9426609598372,2612.6284406398913,2612.6284406398913,0,54,46.357063293457031,null,null,{"$f":"R893+S893","v":6531.5711015997285}]
[null,"1995-03-31",3416.5,69072.415502784395,0,0,0,26232.800152540523,26232.80078125,2788,33216.360940169077,57513.663926083769,618,17231.414180940974,76580.935297139862,-890.50616345138906,211020.73671617208,3607.6013374574536,8431.6129032258068,8431.6129032258068,0,54,46.602703094482422,null,null,{"$f":"R894+S894","v":12039.214240683261}]
[null,"1995-04-30",4216.7998046875,14221.62300293125,0,0,0,16941.239574104577,16954.78125,3208,12888.207173802164,25728.378059870214,792,6928.5169934021815,47642.27039555079,-2264.4901643710309,66080.216794603286,2733.5057398537569,6680,6680,0,54,51.496055603027344,null,null,{"$f":"R895+S895","v":9413.5057398537574}]
[null,"1995-05-31",4552,18444.046691810443,0,0,0,20312.220663842319,20371.38671875,3538,18235.502587245464,32839.693594323318,967,10161.739800431065,60254.822240747351,553.96193853293789,81571.474516404007,3927.2795235340477,6680,6680,0,54,52.219734191894531,null,null,{"$f":"R896+S896","v":10607.279523534047}]
[null,"1995-06-30",4500,11484.519346125398,0,0,0,9620.9468884118633,11003.77734375,3538.0000000000005,10955.366393327082,17573.472820403356,967,9096.5080302302395,38590.607945091382,-5000,41134.704544070344,4600.0000000000018,6261.4133820805291,6261.4133820805291,0,55.622451782226563,53.016059875488281,null,null,{"$f":"R897+S897","v":10861.413382080531}]
[null,"1995-07-31",4150,12935.134210461918,0,0,0,7285.5560606440777,8944.6630859375,3538,2362.4340611324951,4476.4847885277914,942,4252.9935644311345,18219.456817243787,-3385.5501532195376,23324.499159107181,4600,6680,6680,0,63.770816802978516,52.284080505371094,null,null,{"$f":"R898+S898","v":11280}]
[null,"1995-08-31",3700,13132.571368607094,0,0,0,8576.5778220780358,10169.6640625,3443.6284956979148,2706.7804655172818,2799.9999999998536,792,3702.4486131411654,17064.326975275148,-9299.0800782960105,8798.0213418926796,4600,6680,6680,0,78.146720886230469,51.094951629638672,null,null,{"$f":"R899+S899","v":11280}]
[null,"1995-09-30",3400,12040.561387819176,0,0,0,11749.997270987413,12635.6337890625,3351,2355.1304241213302,4737.9421942363751,752,1971.3906084457617,19964.565282104988,-9410.9054362762799,10588.784635724092,4600,6680,6680,0,79.19281005859375,50.975166320800781,null,null,{"$f":"R900+S900","v":11280}]
[null,"1995-10-31",3249.9999999999995,8961.2922638197469,0,0,0,7886.5533091784482,7379.87451171875,3121.7241157520152,4000.0000000000532,4874.4163346080923,712,1642.6315825297627,14524.895623317776,-6207.4350979194423,8125,4439.5615560663418,3622.9210940189382,3622.9210940189382,0,81.970359802246094,52.271541595458984,null,null,{"$f":"R901+S901","v":8062.4826500852796}]
[null,"1995-11-30",3077.589191405898,8000.9734197016533,0,0,0,5614.9100786884501,5578.17822265625,3015.5704304731753,2500,2251.6751037105087,528.26781245317159,4330.8779127624775,12813.912574408305,-9292.945971370551,4670.1422146826517,4600,6680,4962.8912421169225,1565.5144471898611,86.417778015136719,54.710273742675781,null,null,{"$f":"R902+S902","v":11280}]
[null,"1995-12-31",3367.60009765625,9436.6904095716491,0,0,0,12123.91032695122,12949.9462890625,3139,2178.8276359853226,4147.124556404241,567,2766.3799878104073,22147.226744305997,-5290.322580645161,19023.262514434024,4061.0010247333425,2707.3340164888973,2707.3340164888973,0,66.8375244140625,53.596240997314453,null,null,{"$f":"R903+S903","v":6768.3350412222399}]
[null,"1996-01-31",3722.5,12290.377727360803,0,0,0,18656.72895679457,18656.728515625,2788,11887.310719285377,17847.516439157498,557,5697.8680756508693,41280.226780084646,-4516.1290322580644,46993.550541251192,3083.6306235423913,3893.6562699838464,3893.6562699838464,0,54,50.332977294921875,null,null,{"$f":"R904+S904","v":6977.2868935262377}]
[null,"1996-02-29",3503.10009765625,43953.2321507054,0,0,0,26422.485686544755,26456.47265625,2788,21189.343719675056,36022.90632953513,494,13461.373251473213,71564.033600263152,-4482.7586206896549,127746.88775278271,2804.4768368737273,9136.819129928519,9136.819129928519,0,54,49.203506469726563,null,null,{"$f":"R905+S905","v":11941.295966802247}]
[null,"1996-03-31",4009.89990234375,17594.684816713845,0,0,0,22080.557406615753,22080.556640625,2995,10126.819948387472,26377.433002960643,621,6875.1443974067197,55470.927925308475,-3258.0645161290322,71200.815586252662,1774.1657959224158,7548.6637949087199,7548.6637949087199,0,54,49.789730072021484,null,null,{"$f":"R906+S906","v":9322.8295908311356}]
[null,"1996-04-30",4487.2383984151757,7257.5050581405176,0,0,0,10675.846019117724,12833.009765625,3352,6701.8597707755252,14825.868325727291,792,4235.3979401862762,33102.277828884682,-3500.0000000000005,42608.328306111776,3756.0975142811467,4607.1658788460072,4607.1658788460072,0,54,55.257518768310547,null,null,{"$f":"R907+S907","v":8363.2633931271539}]
[null,"1996-05-31",4481.0765655307796,16398.421685785426,0,0,0,15000,14482.9765625,3537.9999999999973,10423.796166689095,19424.809393492545,967,7306.15393473724,42651.554187338785,-3500,44727.816011871437,4282.2341183807293,2854.8227455871502,2854.8227455871511,0,54.933635711669922,52.964244842529297,null,null,{"$f":"R908+S908","v":7137.0568639678795}]
[null,"1996-06-30",4396.2389066090373,8477.2593033182566,0,0,0,4815.9817504882813,6059.60791015625,3538,2347.4821831684403,4148.7073727369898,967,2775.1233162667777,14425.547968369443,-5000,10357.087115422954,4108.3649863441278,2738.9099908960843,2738.9099908960843,0,76.308128356933594,54.036148071289063,null,null,{"$f":"R909+S909","v":6847.2749772402121}]
[null,"1996-07-31",3955.9266487284208,12744.159444129318,0,0,0,7574.5383749163902,9223.36328125,3042.4482233475155,8342.7855256838629,7846.8740509939562,870.49929163678655,2237.7603621525986,21641.456759614583,-10891.781658883418,8000,4600,7004.9017250857205,6680,0,81.898025512695313,52.514476776123047,null,null,{"$f":"R910+S910","v":11604.901725085721}]
[null,"1996-08-31",3700,9328.3626930075079,0,0,0,4570.0341949462891,6636.85498046875,2894.5958936221782,2779.9980599967512,3437.468813428271,787.18998323970425,1750,14079.913514359419,-7432.9827591684261,5877.0160000000615,4600,3447.8816572677651,3447.8816572677651,0,87.021308898925781,52.782615661621094,null,null,{"$f":"R911+S911","v":8047.8816572677651}]
[null,"1996-09-30",3400,9123.232316245425,0,0,0,9344.4572722455068,10499.2509765625,2475.6504823492587,7362.3858471540752,9828.9251811374488,748.38695133095507,1540.0926525193777,22996.108847137824,-9435.1192151919968,13000.000000000087,4512.3103141735173,6680,6680,0,78.065406799316406,52.263706207275391,null,null,{"$f":"R912+S912","v":11192.310314173517}]
[null,"1996-10-31",3250,8197.031064581568,0,0,0,6284.127289916617,5478.1181640625,2299.2019699171028,4000,2820.0205978241265,712,1377.9419149291919,10491.299426772794,-3557.9540720469868,7187.5,2717.8918214633673,2625.9808516254034,2625.9808516254034,0,82.441886901855469,52.959121704101563,null,null,{"$f":"R913+S913","v":5343.8726730887702}]
[null,"1996-11-30",3252,8538.1990049342312,0,0,0,7412.7630542491706,7269.5458984375,2334.9806958473691,1700,1781.9552373494232,567,5144.6662082966122,15516.27661863528,-8681.8043773441859,8705.7472504185134,4600,6680,6680,0,80.056098937988281,54.696163177490234,null,null,{"$f":"R914+S914","v":11280}]
[null,"1996-12-31",3252.10009765625,39549.189820710053,0,0,0,23005.618476714128,23005.619140625,2788,14399.872820373577,20674.014055878088,512,14901.597488829226,51452.13805595228,-4018.6423092968653,83139.202963176125,4600,8665.1612903225796,8665.1612903225796,0,54,51.955272674560547,null,null,{"$f":"R915+S915","v":13265.16129032258}]
[null,"1997-01-31",3252.10009765625,50195.988968559584,0,0,0,27052.124386095478,27052.125,2788,40890.018354284759,98369.999907012636,370,33110.451040512562,83273.614287214543,23638.885357305015,279041.37028480769,4600,9749.7999999999993,9749.7999999999993,0,54,46.4267578125,null,null,{"$f":"R916+S916","v":14349.8}]
[null,"1997-02-28",3788.800048828125,8059.8922599175548,0,0,0,13807.887958203579,14286.990234375,2952,10284.818675287692,30137.421549846284,394,6662.1138229347725,50318.582249582323,-1332.4478356054005,72342.294720625403,4600,9339.6740657114478,6271.4431954220527,3068.2308702893947,54,46.904918670654297,null,null,{"$f":"R917+S917","v":13939.674065711448}]
[null,"1997-03-31",4009.5749176837785,7765.9091722940357,0,0,0,8972.8343220211555,9208.169921875,3123,5285.6837449223121,9818.9810967474059,591,1744.9641923447277,22410.344932062402,-2656.6654206197209,25141.185372075757,2207.8688978050782,6238.0569407639887,6238.0569407639887,0,61.216506958007813,50.330375671386719,null,null,{"$f":"R918+S918","v":8445.9258385690664}]
[null,"1997-04-30",4183.5261852241483,6749.4125283851654,0,0,0,6669.0157163110753,9071.5087890625,3304.8632414002777,1000,5824.7828754191669,789.00718812468074,1299.987564390221,16752.524292515856,-3500,15498.714231363576,3700.4154669884524,3017.2429796414594,3017.2429796414594,0,68.395462036132813,53.8143310546875,null,null,{"$f":"R919+S919","v":6717.6584466299119}]
[null,"1997-05-31",3978.0076325338005,9979.2015770833477,0,0,0,4129.5723266601572,5593.43359375,3344.896886376348,1000.0000000000127,4071.6431330921514,946.68688342526411,1566.8059755569307,11476.045856586517,-3394.408083008454,9503.7875369561771,3935.9112422852854,2285.5745826661541,2285.5745826661541,0,77.808174133300781,54.468074798583984,null,null,{"$f":"R920+S920","v":6221.48582495144}]
[null,"1997-06-30",3726.3398979989897,9858.9798676234022,0,0,0,4143.924697875972,6445.78369140625,3163.5963573861968,2957.9053996491566,4195.1855048357456,801.26631547292118,3164.7723631814106,14372.236023521646,-5000,8625.0149053903042,4064.2494862069252,2188.4420310345622,2188.4420310345622,0,79.848800659179688,53.380924224853516,null,null,{"$f":"R921+S921","v":6252.6915172414874}]
[null,"1997-07-31",3114.2186157892352,15568.104728589569,0,0,0,8717.408989428417,11254.14453125,2698.4918433958264,6929.1212417065399,7374.0547167461664,574.70075418416252,3869.3228209067443,23548.733296901246,-9206.9148419202647,11051.972928270399,4600,5007.702769378061,4765.4404283429149,0,79.2008056640625,51.581005096435547,null,null,{"$f":"R922+S922","v":9607.7027693780619}]
[null,"1997-08-31",2936.3115834250425,8599.7469349416679,0,0,0,4062.1941146850586,6515.69140625,2469.2027537471918,4111.3867731483306,5954.5832829082028,520.22029374871238,1491.0296608138153,15198.163226268938,-8624.4286318582126,5312.5,4600,4758.2830302312404,4758.2830302312404,0,86.426490783691406,52.994777679443359,null,null,{"$f":"R923+S923","v":9358.2830302312395}]
[null,"1997-09-30",2779.6017117746419,8028.7009190260624,0,0,0,7396.1038018967447,8385.1220703125,2053.1873521671932,7043.6810766737781,8211.8607072639425,431.90094332705689,2036.0138159260218,19293.101577834117,-8378.200014939317,10207.602178520057,3424.3218159342355,6680,6680,0,79.755470275878906,51.371761322021484,null,null,{"$f":"R924+S924","v":10104.321815934236}]
[null,"1997-10-31",2684.5255818055252,7650.6432140791467,0,0,0,6235.4917235154489,5798.2197265625,1854.7283677484963,3999.9999999999677,3893.8290696418453,388.15030781329608,1335.5703251902567,11535.176435359635,-4170.4699388979152,7343.75,2760.9375000000027,3130.6124705898328,3130.6124705898328,0,81.586708068847656,52.034389495849609,null,null,{"$f":"R925+S925","v":5891.5499705898355}]
[null,"1997-11-30",2838.9749195343179,8619.5272069993607,0,0,0,7483.4053363498297,8053.4951171875,1833.445375876448,2500.0000000000205,2891.1868941952466,370.67616659729515,1902.0052971315081,14430.29751101313,-9269.9185426155891,5489.6743932070704,4600,6680,6578.3519679323372,93.015718527725767,86.607170104980469,54.174453735351563,null,null,{"$f":"R926+S926","v":11280}]
[null,"1997-12-31",3089.9804181311697,6861.2384176658197,0,0,0,12991.442976415685,14062.7685546875,1952.6275326866823,2203.1130865467812,1700,380.86616829155048,1869.8501840261449,19573.712833734906,-9619.8633516875379,10406.038865757975,4600,7063.3174464677031,7063.3174464677031,0,81.920028686523438,51.079025268554688,null,null,{"$f":"R927+S927","v":11663.317446467703}]
[null,"1998-01-31",3338.5,38779.215639194663,0,0,0,23659.461169874285,23659.4609375,2689.2180387955677,1700,16249.321823327484,567,4761.5170246033049,29655.332951247638,-3645.1612903225805,60337.479213131417,4425.8342060926252,2950.5561373950804,2950.5561373950804,0,54,47.525966644287109,null,null,{"$f":"R928+S928","v":7376.3903434877056}]
[null,"1998-02-28",3252.1000976562505,73197.014581304073,0,0,0,27671.44083999579,27706.642578125,2788.0000000000027,16866.907538049134,76080.931476525628,554.99999999999977,12707.297472693563,65939.237347960268,4293.3464658694966,227093.64356742162,4600,5378.779605798125,5087.8681809568279,290.91142484129705,54,44.975486755371094,null,null,{"$f":"R929+S929","v":9978.779605798125}]
[null,"1998-03-31",3503.89990234375,30769.733999783944,0,0,0,23595.466375473152,23595.466796875,2817,14265.145246881022,29366.466173283163,646,7425.4363850953114,58909.401086868122,-3258.0645161290322,85814.227161737639,4600,6660.2758200276112,4298.6216486560043,2361.6541713716069,54,46.263442993164063,null,null,{"$f":"R930+S930","v":11260.275820027611}]
[null,"1998-04-30",4383.0139866577638,10635.270285878045,0,0,0,17785.300091601377,17796.5859375,3298,2962.4976813454223,18833.827654571724,792,5759.6223818804392,44224.672823438617,1106.7273937550872,63524.562227892886,2903.1977444114291,4057.0935739679053,4057.0935739679053,0,54,52.316482543945313,null,null,{"$f":"R931+S931","v":6960.2913183793344}]
[null,"1998-05-31",4552,23629.62752090986,0,0,0,21628.493755708409,21661.822265625,3537.9999999999973,9278.2500702349571,9703.6354503286639,967,6557.478911931591,42874.767420979173,-1745.9585458527959,54844.072921827785,3913.1016411703331,5814.5727018916896,5814.5727018916896,0,54,51.375679016113281,null,null,{"$f":"R932+S932","v":9727.6743430620227}]
[null,"1998-06-30",4500,23363.364635565842,0,0,0,22553.745104486159,22636.52734375,3538.0000000000009,11207.106710796961,24591.336145440702,967,8285.2716686892927,61105.789852215712,-3331.7281298493435,69621.457092972225,4600,6680,6680,0,54,51.661842346191406,null,null,{"$f":"R933+S933","v":11280}]
[null,"1998-07-31",4150,17107.341140609082,0,0,0,11245.502517494846,13112.6650390625,3538,2737.3411840434583,5519.4998259428357,942,3484.0329867657119,23676.200419553614,-2794.7047836988495,29731.955881835478,4600,6680,6680,0,58.781154632568359,51.584980010986328,null,null,{"$f":"R934+S934","v":11280}]
[null,"1998-08-31",3700,14804.838145062362,0,0,0,8947.0205384590736,11491.1494140625,3538.0000000000005,1347.8545313025666,2905.8763254834716,792,3342.700758398692,18829.09829949453,-8854.2905535867394,11122.153420069099,4600,6680,6680,0,72.341346740722656,51.253570556640625,null,null,{"$f":"R935+S935","v":11280}]
[null,"1998-09-30",3400,13330.117652657884,0,0,0,13430.538275454632,13884.25390625,3351,4619.9809652108888,7595.0234588578041,750.05434110389217,1749.999978553089,24080.010502106372,-8190.0154059424422,17155.848565920489,4600,6680,6680,0,66.606391906738281,52.827400207519531,null,null,{"$f":"R936+S936","v":11280}]
[null,"1998-10-31",3250,10817.824977193121,0,0,0,9817.8478509079396,9362.0283203125,3163,3891.2647800979257,3787.1228109563594,712,1717.2810699631884,15614.876798191463,-8289.9548667134732,8200.9784703991318,4600,6680,6680,0,76.761390686035156,55.195194244384766,null,null,{"$f":"R937+S937","v":11280}]
[null,"1998-11-30",3252,14489.1164262362,0,0,0,12440.398270559837,12292.1396484375,3008,6815.0506716060954,7013.953949896948,567,4686.8534721970273,25538.358036330945,-8684.7670799874941,19160.931244424486,4600,6680,6680,0,68.355690002441406,55.20574951171875,null,null,{"$f":"R938+S938","v":11280}]
[null,"1998-12-31",3349,14758.012751291066,0,0,0,18388.011340825848,18388.01171875,3107,4749.6562175256504,9138.722260185772,567,3227.8057537736954,32953.212433834728,-5290.322580645161,30351.940079932203,4362.4141334851938,2908.2760889901274,2908.2760889901274,0,60.665065765380859,52.496356964111328,null,null,{"$f":"R939+S939","v":7270.6902224753212}]
[null,"1999-01-31",3640.10009765625,11066.65228259291,0,0,0,12235.874968341679,12707.873046875,2788,13307.384954981442,20429.432437457486,560,5869.530824054862,38167.348508925621,-4516.1290322580644,40634.584222248384,2526.9479246261562,5472.5998212941195,5472.5998212941195,0,55.264747619628906,48.803302764892578,null,null,{"$f":"R940+S940","v":7999.5477459202757}]
[null,"1999-02-28",3569.60009765625,32840.883859724338,0,0,0,25748.142523338833,25783.34375,2788,16570.864203604615,26298.641094009741,560,11384.770217316021,60577.523471503526,-2800.7781137231041,98837.194248821354,2901.2795755524994,6299.1631437435235,6299.1631437435244,0,54,46.655796051025391,null,null,{"$f":"R941+S941","v":9200.4427192960229}]
[null,"1999-03-31",3980,19850.467667596458,0,0,0,24001.143333915705,24001.142578125,2817,11340.527306863822,22655.72507288319,654,5124.2795494643979,54663.304231759452,-3258.0645161290322,63067.762089684999,2776.1312989443218,4350.1469732872702,4350.1469732872692,0,54,47.724288940429688,null,null,{"$f":"R942+S942","v":7126.2782722315915}]
[null,"1999-04-30",4552.1000976562509,7792.990150022255,0,0,0,11727.854262312112,13503.630859375,3202.3438129803062,1000,6995.1909525972651,782.03579573979732,3000,25412.521209088452,-3494.1095939032789,28457.162780393832,3589.695523722984,3752.2273896256738,3752.2273896256738,0,59.949604034423828,52.514175415039063,null,null,{"$f":"R943+S943","v":7341.9229133486579}]
[null,"1999-05-31",4552,11867.432982248196,0,0,0,8098.1608613903627,8717.41015625,3529.0460404677601,1000.0000000000006,4752.3847734283663,967,3747.1827454377608,18176.071093106562,-3409.2359335561368,16554.957759276389,3170.0258020783458,2113.3505347188966,2113.3505347188966,0,68.468544006347656,52.343944549560547,null,null,{"$f":"R944+S944","v":5283.3763367972424}]
[null,"1999-06-30",4444.2264737132373,9274.956696491874,0,0,0,4767.5557556152344,6788.48046875,3538,1693.623235285846,4291.2751191278112,967,3419.9674368057463,15415.362815412562,-5000,9611.6586376771047,3426.5510765215331,2162.6972157200989,2162.697215720098,0,78.803695678710938,53.317581176757813,null,null,{"$f":"R945+S945","v":5589.248292241632}]
[null,"1999-07-31",3871.5778203223263,14711.670280169541,0,0,0,8249.5291138979519,10142.3525390625,3010.5340790206519,8734.0041780945176,8910.3878346675792,839.42340748717311,3064.6092214593814,23136.108005952952,-10873.986170774519,9480.4014800251862,4600,6868.0586549853688,6664.3233100000016,0,78.235939025878906,51.361293792724609,null,null,{"$f":"R946+S946","v":11468.058654985369}]
[null,"1999-08-31",3613.7280867427025,9955.9098955785557,0,0,0,4528.5823421478271,6966.82958984375,2860.9901302075141,3201.587592980286,5543.688875321056,792.00000000000011,1710.0361752593799,15251.863959644039,-9081.0615516648504,5241.935499999905,4600,5068.3215639596947,5068.3215639596947,0,85.647689819335938,52.196514129638672,null,null,{"$f":"R947+S947","v":9668.3215639596947}]
[null,"1999-09-30",3399.9999999999995,10351.739353504814,0,0,0,9249.1578208071842,10587.5126953125,2429.5187682397336,7045.6899591712263,9455.5863501628901,751.99999999999977,1606.1087047747199,22107.296502257537,-9246.0746040398408,12375.000000000087,4117.1295846581788,6680,6680,0,78.706077575683594,50.852245330810547,null,null,{"$f":"R948+S948","v":10797.129584658178}]
[null,"1999-10-31",3250,9897.4584643020989,0,0,0,8104.318460968876,7382.6337890625,2204.4280869924305,3999.9999999999827,3647.7930845936353,709.15510552630587,1328.4559894220777,12913.757306141091,-6002.9827222022814,6562.5,4318.7337128293257,3462.5741312822101,3462.5741312822101,0,82.547569274902344,52.004360198974609,null,null,{"$f":"R949+S949","v":7781.3078441115358}]
[null,"1999-11-30",3187.3218110802254,8946.9849598135879,0,0,0,7231.8555823699489,7063.43017578125,2159.196315956347,2499.9999999999818,1728.7236142346633,552.63662559893316,4025.3577134520433,13969.602754194257,-9271.9737786383448,4968.4143921631594,4600,6680,5810.0875574114407,863.90980994955953,86.332908630371094,54.488224029541016,null,null,{"$f":"R950+S950","v":11280}]
[null,"1999-12-31",3157.629208736259,7430.6435004623663,0,0,0,7393.3285217541898,8159.20849609375,1928.204834129466,5212.0327527901418,4655.5667417341538,526.19105101376852,1846.2315953909713,15460.945774645563,-9841.6021248074285,4993.4453981970692,4600,7004.1273619911371,7004.1273619911608,0,85.836936950683594,53.526439666748047,null,null,{"$f":"R951+S951","v":11604.127361991137}]
[null,"2000-01-31",3614.5,13741.525869276515,0,0,0,14586.874504982046,15151.38671875,2160.5675920726831,1700,5651.8329205989921,564,3706.2011312473533,26668.396873032685,-3645.1612903225805,26407.815411834068,3281.2721623566645,2187.5147749044395,2187.5147749044395,0,60.149700164794922,49.865291595458984,null,null,{"$f":"R952+S952","v":5468.786937261104}]
[null,"2000-02-29",3281.5,49575.55674354935,0,0,0,26679.28706413896,26713.275390625,2856,2562.5402876176558,24169.705738231649,558,10097.363300384206,59544.966513542895,-4482.7586206896549,106977.36478172941,4600,8034.4326034047899,8034.4326034047699,0,54,47.541515350341797,null,null,{"$f":"R953+S953","v":12634.43260340479}]
[null,"2000-03-31",3975.60009765625,18915.564698221577,0,0,0,22749.27768060485,22749.27734375,2964,9371.223566679384,34064.4575876171,656,4440.2601696653346,52748.965808721026,-3258.0645161290322,67423.117741405847,4600,3527.2154832604401,3527.2154832604401,0,54,48.834907531738281,null,null,{"$f":"R954+S954","v":8127.2154832604401}]
[null,"2000-04-30",4552.10009765625,8512.7801911552269,0,0,0,9709.6413275885025,11405.4873046875,3361.208190796754,1000,6700.2723569071104,792,2533.772034309221,20684.255603493442,-3500,20682.760267983867,4493.4076958045662,2995.6051305363803,2995.6051305363785,0,62.630794525146484,53.296405792236328,null,null,{"$f":"R955+S955","v":7489.012826340946}]
[null,"2000-05-31",4552,9655.283105176055,0,0,0,7071.6388749041453,8103.1328125,3538,1492.3507944233975,5145.7425410451788,967,1651.5019379280063,15623.132123775427,-3500,13713.079942210443,2374.1991986015942,3294.4736572634724,3294.4736572634724,0,69.707870483398438,53.967655181884766,null,null,{"$f":"R956+S956","v":5668.6728558650666}]
[null,"2000-06-30",4144.404438574943,12659.893136330786,0,0,0,7308.8189021585622,8357.57421875,3352.604552130676,3380.7173840182313,4250.5049106766746,864.42435728123348,2313.977809044517,14857.400470766843,-5000,7865.7169684549781,3317.2122258672712,1786.1911985439174,1786.1911985439174,0,81.053802490234375,52.726715087890625,null,null,{"$f":"R957+S957","v":5103.4034244111881}]
[null,"2000-07-31",3506.1756022425443,15534.751085224576,0,0,0,8176.6257048530042,9453.1669921875,2728.3012846135293,9949.5153822919292,9688.2713895097695,542.65017755778433,4864.6266310432875,24098.442463903888,-9967.7901421854076,10919.150858417603,3475.949805884944,6931.6388403415904,6680,0,80.823844909667969,51.337066650390625,null,null,{"$f":"R958+S958","v":10407.588646226533}]
[null,"2000-08-31",3206.4716208099235,11384.102223938609,0,0,0,6580.6093503238035,8371.6416015625,2279.083396459976,7361.5353332573804,8448.2826610760458,494.39420658526916,1474.6197845061995,18103.758882705497,-10667.807032839741,5524.1933999999892,4600,6680,6680,0,86.547752380371094,51.955928802490234,null,null,{"$f":"R959+S959","v":11280}]
[null,"2000-09-30",3120.0925977489251,9700.0443902589213,0,0,0,9457.7442366910218,10042.080078125,1853.0015943832661,7555.2829670680385,9420.3881805159908,428.51431471255131,1775.0600629106721,21179.083151850475,-9026.7164305746337,11562.500000000087,4084.8383749072264,6680,6680,0,78.490486145019531,52.06915283203125,null,null,{"$f":"R960+S960","v":10764.838374907227}]
[null,"2000-10-31",3034.7942273879607,8072.4946443399667,0,0,0,6865.5604043881403,5740.13037109375,1684.6343139241642,3999.9999999999955,3037.5280624226889,387.2570058179225,1371.3877020065718,10167.560342235707,-4195.5269807390014,6562.5,3190.625,3092.3295618730267,3092.3295618730267,0,83.133430480957031,52.405136108398438,null,null,{"$f":"R961+S961","v":6282.9545618730263}]
[null,"2000-11-30",2828.0472487926468,9720.3988896669671,0,0,0,7867.9088152077238,7905.3681640625,1573.3135086938742,2500,2317.4459912742732,362.1669321913086,1837.3624206658822,12614.818048382782,-8334.5692390009572,4500.0000000000873,4600,5828.5428722133329,3790.6934420135858,1933.5278768050537,87.670219421386719,53.986297607421875,null,null,{"$f":"R962+S962","v":10428.542872213333}]
[null,"2000-12-31",2678.6054810396231,9150.5636360289154,0,0,0,8504.3312830917057,9112.6943359375,1552.7743860328208,2270.0127887756043,2763.8675955839954,350,1834.0707922371203,13917.805840722069,-8755.3482264268605,4849.9288580973425,4600,6067.6809088103219,3868.7872335782372,2152.5748842348203,86.769401550292969,54.311004638671875,null,null,{"$f":"R963+S963","v":10667.680908810322}]
[null,"2001-01-31",2834.5037018425055,6545.3125500151309,0,0,0,8848.6302760756371,9558.0234375,1553.8120293297943,1700,4658.5603859925086,328.88239867911716,1249.8714239586068,16083.977833238068,-5225.8064516129034,12668.622616139066,4302.2000157866842,2868.1333438577894,2868.1333438577894,0,74.335273742675781,50.228656768798828,null,null,{"$f":"R964+S964","v":7170.3333596444736}]
[null,"2001-02-28",3268.4990339800315,8860.6515391419671,0,0,0,13996.219263694471,15618.3212890625,1648.6978887329271,1700,4779.5362936919128,343.40109759581196,1299.2864880609532,25967.515510233552,-5000,26115.112022928355,4166.7136140822895,2777.8090760548639,2777.8090760548639,0,61.237491607666016,48.149215698242188,null,null,{"$f":"R965+S965","v":6944.5226901371534}]
[null,"2001-03-31",3763.4113963836348,9004.7101283779102,0,0,0,14718.455178348328,15473.4375,1857.6579976921782,1700,4221.5850589355141,445.22842489420526,801.43975782648192,22727.991371871241,-3258.0645161290322,23505.475357265474,3328.3593529136306,2218.9062352757546,2218.9062352757546,0,63.661380767822266,50.740394592285156,null,null,{"$f":"R966+S966","v":5547.2655881893852}]
[null,"2001-04-30",3985.5452013838667,5006.3702427189473,0,0,0,5424.6578365194446,7150.3876953125,1925.1673517252714,1000,4032.1728659381915,538.71876567752633,789.048755124796,12201.763426502079,-2092.813577498328,11497.227694035226,2125.5085951186793,2149.2792061141199,2149.2792061141199,0,75.241783142089844,55.083366394042969,null,null,{"$f":"R967+S967","v":4274.7878012327992}]
[null,"2001-05-31",3729.1096651659109,10741.279315401964,0,0,0,4436.7674961228076,5810.89208984375,1811.4465761258878,2769.2365706517207,4110.2496212501246,578.03215537029223,831.3188993899131,10858.478696455662,-2775.2338519670984,7026.2743341282794,2214.8619411717682,1317.8238409791002,1317.8238409791002,0,83.053138732910156,55.193653106689453,null,null,{"$f":"R968+S968","v":3532.6857821508684}]
[null,"2001-06-30",3200,14201.830477512138,0,0,0,6994.5200383180118,9338.2490234375,1540.3169038958233,3917.8048587522676,3663.3540139218271,524.5097213580807,580.76065561724079,13791.854054267074,-3739.832169860922,7200.6450140307388,2506.7102046582563,921.55837202733824,921.55837202733824,0,82.173332214355469,53.037742614746094,null,null,{"$f":"R969+S969","v":3428.2685766855948}]
[null,"2001-07-31",2903.7544447694991,11534.234896374426,0,0,0,5614.6946226103782,8464.46484375,1332.0624159837994,2268.4006466011951,2163.5316793122101,448.13322292191782,837.92445215282373,11705.311368276016,-4190.2824792350802,5017.1887383854473,2135.2559652746368,1620.07158963962,300,927.92661871402152,87.939056396484375,53.429378509521484,null,null,{"$f":"R970+S970","v":3755.3275549142568}]
[null,"2001-08-31",2763.0397782377063,8370.6617077192332,0,0,0,3732.8945016643202,5968.779296875,1220.1698996513467,1042.1881661687516,2515.9901248818824,392.40809089983526,640.86580832851234,9279.2753298043135,-3596.0012012980715,4098.1844428593522,2617.252737471812,883.66148075182093,300,0,90.511787414550781,53.651691436767578,null,null,{"$f":"R971+S971","v":3500.9142182236328}]
[null,"2001-09-30",2713.1268290639487,6088.852207208759,0,0,0,6462.2870536774062,8040.58935546875,1129.5034138864692,1000,2942.0201925583096,394.7775632724011,691.16540443527094,9372.0250995512943,-5464.658459959659,3016.588102541743,3385.8977534104365,3012.6472512812688,3012.6472512812688,0,91.990501403808594,54.010734558105469,null,null,{"$f":"R972+S972","v":6398.5450046917049}]
[null,"2001-10-31",2429.7153204799042,9728.4026988203423,0,0,0,7780.4867049332015,6504.990234375,1017.9141040104141,2436.3402398592943,1199.9999999999563,391.88937045994027,435.47435227335279,7941.792356101837,-3734.2883163880451,4000,3807.6297884452329,1024.231550053566,1024.231550053566,0,90.731346130371094,54.496807098388672,null,null,{"$f":"R973+S973","v":4831.8613384987984}]
[null,"2001-11-30",2662.4784619971679,6332.2588676093219,0,0,0,5674.653901986514,5600.33984375,998.15736327532989,1200,2012.9413215660904,451.86957620980036,493.80588427793396,8396.4003399058765,-2850.0047886056018,6128.6402890340642,800,3235.5997945104382,3235.5997945104382,0,88.481925964355469,54.548946380615234,null,null,{"$f":"R974+S974","v":4035.5997945104382}]
[null,"2001-12-31",3333.800048828125,13556.01103750991,0,0,0,19228.416462870937,19228.416015625,1187.6397518674767,1200,4834.8328280841797,567,1474.6623956105357,27991.46667799446,-5290.322580645161,28664.024433864943,4341.4876233571413,2894.3250822380933,2894.3250822380933,0,62.882919311523438,50.306507110595703,null,null,{"$f":"R975+S975","v":7235.8127055952345}]
[null,"2002-01-31",3678.39990234375,18172.416260115249,0,0,0,22670.483202705116,22670.482421875,1511.5407869776577,1200,7695.1049963452324,567,3449.3248633920325,42182.927939622758,-4516.1290322580644,48123.7485333246,3966.5191304693467,2644.3460869795622,2644.3460869795622,0,54,47.297325134277344,null,null,{"$f":"R976+S976","v":6610.8652174489089}]
[null,"2002-02-28",4022,8009.8856013069162,0,0,0,8742.5087465696761,10104.046875,1665.1428987670524,1200,4161.6386261782827,563,3168.1157907882421,20246.274835402637,-5250,15811.592960013433,3475.3445428020759,3276.3321192227022,3276.3321192227022,0,69.876548767089844,47.603973388671875,null,null,{"$f":"R977+S977","v":6751.6766620247781}]
[null,"2002-03-31",4410.8515912324219,6874.3718724403579,0,0,0,9475.2297327921569,9823.2216796875,1972.9133382424559,1000,5474.5897413032608,653.94098921128011,2999.9999785507039,19405.905728868624,-3258.0645161290322,17746.24552942421,2953.3337850083722,1968.889190005581,1968.889190005581,0,69.215072631835938,49.510448455810547,null,null,{"$f":"R978+S978","v":4922.2229750139531}]
[null,"2002-04-30",4552.10009765625,7598.6944877178903,0,0,0,8495.2396858625889,10261.736328125,2133.5219845084907,1000,6210.927421142389,792,2334.3282496538259,18993.095785794714,-2293.9929951795739,17479.302009116218,2195.1406369971992,1463.4270913314663,1463.4270913314663,0,69.42669677734375,53.23822021484375,null,null,{"$f":"R979+S979","v":3658.5677283286655}]
[null,"2002-05-31",4365.634615045371,10260.095379948752,0,0,0,4628.5636596679688,5868.537109375,2190.1984946897273,1000,4092.5621564416278,927.54776195978798,1203.8667921761014,11207.856812326354,-2192.8548851763503,10060.557466974682,1658.0198614744738,1841.734018781209,1841.734018781209,0,80.466316223144531,52.909523010253906,null,null,{"$f":"R980+S980","v":3499.7538802556828}]
[null,"2002-06-30",3939.7078834827903,12055.805751380063,0,0,0,4599.2108191044244,6317.29150390625,1894.2708384137682,3772.9527882013163,4934.0955747841908,805.37727408157411,2769.1026276475882,13938.332272185347,-5000,6481.8635149735637,3149.5623503370839,1695.918188643041,1695.9181886430408,0,82.453636169433594,52.707977294921875,null,null,{"$f":"R981+S981","v":4845.4805389801249}]
[null,"2002-07-31",3420.749743736716,13274.779083323985,0,0,0,6673.1221536992844,8412.4990234375,1539.6971513199692,5187.7241971406893,5871.5530652047155,664.72190215825151,1750.0000000000005,16719.160024821402,-8251.9326954603875,5030.3996313855014,3549.851321972234,4413.7327648865266,2549.153168372377,888.77314483673058,84.855392456054688,52.09747314453125,null,null,{"$f":"R982+S982","v":7963.5840868587602}]
[null,"2002-08-31",3199.6582893301825,9062.6853533852754,0,0,0,4553.8076705933299,7089.46533203125,1446.2809078352791,1000,3090.7166115594055,612.93215941298786,1503.2876935005334,11667.52706608878,-6026.3385507330931,3749.9500107710146,4600,1614.1257737843821,1614.1257737843821,0,89.6373291015625,52.747604370117188,null,null,{"$f":"R983+S983","v":6214.1257737843825}]
[null,"2002-09-30",3137.3416956281017,6034.8900882682556,0,0,0,4519.2426071166992,6258.38134765625,1391.3200101723621,1077.0934165627286,2743.895523335073,562.66584441070052,1547.1320550654814,10209.616979997734,-6001.4036978024851,3184.0163983888597,4541.2670049455201,2409.380242346464,2409.380242346464,0,91.540840148925781,52.821159362792969,null,null,{"$f":"R984+S984","v":6950.6472472919841}]
[null,"2002-10-31",2953.6999787462642,7786.5489564364598,0,0,0,5801.3755342357254,4974.30712890625,1262.1805768562538,1834.963818366595,1789.2263362412341,501.51920885161832,1323.6055807747287,8002.4898637099268,-3588.1056880449996,4089.2263362412996,3326.3098751634589,1278.4195338257,1278.4195338257,0,91.18023681640625,52.329738616943359,null,null,{"$f":"R985+S985","v":4604.7294089891584}]
[null,"2002-11-30",2890.0056787746421,7022.0563779448858,0,0,0,4688.6685954126824,4703.423828125,1204.7273903566866,1700,2069.8246090728358,518.1338426634594,1559.0232347453775,8573.7835047757617,-4258.2020736614559,4500.0000000000873,3052.748539266679,2458.509188769377,2458.509188769377,0,89.750778198242188,53.724292755126953,null,null,{"$f":"R986+S986","v":5511.2577280360565}]
[null,"2002-12-31",3291.300048828125,24538.912984896593,0,0,0,22512.654612839404,22512.654296875,1591.3360140875197,1700,2719.3723809719404,567,3079.730329599005,37542.481819119894,-5290.322580645161,41605.286717802795,4246.968251556078,2831.3121677040508,2831.3121677040508,0,55.676292419433594,50.589412689208984,null,null,{"$f":"R987+S987","v":7078.2804192601288}]
[null,"2003-01-31",3515.199951171875,26071.220701576625,0,0,0,25645.690908510034,25645.69140625,2124.5478304929707,1700,13016.708422159996,562,3865.8384150677216,52727.401765661001,-4516.1290322580644,60738.473162711351,3527.3089516556688,2351.5393011037791,2351.5393011037791,0,54,46.671699523925781,null,null,{"$f":"R988+S988","v":5878.8482527594479}]
[null,"2003-02-28",3830.9870981480699,7440.1755041918577,0,0,0,11512.426505828475,12756.080078125,2422.7668316792674,1700,6520.587274994431,551,2279.1983258605514,26066.702907017421,-5250,22761.843871933743,4007.009327741815,2671.3395518278694,2671.3395518278762,0,63.207862854003906,47.293552398681641,null,null,{"$f":"R989+S989","v":6678.3488795696849}]
[null,"2003-03-31",4248.3700185740418,9475.256569701045,0,0,0,13559.282800485664,14625.1240234375,2779.9522040619349,1700,5249.3064657160512,644.46421090740114,1593.7031054429794,23161.831271291092,-3258.0645161290322,21344.95613669484,2867.616649609025,1911.7444330726835,1911.7444330726835,0,63.557170867919922,50.171516418457031,null,null,{"$f":"R990+S990","v":4779.3610826817085}]
[null,"2003-04-30",4552.10009765625,14410.864764294231,0,0,0,15178.867671496071,15188.6630859375,3154.1136417005332,1000,5681.5493989884444,792,2996.3278785381167,25065.606888231097,-3033.964979277755,27850.310446275445,3405.9742562404199,2270.6495041602802,2270.6495041602802,0,58.959690093994141,50.994590759277344,null,null,{"$f":"R991+S991","v":5676.6237604007001}]
[null,"2003-05-31",4552,19330.151647162013,0,0,0,21948.37165662281,21893.380859375,3538,2571.881914852549,7494.3918819897199,967,4406.4505923121014,38196.502688944136,-3155.2240001516557,37699.719696394517,2835.6862471723011,1890.4574981148676,1890.4574981148676,0,57.34991455078125,51.529426574707031,null,null,{"$f":"R992+S992","v":4726.1437452871687}]
[null,"2003-06-30",4364.9243233270208,9858.7681734562102,0,0,0,4923.5799865722656,6020.93310546875,3538,2028.8771893779594,5530.5935085052088,967,1805.0126572631618,13560.668646800501,-5000,6058.1481727709943,3106.0123934944404,1608.392628528457,1608.3926285284567,0,81.456428527832031,54.195934295654297,null,null,{"$f":"R993+S993","v":4714.4050220228974}]
[null,"2003-07-31",3670.6734031066198,16636.035863727506,0,0,0,9602.4897806552181,10253.244140625,2921.4389598584526,9570.9718940992716,9259.635986792382,680.63557476942617,4847.9767615439605,24859.118517629209,-10993.789380520786,9907.0643381579739,4018.3865503845345,6918.7235568974229,6680,0,78.953643798828125,51.955043792724609,null,null,{"$f":"R994+S994","v":10937.110107281958}]
[null,"2003-08-31",3334.7049837286027,10459.88921791766,0,0,0,5629.990736705673,6950.96435546875,2489.9493547277239,7186.671556552059,9068.1776244348075,634.1376799201671,1485.0274019561327,17763.208701839478,-10378.855209922229,5281.8802775581626,4191.7888528442472,6680,6680,0,85.760993957519531,52.269100189208984,null,null,{"$f":"R995+S995","v":10871.788852844247}]
[null,"2003-09-30",3107.4614037941337,10438.859710721697,0,0,0,9185.9660406325384,10059.4404296875,2013.1709768790163,8296.4008186933224,10452.320083269518,521.46470668972654,2324.3934203420258,22694.536293956735,-8853.6910491520903,12375.000000000087,3253.6244111390702,6680,6680,0,78.368362426757813,51.097572326660156,null,null,{"$f":"R996+S996","v":9933.6244111390697}]

{"sheet":"ALTA2 PEA","index":9,"n_rows":996,"n_cols":26,"rows_kept":996,"cut":false,"hidden":false,"merged":[]}
["Part A:"," ","CALSIM","CALSIM","CALSIM","CALSIM","CALSIM","CALSIM","CALSIM","CALSIM","CALSIM","CALSIM","CALSIM","CALSIM","CALSIM","CALSIM","CALSIM","CALSIM","CALSIM","CALSIM","CALSIM","QUAL8.0.6","SACRAMENTO",null,null,"CALCULATED"]
["Part B:"," ","S4","C109","NODOS_STOR","C17601","C17604","C129","C134","S6","C203","C223","S8","C303","C169","C408","C406","D418","D419","D419_SWP","D419_CVP","X2_EOM","BLW CLEAR CREEK",null,null,"D418+D419"]
["Part C:"," ","STORAGE","FLOW-CHANNEL","STORAGE","FLOW-CHANNEL","FLOW-CHANNEL","FLOW-CHANNEL","FLOW-CHANNEL","STORAGE","FLOW-CHANNEL","FLOW-CHANNEL","STORAGE","FLOW-CHANNEL","FLOW-CHANNEL","FLOW-CHANNEL","FLOW-CHANNEL","FLOW-DELIVERY","FLOW-DELIVERY","FLOW-DELIVERY","FLOW-DELIVERY","X2-POSITION","TEMP",null,null,"FLOW-DELIVERY"]
["Part D:"," "]
["Part E:"," ","1MON","1MON","1MON","1MON","1MON","1MON","1MON","1MON","1MON","1MON","1MON","1MON","1MON","1MON","1MON","1MON","1MON","1MON","1MON","1MON","1MON",null,null,"1MON"]
["Part F:"," ","2020D09E                        ","2020D09E                        ","2020D09E                        ","2020D09E                        ","2020D09E                        ","2020D09E                        ","2020D09E                        ","2020D09E                        ","2020D09E                        ","2020D09E                        ","2020D09E                        ","2020D09E                        ","2020D09E                        ","2020D09E                        ","2020D09E                        ","2020D09E                        ","2020D09E                        ","2020D09E                        ","2020D09E                        ","SPJPA_ALTA2_092020+FROM-ALL","R2019",null,null,"2020D09E"]
["Start Date:"," ","1921-10-31","1921-10-31","1921-10-31","1921-10-31","1921-10-31","1921-10-31","1921-10-31","1921-10-31","1921-10-31","1921-10-31","1921-10-31","1921-10-31","1921-10-31","1921-10-31","1921-10-31","1921-10-31","1921-10-31","1921-10-31","1921-10-31","1921-10-31","00:00:00",null,null,"1921-10-31"]
["Start Time:"," ",2400,2400,2400,2400,2400,2400,2400,2400,2400,2400,2400,2400,2400,2400,2400,2400,2400,2400,2400,2400,7975,null,null,2400]
["End Date:"," ","2003-09-30","2003-09-30","2003-09-30","2003-09-30","2003-09-30","2003-09-30","2003-09-30","2003-09-30","2003-09-30","2003-09-30","2003-09-30","2003-09-30","2003-09-30","2003-09-30","2003-09-30","2003-09-30","2003-09-30","2003-09-30","2003-09-30","2003-09-30","1906-07-27",null,null,"2003-09-30"]
["End Time:",null,2400,2400,2400,2400,2400,2400,2400,2400,2400,2400,2400,2400,2400,2400,2400,2400,2400,2400,2400,2400,37894,null,null,2400]
["Units:"," ","TAF     ","CFS     ","TAF     ","CFS     ","CFS     ","CFS     ","CFS     ","TAF     ","CFS     ","CFS     ","TAF     ","CFS     ","CFS     ","CFS     ","CFS     ","CFS     ","CFS     ","CFS     ","CFS     ","KM      ","DEGF    ",null,null,"CFS"]
["Data Type:","Index","PER-AVER","PER-AVER","PER-AVER","PER-AVER","PER-AVER","PER-AVER","PER-AVER","PER-AVER","PER-AVER","PER-AVER","PER-AVER","PER-AVER","PER-AVER","PER-AVER","PER-AVER","PER-AVER","PER-AVER","PER-AVER","PER-AVER"]
[" ","1921-10-31",2750.7296958034658,7385.4790576108917,1003.7182298671529,0,290.32258064515145,5488.723392163778,5613.20556640625,2289.1246865196581,3999.9999999999754,5130.7312030500034,468.77157370609353,1676.710839461964,13098.471592261225,-8532.5473528464718,4000,3862.0944501897329,6484.149700016188,4685.9740828695212,1798.1756171466668,88.811225891113281,-901,null,null,{"$f":"R13+S13","v":10346.244150205921}]
[" ","1921-11-30",2725.8433373406097,6010.1627573766918,985.03089505917831,0,308.36925493560648,4897.3934473713452,5136.24462890625,2184.7133735484626,2500.0000000000709,2885.0858837941528,422.67946816983675,1850.0922164687213,10936.753957720892,-6565.6369115520756,4500.0000000000873,3903.8835796355911,4052.7155416604651,3759.7192347920209,292.99630686844438,89.729103088378906,-901,null,null,{"$f":"R14+S14","v":7956.5991212960562}]
[" ","1921-12-31",2896.581186912817,6640.7422729478694,1152.484381837201,2660.4627745537728,0,6459.9942405719703,7405.46923828125,2132.2586722244273,3227.7221024923474,1700,449.93481713794131,1933.3054729478163,14201.844857776767,-9482.7353986722774,6345.2536421892437,4600,7201.1579980203396,7201.1579980203378,0,86.94903564453125,-901,null,null,{"$f":"R15+S15","v":11801.157998020339}]
[" ","1922-01-31",3038.6115578749614,4721.313541121659,1152.9656705196758,0,0,6972.7106685962317,7591.0302734375,2231.7934346398588,1700,4411.1152327098625,471.71528105067983,1281.696568698145,14485.613538028345,-5225.8064516129034,12544.607734947382,4428.5015123220364,2952.3343415480263,2952.3343415480263,0,77.768592834472656,45.904506683349609,null,null,{"$f":"R16+S16","v":7380.8358538700631}]
[" ","1922-02-28",3465.2289487673206,9453.0871611521052,1185.4198709187094,514.55716589336737,0,15880.316439315544,15915.5185546875,2568.0122017688323,1700,3746.5957108638772,567,4645.301423431164,28986.700903597441,-4464.2857142857147,36288.049313395692,4600,3676.411609351333,3676.4116093513335,0,55.640480041503906,45.62750244140625,null,null,{"$f":"R17+S17","v":8276.411609351333}]
[" ","1922-03-31",3910.9058415634713,6745.7983794951433,1199.119717554428,250.38763877450941,0,9689.1675172660744,10224.904296875,2865.2693846271686,1700,8986.5005919179075,662,3627.3901050564846,24546.789820304439,-3258.0645161290322,27297.10914502426,3982.4765953913857,3815.0698236246199,3815.0698236246199,0,60.817390441894531,47.697174072265625,null,null,{"$f":"R18+S18","v":7797.5464190160055}]
[" ","1922-04-30",4523.9804038846278,6410.0244525137477,1198.5182224943478,49.337271193197914,0,9045.3579098718128,10399.5478515625,3407.0548905009446,1000,10317.473619177495,792,3640.3856881127472,24814.885130166778,-3500,26568.842450442298,2798.4720446507181,5435.5700635110061,5435.5700635110061,0,61.210750579833984,51.521087646484375,null,null,{"$f":"R19+S19","v":8234.0421081617242}]
[" ","1922-05-31",4552,12637.563282131479,1224.4319611778242,519.81717876814037,0,8048.0429852197631,9870.0029296875,3538,16138.981675885223,29882.31722450853,967,7809.9205675033772,48478.519612026328,-3500,51836.669660137894,4322.8343844537467,2881.8895896358308,2881.8895896358308,0,54,52.236362457275391,null,null,{"$f":"R20+S20","v":7204.7239740895775}]
[" ","1922-06-30",4281.3116003564601,11092.769690038782,1221.356371595564,130,42.013888891666667,5001.62841796875,6734.9375,3538,6518.5430730118242,18948.898798048031,967,6829.9486032332397,33070.26798831499,-5000,34867.782535363425,4599.9999999999818,6048.0994344368082,6048.0994344368082,0,57.745838165283203,52.702003479003906,null,null,{"$f":"R21+S21","v":10648.09943443679}]
[" ","1922-07-31",3910.5996992906403,11043.366268290594,1166.379289722433,0,734.6446559786649,4589.4470138546803,5956.060546875,3079.5981021890707,8371.3620670265846,10434.958652456773,942.00000000000011,1761.0338815838763,18616.753774258021,-9699.2011626511703,8000,4600,7004.9017250857196,6680,0,79.248672485351563,52.462860107421875,null,null,{"$f":"R22+S22","v":11604.90172508572}]
[" ","1922-08-31",3554.0297370693802,10512.614738125876,1126.6920175253088,0,509.63454767922701,4518.2434768676849,5561.07177734375,2633.0923134733948,7883.4080283427202,8785.6946493654414,792,2977.5233829147896,17846.115575851567,-10260.970818359718,6972.1369694970963,4600,6680,6680,0,83.501152038574219,51.809783935546875,null,null,{"$f":"R23+S23","v":11280}]
[" ","1922-09-30",3399.9999999999995,7394.1540192680031,1088.0653842842562,0,534.85708815796966,5416.85479961284,6057.38671875,2164.7901948185208,8423.9334189813417,10548.576742388135,701.98034648479984,1955.8965970644831,19298.659759624934,-6188.3878100482107,13090.83333336,800,6680,6680,0,75.414085388183594,51.159080505371094,null,null,{"$f":"R24+S24","v":7480}]
[" ","1922-10-31",3250,7449.2026200122782,1056.7434843626504,0,489.14261219400117,6906.1384206456896,7052.7744140625,1982.4068066175535,4000,4003.6412981504841,657.1466175599661,1348.3265660858431,13412.274661470785,-5698.4829037404943,8046.5725806709679,3818.6945259470008,3659.856446603108,3659.856446603108,0,78.840736389160156,51.938674926757813,null,null,{"$f":"R25+S25","v":7478.5509725501088}]
[" ","1922-11-30",3252.0000000000005,6013.4948055553959,1103.9606738109931,756.74440014603147,0,5416.5896681780987,6211.1572265625,1930.0920162205973,1700,1733.705062708462,567,3522.2302094825923,13758.071172840271,-9137.4742439548827,5266.5530021016275,4600,6680,6680,0,84.596931457519531,53.386791229248047,null,null,{"$f":"R26+S26","v":11280}]
[" ","1922-12-31",3369,8713.7572178122755,1107.0138596684762,0,26.997311829741932,14089.136953681964,15813.728515625,1950.0917208351266,3795.7719098099797,1700,567,6906.249137585819,27493.776188592412,-5290.322580645161,30995.04935218981,4599.99999999999,3467.7025551718743,3467.7025551718743,0,60.181789398193359,50.772670745849609,null,null,{"$f":"R27+S27","v":8067.7025551718643}]
[" ","1923-01-31",3589.9597657034074,7264.6050691979217,1133.5514446203445,413.12576978221421,0,10129.780182367687,10605.65625,2168.920924997853,1700,8445.4521183932375,567,4455.1164904810066,24700.062011400638,-5225.8064516129034,26126.035559819044,4600,4693.5377421836583,4693.5377421836583,0,62.634387969970703,47.258625030517578,null,null,{"$f":"R28+S28","v":9293.5377421836583}]
[" ","1923-02-28",3674.6432962641884,6213.5271667158922,1124.6108013415328,0,146.11554919700478,8220.0861729446642,8941.4140625,2228.6380955671812,2624.5264040396587,3109.2573678253943,567.00000000000011,2641.6365389569673,18346.608288474206,-5250,16321.429,4600,3978.8064456723332,3978.8064456723332,0,67.83294677734375,47.306034088134766,null,null,{"$f":"R29+S29","v":8578.8064456723332}]
[" ","1923-03-31",3810.6007407233906,4160.1015893998883,1121.4937792273763,0,5.649035689714097,5329.3478526769195,5744.1044921875,2419.3016163954203,1700,3292.805709684153,652.15041429906194,1559.0699140643071,11119.009126881649,-3370.1286951124812,9817.7655321739076,3852.4863981245867,2074.4157528363171,2074.4157528363171,0,76.882240295410156,50.817832946777344,null,null,{"$f":"R30+S30","v":5926.9021509609038}]
[" ","1923-04-30",4262.0412948910143,6680.0102390177508,1136.4277886804434,298.80205791562366,28.331710720121265,8399.4416953966083,9660.1826171875,2777.3283952927668,1000,9003.4407394944428,792,4530.7519474444816,24720.555451415104,-3500,27242.472909510972,4600,3539.8355433363245,3539.8355433363245,0,61.270175933837891,53.266651153564453,null,null,{"$f":"R31+S31","v":8139.8355433363249}]
[" ","1923-05-31",4008.7458092995516,10552.628713952188,1130.6074878117333,0,0,4164.8641662597638,5669.74755859375,2913.9564790023851,1000,4742.131802966931,967,3445.6822305329747,14364.541860103747,-3500,12338.776678090406,3545.6941895386976,2363.7961263591183,2363.7961263591183,0,74.680946350097656,52.837944030761719,null,null,{"$f":"R32+S32","v":5909.4903158978159}]
[" ","1923-06-30",3631.5541908781693,11783.08062757285,1122.6258764140214,1.1730012981604216E-3,42.013888891666625,4999.9999999999991,6672.06298828125,2807.7255993436006,2324.3299086818138,4713.8907137278111,967,1995.3236647457325,13501.003620267433,-5000,7866.6665000000212,3848.7738868369756,1983.3879853255762,1983.3879853255762,0,81.403076171875,52.085235595703125,null,null,{"$f":"R33+S33","v":5832.1618721625518}]
[" ","1923-07-31",3265.7346751064924,11077.186077204873,1009.3306817909738,0,1697.009752174122,5243.3676636803521,7349.78076171875,2396.131531059526,5693.9159992922523,6024.2092090066326,768.2185362375759,4355.7982574181115,19057.621389808359,-9885.6171539390016,6693.3025097307855,3736.9792088957811,7057.2700046590753,6680,0,84.858306884765625,52.229915618896484,null,null,{"$f":"R34+S34","v":10794.249213554856}]
[" ","1923-08-31",2950.0237001882892,9971.5194971763995,909.59203655322585,0,1499.2433090357492,4551.0263378424388,6629.32080078125,1976.1198952975296,6137.9319064180436,6733.2440172543238,686.20229031808412,1804.2500707120923,15734.069821372286,-10134.591671750815,4486.0386563332086,3865.2384261759516,7242.2889784987419,6680,0,88.012985229492188,51.861663818359375,null,null,{"$f":"R35+S35","v":11107.527404674693}]
[" ","1923-09-30",2938.3081118737146,5161.9047337507427,901.44918841664139,0,65.93747204657663,4248.2486925250168,4910.97412109375,1801.9052556260729,3282.9699626974902,4711.5509127404857,520.31269089030616,3423.2824867910726,13996.664620911521,-9341.7309142282538,4328.7639929906381,4492.1457558018365,6697.5187794363974,5214.5954673315418,1465.4045326684582,88.2684326171875,52.946075439453125,null,null,{"$f":"R36+S36","v":11189.664535238233}]
[" ","1923-10-31",2873.1493078133749,6143.4409664950144,878.09102735557713,0,338.8934058035918,5224.8935386901294,5301.521484375,1595.7997437963647,2705.5595282684762,3126.0781385013315,466.46854048656246,1319.6677418464462,10672.006164171633,-6702.619388135372,4153.3824650501783,3412.2790960625475,5176.5408320110619,3632.0454216002017,153.38246505019319,90.449356079101563,52.038570404052734,null,null,{"$f":"R37+S37","v":8588.8199280736098}]
[" ","1923-11-30",2782.1750240733841,6204.6794664046665,856.11014766306653,0,347.39186801580473,4755.1358599083651,4976.5869140625,1367.8827167082645,2468.7627025995362,2791.7670037459684,412.53108566305178,1835.712672601928,10359.597782959283,-6110.5434823011874,4575.927799443105,3233.2176190046421,4371.7799457584288,3433.7519870301721,0,89.581123352050781,54.179294586181641,null,null,{"$f":"R38+S38","v":7604.9975647630708}]
[" ","1923-12-31",2645.1702338998043,6733.1299146973533,839.57226917315631,0,269.5848612459306,6588.9106217817734,6986.86767578125,1186.8210554203195,2462.0324669888532,2405.1507582417789,359.51922413593246,1838.948699608676,12118.544473877566,-7129.8199442314326,4854.9520607653194,4600,4082.3607922472984,3489.3853046488025,0,88.187850952148438,51.607677459716797,null,null,{"$f":"R39+S39","v":8682.3607922472984}]
[" ","1924-01-31",2736.7759997853032,4397.6675945186089,841.13752494551932,0,0,5198.9740356345419,5432.8505859375,1206.1933692575931,1700,4168.5527578187457,309.56625536687335,1251.49777636419,12071.859952566436,-5000,7977.4413110569112,3907.0756960869585,2604.7171307246426,2604.7171307246426,0,84.389389038085938,48.475208282470703,null,null,{"$f":"R40+S40","v":6511.7928268116011}]
[" ","1924-02-29",2943.895572678864,5339.6822339771434,850.13316694704292,152.69323214576258,0,7491.9898528923386,8292.302734375,1385.9542100411102,1700,2921.1480120374958,312.62440452063981,1274.282354536592,17388.766639523874,-5000,13419.493503344844,3883.951181296175,2589.3007875307799,2589.3007875307799,0,75.391555786132813,48.979534149169922,null,null,{"$f":"R41+S41","v":6473.2519688269549}]
[" ","1924-03-31",2759.6289597871182,7529.0046014004711,845.83449645036376,0,50.298544595753178,7598.3238941611407,7873.20654296875,1392.5082671657638,2375.8224802150658,2431.2056009958701,285.62004336924582,785.85724916096478,11931.452596488201,-2961.954540237859,9525.8070000000007,3933.1265421372082,300,300,0,79.372169494628906,48.681961059570313,null,null,{"$f":"R42+S42","v":4233.1265421372082}]
[" ","1924-04-30",2657.3165642037388,5727.2948614760935,822.23834437573919,0,335.51726750866396,4022.6459785942193,4838.0576171875,1381.0943088906156,1374.7635839243533,2151.8735373169329,280.67482256548658,781.49512839308977,8031.9408634094852,-1463.6075039303551,5825,1667.3057150819907,308.28742311156475,308.28742311156475,0,84.914375305175781,51.080310821533203,null,null,{"$f":"R43+S43","v":1975.5931381935554}]
[" ","1924-05-31",2307.2185331952796,8969.1265554710062,792.66711122118613,0,386.48116402169421,3271.5798282623291,3812.63720703125,1264.4580708113094,2574.6771767561427,2847.6026860272277,266.17969880627226,776.81667999255978,7584.4999961003641,-1812.7803202822224,4000,1777.1076539996639,300,300,0,90.344757080078125,53.895519256591797,null,null,{"$f":"R44+S44","v":2077.1076539996639}]
[" ","1924-06-30",1842.8512850236625,10887.45503379328,763.37639945936712,0,378.85294144625743,4987.9845819710827,5777.55419921875,993.4195795132772,4868.0822097034124,4425.2654320807669,249.43285635859027,303.55702761809016,10660.189476049141,-2488.9326593303463,5614.933340665214,1643.4187222093549,300,300,0,86.883544921875,55.450592041015625,null,null,{"$f":"R45+S45","v":1943.4187222093549}]
[" ","1924-07-31",1462.3854584232931,10019.207420460922,613.69028250945246,0,2316.9304043513944,5266.113668615073,6925.45703125,715.70662672494996,4302.9892549410724,3871.2296411088755,232.77965128808742,316.34012034328259,11919.470783374527,-4535.9319635956381,4867.3364397011437,800,3372.9685208686988,300,802.40283767668404,88.985588073730469,53.522525787353516,null,null,{"$f":"R46+S46","v":4172.9685208686988}]
[" ","1924-08-31",1219.4536279222286,7875.8157851837841,475.57433473237688,0,2154.3868254520189,4242.5039839817609,5760.50341796875,575.56945258406904,2605.346133632208,2369.9708671608214,216.84281569974823,332.38240760276119,8713.4415093093885,-3774.0340824830764,3354.5868723485391,1240.7594471666544,2432.1855926710514,300,0,92.500175476074219,52.979450225830078,null,null,{"$f":"R47+S47","v":3672.9450398377057}]
[" ","1924-09-30",1120.5678342066424,6151.7264696488874,385.62033517920406,0,1446.1839770325967,4851.0162852055655,6029.4384765625,511.47931784433399,1783.9358231338929,1654.5747360286928,199.88882808181469,359.92774738984701,8290.7727367057214,-4261.1875637457888,3167.3322649211632,2943.1175490884389,2028.3200251107305,477.00564184148379,0,92.852134704589844,55.5228271484375,null,null,{"$f":"R48+S48","v":4971.4375741991698}]
[" ","1924-10-31",1138.3021508671263,4577.4392902750587,317.39867620495403,0,1111.9962987069318,3820.9621197518595,4993.62841796875,518.87224637714701,899.99999999996101,1348.7856283175688,205.68407382075438,521.66742829234522,8206.1113435700645,-4732.8362890188946,3372.9046177468235,2641.7775609622308,3362.9386777529953,2268.4354475721566,0,93.969268798828125,57.440231323242188,null,null,{"$f":"R49+S49","v":6004.7162387152257}]
[" ","1924-11-30",1292.4602264830664,5434.4900943673665,249.17854900037452,0,1147.7013963556001,4812.1441699047955,5894.74365234375,499.12892847004008,1999.0364250134223,2378.5147406337842,239.10879034230115,485.95879826322016,9566.0864918547359,-3367.0527318706845,6421.8875468997458,1072.606076941282,3427.7206487520748,2734.040953575749,0,90.135948181152344,53.908977508544922,null,null,{"$f":"R50+S50","v":4500.3267256933568}]
[" ","1924-12-31",1406.7047288668209,5627.3074329898891,251.23852342328163,0,7.9465169748598867E-6,7496.0287941077622,8860.36328125,559.98441626720069,981.68589603060195,900,299.07963882149693,500.00000000000006,12651.334813755195,-8359.171687539143,5506.6740682529362,4600,5458.202877378093,5458.202877378093,0,87.669059753417969,49.187618255615234,null,null,{"$f":"R51+S51","v":10058.202877378093}]
[" ","1925-01-31",1739.5893823099368,4979.2946452545248,251.24114440834438,0,0,6025.2393371379385,6352.2314453125,696.42924620905228,900,4575.2162018761146,339.54175801816717,427.2025603111918,11985.917044262431,-5225.8064516129034,8081.472133750005,3938.4733280137925,2790.8097669811059,2790.8097669811059,0,82.484642028808594,47.027381896972656,null,null,{"$f":"R52+S52","v":6729.2830949948984}]
[" ","1925-02-28",2939.7405186029127,23112.998387442152,425.46870416901845,3080.3571428571431,0,24769.297458592111,24804.5,1310.8346937703611,900,11109.267963789991,567,4237.5293838312527,49476.687379419658,-4464.2857142857147,65175.222550561404,3924.7326193743224,2616.488412916216,2616.488412916216,0,54,46.959770202636719,null,null,{"$f":"R53+S53","v":6541.2210322905385}]
[" ","1925-03-31",3314.1485204917872,6243.4949016234823,485.10626077616888,975.80645167741943,0,6755.9403729742535,7365.7626953125,1554.2168990316663,800,5576.4260552761243,656,2255.8727891925155,16367.815439984442,-3258.0645161290322,14790.443004268565,2986.9964228446706,1991.3309485631125,1991.3309485631125,0,69.517005920410156,48.530723571777344,null,null,{"$f":"R54+S54","v":4978.3273714077832}]
[" ","1925-04-30",4018.4284879384854,8782.0555679985846,532.02413785765509,814.8535314955102,0,12555.607891331472,13981.35546875,1837.36254898738,750,5340.4509328746899,792,4369.1845347195585,24742.761081800629,-3500,26372.76567881765,4379.1771767944128,2919.451451196277,2919.451451196277,0,60.329982757568359,51.001438140869141,null,null,{"$f":"R55+S55","v":7298.6286279906899}]
[" ","1925-05-31",4160.1106341692575,7636.5578848014175,529.30832765377318,0,0,4456.4917602539063,5351.43310546875,1979.7580422654944,750,2826.9365467328639,967,3023.1977526899364,12415.656638040609,-3500,11485.738825035789,3962.360230710095,2388.4015950519401,2388.4015950519401,0,72.461311340332031,54.092166900634766,null,null,{"$f":"R56+S56","v":6350.7618257620352}]
[" ","1925-06-30",3936.1696733202625,9968.2534999285035,509.00988562477494,0,254.43117951840742,4678.1327991530106,5927.70849609375,1857.461415378702,2316.6758880994548,3586.0344444877774,804.35663653469135,4234.5281300469424,12707.778219835815,-3568.0644722804063,7754.1665000000003,3543.2613514481418,300,300,0,78.565284729003906,54.671672821044922,null,null,{"$f":"R57+S57","v":3843.2613514481418}]
[" ","1925-07-31",3384.3477271230154,12902.639897918856,452.46716866488777,125.80645161290323,940.65860215322584,6993.1989133468478,8002.3525390625,1770.369085918308,750,1006.5419790708484,660.51289968517915,2971.5061583339839,13558.514767668363,-5844.2306468986244,4886.1372600030136,3316.4019127202828,2347.6401874680205,329.28364950646852,1365.2018113657887,85.711418151855469,52.916225433349609,null,null,{"$f":"R58+S58","v":5664.0421001883033}]
[" ","1925-08-31",3063.3932939325487,9596.2923636234627,330.41869107580357,0,1906.1638603778101,4970.8562051773552,6633.830078125,1704.7365172824871,845.76609723857314,1713.5982878507725,563.80793548586644,1949.2186511956727,10924.849274473947,-5934.8212265767834,3611.7546429180234,4158.7927251485244,2046.3238035963006,300,0,90.8740234375,52.080211639404297,null,null,{"$f":"R59+S59","v":6205.1165287448248}]
[" ","1925-09-30",2941.4760849908089,6182.2012349769193,293.18227219871977,0,582.82760683407207,4594.4250371322541,5192.90625,1635.0735449728168,1248.9779804904865,2827.914578765809,514.28904506952802,1543.2000676667521,10209.400434790316,-6507.0572227600533,3403.3333333599999,4600,3127.1233490034356,2582.6008105242036,0,91.962234497070313,51.949909210205078,null,null,{"$f":"R60+S60","v":7727.1233490034356}]
[" ","1925-10-31",2836.694452340751,6058.5015748298893,274.76203153183502,0,274.23904312372156,4679.9885200678509,4775.7158203125,1425.8705839586291,2394.9322469390818,2978.5353854401901,461.67511375318799,1328.6385842540194,9817.8588598210627,-5555.6356187182937,4329.7625313063836,3284.9037147421786,3854.2076195162035,2350.1820543972349,0,92.388572692871094,54.204174041748047,null,null,{"$f":"R61+S61","v":7139.1113342583822}]
[" ","1925-11-30",2774.9306571428383,5939.8792826032186,274.55030916444821,0,0,4650.6291969043195,4950.35595703125,1263.6768095109785,2142.4340889062341,2475.4116150356431,421.29316966580677,1851.5320738357061,10134.924968346419,-5974.2395995864354,4868.8933651161406,3550.7680037208133,3962.6656421767548,3024.1750321844561,0,91.34954833984375,53.487007141113281,null,null,{"$f":"R62+S62","v":7513.4336458975686}]
[" ","1925-12-31",2799.2915180740538,5358.9067962640274,274.82744702240467,0,0,5471.6153112836282,5952.2724609375,1165.9983835035414,2117.4714716870608,1372.1906950939685,409.7254174548458,1860.0926133427881,10146.580934573922,-4864.6626892650002,5435.2775858046798,2837.0664639364577,3333.0686108946588,3297.6959356732323,0,90.416358947753906,50.427520751953125,null,null,{"$f":"R63+S63","v":6170.1350748311161}]
[" ","1926-01-31",2836.6307669049279,6709.5100331292342,355.6966757988389,1281.3457599897356,0,7129.1037281810759,7810.87548828125,1279.6147936067055,900,5335.6183085458788,385.20553432645164,1258.0031416057318,16100.986102042683,-5000,12905.778332885442,3861.7246252052655,2574.4830834701788,2574.4830834701788,0,80.6317138671875,47.2457275390625,null,null,{"$f":"R64+S64","v":6436.2077086754443}]
[" ","1926-02-28",3579.2729918976224,15169.021058441685,430.26613160718233,1303.3075118247966,0,21497.637127253536,21532.837890625,1739.713937161094,900,5607.6569971616509,524.68240390543258,1340.7001734153737,35170.655126520986,-4464.2857142857147,43316.004178934934,3676.4788649334878,2450.9859099556561,2450.9859099556561,0,54.215091705322266,47.152870178222656,null,null,{"$f":"R65+S65","v":6127.4647748891439}]
[" ","1926-03-31",3625.2852698394213,7443.4603788672857,413.16942709574784,0,246.56529058819865,8191.7429756685997,8771.0322265625,1994.8340520833215,1332.8412112930689,3934.6156418384644,542.58000495041392,1987.3915269063614,15594.616066304452,-3258.0645161290322,12912.903,4264.0243454373094,300,300,0,71.465347290039063,50.141658782958984,null,null,{"$f":"R66+S66","v":4564.0243454373094}]
[" ","1926-04-30",3945.4732038777897,7816.7524854246394,436.26535001635659,418.92581854980085,27.428384428777356,8916.6798032511706,10286.169921875,2621.3685655787167,749.99999999992133,6321.537275414963,792,1262.1066762319961,20245.277154621323,-2660.6622468109545,23667.221128786961,2990.1945892721719,1993.4630595147814,1993.4630595147814,0,63.740932464599609,54.623470306396484,null,null,{"$f":"R67+S67","v":4983.6576487869534}]
[" ","1926-05-31",3676.2265129133139,10161.097619885897,418.83215097449238,0,222.42420965663425,5708.6560692510047,6284.46533203125,2443.8628612265975,4566.013540634548,7023.256958246473,757.15040166043207,1699.5255167104683,14658.720445650508,-2994.2524232175806,11186.692999999999,2429.1124026106522,1686.1395213548781,1686.1395213548781,0,77.648643493652344,55.225433349609375,null,null,{"$f":"R68+S68","v":4115.2519239655303}]
[" ","1926-06-30",3228.9711092128205,11382.298995064588,418.60806062932596,129.99999999999955,42.013888891666667,4999.9999999999991,5916.97802734375,2047.3042775918773,5903.9156290019355,6029.5089246874404,652.25243442598821,1516.7055731866594,13271.612126498898,-5000,5000,2048.5044870714055,2659.0774408561001,2659.0774408561001,0,84.823371887207031,52.464458465576172,null,null,{"$f":"R69+S69","v":4707.5819279275056}]
[" ","1926-07-31",2793.6100929654681,11172.475382977969,289.63184809864299,0,2009.1670047402858,6205.9278810664418,8008.158203125,1596.0152480698459,6104.7782005158851,5914.9889748742808,490.4569366879121,1749.9999999999982,16671.028242923123,-8369.5883545653596,5000,1621.6397911381796,6449.342749287257,4339.847689500154,830.78796314480121,87.144073486328125,52.426040649414063,null,null,{"$f":"R70+S70","v":8070.982540425437}]
[" ","1926-08-31",2541.9892147951418,8753.3864499663869,190.71767728856619,0,1546.7712770458606,4604.2957521485323,5992.599609375,1502.0358494368652,1500.9804534701398,1571.9891787905049,405.63394847356756,1312.6677407446371,9149.0132655425568,-3743.9024838358455,3807.5830875881534,2186.269765392437,1456.1966709520996,300,0,91.229316711425781,52.464351654052734,null,null,{"$f":"R71+S71","v":3642.4664363445363}]
[" ","1926-09-30",2471.6767650258375,4846.112340872236,179.86516644557656,0,142.43555233514462,3821.9634887370948,4280.06982421875,1334.414205825314,2115.753178956486,3724.1896174013709,358.55064499024729,1359.3965324283067,9850.4732365302152,-5651.2600146452642,3292.7372327905655,3143.6687790956498,3433.6293652597383,2581.7163882071727,0,91.465682983398438,53.023605346679688,null,null,{"$f":"R72+S72","v":6577.2981443553881}]
[" ","1926-10-31",2376.5665676945414,5875.6887875741786,175.95700363503036,0,45.306503883751446,4946.1437200274358,4946.80126953125,1155.5898457657545,2309.6442199449593,2799.0480087955602,358.73662249333341,617.8624974674608,9399.943113674728,-4443.2538755698042,4950.1368184757812,2670.1823111790181,2964.5552789590793,2426.6722585453663,0,89.518562316894531,54.556922912597656,null,null,{"$f":"R73+S73","v":5634.7375901380974}]
[" ","1926-11-30",2840.7694441212411,7548.1914241777686,245.26797401211894,1138.0389683363842,0,9251.6958310898408,10360.5234375,1375.6629893681138,900,4569.040392430953,542.12409510265661,705.95697627636048,19077.278935634968,-9339.0218700834303,11514.100922409913,4600,6680,6680,0,76.879867553710938,53.899757385253906,null,null,{"$f":"R74+S74","v":11280}]
[" ","1926-12-31",3342.1011748714436,10798.762292295858,275.14425376424401,470.42901807161593,0,13159.52185260638,14764.8720703125,1285.3030396991344,4076.6487918372522,900,567,2282.8840273691812,19341.136168664088,-5290.322580645161,14738.911252108583,3995.0482714431155,2663.3655142952803,2663.3655142952803,0,70.3800048828125,49.177616119384766,null,null,{"$f":"R75+S75","v":6658.4137857383957}]
[" ","1927-01-31",3668,14010.839557411735,328.29753589873019,845.04585347357386,0,17284.503682183913,17284.50390625,1553.5902994912867,900,10304.608546370877,565,3575.0260072116262,31417.31075652974,-4516.1290322580644,32247.400448304372,3611.8744594713503,2407.9163063142337,2407.9163063142346,0,59.756324768066406,46.498966217041016,null,null,{"$f":"R76+S76","v":6019.790765785584}]
[" ","1927-02-28",3462,49408.619070332104,509.55467067179495,3203.5714285714284,0,26923.781167762325,26958.982421875,2608.506291007011,900,21351.323094425967,553,12892.945378511246,72953.362023067806,-4464.2857142857147,124370.51380821466,4377.181629120365,2918.1210860801521,2918.121086080178,0,54,44.916007995605469,null,null,{"$f":"R77+S77","v":7295.302715200517}]
[" ","1927-03-31",4085.3751557241858,11046.666290203017,671.62924618181205,2654.1289275236782,0,13785.261041104628,15620.5478515625,2999,4148.7351713627559,16021.753176672404,647,4667.2615513348492,36303.525435745229,-3258.0645161290322,38642.110940365172,3286.866049753216,2191.2440331688208,2191.2440331688208,0,56.028793334960938,47.730030059814453,null,null,{"$f":"R78+S78","v":5478.1100829220368}]
[" ","1927-04-30",4552,16483.308562826864,868.64259531631819,3350.066525201697,0,17977.212164121291,17995.4296875,3396,4780.4251037671793,14513.378824382395,792,6878.3137758940102,40458.615591739297,-3500,48104.088371811544,4527.2732060154021,3018.1821373436028,3018.1821373436019,0,54,49.711231231689453,null,null,{"$f":"R79+S79","v":7545.4553433590045}]
[" ","1927-05-31",4552,11315.0203303864,863.86819317821437,0,0,7410.2978851143689,8125.0546875,3538,4032.7245360576908,10598.147397912318,967,3918.9691896414497,24006.120208153443,-3500,22400.889390038206,3300.9321583067403,2200.6214388711696,2200.6214388711696,0,65.963706970214844,52.444419860839844,null,null,{"$f":"R80+S80","v":5501.55359717791}]
[" ","1927-06-30",4343.8061678890563,9812.869585361932,855.50326489270856,0,33.052805213752436,4714.141845703125,5891.32470703125,3538,2024.2781683263288,6958.5526139429494,967,4326.5738292955493,17635.69317465002,-5000,12231.500339026989,3237.813608383371,2158.5424055889148,2158.5424055889148,0,76.050743103027344,52.755939483642578,null,null,{"$f":"R81+S81","v":5396.3560139722858}]
[" ","1927-07-31",3818.6401969552794,13707.009132659839,852.51320697022356,125.80645161290323,40.658602153225807,6611.4157829106543,7677.08935546875,3007.9397471135844,8872.9964837003699,10517.865726600015,819.9200725624712,3392.5061603356362,22235.698314647838,-11180.421243643432,8000,4600,7004.9017250857205,6680,0,81.230148315429688,51.439613342285156,null,null,{"$f":"R82+S82","v":11604.901725085721}]
[" ","1927-08-31",3424.6048310786932,11045.046741843169,815.99983873238523,0,482.6656207212165,4726.1776967924288,5645.146484375,2543.5082269184386,7847.537750765322,8952.0188935142251,681.84193243147729,2705.2399894871614,17910.293211416822,-10386.734277104762,6267.3385806709675,4337.5131559954571,6680,6680,0,83.867599487304688,51.164096832275391,null,null,{"$f":"R83+S83","v":11017.513155995457}]
[" ","1927-09-30",3110.3316777392761,10209.374652232198,780.89845265852773,0,505.61542148936786,8391.0023727507596,8935.0498046875,2066.0902220435614,7726.2770950861113,9440.789640276751,564.0198348348971,2504.5101974113359,21674.000020006344,-8826.4481363403138,12622.08333336,3668.8167626871891,6680,6680,0,75.725021362304688,49.958705902099609,null,null,{"$f":"R84+S84","v":10348.816762687189}]
[" ","1927-10-31",2985.9847073528758,6922.0774284863664,759.58847494669214,4.7075343676576432E-3,313.35391033018618,5667.8806748892812,5712.31201171875,1803.471934472723,3727.3820980128298,4161.9171275655863,517.98342542880721,1339.9751978101162,12007.032226659225,-5405.5485870953926,7031.2500000001146,2850.0358171728994,4339.4241643504674,4339.4241643504674,0,82.680587768554688,51.865619659423828,null,null,{"$f":"R85+S85","v":7189.4599815233669}]
[" ","1927-11-30",3251.9999999999995,6956.0369738047102,787.26230152951075,445.88140454756211,0,7233.7708879758375,7963.5224609375,1855.5354106736536,1700,1735.606477238056,560.08121743192248,1876.8359089717965,13196.182262240927,-9199.1918265855093,4936.4843940909486,4600,6680,6680,0,85.340316772460938,52.662899017333984,null,null,{"$f":"R86+S86","v":11280}]
[" ","1927-12-31",3363,7043.9810814041375,789.73826543694645,0,0,8459.0472107443438,9679.712890625,1773.7166409512179,2745.0932976919994,1700,567.86596997922152,1999.9999999999998,14855.249470524224,-9783.0355781909966,5890.8226593442268,4600,7117.4895065490018,7117.4895065490018,0,84.56768798828125,50.084430694580078,null,null,{"$f":"R87+S87","v":11717.489506549002}]
[" ","1928-01-31",3655.3713514180281,6906.984366002469,816.36741515193046,417.08316790043693,0,9152.3074782477161,10237.5341796875,1912.39076133197,1700,9083.7019429754964,567,1545.555373355068,22143.685604526137,-5225.8064516129034,19250.382052416568,4300.6068259917965,2867.071217327868,2867.071217327868,0,68.34869384765625,47.464691162109375,null,null,{"$f":"R88+S88","v":7167.6780433196645}]
[" ","1928-02-29",4099,10350.091747876762,845.59258653165477,488.93018720417729,0,15770.133981581948,15804.1220703125,2023.058964525856,4402.4968697790446,1700,567,1984.2755130721366,23940.825168036747,-4482.7586206896549,24391.792833320178,3819.6307901379319,2546.4205267586235,2546.4205267586235,0,62.591091156005859,47.114471435546875,null,null,{"$f":"R89+S89","v":6366.0513168965554}]
[" ","1928-03-31",3965,27149.465572862562,1046.4981265291863,3262.8101431785994,0,20467.873389721422,20467.873046875,2797,7322.9235577506615,27444.443792245213,635,12107.749097491493,61221.020228764588,-3258.0645161290322,88728.928472945467,4497.3209869225093,2998.2139912816756,2998.2139912816756,0,54,47.679851531982422,null,null,{"$f":"R90+S90","v":7495.5349782041849}]
[" ","1928-04-30",4552,9043.3568674403596,1089.068789089722,805.69146748452692,40.20218105397079,10661.279773113063,12712.005859375,3232.84471536302,1000.0292839711062,7376.6093631501926,792,3233.9061426061617,23783.260576655939,-3069.1803331167548,25267.960817797415,3805.3466086620588,2536.8977391080393,2536.8977391080393,0,61.933753967285156,52.529689788818359,null,null,{"$f":"R91+S91","v":6342.2443477700981}]
[" ","1928-05-31",4483.2777842077239,8391.2248050016769,1011.9967821734643,0,1145.996334347313,5683.4394775584533,6482.0625,3344.3767497496001,1261.4677703334469,3819.7751433901158,925.8543776105995,1278.4071811438228,11620.213957148955,-3093.2508541193251,8535.4830000000075,3350.7836342201172,1299.6978618274006,1299.6978618274006,0,77.061210632324219,53.790874481201172,null,null,{"$f":"R92+S92","v":4650.4814960475178}]
[" ","1928-06-30",3930.5416382096155,13632.530489682005,1005.1649747041969,130,114.2051409180803,7731.4778696929916,8764.6357421875,3142.1048150653783,3490.1772779929042,4551.0728183140609,802.73316486815816,2137.8639112112992,15504.635028329783,-5000,8258.6590951293529,3317.2973454729668,1786.2370321777848,1786.2370321777848,0,80.07781982421875,52.051155090332031,null,null,{"$f":"R93+S93","v":5103.5343776507516}]
[" ","1928-07-31",3225.8538377066989,16347.679637295871,953.0203471137529,0,710.53432189076977,9556.5513459417525,10993.4453125,2543.8344317859933,9522.0135063937832,9618.0042700475806,549.24753278025264,3480.0931865910447,24732.644799852642,-9741.0866953338409,11380.616697814556,2998.8627337617741,6912.4739612226749,6671.9417645410203,0,78.481369018554688,51.104976654052734,null,null,{"$f":"R94+S94","v":9911.3366949844494}]
[" ","1928-08-31",2795.3953787252535,12854.047037550048,911.46976612678623,3.0231300725634762E-3,554.67888774995356,7030.221226615432,7861.7412109375,2043.7057492538743,7892.2435214297984,8222.2385995191435,485.23212324731566,1543.236495613409,17996.066396322833,-10540.542774488436,5412.0850741476206,4326.4636570376106,6680,6680,0,84.72296142578125,51.121627807617188,null,null,{"$f":"R95+S95","v":11006.46365703761}]
[" ","1928-09-30",2566.5104350087381,11209.108405130273,898.59016673242627,0,122.19497417105072,9643.415071084215,10122.6298828125,1609.9813804320904,7413.6916563294071,9044.066371647712,433.82110770868059,1546.6129052151311,21203.308402243354,-8721.43161076861,11420.674515060426,3409.0699290024231,6541.358445399419,6541.358445399419,0,76.942649841308594,50.423976898193359,null,null,{"$f":"R96+S96","v":9950.428374401843}]
[" ","1928-10-31",2365.3889355277051,7294.5537086991153,892.33277049724688,0,50.371555831622302,5455.352805870928,5457.7197265625,1436.36806405987,1699.9999999998836,2573.0059499023751,372.89454945719126,1325.3974546504028,9952.5157999526309,-3100.3146447622585,7031.25,2329.0788910638457,2180.9253973120208,2180.9253973120208,0,83.538810729980469,51.955295562744141,null,null,{"$f":"R97+S97","v":4510.004288375867}]
[" ","1928-11-30",2289.8986882706149,8744.881888947355,892.25951052557514,0,29.241666668600004,7831.4050024191183,8035.52734375,1298.862268413128,1735.0577110804193,2567.2797351918744,332.02978776736893,1880.1020398705118,13921.369811592123,-9240.3897206420006,5387.61661159902,4593.5608863785938,6680,5269.770582836878,1410.229417163122,88.300880432128906,53.235836029052734,null,null,{"$f":"R98+S98","v":11273.560886378593}]
[" ","1928-12-31",2343.5073379404535,5503.5762543069859,892.31254038672546,0,26.997311829741932,5984.2293223131037,6729.91552734375,1221.0539338982478,1701.3058586115767,2053.955874827795,298.03619604621997,1874.7297070824536,12394.106528809081,-8152.2296898351342,4755.7175329082656,4600,5344.5431844582245,5266.9585607172321,76.278765129365638,88.291023254394531,51.180519104003906,null,null,{"$f":"R99+S99","v":9944.5431844582235}]
[" ","1929-01-31",2607.7955797688569,4815.7653296512526,891.96525897794197,0,0,5656.0895608290512,5926.36376953125,1233.6284170497524,1700,4444.9039232417053,254.78561886773085,1227.1026024585155,12694.002484654577,-5000,8854.1655975480953,3955.214120798033,2636.8094138653596,2636.8094138653596,0,83.048065185546875,47.076713562011719,null,null,{"$f":"R100+S100","v":6592.0235346633926}]
[" ","1929-02-28",2792.9075512355439,8126.3458360747281,906.6774047492612,251.30376157076378,0,9969.0789951445586,10788.970703125,1348.3912763378512,1700,2611.5808906182674,250.73560551166551,1236.2656504571451,18484.547806485913,-5000,14790.36316159434,3939.2123786428001,2626.1415857618513,2626.1415857618522,0,71.840568542480469,47.288951873779297,null,null,{"$f":"R101+S101","v":6565.3539644046514}]
[" ","1929-03-31",2963.8238894903575,4845.3857840246546,904.53460163799616,0,11.874850658469397,5627.4974114255792,6246.4345703125,1485.7800298349757,1700,3741.2255148049494,312.90925137566188,801.4397578262483,11868.396397194665,-3714.9538549520685,8956.7972643940047,3404.1280654581324,1823.568958323609,1823.568958323609,0,79.521194458007813,49.031505584716797,null,null,{"$f":"R102+S102","v":5227.6970237817413}]
[" ","1929-04-30",3141.0941582917235,5422.0201746449702,884.24631075506386,0,297.10017864211954,5479.4103220805709,6154.380859375,1466.3469312006434,1903.0393466585851,2571.0888370104731,389.75422893217194,771.92044530092357,9707.7776118541606,-1975.1966954114446,7964.3750000000873,800,2255.7575826131188,2255.7575826131188,0,81.276222229003906,50.425636291503906,null,null,{"$f":"R103+S103","v":3055.7575826131188}]
[" ","1929-05-31",2907.7783437339831,9703.1270403946182,850.21483940052269,0,465.92230860260429,5200.4262522913859,6081.8203125,1457.9885139865235,2157.3371286695451,2953.2220337534509,487.93233760663105,754.56149291969155,9708.5113325613002,-1642.3054597329096,7100,1887.7494729372934,300,300,0,82.658271789550781,51.362480163574219,null,null,{"$f":"R104+S104","v":2187.7494729372934}]
[" ","1929-06-30",2658.1984438969839,9665.2377438056665,841.24607363567532,0,53.385446991173126,4920.3994057542732,5987.91796875,1304.7646020522729,3200.1375843880437,3630.4936566924107,474.87350327223726,1101.0168321630536,10828.540854895979,-1739.9542718933067,7243.333500000037,1316.4741286094802,300,300,0,81.791465759277344,54.104110717773438,null,null,{"$f":"R105+S105","v":1616.4741286094802}]
[" ","1929-07-31",2414.8205626911326,9003.5618485786435,710.15182557150194,0,2007.6031381331074,4774.4887483167477,6551.14501953125,998.75505653756238,3748.3092533525883,3721.6538727901975,397.83048272667196,1073.5607980968714,11545.324559621067,-4566.2206845290457,4336.3048375574926,815.79438062427641,3347.5386858555707,300,268.06756611205225,87.981727600097656,54.266483306884766,null,null,{"$f":"R106+S106","v":4163.3330664798468}]
[" ","1929-08-31",2016.3660175882205,10386.593224315773,587.83821757207477,0,1883.2578901910442,6809.3751471669475,8440.96875,902.10810222275938,894.12330809066668,965.56040848265957,350.20933071225755,1076.7782121419846,10769.690519155454,-6134.770276035224,3031.3301736692665,4600,1517.8017618639897,300,0,91.844741821289063,51.840072631835938,null,null,{"$f":"R107+S107","v":6117.8017618639897}]
[" ","1929-09-30",1907.7246792362739,5604.7269404636381,503.64567734655924,0,1342.3819883939077,4172.6005554247349,5548.10107421875,840.16551532254857,1353.2663334780857,1607.3740452304983,320.3197944604417,1115.4552643366524,8491.6444411970206,-4654.5276797115202,3225.2741873819723,2860.114596321836,2595.0332677272254,655.46524940924519,0,93.154579162597656,53.385997772216797,null,null,{"$f":"R108+S108","v":5455.1478640490614}]
[" ","1929-10-31",1739.9546839168206,6635.1930854496295,420.25667359260035,0,1313.8250622196117,5389.0093204266659,6375.11279296875,797.46675302108827,1131.0887486815877,1458.3096815859153,310.94269484447136,500,8695.9422900899426,-5108.0305311591565,3233.4195248094343,3693.2016936117393,2681.6169186553784,1132.4152667269686,0,93.595237731933594,55.262001037597656,null,null,{"$f":"R109+S109","v":6374.8186122671177}]
[" ","1929-11-30",1558.2286109971249,6842.8822005757729,338.62888524321295,0,1355.1952353322374,5942.938107497368,6872.27392578125,753.70805270794631,1440.1835846479844,1420.1362076174512,329.89582045503238,500,9200.3299483242154,-3387.7070782604733,5803.9788160002945,2887.2816985295549,1731.6804075194191,612.74111629367894,0,90.204437255859375,54.495246887207031,null,null,{"$f":"R110+S110","v":4618.9621060489735}]
[" ","1929-12-31",2099.7523854261981,7549.9725883517276,340.73588578164095,0,0,11281.019523824971,12634.4873046875,1201.5539377720861,3912.8906809997306,900,508.05590377166419,575.300099982853,17251.206935770497,-5290.322580645161,13031.825465199257,3961.8416659057111,2641.2277772704747,2641.2277772704747,0,79.436958312988281,52.033725738525391,null,null,{"$f":"R111+S111","v":6603.0694431761858}]
[" ","1930-01-31",2299.8846384802309,7337.7109725886312,362.8693971300039,331.54728233386385,0,9285.7179958085726,10472.306640625,1453.5216194918498,900,6536.872616940037,567,1614.5071271205652,20373.174140415431,-5225.8064516129034,17335.002132874779,4118.7191169565931,2745.8127446377275,2745.8127446377275,0,67.833351135253906,47.518966674804688,null,null,{"$f":"R112+S112","v":6864.5318615943206}]
[" ","1930-02-28",2699.5064480126175,8406.4928969543034,378.07522266099994,257.97563281263035,0,13272.772412171715,14220.5068359375,1571.0710940969134,3992.4316794222723,900,567,2406.5559273755121,19774.929190065897,-4464.2857142857147,17405.741775489805,2921.7849668620142,3144.1451901702917,3144.1451901702771,0,66.20220947265625,48.027420043945313,null,null,{"$f":"R113+S113","v":6065.9301570323059}]
[" ","1930-03-31",3192.9304437447508,9633.4927321866708,438.66169576628141,980.00949074792345,0,13826.66598749259,15197.6171875,2033.7858042999972,800,9720.7127514619588,659,2778.0693003945439,29110.663833784991,-3258.0645161290322,30049.530901814924,2048.4650428474333,2740.5672451355613,2740.5672451355613,0,59.336246490478516,49.023189544677734,null,null,{"$f":"R114+S114","v":4789.0322879829946}]
[" ","1930-04-30",3425.7928689643245,5035.1474044423594,432.79334722907214,0,65.235466707277666,5502.0554115773666,6164.939453125,2376.4347001899732,749.99999999984971,5641.1739068660399,792,1419.5049202851837,13610.27844914484,-2066.6255529970167,11997.092962014474,1971.8149358186765,1188.160980220483,1188.160980220483,0,74.893058776855469,51.191844940185547,null,null,{"$f":"R115+S115","v":3159.9759160391595}]
[" ","1930-05-31",3400.8266882003968,7405.7725094140214,419.54946069988142,0,172.29954131710161,3528.3982849121094,4324.71337890625,2515.6813173501369,904.45606083208622,4689.4182603288536,845.90537769620846,865.13863205328244,9939.0305631713982,-2408.5353965084746,7038.7095000001136,2237.0418629758587,761.83386436896762,761.83386436896762,0,84.667289733886719,51.540756225585938,null,null,{"$f":"R116+S116","v":2998.8757273448264}]
[" ","1930-06-30",3064.5423780984679,9677.4906474828495,412.18405565259121,0,42.013888891666667,3335.266761779787,4577.6982421875,2133.7195458876554,6531.8651613526372,8085.7043692190809,738.70537609605128,2353.7521182092551,14853.917527129226,-5000,7100.0000000000873,1482.0118317513595,3336.4616373217114,3336.4616373217114,0,83.486030578613281,52.988822937011719,null,null,{"$f":"R117+S117","v":4818.4734690730711}]
[" ","1930-07-31",2703.9635804589761,9672.9562652856766,287.77009092145335,0,1940.6586021532271,4423.8033340769716,6307.80712890625,1675.9416311549558,6454.8133309583245,6717.9038424599457,589.38877632791093,2021.2178439714871,15699.985046768286,-7979.5971174008628,5000,965.35876612278071,6864.3605238334439,4376.1887331340231,779.32878248656687,86.612564086914063,53.529338836669922,null,null,{"$f":"R118+S118","v":7829.7192899562251}]
[" ","1930-08-31",2420.236405169243,8212.2484927492114,189.66887341381678,0,1531.5619639568331,3815.7637021159194,5492.2392578125,1529.0188290839203,2547.1099386098635,3072.1815567744666,490.35743989086473,1878.8327352037056,10974.80450331328,-4698.1064702815202,4894.9336923867313,2399.9615860670629,2329.2588379841154,300,0,89.200889587402344,52.523517608642578,null,null,{"$f":"R119+S119","v":4729.2204240511783}]
[" ","1930-09-30",2392.2434259147335,4636.8283394048385,180.63492199522153,0,116.27978720354459,3314.7686517957777,3817.6474609375,1431.6061339295611,1284.0136813715628,3214.6031924896561,444.00704800194211,1443.3850393622834,8929.1821375197233,-4799.7629297459316,3538.5151303308403,3262.8293070374698,2488.7956432764458,2463.3050256908732,0,91.491302490234375,53.802459716796875,null,null,{"$f":"R120+S120","v":5751.6249503139152}]
[" ","1930-10-31",2304.8472334463581,5255.9834481592316,179.32629244858069,0,0,4173.6950170502687,4175.5361328125,1310.8424742570778,900,1554.3907370229217,372.38080251717929,1454.3280673184759,7887.4539170824337,-3836.2550072742815,4000,2937.1541704261499,2131.9340409991987,2102.3320334804694,0,90.425331115722656,55.211864471435547,null,null,{"$f":"R121+S121","v":5069.0882114253491}]
[" ","1930-11-30",2217.0267745487185,5670.372720098916,178.98048792103023,0,0,4316.3670805191414,4295.509765625,1220.5102751003558,900,1542.3844650286781,393.77241233778375,914.05140768677086,7798.8317263075733,-3541.3872679708966,4500.0000000000873,2275.3722103867276,2518.3525260132506,2495.5360775118088,0,88.953369140625,54.619094848632813,null,null,{"$f":"R122+S122","v":4793.7247363999777}]
[" ","1930-12-31",2159.2579197064979,4927.6022279638892,178.76023009143705,0,0,4699.7298667995537,4953.888671875,1162.0526598335466,900,1703.3689987486648,386.8010481049696,896.08243251206818,8266.8570597639064,-3710.6712168560862,4500,2576.5519083994909,2284.9149621250299,2271.8240947918493,0,90.32470703125,52.229408264160156,null,null,{"$f":"R123+S123","v":4861.4668705245203}]
[" ","1931-01-31",2236.7950836885498,6796.2052628178444,180.31601961593137,0,0,8465.1399397317182,8974.509765625,1265.6252797740976,900,1648.0562553645927,395.49136498182531,619.04542105460189,13127.600490813256,-5000,9843.2210583793349,3920.3101349026138,2613.540089935078,2613.540089935078,0,83.588050842285156,48.509681701660156,null,null,{"$f":"R124+S124","v":6533.8502248376917}]
[" ","1931-02-28",2320.7071906926976,5397.6953118066831,218.65729647522014,691.89552455843966,0,5453.2523043728243,6032.65478515625,1390.7821938415466,900,2322.1228683966137,404.03018043736324,600.84031578337328,13000.000000000005,-5000,8854.5251207794736,3920.1496791924719,2549.5449681858563,2549.5449681858563,0,80.646347045898438,47.971927642822266,null,null,{"$f":"R125+S125","v":6469.6946473783282}]
[" ","1931-03-31",2483.6167926536982,4415.7206433361134,214.8297258356848,0,45.283243124213207,5273.2722196353416,5561.19482421875,1550.2858688314616,800,1318.9175193865333,469.14469121489373,349.50807579258617,8251.6246436778965,-1415.4943907309362,7377.4194000000134,1251.3738805106677,1118.572868529046,1118.572868529046,0,81.683296203613281,49.760093688964844,null,null,{"$f":"R126+S126","v":2369.9467490397137}]
[" ","1931-04-30",2422.3332167024128,5555.0671874064874,186.52699488068558,0,442.76237186557495,4046.9840709645273,4441.8466796875,1529.093587046375,2338.88434445859,2721.5338348866917,394.98923978725247,2251.8370651796563,9578.3525540564988,-839.53562880165373,7816.6665000001376,800,300,300,0,82.842666625976563,52.515480041503906,null,null,{"$f":"R127+S127","v":1100}]
[" ","1931-05-31",2119.2040799373644,8424.2101776469062,162.02081827239098,0,359.31710590200504,3319.4057464599609,3482.83642578125,1469.3941837342368,2341.0535181905261,2970.6961169398005,429.16323141891701,309.38406060038682,7038.7901272211066,-1554.8885323345253,4000,1648.2759593892945,300,300,0,91.301589965820313,54.944698333740234,null,null,{"$f":"R128+S128","v":1948.2759593892945}]
[" ","1931-06-30",1790.6427338355836,8872.4021007857518,137.29269436061239,0,373.45455017601535,3284.9253997802748,4106.705078125,1291.0973327050453,3568.3587002430445,3667.3242881569886,431.32534792264278,293.59373548767593,8281.1595730208683,-1958.8835314003327,4000.0000000000873,1240.4486300886351,300,300,0,91.514572143554688,56.153289794921875,null,null,{"$f":"R129+S129","v":1540.4486300886351}]
[" ","1931-07-31",1458.5094008675667,8889.1999902444059,100.65404950429443,0,540.81426366783808,3617.3672930874636,4364.02978515625,1002.8210464756743,4351.8020434318305,3935.2570417928532,321.28545704907083,1750,10498.969562146365,-3168.1248479929072,4149.8335182875244,1232.2851544365749,1255.064408460539,300,243.48122471721004,91.642868041992188,54.496189117431641,null,null,{"$f":"R130+S130","v":2487.3495628971141}]
[" ","1931-08-31",1166.8724872368812,8213.6576527170855,95.617005554369769,0,40.658602153225807,3755.1189934388076,4136.07470703125,803.51246152671183,3342.8605999603451,2914.7884541897924,301.87155783249716,255.86257322012301,7641.5986035167034,-1949.1057043123237,3907.9129818736374,1240.4896882356447,302.47449500709115,300,0,91.279937744140625,53.125900268554688,null,null,{"$f":"R131+S131","v":1542.964183242736}]
[" ","1931-09-30",985.52098791607591,5945.7006304541019,93.206881784923539,0,13.469633624242761,4645.2982929901727,4935.3837890625,769.59646795995832,1119.2773295712591,1060.0937833690577,286.05227766051883,314.77458724787647,6598.1804469242306,-2855.026717137569,3000.0000000000873,2906.9360200143465,401.07758629833455,390.19540764660997,0,92.933258056640625,56.026382446289063,null,null,{"$f":"R132+S132","v":3308.0136063126811}]
[" ","1931-10-31",855.44748120114537,5704.8032716683874,92.342710029277399,0,0,4471.3278875502901,4473.69482421875,753.57432248787677,900,1065.7456060849045,250.35992763060136,923.27846068475083,6883.1043154394984,-3575.8197398421071,3000,3458.2440683447139,983.17566311154474,970.53829435470323,0,94.794479370117188,58.989330291748047,null,null,{"$f":"R133+S133","v":4441.4197314562589}]
[" ","1931-11-30",815.96986326975548,4675.1283849160272,92.161923347815048,0,0,4099.6988530243134,4109.5380859375,767.45065908642027,900,943.40423701482689,229.63417821662162,944.78707415611132,6912.6687818962655,-3280.6846112458388,3661.4668708212193,2790.1555804414638,1374.3783539513429,1364.6378026305661,0,92.52154541015625,54.661514282226563,null,null,{"$f":"R134+S134","v":4164.5339343928063}]
[" ","1931-12-31",1004.6073591955935,10090.180421539215,135.20041139083798,664.64362024204183,0,12599.661884448387,14055.673828125,689.03153269004486,4495.2998984939077,900,340.5774335895394,500,18402.76325504648,-9562.367127713449,13552.526378673068,4600,7170.2274401924187,7170.2274401924187,0,76.652107238769531,49.208457946777344,null,null,{"$f":"R135+S135","v":11770.227440192419}]
[" ","1932-01-31",1236.4306478001645,6437.8977262850622,159.63228508633409,391.66212835452438,0,7693.6067072867863,8724.6884765625,891.73245249223351,900,9692.354850302967,455.12224999648038,356.07536668636646,19639.501405163475,-5225.8064516129034,16469.803388680226,4246.9341130227622,2831.2894086818424,2831.2894086818424,0,72.346672058105469,45.355892181396484,null,null,{"$f":"R136+S136","v":7078.2235217046045}]
[" ","1932-02-29",1365.9024611711577,5030.3558966466471,236.30722124220722,1336.3106191998022,0,5485.448550234285,6179.6123046875,1074.7895609770806,900,4311.306442860805,567,3005.4427981769018,15019.100184259851,-4869.9323589287942,14881.188272350384,3480.2349335110857,4701.9691504190923,4701.9691504190923,0,70.983840942382813,44.199661254882813,null,null,{"$f":"R137+S137","v":8182.2040839301781}]
[" ","1932-03-31",1837.6014213003823,4946.5165700384568,235.26320764131043,0,1.8190867349690347,8147.7082995603178,8627.6806640625,1354.8362523248186,2693.2546234909219,750.00000000001432,664,2338.7860480315508,12921.496217035317,-3258.0645161290322,10985.827576962012,1468.0475313359639,3758.6815120903366,3758.6815120903048,0,76.826614379882813,47.694992065429688,null,null,{"$f":"R138+S138","v":5226.7290434263004}]
[" ","1932-04-30",2078.9913180676654,4743.2808833454346,212.50969978183036,0,359.03526900614048,5206.7702444906172,5877.2451171875,1584.5044263047357,1122.2134728757073,2800,792,2314.8668487904197,11302.300215782627,-2977.5990623275279,11153.333000000188,3068.2393684941312,3265.0292911388246,3265.0292911388246,0,75.860298156738281,52.386669158935547,null,null,{"$f":"R139+S139","v":6333.2686596329559}]
[" ","1932-05-31",2234.979945779116,6692.3723725179307,202.37231677574741,0,131.98059384607097,3691.6851196289063,4220.6103515625,1922.5930852354404,750,4001.3329387048807,967,3164.9924962966634,12703.374297560695,-3444.1964976312747,10207.34832506834,3397.0804660454805,2264.7203106969891,2264.7203106969891,0,76.992805480957031,55.012973785400391,null,null,{"$f":"R140+S140","v":5661.8007767424697}]
[" ","1932-06-30",2028.5034154732832,8214.0800059222638,196.41432996717663,0,42.013888891666667,3560.6900939941406,4259.984375,1876.8089407299028,2440.5347579537838,6042.8142870161801,967,3527.1974502864114,14504.673418196928,-2741.5000199476253,9920.00000000008,2492.390164753725,300,300,0,77.969673156738281,56.315589904785156,null,null,{"$f":"R141+S141","v":2792.390164753725}]
[" ","1932-07-31",1710.4766291224234,9142.428602503398,111.35844794579994,0,1326.7552648123465,3923.6186469839886,5153.4169921875,1678.0021107604352,2319.4108126826022,3115.5987761590477,874.3322438711092,2744.9823644381308,11621.634981730213,-3492.5221885621668,5776.4245310708229,1220.8854047649572,2155.2727919930776,332.54553034244373,994.98236443813107,84.369010925292969,54.065105438232422,null,null,{"$f":"R142+S142","v":3376.158196758035}]
[" ","1932-08-31",1423.539655741577,7851.1044099553374,108.75629926693021,0,0,3427.3984197453387,3668.612548828125,1540.9994166636056,2497.5996230144719,3102.131454900777,792,1865.451368845715,10236.092189846429,-5064.7883632307112,3500,3050.2321235093204,2076.3242334534343,1122.7229629048234,0,90.268836975097656,52.715183258056641,null,null,{"$f":"R143+S143","v":5126.5563569627548}]
[" ","1932-09-30",1321.8055085539861,4620.5790546056915,106.68075139382942,0,0,3628.3215506552469,3742.2392578125,1467.8815223713805,773.3333332999764,2598.849439746019,673.43130993821092,2473.2916475361135,9639.6859323857916,-5771.9903337145115,3000.0000000000873,4600,2230.3622911385055,1947.3716529466444,0,92.655052185058594,54.211158752441406,null,null,{"$f":"R144+S144","v":6830.3622911385055}]
[" ","1932-10-31",1235.3222824062129,4604.2004251454573,105.51803997838581,0,0,3461.9627899661887,3352.112060546875,1340.6125981092953,900,1468.4296301395391,527.57368066503648,2536.2035757692438,8005.967347376949,-4151.219937351676,4000,3605.1173076359637,1997.5181674944229,1939.7616243811026,0,93.69189453125,55.48760986328125,null,null,{"$f":"R145+S145","v":5602.6354751303861}]
[" ","1932-11-30",1193.8001787627827,4482.6373812266356,105.01811655185888,0,0,3496.47129806363,3372.265380859375,1195.5559783805393,1341.9812377158064,900,409.87496803311814,2815.8042036563279,7859.0381102355641,-3655.4872254237926,4500.0000000000873,2479.9366990131603,2374.2741167233708,2329.7568929934396,0,93.138954162597656,54.404434204101563,null,null,{"$f":"R146+S146","v":4854.210815736531}]
[" ","1932-12-31",1180.4142938538682,4743.8403339271072,105.65003113327536,0,0,4871.049909783017,5110.1640625,1145.7108160840403,900,1855.8875137600667,369.99415971240961,1862.0788859618672,9977.9410727837967,-5715.2971171815298,4500,3721.2315474792877,3282.1275282437136,3256.5859076951338,0,89.925949096679688,51.102081298828125,null,null,{"$f":"R147+S147","v":7003.3590757230013}]
[" ","1933-01-31",1196.647240255146,6616.6814798193955,106.5326001305513,0,0,7886.6474091829277,8479.001953125,1217.8434013291678,900,2555.426357196633,332.54892314473409,1280.854407372289,14663.671317641694,-5000,12166.121157211914,3644.1189585375628,2933.4104094068121,2933.4104094068121,0,77.761215209960938,47.473522186279297,null,null,{"$f":"R148+S148","v":6577.5293679443748}]
[" ","1933-02-28",1233.3143646316153,5256.5949758409333,139.85499668848405,605.63807437159744,0,5000,5587.01171875,1305.4656942701142,900,4186.9958185865771,295.18750156655102,1229.0624690814129,14553.098672725611,-5000,10037.624222621003,1650.7214228327666,4878.7399043144014,4878.7399043144014,0,79.578292846679688,46.119991302490234,null,null,{"$f":"R149+S149","v":6529.461327147168}]
[" ","1933-03-31",1856.5732135077344,7713.1258419645992,143.79951740747003,124.25806451612905,53.25272546932063,10221.103688384348,10754.62109375,1288.7107582893761,4428.3209988700382,750,317.83128522650367,1176.7980606837762,14096.069067655231,-4287.7981046759487,10684.699647005873,1612.4317378369926,4459.1015562677094,4459.1015562677094,0,77.886009216308594,48.517421722412109,null,null,{"$f":"R150+S150","v":6071.5332941047018}]
[" ","1933-04-30",2067.6130144704362,6025.7734111393365,136.03699303433376,0,105.79145889051284,6561.5593440857192,7384.46728515625,1358.8175561641242,783.75710739014085,2800,400.60227886236959,750.47548061347447,11253.865818274091,-1977.5211769775929,9673.3330000001879,800,2598.96265925636,2598.96265925636,0,79.674507141113281,52.86505126953125,null,null,{"$f":"R151+S151","v":3398.96265925636}]
[" ","1933-05-31",2025.1796101759614,8906.2523839959849,131.09540743747726,0,55.030544305979987,4440.3253370285929,4953.259765625,1416.7540358933311,2059.5689805972152,2800,507.05548322882572,773.23267760674821,9118.3847480568511,-1817.7949284356291,7238.7095000001136,1371.7430907809651,1420.5156149976654,1420.5156149976654,0,83.259635925292969,53.958919525146484,null,null,{"$f":"R152+S152","v":2792.2587057786304}]
[" ","1933-06-30",1866.704085144589,8142.9492219019012,127.47749904666782,0,17.473974584435155,3570.7130848589013,4397.779296875,1324.1976776803194,2648.4878309688434,3619.4949849641189,484.80253887277263,2465.1154646643677,10840.844720078432,-1397.3985466105296,7327.7842812787785,800,300,300,0,81.220497131347656,56.350505828857422,null,null,{"$f":"R153+S153","v":1100}]
[" ","1933-07-31",1573.4520986612956,8812.187023315495,100.83169169023591,0,380.13757500100166,3831.2279106890091,4663.63330078125,1063.3814813379786,3137.867398792795,3238.7369514014172,374.25803740932395,1750,10488.336027236073,-3471.6719634139681,4086.2708610301802,800,2078.8124302515662,300,607.4612473713679,89.249237060546875,54.5281982421875,null,null,{"$f":"R154+S154","v":2878.8124302515662}]
[" ","1933-08-31",1215.5716659022762,9503.694481424267,98.257866597082256,0,0,5207.8351865343648,5538.0947265625,905.43045433121904,1891.5679419923813,2073.7807184902185,285.84553627975203,1750.0000000000005,9926.3003787961552,-5055.9522201906093,3202.6471406849041,4600,359.33401649074108,322.77502781724627,0,92.024024963378906,52.740230560302734,null,null,{"$f":"R155+S155","v":4959.3340164907413}]
[" ","1933-09-30",1087.2526407291489,5221.1888554516891,96.529670796858156,0,0,3934.244289355217,4008.8515625,871.24569606609339,803.72657013170806,1226.8549203122802,242.45281817191156,1316.6603074907616,6850.0142560704717,-2972.0813126660923,3236.0583843901063,3026.5707575581355,700.02830637101806,652.59555761503293,0,93.419380187988281,57.065196990966797,null,null,{"$f":"R156+S156","v":3726.5990639291535}]
[" ","1933-10-31",927.57766811051988,6045.3941725957557,95.452731487224682,0,0,4870.9714983826279,4852.9677734375,850.66327451375867,900,989.01946404455748,246.63273272323485,553.48218195104243,6925.5501387863851,-3887.5864636558854,3000,3591.5435995033063,1426.5865521248857,1371.5033600211609,0,95.502792358398438,60.014228820800781,null,null,{"$f":"R157+S157","v":5018.1301516281919}]
[" ","1933-11-30",855.55865080895228,5160.7639772709135,94.918005107460417,0,0,4277.4494766042935,4291.599609375,847.34762556845931,899.99999999988563,1333.0358831551973,252.31058114227505,969.31130479732303,6960.6247135071226,-3147.0096501441039,3825.9131233844364,2798.2166712071048,1370.4900783157668,1328.0334032022809,0,92.755455017089844,56.102176666259766,null,null,{"$f":"R158+S158","v":4168.7067495228712}]
[" ","1933-12-31",967.27734386649297,6860.5331043563565,177.35342547740535,1305.0572030447911,0,7785.7155155735354,8956.515625,797.56937108531042,2679.9694434252278,900,355.76249186612841,636.91788210860705,13102.636018039535,-4012.2111674557946,10519.874824908431,1432.7292177478839,3773.524023121689,3628.669114463788,0,84.214935302734375,51.3013916015625,null,null,{"$f":"R159+S159","v":5206.2532408695733}]
[" ","1934-01-31",1239.9696417040884,7445.3091370212042,192.88878243734749,250.46492488583132,0,9110.266072880584,10231.6376953125,984.08083413969348,900,5551.8920011724013,464.61233516931048,553.26079491793621,17497.767379286717,-5225.8064516129034,14039.876368778281,4121.72968248077,2747.8197883205121,2747.8197883205121,0,73.358734130859375,45.185207366943359,null,null,{"$f":"R160+S160","v":6869.549470801282}]
[" ","1934-02-28",1555.1240202204192,7452.6472814357639,221.13278138281154,493.04434433880726,0,10502.755998496628,11315.814453125,1071.9176625853895,3706.5740192250441,900,545.04447535888255,804.48735124729205,15267.0435972218,-5000,13093.842042998478,3794.2437366362974,2958.6808806370136,2958.6808806370136,0,69.892234802246094,44.584266662597656,null,null,{"$f":"R161+S161","v":6752.924617273311}]
[" ","1934-03-31",1808.7858769942216,5508.7877993395741,210.17149849841789,0,161.39713562795473,7557.2168150388206,8172.58203125,1342.5078678560328,800,2227.5014306230614,655,1155.7047844483764,12293.191891539282,-1421.1392681759808,11400,999.69651038412007,1477.7468358651549,1477.7468358651549,0,74.554267883300781,49.291522979736328,null,null,{"$f":"R162+S162","v":2477.4433462492752}]
[" ","1934-04-30",1934.2370091609214,5007.517819396473,192.47552068691215,0,265.86358912577953,4660.6557493349592,5379.63134765625,1431.2152590706908,1021.1717988743941,2933.2898791295138,574.61768199066535,2727.0479013325717,11279.706286862642,-809.31655723861786,9673.3330000001879,800,300,300,0,79.9833984375,54.982559204101563,null,null,{"$f":"R163+S163","v":1100}]
[" ","1934-05-31",1719.9846838249832,8442.4315731815113,183.24412754084244,0,106.96878041543764,3754.8686937055372,4292.31103515625,1291.1729814403182,3672.0430555149378,3666.3228348802932,475.09822140509203,1869.3738466460393,10187.394893212635,-1612.4515267902079,7100,1613.6236504042661,300,300,0,85.280342102050781,55.429958343505859,null,null,{"$f":"R164+S164","v":1913.6236504042661}]
[" ","1934-06-30",1287.0606104794037,10898.467536066399,177.58975019716098,0,42.013888891666667,5547.8392371677401,6250.1201171875,1024.0416421502605,4923.1076099754291,4755.6614355470501,418.67554101090917,631.93469064497799,11880.876406037871,-2253.104046123462,7100.0000000000873,1602.2561759137052,300,300,0,84.3927001953125,51.902523040771484,null,null,{"$f":"R165+S165","v":1902.2561759137052}]
[" ","1934-07-31",949.91640532507745,9342.7192943754617,104.71634898046538,0,1130.681572295349,4788.3311862713754,5840.4892578125,764.02039812926319,3955.8171269706072,3363.8651537783226,323.33722230728421,999.99843131069554,10521.479517318909,-3424.9987948127291,4299.150145004769,716.43078970395425,2097.5183026652167,300,817.6949953691103,89.13092041015625,53.260978698730469,null,null,{"$f":"R166+S166","v":2813.949092369171}]
[" ","1934-08-31",753.2879508049898,9609.9142541599031,102.10975157840335,0,0,5602.9430466978656,5929.775390625,597.44276958821467,2898.3461088648869,2421.7697759443736,232.71178419430223,997.48923358088791,9929.087952581418,-5163.9031222938338,3000,4363.2596465916413,615.44580589990494,300,0,92.027442932128906,55.100410461425781,null,null,{"$f":"R167+S167","v":4978.7054524915466}]
[" ","1934-09-30",661.466522854755,5402.5206637962292,100.15886049331044,0,0,4029.9768286841627,4332.30224609375,560.34030203633267,1277.8922490505308,1116.5722840536182,182.59447597362239,1037.7992218814763,7057.017903179617,-3276.0907617179637,3000.0000000000873,3020.3251995042938,893.43265835528894,405.96550341919146,0,93.89886474609375,61.991786956787109,null,null,{"$f":"R168+S168","v":3913.7578578595826}]
[" ","1934-10-31",550,6378.6107907406595,99.449285766609961,0,0,5383.8100299922862,5385.322265625,540.80713881339386,1063.4703743915584,899.99999999997908,182.69525808945585,477.7847722172296,7159.9505584221033,-3345.7821880803949,3610.6708098311142,3228.5289641319937,1042.1710458302712,810.76947950171598,0,92.48828125,60.436538696289063,null,null,{"$f":"R169+S169","v":4270.7000099622646}]
[" ","1934-11-30",650.55127766951421,7295.6348759490666,102.24545527144272,37.556160230299277,0,7277.7152510567257,7488.01025390625,590.26277842300101,900,1276.3932867872934,234.55700401470705,556.88168949228361,11015.605424885376,-5423.8121542828412,5957.0162685047781,3570.0359047575907,3106.6549616451789,2959.0968879437446,0,85.108283996582031,54.703090667724609,null,null,{"$f":"R170+S170","v":6676.6908664027696}]
[" ","1934-12-31",707.53058857111284,5088.8997293837292,102.46163003503611,0,0,5927.847871224767,6411.80322265625,653.71382659646179,900,1792.1472494360316,275.63669796142756,525.23056027142218,10028.13219560893,-6784.1488672840278,3797.180005591692,4558.2067224099937,3658.0072535724162,3658.0072535724162,0,88.395599365234375,49.042640686035156,null,null,{"$f":"R171+S171","v":8216.2139759824095}]
[" ","1935-01-31",971.88178228470724,11468.516220111604,137.64898740220042,546.95339325863677,0,15000,15000,885.26886968147448,900,9039.0088588118815,386.51378101610936,557.24442393010327,25666.585217742759,-5225.8064516129034,28575.08854047714,4281.8100016164972,2854.5400010776652,2854.5400010776652,0,63.919479370117188,44.694225311279297,null,null,{"$f":"R172+S172","v":7136.350002694162}]
[" ","1935-02-28",1292.980912661553,7276.6784634232972,238.48643897332974,1807.9064012021104,0,8448.0583542958648,9219.7021484375,1080.4332301399877,900,1194.0398773193126,423.92214292314947,1587.8728784453617,13000.000000000015,-4010.3429581396445,10079.329524318702,3088.202293172887,2606.547351966783,2606.547351966783,0,76.104888916015625,43.782749176025391,null,null,{"$f":"R173+S173","v":5694.7496451396701}]
[" ","1935-03-31",1684.2018664329989,8641.4252766594764,298.96870714200526,975.80645167741932,0,12593.71980963954,14750.1953125,1351.6064715363734,800,7169.1540979787278,511.68883777847333,1632.8662012510313,25140.385012548089,-3258.0645161290322,26574.456312977527,1611.7813396398979,3897.5468972702038,3897.5468972702038,0,60.863189697265625,45.336029052734375,null,null,{"$f":"R174+S174","v":5509.3282369101016}]
[" ","1935-04-30",2721.380358563094,13059.167509609939,484.60117999849604,3126.5695100247062,0.85225957792806728,20476.60734527593,20484.92578125,2326.2538433959626,1000,8121.269159656561,792,6089.2630147633618,38954.490246230773,-3500,49165.646871916157,2096.9878780509152,6247.3442011782845,6247.3442011782845,0,54,50.964244842529297,null,null,{"$f":"R175+S175","v":8344.3320792291997}]
[" ","1935-05-31",3068.8016643578376,6364.0131659525759,467.48174276894252,0,216.69061676481397,3819.754638671875,4678.48486328125,2809.971209095977,1000,8583.5480120501561,967,4005.411261146744,18652.998590681884,-3500,16698.086177411467,3481.3297694046196,2320.8865129364258,2320.886512936414,0,68.942703247070313,53.780960083007813,null,null,{"$f":"R176+S176","v":5802.2162823410454}]
[" ","1935-06-30",2870.1660005618191,8502.7233538149449,436.93703883975132,0,422.83827220873695,3488.1369476318359,4365.9404296875,2677.2289280579848,4154.1751693329907,8294.3230419280826,967,3223.9781844287136,16281.258382547698,-5000,9252.7080000001879,3247.5729087508571,2116.4409182355139,2116.4409182355157,0,78.867301940917969,54.743972778320313,null,null,{"$f":"R177+S177","v":5364.013826986371}]
[" ","1935-07-31",2525.7622254924258,9503.9893127102896,383.65955077405044,0,777.34443791938054,3342.2682769287608,4942.10107421875,2141.9998507983978,7594.4205172528909,8268.381306667241,807.37317647755708,3351.0856323887083,17070.88480060107,-7638.9994866333254,6500,800,7035.7596211287564,6680,0,83.817283630371094,53.677440643310547,null,null,{"$f":"R178+S178","v":7835.7596211287564}]
[" ","1935-08-31",2237.9803498653309,8311.9159114127051,344.68035873878819,0,554.39509223491075,3303.8670548152068,3806.94970703125,1626.1879363111686,7784.9274905063712,8844.2660661711943,767.44946174214158,1486.3484466931334,14429.481843061716,-8310.2257405818491,4532.9049937777017,1416.5721002455996,7216.7036465356605,6680,0,87.529106140136719,52.383216857910156,null,null,{"$f":"R179+S179","v":8633.2757467812608}]
[" ","1935-09-30",2145.7157158943323,4540.8789858841328,311.67992734060925,0,499.58725863415043,3677.889380239008,4054.380126953125,1563.7422339441152,1000.0000000000214,2937.5818598231913,619.43604194731756,3006.0490930864917,10891.142248525426,-6951.2896857188534,3372.6485816742825,4600,3629.2000014884629,2704.2414529561752,852.71533105973185,91.024276733398438,53.622539520263672,null,null,{"$f":"R180+S180","v":8229.2000014884634}]
[" ","1935-10-31",2106.0195615634098,4439.6486843339799,295.60735606469063,0,240.69130148844141,3756.3040974090231,3773.417236328125,1406.4263659420199,1734.9033134053561,2472.983893297057,575.94818382167568,1335.1260628648224,8465.9663034306104,-4759.3790590372646,4000,2845.9727834933656,3541.3923161351377,3506.4890027296915,0,92.009193420410156,55.520442962646484,null,null,{"$f":"R181+S181","v":6387.3650996285032}]
[" ","1935-11-30",2058.1979371463981,4541.0211810360279,283.33626329207334,0,205.43615489392829,3414.1062255688735,3601.23681640625,1225.7717317933877,2166.6073673814981,2764.7843523618631,547.9910855680057,1848.3076054101034,9035.9267321842453,-5169.5201962932861,4500,2444.5246090013552,4163.2669889430599,3552.1801412166969,0,90.865959167480469,53.46124267578125,null,null,{"$f":"R182+S182","v":6607.7915979444151}]
[" ","1935-12-31",2060.7820614737975,5210.8795847647671,281.45821990722283,0,40.870774263120595,5498.6725393772413,5853.68408203125,1131.3311494323418,1824.930969534927,2114.4946528581154,519.93830811659029,1858.4650720369043,10849.036643597428,-6459.0284892288219,4550.3010900467516,3607.0374666375146,4307.4598365152842,4149.9352984021853,0,88.380180358886719,51.194282531738281,null,null,{"$f":"R183+S183","v":7914.4973031527988}]
[" ","1936-01-31",2711.365027395756,13424.502796407724,356.28216535605179,1183.3761562947011,9.1234995597557142E-2,15891.297574452628,15891.2978515625,1575.0560361044618,1700,9479.4866519956013,567,5500.9714316270356,35237.57902315088,-3645.161290322581,39520.263024020212,3144.1470396064965,2096.0980264043324,2096.0980264043324,0,55.449230194091797,47.800403594970703,null,null,{"$f":"R184+S184","v":5240.2450660108289}]
[" ","1936-02-29",3588,13309.166105933362,502.50053324248495,2495.6760823434479,0,19601.120376254203,19635.107421875,2348.6083411017457,1700,13593.728853437196,562,13035.094091647799,52423.10118233307,-4482.7586206896549,76762.428558570464,4600.0000000000036,6022.9103435710476,6022.9103435710495,0,54,45.846420288085938,null,null,{"$f":"R185+S185","v":10622.910343571051}]
[" ","1936-03-31",3956.8692814137421,5952.4672403650475,521.07214791626222,319.92427218606412,0,7868.0235081600194,8833.546875,2748.8510543071461,1700,13992.200380692169,651,4662.7888345336796,27974.432731933546,-3258.0645161290322,28670.399903264126,3462.7039314566678,2495.2170682211595,2495.2170682211595,0,58.651653289794922,49.164413452148438,null,null,{"$f":"R186+S186","v":5957.9209996778272}]
[" ","1936-04-30",4250.3434366225965,6081.1412722564037,515.41893434415204,0,65.768561835928352,7216.2615049524147,8310.4501953125,3148.4736840948217,1000,8893.4644019572497,792,5536.9146677377994,23168.655490978861,-3500,25129.452934669302,2636.2631318292147,5235.399619193372,5235.399619193372,0,59.585323333740234,52.24774169921875,null,null,{"$f":"R187+S187","v":7871.6627510225862}]
[" ","1936-05-31",4176.7829558819494,8012.8093016167131,503.94523522108852,0,120.56084793935534,4157.2821350097656,4583.904296875,3340.1000163329932,1000,4666.6723066507129,967,3436.2024504246933,13267.934874771749,-3500,12527.831601865792,3727.5334610106029,2485.0223073404022,2485.0223073404022,0,69.735198974609375,54.057960510253906,null,null,{"$f":"R188+S188","v":6212.5557683510051}]
[" ","1936-06-30",3987.6457064937622,9161.2464192807292,491.53239584557764,0,134.51251123292775,4281.8986511230469,5312.5693359375,3375.6316182096434,1000,3655.1805431730477,967,3578.188384053703,13107.404990212595,-5000,8039.9031925285826,3795.1912223460099,2043.5645043401578,2043.5645043401578,0,78.446731567382813,53.278079986572266,null,null,{"$f":"R189+S189","v":5838.7557266861677}]
[" ","1936-07-31",3526.0974581540731,10680.680256011141,347.72741462222456,0,2242.2276534015914,5214.3774433034769,7034.0615234375,2935.90619362183,6038.3105702665835,6605.3042150383226,779.87084798865033,4139.5937360506159,18307.820970904311,-9188.1678009210991,6500,2744.3162354979336,7019.0095157233782,6680,0,83.782814025878906,52.327522277832031,null,null,{"$f":"R190+S190","v":9763.3257512213113}]
[" ","1936-08-31",3099.6656656029327,10047.644592057653,320.39681955956092,0,367.29483357313472,4585.6450856530819,5244.09033203125,2426.544857881976,7692.5908040621507,8665.7329369523977,723.76342542923362,1721.3559776976938,16011.356352145658,-9779.4402175412179,4746.4266594059436,3340.4592305739043,7196.7803845162198,6440.9105493314637,239.0894506685363,87.891815185546875,51.817173004150391,null,null,{"$f":"R191+S191","v":10537.239615090124}]
[" ","1936-09-30",2954.7954157137729,5692.3402256481177,314.04696457937007,0,52.584453683330381,4513.4201221466838,4899.818359375,2058.5082139242181,5628.5268711202134,7304.1855041282788,679.30236202629146,1545.1268615650388,14186.574617664381,-9622.6005202330452,3979.677119466146,4600,6680,6680,0,89.52587890625,52.130954742431641,null,null,{"$f":"R192+S192","v":11280}]
[" ","1936-10-31",2808.0913461852001,5775.9447221318906,309.39990526995024,0,40.495967744612912,4507.1840448379517,4509.55126953125,1727.0443214767499,4000.0000000000864,4501.3006109641447,496.53144846163383,3215.7844937943214,13102.036899864765,-8605.6693836852719,4426.5359669329728,4132.5317969110783,6680,5357.6023019182412,1164.1377046142934,91.462882995605469,52.47930908203125,null,null,{"$f":"R193+S193","v":10812.531796911078}]
[" ","1936-11-30",2642.5689046783791,6200.3604136916629,301.96557387337839,0,109.79527757990215,4606.884766478609,4835.99658203125,1544.2772284464884,2499.9999999999709,2607.520025844407,434.95009061392608,1919.3975848046698,9948.5471760009077,-5832.6408506460266,4560.9495099107662,3643.5612702981362,3830.1691727517928,2902.1814813385527,122.8832403767383,91.429794311523438,53.634315490722656,null,null,{"$f":"R194+S194","v":7473.7304430499289}]
[" ","1936-12-31",2552.4473773933314,5654.5911201645222,299.76268329517757,0,43.695193579560247,5559.5251843047836,5930.82373046875,1422.5895033835484,1927.5840698071825,2655.013404054936,403.68726187549254,1882.0449950293723,11809.656830378517,-7766.6816882493295,4500,4600,5010.1955895779865,4289.5729119919379,455.14035032044922,90.885810852050781,50.594570159912109,null,null,{"$f":"R195+S195","v":9610.1955895779865}]
[" ","1937-01-31",2527.5535341377768,5016.358275775814,300.80219731698838,0,0,6045.1871087216778,6461.86474609375,1434.9063437236641,1700,3740.8231484069083,375.65764599572361,1272.6473987465858,13477.540659340248,-5000,11147.600317092485,4388.7412772959542,2925.8275181973049,2925.8275181973049,0,79.672233581542969,47.436870574951172,null,null,{"$f":"R196+S196","v":7314.5687954932591}]
[" ","1937-02-28",2606.6459096974586,10873.690124121544,360.28373921390926,1017.1778778561895,0,13018.903236194539,15900.4765625,1604.5708859766157,1700,12131.786268983136,567,1905.3284902188593,32445.141307440153,-5250,42642.471240954023,4183.6629349870609,9022.7699217316695,9022.7699217315967,0,54,46.569583892822266,null,null,{"$f":"R197+S197","v":13206.432856718729}]
[" ","1937-03-31",3252.9670384283204,12263.709794860782,513.49280561662067,2473.5348873023072,0,14567.736012019452,16901.169921875,1915.3795326711249,1700,12917.631075187861,664,3951.9201598352902,34018.589573258025,-2663.1879020695492,45436.828696518045,1009.6633890107364,8270.4125302932844,8270.4125302932844,0,54.107559204101563,48.246681213378906,null,null,{"$f":"R198+S198","v":9280.0759193040212}]
[" ","1937-04-30",3972.7480280149989,6815.499464540223,539.61537103707769,555.1664427765586,75.646284913186278,10667.191401184336,11998.34375,2299.286919137141,1000,6727.0392693375916,792,3837.0137566980779,23160.259192548605,-2631.4081789952165,26846.497175474091,1673.3089735900082,6662.8939936760307,6662.8939936760307,0,61.012035369873047,51.714912414550781,null,null,{"$f":"R199+S199","v":8336.2029672660392}]
[" ","1937-05-31",4195.3562069214049,6783.6275833020009,522.26865313663905,0,207.87550828678741,3761.6497497558594,4236.29638671875,2641.1836488288563,1000,6010.7926570030195,967,3945.1372227494535,14152.578339735355,-3500,14689.588862269829,2490.772438481677,5368.7832808838066,5368.7832808838066,0,68.426918029785156,55.746883392333984,null,null,{"$f":"R200+S200","v":7859.555719365484}]
[" ","1937-06-30",4074.9338858691135,8592.906393151914,498.06189620731448,0,328.85335446705437,3645.150588989256,4749.67919921875,2405.710795132024,5738.9702091599656,7837.0513873414147,938.93371578428969,2045.6029989832491,14840.366676518584,-2942.509175334787,11969.375,800,3316.6523389364879,3316.6523389364879,0,72.359169006347656,55.861804962158203,null,null,{"$f":"R201+S201","v":4116.6523389364884}]
[" ","1937-07-31",3602.6211184459412,11860.284325995106,441.79510376098875,125.80645161290323,940.65860215322584,6450.378093998781,7222.8115234375,2251.5583735789523,1432.5681408254927,2049.3332976684819,820.09873425023045,2481.099617431129,13152.678136971099,-4411.471636534925,6500,1226.2196376570178,3285.0154477403371,1764.6630650150883,1100.2472799501406,82.03460693359375,53.525760650634766,null,null,{"$f":"R202+S202","v":4511.2350853973549}]
[" ","1937-08-31",3174.0325784921806,9757.0871225622705,403.14344683235709,0,543.67039190131743,4513.1008939743006,4733.06640625,1895.5028490961743,5275.8116983827367,6401.5681730419974,779.67626625693219,1496.2204506217863,12806.411643291804,-7393.5475243713681,4534.5802964544082,3259.9297069247436,4704.8269598797478,3775.5581388910205,0,88.506797790527344,51.982620239257813,null,null,{"$f":"R203+S203","v":7964.756666804491}]
[" ","1937-09-30",3024.7934376561375,5694.9698495796974,386.25289963580281,0,221.21921414094285,4507.3966856002808,4724.72998046875,1683.88919974142,3522.1467143748077,5096.180457292734,732.34801366587601,1546.8719720125055,11850.948734731637,-8187.5820199289919,3305.2469669950142,4600,5055.8944407088529,5055.8944407088593,0,90.458099365234375,52.728836059570313,null,null,{"$f":"R204+S204","v":9655.8944407088529}]
[" ","1937-10-31",2934.5744544477238,5923.2282940909545,382.18576411458395,0,40.495967744612912,5251.8568237403024,5298.650390625,1514.3751440365827,2225.051015615787,2575.6781083437363,635.10715658806373,1960.7321463197241,10652.645901514034,-6693.6808420770212,4000,4600.0000000000528,3885.1203217622806,3360.0693061464845,0,90.903984069824219,54.534408569335938,null,null,{"$f":"R205+S205","v":8485.1203217623333}]
[" ","1937-11-30",3252,15233.277624545555,382.16437451455784,0,29.241666668600001,18465.60993140034,18465.609375,1594.7122939047492,1700,2635.9813085562387,567,3040.3389385541695,27419.264483316423,-9365.3110226290955,20311.517316288198,4600,6680,6680,0,68.183090209960938,53.100742340087891,null,null,{"$f":"R206+S206","v":11280}]
[" ","1937-12-31",3310,29335.553982381785,515.91214958719502,2137.3765607231035,0,18948.795518974141,18948.794921875,2380.3402218583551,1700,13073.962256923509,567,6717.9187843988293,48549.88519618968,-5290.322580645161,64358.524089173035,4599.9999999999982,4553.0228935558853,4553.022893555888,0,54,48.799007415771484,null,null,{"$f":"R207+S207","v":9153.0228935558844}]
[" ","1938-01-31",3668,9263.5099885585041,552.57927458328345,561.8453430351575,0,11643.152277608784,14542.28125,2634.1343122461108,1700,9300.3932849108933,567,3082.2111325736801,27835.847500038733,-5225.8064516129034,27392.434347105893,3619.2728903015359,5253.9882286729135,5253.9882286729135,0,61.760982513427734,45.751636505126953,null,null,{"$f":"R208+S208","v":8873.2611189744493}]
[" ","1938-02-28",3560,48264.978272296968,741.76998119570192,3326.7857142857142,0,27073.248110264565,27108.44921875,2788,9300.7033625777985,20007.929222754414,567,9857.0720549002872,69174.392708034793,1712.0301663576829,138013.36245270821,1313.5223306415508,9463.6,9463.6,0,54,44.360313415527344,null,null,{"$f":"R209+S209","v":10777.12233064155}]
[" ","1938-03-31",3416,53272.712380956022,981.57157413158041,3852,0,27198.327380808019,27198.328125,2788,19362.988384622142,36140.740513973578,662,10825.328600136421,72228.722956705038,8886.4862489969946,163782.59435972414,1987.0307802368986,6288.6674753811139,6288.6674753811139,0,54,45.078620910644531,null,null,{"$f":"R210+S210","v":8275.6982556180119}]
[" ","1938-04-30",4058,17453.575436692285,1130.2182375875182,2537.2947992941599,0,22694.408928690296,22705.681640625,3277,13116.314865695573,27276.606986072886,792,7006.2234708413262,51150.505786912297,1233.1427120557701,74125.149711352133,2730.4570851234157,6680,6680,0,54,49.784938812255859,null,null,{"$f":"R211+S211","v":9410.4570851234166}]
[" ","1938-05-31",4552,11479.425007532425,1139.4791562178382,252.16751934708441,0,15000,15071.9189453125,3538,17332.709821488268,25944.602226836716,967,7822.7694227353386,50657.664479337262,2854.4471992336203,68187.802861884906,3934.6552952457168,6680,6680,0,54,53.376632690429688,null,null,{"$f":"R212+S212","v":10614.655295245717}]
[" ","1938-06-30",4499.9999999999991,9950.9928966437619,1171.7950799027617,678.79316465413262,0,5076.712646484375,6280.96923828125,3538,8203.2843819246118,19247.147509911494,967,6861.2519786173889,32937.335783697054,-4631.4118750367825,36385.582718346006,4599.9999999999945,6680,6680.0000000000055,0,58.627288818359375,55.4619140625,null,null,{"$f":"R213+S213","v":11279.999999999995}]
[" ","1938-07-31",4122.0974120571145,11066.935416642948,1162.510194051571,0,0,4642.4268188476563,5757.09814453125,3354.1223856259417,4323.7124947163074,6494.7071349742073,941.99999999999989,2274.669155050603,14848.529382666715,-7948.762794454211,8000,4600,6680,6680,0,79.427452087402344,53.480358123779297,null,null,{"$f":"R214+S214","v":11280}]
[" ","1938-08-31",3700,11854.004297099846,1190.9133087271496,593.66793792740179,0,5012.2359175446072,5764.92138671875,2963.1711319172614,7115.9214724052208,7917.0358718758862,791.99999999999977,3244.7120236570699,17428.836817237912,-10174.525752927941,6441.5320000000002,4600,6680,6680,0,84.344314575195313,51.539054870605469,null,null,{"$f":"R215+S215","v":11280}]
[" ","1938-09-30",3400,11383.956171993936,1157.5456987507457,0,463.60153259770118,10255.18038107,10752.9541015625,2589.3575417215134,7426.4970367861015,8920.5237291250323,751.99999999999989,1584.7086721113196,21815.148664122986,-9470.4780105692153,12465.83333336,4600,6680,6680,0,76.200927734375,50.81451416015625,null,null,{"$f":"R216+S216","v":11280}]
[" ","1938-10-31",3250,9709.8316006044988,1127.99482163532,0,448.64664444938825,8849.7506515600326,8872.490234375,2429.1944549060022,4000,3959.8615548251564,704.79935350487597,1346.4983120739935,15223.204280213895,-7724.373792447077,7890.3225806709679,4599.99999999997,5588.3085856619773,5588.3085856619773,0,78.826652526855469,52.899574279785156,null,null,{"$f":"R217+S217","v":10188.308585661947}]
[" ","1938-11-30",3199.4546620003184,6797.0568618367324,1109.7922328635011,0,299.99999999999909,5524.2806559239325,6102.71240234375,2337.7361144314241,2500,2884.6123815951355,566.86989793436169,3555.5239295070937,13588.392933368546,-9045.3497698902247,4915.394509738966,4600,6680,5883.4055567768664,770.22380190216154,84.431961059570313,53.620811462402344,null,null,{"$f":"R218+S218","v":11280}]
[" ","1938-12-31",3250.7220124033438,7428.4487785137617,1091.8648532937341,0,290.32258064516134,7915.4010947973911,8627.470703125,2323.1344380461965,2227.2386494405891,3075.613955721165,543.3867125012423,1832.8764781521008,14678.373856579157,-9369.7626385558069,5044.1459396781138,4600,6761.7669600794416,5416.4649688528189,1336.3425574366179,84.703865051269531,51.331623077392578,null,null,{"$f":"R219+S219","v":11361.766960079442}]
[" ","1939-01-31",3384.2311612111935,4955.9324426541343,1092.4334630747346,0,0,5398.1316515290573,5608.67822265625,2381.3948497143842,1700,2697.3817145913354,514.07353243918396,1241.8785942329355,10667.414430624169,-5225.8064516129034,6752.0504930321076,3384.0038083791505,3629.0565509330754,3629.0565509330754,0,85.666229248046875,48.58843994140625,null,null,{"$f":"R220+S220","v":7013.060359312226}]
[" ","1939-02-28",3508.8739543913034,5009.1599221090564,1145.0975704324512,962.8156759961762,0,5100.6696219923324,5659.71484375,2463.6282650673161,1700,2456.7061541308217,494.08307670887365,1227.2028004191122,13000.000000000011,-4999.9999999999982,9167.7281916991142,2902.1869128792696,3948.7814542719507,3948.7814542719525,0,80.709709167480469,47.408817291259766,null,null,{"$f":"R221+S221","v":6850.9683671512203}]
[" ","1939-03-31",3925.3897491548551,5002.728706857848,1136.861024405843,0,111.8434210665624,5585.2605777495774,5880.00341796875,2621.6825334845566,1700,3027.0815497210447,606.56670001593045,815.88328468970735,10932.841751920667,-3258.0645161290322,9890.7780875450444,2331.4462275671344,3120.2921436382908,3120.2921436382908,0,79.45062255859375,49.542987823486328,null,null,{"$f":"R222+S222","v":5451.7383712054252}]
[" ","1939-04-30",3890.9172547391313,6954.145664692498,1103.5784706291763,0,475.64477764731271,6690.0507717760529,6897.052734375,2571.176838468863,2694.8843668113536,2799.9999999999718,665.71128842969756,1576.395659110794,11414.205606353245,-2191.6754430798333,9673.3330000000005,1908.1795941012406,1765.0581557625628,1765.0581557625628,0,79.446968078613281,53.731784820556641,null,null,{"$f":"R223+S223","v":3673.2377498638034}]
[" ","1939-05-31",3659.385589406997,9701.8464241788479,1088.7650465058032,0,151.54992765720442,4213.8387018556787,4693.7734375,2317.8662920083293,5053.6394355284974,6167.5858885201433,653.31000558704432,941.50430566689829,12092.89905812271,-2797.5606034798393,8253.8835949682689,1393.1912109611403,2296.4382931786849,2296.4382931786849,0,83.025787353515625,54.711986541748047,null,null,{"$f":"R224+S224","v":3689.6295041398253}]
[" ","1939-06-30",3200.9648566256351,12536.701636199288,1059.8578452895863,0,358.17610413431049,6194.2110255895459,6797.07958984375,1990.9510787066217,4966.0086520914228,5226.4365080606749,592.27832402662557,696.75274414196235,12759.462095071493,-5000,4661.5810260388698,3153.7512317879105,1698.1737401934793,1698.1737401934797,0,86.744232177734375,52.121387481689453,null,null,{"$f":"R225+S225","v":4851.9249719813897}]
[" ","1939-07-31",2665.6598619746424,14595.795174435052,915.18323225395875,0,2212.1127897001097,9176.3690467263568,10793.2734375,1647.7798161763217,4547.9745426157988,4383.4467436001787,451.2794520899663,1732.6907191524047,17411.788982278918,-8622.6969824858788,5313.9830813150265,3660.3550883484618,4774.2960064955505,3156.2917993704723,1321.5002441016184,87.1851806640625,52.111404418945313,null,null,{"$f":"R226+S226","v":8434.6510948440118}]
[" ","1939-08-31",2337.0714278084247,10796.671509812659,778.70619721151115,0,2101.7713314671869,6466.8379642134996,7852.703125,1578.2385581066328,1215.9063488522547,1249.9731208599951,371.07287702373293,976.75809896555688,10256.592825687048,-4879.6568891263069,3500,3857.5297957028401,1069.1346683448028,300,0,90.400413513183594,51.817413330078125,null,null,{"$f":"R227+S227","v":4926.6644640476425}]
[" ","1939-09-30",2308.164143905874,5852.7311815503454,723.54306746383486,0,847.19575974113195,4755.1676373667997,5991.61328125,1497.3687176177257,1000,2606.3169623838003,356.68160337376065,775.70220179836519,9695.5641129145461,-5725.7704753066319,3072.2666008554843,3871.4499339108606,2946.6741771142642,2237.8002419333966,0,92.060791015625,53.245212554931641,null,null,{"$f":"R228+S228","v":6818.1241110251249}]
[" ","1939-10-31",2201.9637251855606,6399.7264136147041,647.77380118609324,0,1192.8133406055999,5716.9176206273278,6585.59423828125,1317.1468640379353,1907.270621174107,2339.2872932259666,367.62848428807854,458.56700690132561,9896.6106188887879,-5680.6920911210182,4002.7740936585615,2914.3328568862444,4264.8844852941975,2447.8454088112812,0,92.384796142578125,53.967792510986328,null,null,{"$f":"R229+S229","v":7179.2173421804418}]
[" ","1939-11-30",2074.1455410612675,7369.4509016374077,627.05621618022872,0,328.25758809758372,5767.1488048921092,5963.27880859375,1095.5108535242714,2499.9999999999145,2635.6797889281556,386.46931493789907,446.83421885907853,9399.8713687433101,-4870.5719543471059,4508.4141253451953,2619.9255861392148,3631.0149689398477,2094.2360387132767,0,90.75347900390625,53.819141387939453,null,null,{"$f":"R230+S230","v":6250.9405550790625}]
[" ","1939-12-31",2169.0317927646583,6460.0847283151788,624.8143015706147,0,50.582494781913212,6418.8289030631577,6791.9228515625,1035.9625083343865,1295.6303630742207,1617.9825424906098,410.52554576616257,500,9521.342546403388,-4895.2570349976268,4595.6303630743341,1899.963491050959,4304.3029339227569,4208.6725708484228,0,90.502113342285156,51.769466400146484,null,null,{"$f":"R231+S231","v":6204.2664249737154}]
[" ","1940-01-31",3062.5792823843585,13394.596452644126,667.59766618303195,603.14564190676231,0,17090.155786857715,17090.15625,1530.2944700580724,1200,4731.3800387991878,567,4427.4836335411319,26788.615584717449,-3645.1612903225805,34864.637946020521,3665.3868392740956,2443.5912261827248,2443.5912261827248,0,57.189811706542969,47.386207580566406,null,null,{"$f":"R232+S232","v":6108.9780654568203}]
[" ","1940-02-29",3252,40713.71518060135,742.58873080652108,1208.1650256177541,0,21008.974908571086,21042.962890625,2479.2414457482787,1200,4614.7377125225175,557,10065.346804895458,42191.195272504279,-4482.7586206896549,64860.57236647229,4600.0000000000327,3097.9071647028541,3097.9071647028545,0,54,44.974575042724609,null,null,{"$f":"R233+S233","v":7697.9071647028868}]
[" ","1940-03-31",3435,31764.252843874099,966.60192592854037,3648.2995915747119,0,22032.019162256067,22032.01953125,2788,16049.667162566966,39311.513639247598,626,10970.656633973707,68585.876320094554,-3258.0645161290322,104651.29726494281,4599.9999999999982,3369.3802167836466,3369.3802167836466,0,54,46.039234161376953,null,null,{"$f":"R234+S234","v":7969.3802167836448}]
[" ","1940-04-30",4205.4718943453963,10358.624178787362,1175.2717519816906,3564.0281105081394,0,15624.370447942047,15637.720703125,3238,3831.1517936491514,30324.438459105808,792,5060.0384264911954,47140.565942451634,-3500,65470.477606831686,4600,4500.3901217394541,4500.390121739485,0,54,53.224769592285156,null,null,{"$f":"R235+S235","v":9100.3901217394541}]
[" ","1940-05-31",4257.9071506616692,7454.549184866748,1169.5993066416568,0,0,4314.6925048828125,4851.70361328125,3411.8961662024331,1000,6012.4206544255494,967,2860.4031851021905,14151.069768324805,-3500,12842.718272053935,3636.889480807014,2424.592987204674,2424.592987204674,0,68.695602416992188,55.125968933105469,null,null,{"$f":"R236+S236","v":6061.4824680116881}]
[" ","1940-06-30",3987.0667760218544,9852.6389933244664,1123.1593601653792,0,634.13376156529,4792.459068005669,6096.16015625,3227.3685168903075,3699.1126464932968,5824.6158632894112,819.03849308322719,3434.4730624315798,15694.111375026905,-5000,9003.1654694839472,3389.4406310505983,1825.0834167195546,1825.0834167195546,0,76.014045715332031,53.120662689208984,null,null,{"$f":"R237+S237","v":5214.5240477701527}]
[" ","1940-07-31",3254.0970631733908,15992.207630397566,1074.4375440103256,125.80645161290323,777.47180702753747,9585.6124624969052,10436.1826171875,2693.6946349681389,8618.980654086643,9094.8900688471149,612.56722964257153,3716.7529082360002,23738.305305201116,-11055.638952632446,9398.9770083980893,4600,6852.8758321651967,6665.9188467499989,0,79.432136535644531,51.110996246337891,null,null,{"$f":"R238+S238","v":11452.875832165197}]
[" ","1940-08-31",2905.0392377855615,10540.110648573696,1034.5504473089848,0,520.1842271014483,4370.5600820710006,5050.47802734375,2200.7274535663764,8146.2161170265563,8483.1876931812239,516.17381111262421,1994.2378731902254,16086.741873972496,-9673.9075029276573,5022.5173852483676,3628.0383132793877,6680,6680,0,86.384712219238281,51.633956909179688,null,null,{"$f":"R239+S239","v":10308.038313279387}]
[" ","1940-09-30",2723.9825798363072,8537.6113735254839,999.69486146760119,0,492.84319926630121,7271.8958688846214,7837.33349609375,1749.0060394999723,8079.29768357582,9954.3497423468107,432.91045344179008,1912.2067728233985,20511.623310096842,-8253.4627433881724,11958.393434654699,3028.8008867207632,6680,6680,0,77.352928161621094,50.556423187255859,null,null,{"$f":"R240+S240","v":9708.8008867207627}]
[" ","1940-10-31",2611.5533976175388,7040.7238988084127,997.8446701796363,3.7816047422690427E-3,0,5681.1300180621665,5681.78759765625,1608.5457652981365,3262.777654677579,3358.9578353328106,380.05259958967844,1336.2471444404946,11000.000000000075,-4191.5103853579985,7001.8702905273494,2956.1131040610799,2719.8661006501102,2719.8661006501102,0,82.798065185546875,51.995849609375,null,null,{"$f":"R241+S241","v":5675.9792047111896}]
[" ","1940-11-30",2472.442559113209,8429.4180073256321,981.35745141781604,0,274.86420832050283,6922.4544259811155,7336.46044921875,1505.8925265199264,1859.615976392776,3515.8354579779166,367.95183139325854,1863.3437616347201,13452.08809498837,-9092.9768832054979,4659.6159763928426,4600,6294.8627279887787,4426.3361822737288,1640.4152443851626,88.900917053222656,53.766773223876953,null,null,{"$f":"R242+S242","v":10894.862727988779}]
[" ","1940-12-31",3293,17665.05414834588,988.17644128554798,0,26.997311829741935,18348.482889308259,18348.482421875,1927.172229723682,1700,4872.815220666921,554.27958429008982,1982.0680082018455,31157.80504397862,-5290.322580645161,37060.756445834093,4599.9999999999982,3237.602024915876,3237.602024915876,0,56.524005889892578,50.134616851806641,null,null,{"$f":"R243+S243","v":7837.6020249158737}]
[" ","1941-01-31",3317,40154.91961484206,1187.9745715682013,3124.8561386963552,0,26394.046619487712,26394.046875,2491.0410963497206,1700,10905.569296734207,567,4878.6949980997142,58762.920496282459,-4516.1290322580644,94264.562888978704,4600,3273.3347384668605,3273.3347384668623,0,54,46.097145080566406,null,null,{"$f":"R244+S244","v":7873.3347384668605}]
[" ","1941-02-28",3423,39166.368043231749,1385.2417368310562,3408,0,26393.536610519281,26428.73828125,2788,12275.532498674183,22195.271758999206,566,7404.8078533946336,64203.067068005053,-4464.2857142857147,112676.34669793073,4600,8094.4777887836954,8094.4777887836954,0,54,44.557426452636719,null,null,{"$f":"R245+S245","v":12694.477788783695}]
[" ","1941-03-31",3940,26861.253571406993,1500,1841.9521327746147,0,23170.215172318454,23170.21484375,2918,11431.620860380328,23875.409175537334,658,4504.5777632576937,52604.011110268773,-3258.0645161290322,90839.7972299635,4599.9999999999509,5783.8702717960896,5783.8702717960896,0,54,46.731964111328125,null,null,{"$f":"R246+S246","v":10383.87027179604}]
[" ","1941-04-30",4456,24809.341203327709,1499.9999998623614,0.31122544393086238,0,26224.033160245839,26231.396484375,3334,3793.2997617512292,6628.0460221539934,792,3184.7135068710991,49030.996823415786,-3500,74287.513343994651,4600,5572.6144677284647,5572.6144677284556,0,54,49.646327972412109,null,null,{"$f":"R247+S247","v":10172.614467728465}]
[" ","1941-05-31",4552,17351.036286274495,1499.9999542150322,100.18850859393962,0,17630.608076424138,17688.91796875,3538,8516.8422045492589,15928.177048724829,967,4751.4620507626087,38672.103420534579,-3500,42412.03511827466,4599.9999999999982,4502.9959961729746,4502.9959961729746,0,54.860569000244141,51.1107177734375,null,null,{"$f":"R248+S248","v":9102.9959961729728}]
[" ","1941-06-30",4500,10450.887037516084,1499.9999384980611,139.06781805437316,0,5642.9561884064442,6982.3623046875,3538,3079.4913958466873,6379.4841991095809,967,2336.298530173915,15643.629814014439,-5000,14025.356532770329,4600.0000000000582,4172.2610383028968,4172.2610383028968,0,69.416259765625,52.662197113037109,null,null,{"$f":"R249+S249","v":8772.2610383029551}]
[" ","1941-07-31",4150.0000000000009,14160.188861051132,1499.9999222791532,170.07288105132096,0,7040.1800928241455,8093.17919921875,3207.3793379937351,6182.0709633141232,7625.8867885865393,942.00000000000011,1620.6108875289581,17459.710136277787,-9105.6879068019225,8000,4600,7004.9017250857196,6680,0,79.280937194824219,51.583530426025391,null,null,{"$f":"R250+S250","v":11604.90172508572}]
[" ","1941-08-31",3700,13242.651468386919,1499.9999334175786,145.69959553653433,0,6502.0530980970361,7181.79345703125,2966.0276780105341,4405.2392189237544,5721.3448542086544,792.00000000000023,2909.8358255372741,16444.936122554482,-10142.621674383736,5593.9110888258729,4600,6680,6680,0,85.187324523925781,50.984645843505859,null,null,{"$f":"R251+S251","v":11280}]
[" ","1941-09-30",3399.9999999999995,11792.176625481381,1463.0413274822804,0,505.61542148936786,9841.8143350821083,10065.193359375,2497.0887103329005,8499.4446071367092,10291.190740260896,744.30743581682952,1529.3376007625086,22488.224565020595,-9004.0780659430966,13403.33333336,3952.5923352480277,6680,6680,0,75.143760681152344,49.760017395019531,null,null,{"$f":"R252+S252","v":10632.592335248028}]
[" ","1941-10-31",3249.9999999999995,9066.5463726826129,1433.2371932432229,0,448.64664444938825,7627.7654674246742,7628.09423828125,2325.3624730522029,4000,3954.8302376216488,696.4636223842698,1348.4990910798128,13846.749690384897,-6722.2568935351046,7421.5725806709679,4600,4288.0228384067568,4288.0228384067568,0,80.185066223144531,51.335205078125,null,null,{"$f":"R253+S253","v":8888.0228384067559}]
[" ","1941-11-30",3252.0000000000005,6008.6393439604253,1433.4339619599432,0.80378741482378757,0,5000,5321.75146484375,2256.1554537162824,2499.999999999904,3146.7312957838499,567,3837.1539651124708,13402.498082460623,-8984.1435343995799,4968.4143921630621,4600,6680,6680,0,86.67852783203125,53.733726501464844,null,null,{"$f":"R254+S254","v":11280}]
[" ","1941-12-31",3316,27426.57696463657,1439.5368422053507,0,0,22427.573393786224,22427.57421875,2788,3306.2048714476068,5629.5334880642376,567,5726.3859942057452,42972.144782096802,-5290.322580645161,51453.427285329351,4599.9999999999991,3299.0200715857682,3299.0200715857682,0,54,50.585258483886719,null,null,{"$f":"R255+S255","v":7899.0200715857673}]
[" ","1942-01-31",3389,28343.931353510194,1500,941.55969534814733,0,21495.681314626287,21495.681640625,2788,13897.586734787677,18338.227028341778,564,9207.183149715509,51153.925909086378,-4516.1290322580644,78987.230967264855,4600.0000000000036,4195.898016674957,4195.898016674957,0,54,46.299392700195313,null,null,{"$f":"R256+S256","v":8795.8980166749607}]
[" ","1942-02-28",3516,43562.02172157645,1500,0,0,26034.107446386588,26069.30859375,2806,17628.852543376026,35053.44583804423,556,9807.0515942521142,70737.096604170132,-4464.2857142857147,140297.65104178712,4600,4259.469429969593,4259.469429969593,0,54,44.617218017578125,null,null,{"$f":"R257+S257","v":8859.469429969593}]
[" ","1942-03-31",3796.8800946642991,7021.2472801302611,1499.9999935885533,14.029785099926599,0,9537.00193548065,10868.490234375,3058,2766.6403668107914,9704.7458938017098,649.72474148193839,2999.9999785506579,22513.868202907339,-3258.0645161290322,26887.784839882948,3981.8637777959602,3788.882210062221,3788.882210062221,0,61.431652069091797,47.670024871826172,null,null,{"$f":"R258+S258","v":7770.7459878581813}]
[" ","1942-04-30",4447.898207255228,11182.928554039654,1500,0,0,15455.950249751126,15463.822265625,3281,10545.996877554941,21654.909388795491,792,5534.7642486984141,38003.670320488047,-3500,51948.351786193394,3894.3371806663954,5462.7944036553208,5462.7944036553208,0,54,51.219223022460938,null,null,{"$f":"R259+S259","v":9357.1315843217162}]
[" ","1942-05-31",4552,13102.282221289537,1499.9999614306944,84.398903574807633,0,11493.929709064314,12583.9052734375,3538,5825.172686750685,14124.819652733113,967,5088.5741894440371,30720.914556870917,-3500,33238.730761314408,4599.9999999999964,3127.3665931749456,3127.366593174946,0,60.308975219726563,51.383411407470703,null,null,{"$f":"R260+S260","v":7727.366593174942}]
[" ","1942-06-30",4500,10116.940202351278,1499.9999346815446,147.69753269034547,0,6293.1284848534251,7469.8193359375,3538,6033.5752185797037,12423.16065419044,967,5134.8177003513938,24319.70550645782,-5000,22956.243266032769,4599.9999999999982,3731.0640463919972,3731.0640463919972,0,65.898246765136719,52.804637908935547,null,null,{"$f":"R261+S261","v":8331.0640463919954}]
[" ","1942-07-31",4150,12171.0297665908,1499.999920637089,173.66617438210051,0,5071.5699757681214,6153.15185546875,3215.005711580272,6311.6604569064039,8216.8871203911385,942.00000000000011,2045.3182213639539,16736.716828991324,-8860.3366535855639,8000,4600,7004.9017250857205,6680,0,80.166549682617188,52.076225280761719,null,null,{"$f":"R262+S262","v":11604.901725085721}]
[" ","1942-08-31",3700,12260.301229255352,1499.9999314681056,149.96553759108559,0,5734.9181720279721,6411.0380859375,2853.828051318445,6548.7130187569946,7455.2143703727897,792,2957.6872169376888,17387.86023235603,-10213.701380699757,6299.5566888258581,4600,6680,6680,0,84.127960205078125,51.436321258544922,null,null,{"$f":"R263+S263","v":11280}]
[" ","1942-09-30",3399.9999999999995,11000.315446805664,1465.9744552984541,0,463.60153259770118,9257.5377648597932,9627.69921875,2536.8684319078816,5914.3025252720254,7400.24340203461,747.01950371208363,1530.9608993032102,19176.699889332351,-6729.6711384520568,12778.33333336,3945.6191367494698,4285.1340118733824,4285.1340118733824,0,75.763870239257813,50.006900787353516,null,null,{"$f":"R264+S264","v":8230.7531486228527}]
[" ","1942-10-31",3250,8774.372770330092,1434.3179751683381,0,448.64664444938825,7686.3682384206932,7681.9013671875,2322.3335281663144,4000,4549.5841493991666,692.38002907362875,1328.4457815138896,14240.786545470048,-6774.5478513077396,7577.8225806709679,4600,4290.6068727989459,4290.6068727989459,0,78.495353698730469,51.603572845458984,null,null,{"$f":"R265+S265","v":8890.6068727989459}]
[" ","1942-11-30",3252,7037.5036102835802,1482.7981510928639,802.42381454101701,0,5297.5238145410149,5666.17822265625,2373.670886307008,1700,2112.7081402320882,567,5001.0717625936395,12802.464374660281,-8943.0467034190842,5336.5687620162789,4600,6680,6680,0,83.985107421875,53.050601959228516,null,null,{"$f":"R266+S266","v":11280}]
[" ","1942-12-31",3356,9870.5869701928859,1483.458335570605,0,0,11825.140241568444,12870.083984375,2615.758812367621,1700,4832.8265581398309,567,4693.4953419577778,23099.323296376067,-5290.322580645161,20033.103658796412,4335.131062889257,2890.0873752595062,2890.0873752595062,0,64.368705749511719,50.499752044677734,null,null,{"$f":"R267+S267","v":7225.2184381487632}]
[" ","1943-01-31",3541,24520.411280753302,1500,251.83592306901366,0,23230.323861574267,23230.32421875,2788,12767.231158125009,19310.857187579659,556,10888.673772546324,55146.96769763132,-4516.1290322580644,76962.145116287837,4600.0000000000946,5602.7046563073109,5602.7046563073109,0,54,47.179649353027344,null,null,{"$f":"R268+S268","v":10202.704656307405}]
[" ","1943-02-28",3848,13739.783141206104,1500,0,0,22647.06033008697,22682.26171875,2890,7488.2780301827188,16425.119063733917,529,7211.5339759530252,46338.379291718949,-4464.2857142857147,58030.834946667295,4600.0000000000964,5218.6866209171803,5218.6866209171803,0,54,45.919807434082031,null,null,{"$f":"R269+S269","v":9818.6866209172767}]
[" ","1943-03-31",4118,19025.398870340025,1500,0,0,23177.248693636117,23177.248046875,2937,16061.270933450482,27670.666289194109,625,11829.455218333982,58739.847678227459,16.672254881168556,87474.434607030635,2745.2063583618851,8431.6129032258068,8431.6129032258068,0,54,47.05145263671875,null,null,{"$f":"R270+S270","v":11176.819261587692}]
[" ","1943-04-30",4552,8868.7660317756672,1499.9999802785333,47.787984077797638,3.1941679811448864,11616.305650958455,13121.0224609375,3350,4215.0965184680772,11264.634007387824,792,4596.7983058545724,27069.930631704592,-3500,30739.43115793309,3152.2115324378942,5876.9933336985323,5876.9933336985323,0,58.822151184082031,51.227718353271484,null,null,{"$f":"R271+S271","v":9029.2048661364261}]
[" ","1943-05-31",4552,9485.3994195199411,1492.3455803086358,0,0,6759.2903827408154,7691.0048828125,3526.1685826456337,1000,5434.4572141858007,967,1787.0214836400241,14706.11500655853,-3500,13848.505198826177,3453.4377087248872,2965.627495886813,2965.627495886813,0,69.993827819824219,52.644290924072266,null,null,{"$f":"R272+S272","v":6419.0652046117002}]
[" ","1943-06-30",4361.3177762238538,9972.09539999353,1490.5403956506038,129.99999999999997,33.690582377130568,5005.4136425788902,6193.9404296875,3482.652833472026,2892.4717456777812,4248.0573493857482,926.99551237226547,2550.0040741965399,12999.999999999956,-5000,8241.1302913905965,4194.170793813918,2258.3996582074942,2258.3996582074942,0,80.057701110839844,52.578334808349609,null,null,{"$f":"R273+S273","v":6452.5704520214122}]
[" ","1943-07-31",3698.3945156238406,16054.044465689782,1450.9290362716824,125.80645161290323,601.14646673160314,9836.3075773501314,10757.064453125,2948.11492147737,9027.7416538729067,9700.4575579939046,755.51644695717835,3569.651715930474,24461.343090935072,-10436.445557654359,11571.532724495904,4600,6863.5740471781301,6665.564730999994,0,78.737350463867188,51.026466369628906,null,null,{"$f":"R274+S274","v":11463.57404717813}]
[" ","1943-08-31",3333.6816683259744,10731.239499335834,1412.0583273401955,0,489.30524660261057,4511.9480333328265,5216.73046875,2679.3892034789137,4744.9496888497479,5764.4975170208318,697.70653449520887,1723.4649888426893,13035.135953683872,-7003.5139332854196,5491.1291806709678,3886.8680683213192,3791.7087801998273,3791.7087801998273,0,85.656539916992188,51.410942077636719,null,null,{"$f":"R275+S275","v":7678.5768485211465}]
[" ","1943-09-30",3130.9540429888948,8853.4245011939565,1374.8804918394694,0,505.61542148936786,7544.6247570886553,7624.228515625,2211.6265312170658,8328.0640699963915,9797.0789321330685,570.30389788624791,2656.7571563104361,20820.828763682439,-8243.0022833519542,12278.33333336,3004.4767572670235,6680,6680,0,74.649063110351563,50.731964111328125,null,null,{"$f":"R276+S276","v":9684.4767572670244}]
[" ","1943-10-31",3058.4901644862084,6287.9319640831754,1344.1696708827401,0,448.64664444938825,5088.249072590238,5090.28759765625,1995.666963065484,4000.0000000000568,4718.3134233371256,514.04065597062015,1315.117768364036,11850.961199857222,-5548.6640433455432,6484.0725806709679,3448.4375000000027,4045.8873035499664,4045.8873035499664,0,83.008529663085938,52.055839538574219,null,null,{"$f":"R277+S277","v":7494.3248035499691}]
[" ","1943-11-30",2882.4887444450542,8580.4908414351576,1325.2402573281634,0,300.00000000000091,7114.5336067202006,7764.31201171875,1872.5863515830254,2500,2870.8444657262803,462.43910857528141,1842.946616429826,13467.322526190812,-8711.6862612893856,4682.9420810925803,4600,6246.2517019299448,4017.7541987933064,2151.111111253309,88.2757568359375,53.853023529052734,null,null,{"$f":"R278+S278","v":10846.251701929945}]
[" ","1943-12-31",2826.6805353622799,6250.6288252549521,1326.4580319730894,0,0,6287.5386564039463,6749.6845703125,1626.7217364674591,4543.3842250572079,5481.6819304302498,420.00977144273241,1860.0916704623191,15133.037536386797,-9644.7379691946917,5210.6295798003575,4600.0000000000609,7105.7022876111969,7105.7022876111969,0,87.446014404296875,51.393653869628906,null,null,{"$f":"R279+S279","v":11705.702287611257}]
[" ","1944-01-31",2916.1547364869366,5334.1725055947827,1329.1862651031213,0,0,6830.2134257072375,7329.14306640625,1691.3871897473866,1699.9999999999957,3639.7348739589925,396.43710917421237,1253.1241183948403,13684.962323858545,-5225.8064516129034,9852.7240905093404,4203.1780635437071,2802.1187090290205,2802.1187090290205,0,81.884773254394531,48.348163604736328,null,null,{"$f":"R280+S280","v":7005.2967725727276}]
[" ","1944-02-29",3227.0058114115786,6726.655301338249,1360.3243926805953,496.49886284665689,0,11243.159229520239,12910.525390625,1855.4108688210567,1700,6653.2562364422147,431.18968538970961,1345.5610885566152,25607.316256870705,-5000,25039.179122297763,4376.440456921463,2917.6269712809435,2917.6269712809435,0,63.381011962890625,47.027484893798828,null,null,{"$f":"R281+S281","v":7294.0674282024065}]
[" ","1944-03-31",3542.8509074501826,5799.3150202452252,1370.4107504264919,194.99932620142695,1.9557919637387575,9169.6280453390227,9786.9267578125,2097.1541745925183,1700,6143.3163558188671,531.8631550385436,1415.7478465388685,18631.993779447625,-3258.0645161290322,18427.335739940787,3474.3131649028951,2316.2087766019299,2316.2087766019299,0,67.012176513671875,48.792304992675781,null,null,{"$f":"R282+S282","v":5790.521941504825}]
[" ","1944-04-30",3745.8027770152917,4336.9202080802852,1361.6521478227521,0,123.27957206521914,4236.191947776987,4872.4873046875,2225.5458607242972,1809.9272853418715,2800,610.81145746545189,785.7012810786772,8920.6343720633631,-2381.9884577227813,8831.2290315027749,2112.9012449795991,3039.8938697899384,3039.8938697899384,0,78.612831115722656,52.581897735595703,null,null,{"$f":"R283+S283","v":5152.7951147695376}]
[" ","1944-05-31",3715.8384479874635,7026.9649489436415,1341.8518770115279,0,223.59648491449556,4038.7951371253976,4697.48193359375,2355.0949686727354,3095.5441753761115,4375.1976454383303,731.73140029330239,1375.3290526075111,11179.120719051363,-3023.5679499706016,8372.3342077804973,2857.9214626056337,1721.9722718400708,1721.9722718400708,0,79.72430419921875,55.481842041015625,null,null,{"$f":"R284+S284","v":4579.8937344457045}]
[" ","1944-06-30",3507.8374225551329,9878.6078614631879,1243.0192142319506,0,1546.6683732203403,5710.811283218135,7032.72998046875,2120.2434919393613,4957.8489637519042,5655.4011774929695,680.79925650628832,1864.0715968339975,14589.899900274266,-5000,7550,3112.5266779955782,2234.3770953678245,2234.3770953678245,0,79.330062866210938,53.925849914550781,null,null,{"$f":"R285+S285","v":5346.9037733634032}]
[" ","1944-07-31",3092.9338233512767,11906.792214869845,1070.8414637537528,0,2654.8674363461041,6910.1620890999011,8703.7548828125,1724.7905634656472,5454.0013558420942,5328.9502048161548,557.63402294335663,1967.0553228252979,16596.173920290545,-8674.5845590781901,5000,2869.968251278739,5778.1250699783068,4549.8642218507657,939.06708768755198,84.951713562011719,51.891372680664063,null,null,{"$f":"R286+S286","v":8648.0933212570453}]
[" ","1944-08-31",2824.8090630387414,9601.2242661791588,926.19670420577995,0,2225.5046050435021,5949.3145539567731,6889.35986328125,1671.5630490933461,1124.2666809116326,1117.1913796244239,489.05478249841525,1750,10254.22176998648,-4915.0289890784661,3850.9433562186691,3603.9330438863763,1301.3000633143467,300,0,89.956825256347656,52.258712768554688,null,null,{"$f":"R287+S287","v":4905.2331072007228}]
[" ","1944-09-30",2786.9997894282087,4814.3287171929969,879.61346704790276,0,680.01468716071076,4376.671378462037,4655.6474609375,1552.7385682638437,1459.7498978562571,2815.4008455568296,445.40459643127349,1380.8398543283215,9444.2540176650327,-5226.830836568779,3315.680153792483,3337.7904624072257,2778.7400654447138,2545.2763413681846,0,91.689483642578125,53.410972595214844,null,null,{"$f":"R288+S288","v":6116.530527851939}]
[" ","1944-10-31",2687.574177819346,6416.189388431213,855.52338571937105,0,346.57505979866096,5732.2500436920009,5689.85107421875,1335.4108028402475,3002.8918519060107,2977.2522221521363,440.24772322621004,637.41355000925557,10166.259943861131,-6046.4048036417244,4033.5449294606369,3163.8747311693041,4494.1078377569629,2932.2876418185388,0,92.673973083496094,54.157810211181641,null,null,{"$f":"R289+S289","v":7657.982568926267}]
[" ","1944-11-30",2850.1945962130612,7004.6721944644733,855.47138556476386,0,29.241666668588106,6792.516132276095,7311.98193359375,1308.0164740578289,1700,3196.8296202245151,562.76117520104515,693.73869375297875,13192.280942077425,-8991.9403774884304,5050.2844165987208,4233.38270195924,6680,6680,0,89.916007995605469,53.16461181640625,null,null,{"$f":"R290+S290","v":10913.382701959239}]
[" ","1944-12-31",3155.1125748003874,6897.1993230323424,839.9561546928569,0,290.32258064516134,8906.9949255393221,10041.9677734375,1316.5320535388582,3186.6203394646691,4807.5373984074085,567,2623.8737184725314,19283.904017465593,-6797.9523111848757,13863.085379408019,3978.5229363601616,4673.6517123294898,3740.3891875541658,0,77.468917846679688,49.325702667236328,null,null,{"$f":"R291+S291","v":8652.1746486896518}]
[" ","1945-01-31",3365.512995930857,4626.6852385032944,840.7118595030397,0,0,6363.8006705205771,7281.81494140625,1442.1960823679406,1700,3782.7052615264224,567,1384.2401114558916,13430.070561041641,-5225.8064516129034,9591.3312920742555,4310.1611231809111,2873.4407487872732,2873.4407487872727,0,81.293853759765625,47.048042297363281,null,null,{"$f":"R292+S292","v":7183.6018719681842}]
[" ","1945-02-28",3948,14624.122966807277,939.04551613608191,1750.6627514337904,0,21047.11234769506,21082.314453125,2005.4293781084548,1700,10904.803336600395,558,9329.1433002102076,45329.351568130536,-4464.2857142857147,55780.433023960213,4600,5658.3354909815807,5658.3354909815789,0,54,46.484001159667969,null,null,{"$f":"R293+S293","v":10258.335490981581}]
[" ","1945-03-31",4266.6979834966178,7459.4237871605783,962.44858723657831,369.18962880143351,0,9643.8981537819418,10525.3193359375,2296.9539491633122,1700,5667.5739056430002,656,1848.4415583703435,19616.204359460753,-3258.0645161290322,22137.192975753715,4193.6612406113827,3655.0839998543897,3655.0839998543888,0,63.024936676025391,47.922111511230469,null,null,{"$f":"R294+S294","v":7848.7452404657724}]
[" ","1945-04-30",4530.8021073409345,4968.1109689936784,956.99654613119799,0,19.75428695250875,6565.0872278539118,7572.7021484375,2540.51531124746,1000,3452.5760219408057,792,2156.8754357084786,13308.885257312759,-3500,13939.399878614955,3284.881042016224,4317.900098106109,4317.900098106109,0,70.307090759277344,51.732273101806641,null,null,{"$f":"R295+S295","v":7602.7811401223335}]
[" ","1945-05-31",4552,9560.6873835091446,953.05031341393692,0,0,5988.2206781025743,6539.7548828125,2801.4868878483726,1051.8416169362172,2800,967,2912.7135459016681,13297.761857469137,-3500,11634.973016690617,3581.1275194564878,2387.4183463043264,2387.4183463043264,0,74.934799194335938,52.299270629882813,null,null,{"$f":"R296+S296","v":5968.5458657608142}]
[" ","1945-06-30",4299.843563282353,10385.616905324392,928.30446951665886,0,296.15256469759299,5296.3360588643036,6698.783203125,2650.1493109865155,3904.7124637748238,5411.8579087439402,909.26256633144794,2675.5944663803598,14919.547189100462,-5000,8740.2385627607109,3626.5924958534024,1952.7805746902932,1952.7805746902941,0,80.098930358886719,52.648056030273438,null,null,{"$f":"R297+S297","v":5579.3730705436956}]
[" ","1945-07-31",3758.7683391946953,13220.433037976702,869.56295733082538,125.806451612903,940.65860215322584,7107.197852397212,8200.6181640625,2163.3572416611287,7331.1254111846165,7415.6704391334933,799.72704391404545,2395.7239238746874,18582.719424000592,-9768.8570466557176,6500,3826.5414689221825,6942.2109632251559,6680,0,83.689140319824219,51.684013366699219,null,null,{"$f":"R298+S298","v":10768.752432147339}]
[" ","1945-08-31",3358.3268306074588,10405.652579444317,849.74823379510167,0,205.16532815524215,4882.0515909107544,5618.55859375,1765.3196970746355,6212.7881092265206,7117.1499433360659,657.73958227389141,2671.4100279561303,16411.085975950533,-10275.196692221693,4833.2369293898591,4037.2608436160244,7211.8209262375603,4986.6790709830357,1667.6786201691546,87.917503356933594,51.702716827392578,null,null,{"$f":"R299+S299","v":11249.081769853585}]
[" ","1945-09-30",3245.7576096194925,5730.085547489557,831.15163272890948,0,215.75529303902604,4849.7144992294025,5256.09814453125,1673.3991402473007,1772.8935653721912,3284.2905275705184,606.7255057323971,1532.8634826570944,10545.762009282016,-7157.7837461485251,3000,4600,3962.3375732000486,3507.8339287598528,0,91.484512329101563,51.870132446289063,null,null,{"$f":"R300+S300","v":8562.3375732000495}]
[" ","1945-10-31",3206.8372983885515,6579.3913339534101,821.27806252612629,0,149.0838151458928,5832.3378262460892,5908.77587890625,1552.5767284248232,2212.7702322042983,1962.4496416749844,576.23455244870195,1373.7275083716593,10297.710700869709,-6893.9147545945816,4000,4600,4442.2683003503498,4090.7766238063105,0,91.0205078125,52.191349029541016,null,null,{"$f":"R301+S301","v":9042.2683003503498}]
[" ","1945-11-30",3252,10285.842877472654,820.26221929047824,0,29.241666668600001,9855.1064915214829,10093.439453125,1534.64659918438,1700,2595.5214271349869,567,3116.5244090251781,16888.988557926772,-9184.5449203322678,8493.2329156826854,4600,6680,6680,0,81.782127380371094,52.171676635742188,null,null,{"$f":"R302+S302","v":11280}]
[" ","1945-12-31",3265,34542.482324540877,824.21302812999943,0,26.997311829741932,23127.44991545775,23127.44921875,2083.2892960013569,1700,5949.3231077282735,567,8536.0268343253501,49051.66095926259,-5290.322580645161,70001.646811077095,4599.9999999999982,4656.0620366935218,4656.0620366935145,0,54,47.995746612548828,null,null,{"$f":"R303+S303","v":9256.06203669352}]
[" ","1946-01-31",3622,14239.601342632388,943.47833277804125,1939.6130723040228,0,19210.358483894568,19210.359375,2445.7297820018093,1700,13212.568322205916,564,5111.1547598078159,40529.068090405795,-4516.1290322580644,44859.712370226443,4516.1056799663929,3010.7371199775957,3010.7371199775957,0,55.655612945556641,44.724319458007813,null,null,{"$f":"R304+S304","v":7526.8427999439882}]
[" ","1946-02-28",3852.9956555867784,5627.4815285864297,933.88362711524644,0,172.75817611959459,7449.7335346429682,8444.384765625,2649.9228664869697,1700,4577.4677507203196,558,2139.1892015301796,18246.50073484717,-5250,15035.714,4600,3422.7684494659852,3422.7684494659825,0,67.959846496582031,44.543628692626953,null,null,{"$f":"R305+S305","v":8022.7684494659852}]
[" ","1946-03-31",4248.3368458312125,5532.4567092998113,1039.4029104493122,1737.5005074053997,0.41175268313011715,5774.5005074054034,6024.54541015625,2941.6325282741841,1700,3955.2947058510954,649,2770.3926929000331,13537.00310000488,-3258.0645161290322,13459.923526717232,2699.0160992900778,3578.7633386591829,3578.7633386591829,0,70.450767517089844,48.051395416259766,null,null,{"$f":"R306+S306","v":6277.7794379492607}]
[" ","1946-04-30",4552,6536.2604670854216,1035.5740191736413,0,0,7126.9585569894598,7885.64990234375,3266.3413569169625,1000,4374.6416978469315,792,3244.355912116856,16041.999635531585,-3500,15786.507215895243,3398.5230312609515,3461.2857117268832,3461.2857117268809,0,68.465621948242188,51.218387603759766,null,null,{"$f":"R307+S307","v":6859.8087429878342}]
[" ","1946-05-31",4509.2492448931434,9188.5880414467974,1022.6745482395409,0,124.34413358533203,4962.699439999893,5563.61376953125,3455.9583478572786,1378.0406588516009,3591.0229813417932,967,2873.2680714979224,12487.073841803318,-3500,10562.5,3744.4550560294483,2016.2450301697045,2016.2450301697045,0,78.221900939941406,52.536781311035156,null,null,{"$f":"R308+S308","v":5760.7000861991528}]
[" ","1946-06-30",4113.1820409953252,11396.96473770028,1021.0969937601892,130.0000000000004,42.013888891666667,5451.1159232376558,6463.96484375,3243.9465453984844,4499.8230924878198,5585.4656109648531,855.417896440959,2902.7138005083384,15152.535616844174,-5000,8720.8144470128955,3540.5231821997863,1906.4355596460387,1906.4355596460382,0,82.043609619140625,52.138484954833984,null,null,{"$f":"R309+S309","v":5446.958741845825}]
[" ","1946-07-31",3555.7343213962176,13887.446343573189,962.42893445275422,125.80645161290323,940.65860215322596,7988.1210261147608,8958.6552734375,2785.4523245200439,7646.4983260349582,7486.395708631042,724.30847806141685,2505.6117787416815,20462.339498739326,-10684.035420829434,6730.6799868242661,4065.4930621131839,6850.5851241456176,6680,0,84.669235229492188,51.426212310791016,null,null,{"$f":"R310+S310","v":10916.078186258801}]
[" ","1946-08-31",3241.3210949115751,10174.661006755214,915.27225946615363,0,645.25185010708105,4591.4789869771121,5203.1650390625,2256.74101858932,8851.0483388619814,9306.4577409068388,634.07514121828581,1906.6798575678015,17012.81265422688,-10378.313841590472,5256.4681505758699,4139.2297762469379,6925.412845656565,6680,0,85.99310302734375,51.401020050048828,null,null,{"$f":"R311+S311","v":11064.642621903502}]
[" ","1946-09-30",3206.7857373557504,5374.2789456173614,904.58043159183376,0,84.639413736353362,4564.0914154052743,4881.91748046875,1903.3234378751258,5734.7193400832703,7444.5676843802248,588.32658797807971,1546.2567370369561,14347.088550715511,-9533.3915653392833,4008.5106567449748,4600,6680,6680,0,89.134353637695313,51.814586639404297,null,null,{"$f":"R312+S312","v":11280}]
[" ","1946-10-31",3020.3236641655353,7497.0077289408991,886.63734701939336,0,245.04581776631022,6573.4366225089034,6425.8515625,1719.5988303202714,2713.9965599768734,3356.8003441645706,536.48491741676582,1332.6530427544858,11907.50014874326,-7278.8007453040009,4646.0067658093822,3499.6429029853589,5769.1649786266498,3611.3213992643969,1713.1776348917733,89.089736938476563,51.801498413085938,null,null,{"$f":"R313+S313","v":9268.8078816120087}]
[" ","1946-11-30",3022.9719261433747,6592.7072001737251,876.07619539596362,0,186.903308908398,5773.4943891451312,5864.32421875,1651.3326004390351,2072.1840095470325,2452.336167704193,558.38486776784703,1878.4210090486915,11316.051674597285,-7465.1332254831541,4500,4342.1947444497491,5057.3384969402505,4494.3188736394341,0,89.377426147460938,52.014720916748047,null,null,{"$f":"R314+S314","v":9399.5332413899996}]
[" ","1946-12-31",3120.8350392620387,5608.9818935643307,878.08651587251518,0,0,7709.2754757037428,8627.642578125,1578.6372621265537,3185.3229124862692,4813.1554560204522,566.62629540491241,2000.0000000000002,16938.554604809102,-7094.041064088,10753.060432647842,4223.3092194537821,5089.1302279933316,4708.5204368868262,0,78.02935791015625,48.976482391357422,null,null,{"$f":"R315+S315","v":9312.4394474471137}]
[" ","1947-01-31",3151.3213622407338,4095.1799366008631,877.62474632617034,0,0,4528.6252155303955,4778.2412109375,1603.3331840583244,1700,2907.4483408667061,532.00620629602213,1213.9583952547177,10856.190031170729,-5000,7079.7351827250859,4172.2081898093365,2781.4721265395574,2781.4721265395574,0,82.529197692871094,46.364994049072266,null,null,{"$f":"R316+S316","v":6953.6803163488939}]
[" ","1947-02-28",3416.8817368434025,6395.5437763143173,893.26572446478042,256.76135801789729,0,9062.8346739442241,9947.5478515625,1838.987193786613,1700,3527.5455871976374,567,1752.2878308301506,20329.1155841293,-5250,16855.901035068389,4385.2244717631638,2923.4829811754453,2923.4829811754453,0,69.535408020019531,46.733047485351563,null,null,{"$f":"R317+S317","v":7308.7074529386091}]
[" ","1947-03-31",3941.4358371441986,7399.613224152472,962.15809174375295,1120.5169456988756,0,8478.1452083153908,8811.4892578125,2166.7256720379805,1700,4735.50639887952,661,2088.6490352338888,18852.932451089575,-3258.0645161290322,17262.708236782077,2913.1403192676494,1942.0935461784361,1942.0935461784316,0,68.256797790527344,49.30438232421875,null,null,{"$f":"R318+S318","v":4855.2338654460855}]
[" ","1947-04-30",4181.5005438725657,5507.5699593960362,952.3891050347853,0,96.354112251847766,6571.0257858646228,7071.9658203125,2322.6187576231277,1000,3314.3985857828211,760.09629241248695,748.70374046417123,12818.648055170117,-2157.6237560786717,11047.36097767446,1881.384930275533,1736.1020156464106,1736.1020156464106,0,75.533187866210938,54.268218994140625,null,null,{"$f":"R319+S319","v":3617.4869459219435}]
[" ","1947-05-31",3843.3318254668848,10006.191312325458,940.32339954909253,0,92.679785249138547,4479.0245006001314,4654.16259765625,2188.5099282745728,2656.3409071701335,3690.5212396441698,734.44456486950605,1587.8004214617706,10678.374701390951,-2814.070645003294,6635.484640482442,2799.0709244100199,669.38495829010526,669.38495829010526,0,83.406295776367188,53.704944610595703,null,null,{"$f":"R320+S320","v":3468.4558827001251}]
[" ","1947-06-30",3505.4041886358236,13232.969384907539,908.2924624673077,0,423.31741898284781,7843.8590285941173,8989.0322265625,1966.512537002146,3787.9736312788564,4444.0597916757415,680.09736210648737,1008.8976014717657,15044.084059499626,-5000,7323.2410510677582,3232.5539744057951,1740.6059862185039,1740.6059862185036,0,81.751380920410156,51.988655090332031,null,null,{"$f":"R321+S321","v":4973.1599606242989}]
[" ","1947-07-31",2978.3239911480282,13402.15898594226,772.89740547492477,0,2074.1897167659627,8179.9270451215389,10016.1455078125,1710.5698863087782,2958.4355698450113,2634.8846897686053,514.02634400271484,1819.8649149791595,16454.491686338355,-7910.6006428873043,5000,3190.1862538324954,4448.9586025339013,2271.831923762873,1200.8888939241299,87.205245971679688,51.474105834960938,null,null,{"$f":"R322+S322","v":7639.1448563663962}]
[" ","1947-08-31",2639.7792071802614,9612.3189399250114,647.75086121098457,0,1930.0612062364996,5555.0166051405413,7078.1123046875,1630.1378462219136,1525.7242962417474,1774.3620164929057,435.49627168517742,1566.6158706577144,11464.367166199449,-5845.4794944851383,3733.6411873217157,3905.4768657416371,2034.8345892007555,300,0,89.604194641113281,51.929420471191406,null,null,{"$f":"R323+S323","v":5940.3114549423926}]
[" ","1947-09-30",2583.4773816546108,5010.6631390605125,629.94522524985416,0,210.72000086425297,4266.9228489084271,4703.25048828125,1505.4794165094336,1392.568210169738,3074.8012814182648,385.77208371626364,1367.4968367079455,9740.378253494664,-5339.1094507664657,3254.1728605210383,3457.3966095524834,2788.2969893019113,2427.2175756083761,0,91.365226745605469,52.882972717285156,null,null,{"$f":"R324+S324","v":6245.6935988543946}]
[" ","1947-10-31",2633.233895461819,5825.7908296962914,629.2836619279077,0,0,5403.024364841508,5403.0244140625,1447.4403064815892,1326.0011976425496,1868.8197358506575,411.86660348529892,634.36760205357518,9039.0052583273009,-5211.2713422256784,4015.2399197602062,2784.3318151924382,3974.5584360793637,3846.2272555656255,0,92.722633361816406,52.747413635253906,null,null,{"$f":"R325+S325","v":6758.8902512718014}]
[" ","1947-11-30",2636.6657239659244,5244.4895384220235,628.83807765092922,0,0,5092.4629892799649,5340.775390625,1327.3670068321624,1632.5651220289119,2272.4591727726697,449.76352557031441,631.15842027630822,10127.572083194895,-5606.4226338969547,4582.0060471117476,2480.0667568338458,4554.4915810610155,4201.9129649510487,0,91.705497741699219,53.08831787109375,null,null,{"$f":"R326+S326","v":7034.5583378948613}]
[" ","1947-12-31",2618.4856289534855,5253.6005654384298,629.29832758757414,0,0,5354.052504557998,5713.52587890625,1224.4088913950611,1796.2185758205198,2242.8212736424516,422.77113590837615,1559.2608863750181,10609.932994754528,-5754.7217796968907,4638.7354690266284,3386.4534142647522,3747.4590997180917,3263.659286354266,0,90.806297302246094,50.430397033691406,null,null,{"$f":"R327+S327","v":7133.9125139828438}]
[" ","1948-01-31",3183.7557944056362,7753.8604640526291,629.38589435884398,0,0,9741.4057121691767,9994.333984375,1494.384588982967,1301.2060142326777,1200,554.74573663457159,589.13442314859049,14439.262747274926,-3645.1612903225805,11699.089762381567,2976.176457829798,1984.1176385531971,1984.1176385531971,0,79.947219848632813,47.274063110351563,null,null,{"$f":"R328+S328","v":4960.2940963829951}]
[" ","1948-02-29",3187.7930824931259,6008.9280255225221,629.05647997495623,0,0,6483.863283933747,6882.2529296875,1589.4946721880767,1200,1687.588410707649,461.56414706466398,2527.2498064271554,15800.611669924905,-4931.226533986096,11144.826999999999,4600,1684.9365305786093,1244.606084475397,440.33044610321235,78.012580871582031,45.872226715087891,null,null,{"$f":"R329+S329","v":6284.9365305786096}]
[" ","1948-03-31",3514.540374148864,7922.9021808526813,768.60920541091127,2262.7665643201144,0,7282.3098982326619,7225.5712890625,1745.704445970837,1000,2360.9484533339473,478.68625989549014,1617.6061312619786,13807.031053199849,-3500,11480.688048309339,3370.0457151399769,1692.2240489855922,1692.2240489855931,0,77.07745361328125,47.368755340576172,null,null,{"$f":"R330+S330","v":5062.2697641255691}]
[" ","1948-04-30",4422.0000000000009,12965.093809913342,863.24485891387519,1591.416472051038,22.566603756223394,15000,15006.0888671875,2405.4012187118901,1000,6466.1574757590088,792,1723.1621932098219,22991.221416579796,-2575.9057807699346,24942.732449148352,3138.923443081103,2184.6106628193093,2184.6106628193093,0,61.003456115722656,50.385616302490234,null,null,{"$f":"R331+S331","v":5323.5341059004122}]
[" ","1948-05-31",4552,15407.38738003117,957.94134613613289,1589.9291511372508,0,14999.999999999995,15022.328125,2870.1255554712056,1000,8939.1891895762874,965.12506518391081,3000,27957.898382851192,-2985.0121481060942,26482.423643951472,2838.0092745241718,1892.0061830161139,1892.0061830161139,0,59.024826049804688,51.252059936523438,null,null,{"$f":"R332+S332","v":4730.0154575402858}]
[" ","1948-06-30",4500,11782.088723786666,1063.6723155680609,1884.3922802397701,0,6530.9220670023697,7769.318359375,3030.997637686969,1000,5360.8476319685878,967,3424.5514477305805,18817.57186776484,-5000,12574.058902557852,3236.2455848637292,2157.4970565758158,2157.4970565758158,0,69.098312377929688,52.740364074707031,null,null,{"$f":"R333+S333","v":5393.742641439545}]
[" ","1948-07-31",4042.248492247144,11473.999568094257,905.92408995292385,0,2426.6165289049268,6473.5682357878322,8512.974609375,2632.399492097336,6698.7406580806237,8155.2244604149837,903.38809842308819,1819.8125498567147,19803.415624040113,-9822.0013187941622,6500,3045.1840320624506,7035.0409545704633,6680,0,81.215011596679688,51.969650268554688,null,null,{"$f":"R334+S334","v":10080.224986632915}]
[" ","1948-08-31",3697.1594524379366,10298.74588172529,866.34936845403956,0,527.49376825899708,4568.41189964552,5178.5439453125,2130.8892484603889,7903.4796489384571,9409.0811157282296,791.99999999999989,2195.4584186524935,17407.012668397325,-10911.479587503662,4465.3253643082317,4198.5630360320556,7185.2850948114838,6680,0,87.164169311523438,51.845310211181641,null,null,{"$f":"R335+S335","v":11383.84813084354}]
[" ","1948-09-30",3400,8770.5954349470521,845.29528793340478,0,269.90700943847423,8328.3325523353196,8612.28515625,2037.5598278139094,1000,3273.4102767316826,674.59668003708748,2389.8739558902694,15319.547628568516,-9799.505151631296,4387.4895703838611,4600,6680,5959.9309177366413,720.06908226335872,87.932945251464844,50.185237884521484,null,null,{"$f":"R336+S336","v":11280}]
[" ","1948-10-31",3223.0537434842886,7546.2545315365169,832.88282644001913,0,156.10839064950514,6943.2706471041183,6921.685546875,1827.5102141479658,2838.0212465784402,3820.5985809650097,614.67394002066533,1325.7102169827742,12529.443833336327,-8197.8839817807129,4070.4192933833538,4600,5373.6366579081514,4913.5496810845571,343.89514274105886,89.13616943359375,51.931564331054688,null,null,{"$f":"R337+S337","v":9973.6366579081514}]
[" ","1948-11-30",3177.3391802632063,5793.4725619615201,819.88414036125107,0,201.33266429085953,4837.9973801916121,4801.30615234375,1658.688909351207,2499.8319444481813,2667.5255382423693,567,2040.0212745264846,10737.319550572161,-6109.4214290448981,4500,2994.3138725411227,4554.2025396834988,3562.9473397045645,0,90.54669189453125,53.426139831542969,null,null,{"$f":"R338+S338","v":7548.5164122246215}]
[" ","1948-12-31",3236.6842584690439,5284.0211719852377,815.18138987132249,0,122.64985563863969,5770.076837929646,6350.6943359375,1562.6613602812743,2322.0253469978002,3470.8215975762055,558.31304547240939,1895.1328342259189,13892.620596832883,-7374.9036381443439,6677.3317347759294,4217.5304068744908,4635.7001821950817,4482.5935243447439,0,87.789581298828125,50.542633056640625,null,null,{"$f":"R339+S339","v":8853.2305890695716}]
[" ","1949-01-31",3252.9331824590304,4294.3913655438537,814.98425059205397,0,0,5156.6552113029275,5505.22119140625,1577.9028301054534,1700,2617.3690333440063,521.49601156844119,1238.5077663095867,10666.253457457924,-5000,7118.2926594524888,3869.0793432115311,2579.3862288076939,2579.3862288076948,0,85.04290771484375,47.417926788330078,null,null,{"$f":"R340+S340","v":6448.465572019225}]
[" ","1949-02-28",3451.8785644933591,5632.5310992782779,876.28291075137247,1103.7307027473241,0,5241.2307027473225,5735.21484375,1659.0012614084746,1700,2600.9395928538065,504.97060973066249,1489.7100640017684,13623.069762664793,-5250,9491.4129851476264,4149.4964782514844,2766.3309855009684,2766.3309855009684,0,81.477005004882813,46.889595031738281,null,null,{"$f":"R341+S341","v":6915.8274637524528}]
[" ","1949-03-31",4071,21167.937470500947,1057.6446656999087,2864.3817608206878,0,22732.731613150856,22732.732421875,1906.2513511985335,1700,7180.6384458349548,664,2079.0049274676671,36648.921763702849,-3258.0645161290322,43567.342805611785,3132.2980791561226,2088.1987194374892,2088.1987194374155,0,54.13214111328125,47.019855499267578,null,null,{"$f":"R342+S342","v":5220.4967985936119}]
[" ","1949-04-30",4503.4103933009328,5230.5307296107039,1051.1220580411234,0,32.317088745175539,6841.0837609089058,7391.1826171875,2185.1387327592006,1389.7473137414381,2800,792,2952.4131482077905,13579.184923827139,-2316.019089277429,12938.976911761973,2727.6601064057932,1631.9240781688031,1631.9240781688031,0,71.259170532226563,53.003471374511719,null,null,{"$f":"R343+S343","v":4359.5841845745963}]
[" ","1949-05-31",4428.2707760290314,9694.4077974629654,1030.2656534949028,0,264.83002334447093,6475.2733671788556,7073.73583984375,2317.0917724343653,2009.6502204808999,3587.0310846400425,950.81353163975825,2437.232204115774,14949.2088858684,-2984.2561055931101,12086.29,2810.2898062559152,1513.2329725993386,1513.2329725993386,0,76.120803833007813,52.524898529052734,null,null,{"$f":"R344+S344","v":4323.5227788552538}]
[" ","1949-06-30",4007.4674144625187,11283.922655211549,1027.5826955399134,130,41.705254280580903,5000,6138.1982421875,2048.3286977953121,4628.6764444802102,4954.3325403534564,852.78736052443458,2350.0131525807587,14060.900957514656,-5000,6713.3334999999997,3331.5797249213324,1793.9275441884097,1793.9275441884097,0,81.8648681640625,52.499393463134766,null,null,{"$f":"R345+S345","v":5125.5072691097421}]
[" ","1949-07-31",3417.1388833056262,13681.227426366677,968.91327659963724,125.80645161290323,940.65860215322493,8047.5366792666709,9011.9404296875,1815.8878029654531,3021.0160286335617,2642.1797278005897,672.70095627624812,2586.9753885650925,16383.030149050637,-9178.9474142215877,3677.2597923105768,3957.7983819550495,5126.40040065209,1716.4597782605465,1550.3952811523716,88.07293701171875,51.373516082763672,null,null,{"$f":"R346+S346","v":9084.1987826071399}]
[" ","1949-08-31",3101.1036742215515,9768.1937856580807,842.35962427231811,0,1942.2511156758897,5537.727840839043,7328.52197265625,1785.7648971321917,749.99999999985357,904.09062756576827,570.29231369419097,1993.2614596565456,11831.323060174514,-5713.1918056302238,4396.4761722461662,4600,1305.2522956406515,580.24444377455256,0,90.487312316894531,51.839286804199219,null,null,{"$f":"R347+S347","v":5905.2522956406519}]
[" ","1949-09-30",3020.1615306115327,5430.4680046200992,760.29664898814917,0,1285.1260177471222,4801.3754447108677,6490.95703125,1706.3802420534255,773.33333330004484,2666.4045417106399,518.4877548687233,1508.4411045737941,11179.071473712269,-6805.0907833310303,3311.667587602954,4448.5293417510202,3523.5795704124821,2542.4775928622685,0,91.285476684570313,52.016128540039063,null,null,{"$f":"R348+S348","v":7972.1089121635023}]
[" ","1949-10-31",2900.0187586210491,6095.0425154527829,673.97893758479927,0,1355.595166313047,4941.7704979088085,5974.6767578125,1533.1978316238433,1518.2892386768031,2147.7972460884998,463.99226787494212,1227.3160234938862,9868.6874216639226,-5692.9698620301151,4000.2240097550784,3084.5486704015771,3971.3813403384975,2011.6253987616506,0,90.636093139648438,51.939731597900391,null,null,{"$f":"R349+S349","v":7055.9300107400741}]
[" ","1949-11-30",2819.8688678220947,6103.3271319337518,595.77740331174027,0,1302.0623749842355,5052.0031391685097,6506.9052734375,1403.1265414788363,1221.8401866838508,1637.4733812112249,460.38231295777507,1252.4244919829091,10374.746489815489,-5965.9111020564142,4500,2836.7902201772795,4551.5991848231424,2854.9743348721613,0,87.977653503417969,53.241493225097656,null,null,{"$f":"R350+S350","v":7388.3894050004219}]
[" ","1949-12-31",2731.6489912660272,5733.9962064206793,595.9296673683541,0,0,5613.8068433563785,5909.50048828125,1291.3669851059622,1911.952473055027,2337.8663231736164,445.45074092632058,1435.7979824090085,10993.651365950536,-6037.4091610459382,4912.0098301450807,3909.8213703273987,3475.915434049205,2748.8843799626638,0,88.776359558105469,50.253227233886719,null,null,{"$f":"R351+S351","v":7385.7368043766037}]
[" ","1950-01-31",3023.3847253377317,7992.717231562372,713.48941826081432,1860.6903509270346,0,8384.3913832601174,8752.9287109375,1546.1158864999225,900,3894.1642599338638,567,2599.8177994263083,18024.985170248568,-3645.1612903225805,17146.286888149989,3251.7343876719474,2167.8229251146299,2167.8229251146299,0,70.428855895996094,46.840263366699219,null,null,{"$f":"R352+S352","v":5419.5573127865773}]
[" ","1950-02-28",3426.0562332341478,9801.0171478630473,771.8551946321644,1022.3864207389697,0,14209.494443240499,15497.541015625,1966.9356308020874,898.14351950566947,7295.3524503673043,565,5261.4793308830122,35166.767375728523,-4464.2857142857147,35358.507150394609,3721.683750080952,2481.1225000539675,2481.1225000539675,0,58.547260284423828,46.183757781982422,null,null,{"$f":"R353+S353","v":6202.8062501349195}]
[" ","1950-03-31",3878.1999491618244,6759.8345514950042,856.21148238756371,1390.9954831011639,3.0486640944819783,7232.4483365142123,7429.740234375,2405.5425469574188,800,3651.7095700435098,658,2887.8836910616692,17600.859394699877,-3258.0645161290322,15991.770736514261,2977.308042903162,1984.8720286021094,1984.8720286021103,0,66.68603515625,48.547016143798828,null,null,{"$f":"R354+S354","v":4962.1800715052714}]
[" ","1950-04-30",4285.4962997793727,5800.5508429223701,850.15057759106548,130,168.7699934155759,7999.9999785500977,8329.447265625,2898.941357497541,1000,6301.4131033900348,792,4947.8193896082548,22475.523693784038,-3209.3174131440692,22195.722007425025,3483.2792022525209,2322.1861348350139,2322.1861348350139,0,63.159461975097656,53.520427703857422,null,null,{"$f":"R355+S355","v":5805.4653370875349}]
[" ","1950-05-31",4294.7618204420623,7592.0470252086334,806.8276941774609,0,617.61534216884957,3545.1512603759766,4075.18212890625,3177.37906406816,1380.576727908395,4752.2195271657165,967,3027.7034079269192,14116.458822603367,-3290.210547588294,11766.129000000001,3105.9343237428366,1672.4261743230654,1672.4261743230654,0,76.811744689941406,54.373752593994141,null,null,{"$f":"R356+S356","v":4778.360498065902}]
[" ","1950-06-30",4060.1651969229215,8849.141428160634,780.07649971077194,0,347.25979709009005,3541.3732757568359,4702.34814453125,3136.0889828691916,2662.8410530629403,5401.8895356660651,949.44374721018971,3000,14583.405272815384,-5000,8440,3495.4519536430789,1882.1664365770739,1882.1664365770739,0,81.836708068847656,53.161594390869141,null,null,{"$f":"R357+S357","v":5377.6183902201528}]
[" ","1950-07-31",3604.3071814622335,11689.536172445441,713.09289053928831,129.08215162897099,1088.3757334790273,5935.1479326483441,6962.51904296875,2622.4426291715863,8381.3299376133218,8976.2824149784265,880.00508689336573,2001.6883886488554,19293.809533405714,-9580.2411152385757,6728.8823903685825,2487.9922993270129,7021.0933966894709,6680,0,85.043022155761719,52.235492706298828,null,null,{"$f":"R358+S358","v":9509.0856960164838}]
[" ","1950-08-31",3228.0989057519173,9854.3009133773994,669.58195522455856,0,596.0236786251437,4547.6162547904587,5376.90966796875,2280.1316839998794,5743.773317514082,6944.2952786321903,730.60002611094603,2922.7564973500989,16958.552650223319,-10643.555316093334,4902.5576527310686,4600,6469.7101469073832,4986.5441096916757,1001.0145333172459,87.48992919921875,52.024387359619141,null,null,{"$f":"R359+S359","v":11069.710146907382}]
[" ","1950-09-30",3167.5886711769481,5331.8518852730067,649.58188707504235,0,253.97426282685308,4560.8753776549747,5494.716796875,1986.6780135013391,4932.6498762012552,6995.9297595513544,686.04353714348099,1538.0518285746034,14814.688106079131,-9899.0849510540866,4514.6436027866494,4600,6680,6680,0,88.194656372070313,52.635108947753906,null,null,{"$f":"R360+S360","v":11280}]
[" ","1950-10-31",3250,9538.8663422910322,646.27794707617977,0,40.495967744612912,8386.8175630395599,8250.533203125,1925.7411578046808,2182.5155069398807,1819.9473930349031,665.25148497268924,1375.4549007476314,12972.333776056683,-8505.2867143031253,4264.7045485455874,4600,5655.850413493923,5655.850413493923,0,87.669235229492188,52.084186553955078,null,null,{"$f":"R361+S361","v":10255.850413493923}]
[" ","1950-11-30",3252,13215.293302802071,645.05410416859513,0,29.241666668600001,15060.0962739609,15060.0966796875,2383.7746855200548,1700,11677.251231382441,449,16077.327080509944,45044.726434083488,-9146.4583504032344,46058.216412378308,4600,6680,6680,0,54,53.436977386474609,null,null,{"$f":"R362+S362","v":11280}]
[" ","1950-12-31",3322,23568.332655670099,843.44211776273551,3171.2258064516132,0,21630.713409859036,21630.712890625,2866,7111.9120656033692,27144.748781641916,367,15582.070259262162,61484.440360046683,-4992.3866508349929,91334.465562824524,4600,8665.1612903225796,8665.1612903225796,0,54,49.288318634033203,null,null,{"$f":"R363+S363","v":13265.16129032258}]
[" ","1951-01-31",3624,15129.407995021109,1023.7905993840973,2893.4556656502655,0,18763.825648675745,18763.826171875,2846,11313.456177138709,21644.859952292394,384,9796.7305162991688,49969.677333772175,-3478.3463267696752,63590.436287596276,3661.6414210161038,6123.9313080308966,6123.9313080308966,0,54,45.713977813720703,null,null,{"$f":"R364+S364","v":9785.5727290470004}]
[" ","1951-02-28",3794,25548.514632335286,1178.5718464177864,2770.947285463008,0,20585.627047928316,20620.828125,2925,10840.078517811122,20595.95764669442,407,7228.7673906883683,55349.439355841081,-3511.0309180140384,69240.980793096969,1392.4718990404456,6255.6098287541481,6255.6098287541481,0,54,44.945442199707031,null,null,{"$f":"R365+S365","v":7648.0817277945935}]
[" ","1951-03-31",4196.056362224992,8141.7641354839925,1210.4403113485071,557.28645516073459,0,11005.597797800787,11272.818359375,3105,4521.6581968283117,11590.519213705917,599,4288.4872731498608,28077.793337748175,-3258.0645161290322,30917.934249877653,2743.7706895211204,4221.2272845984508,4221.2272845984508,0,59.748889923095703,47.713413238525391,null,null,{"$f":"R366+S366","v":6964.9979741195712}]
[" ","1951-04-30",4423.6064488761949,5873.8611490504118,1206.7249027905143,0,0,6395.8100319714404,6702.56201171875,3361.5644753212305,1000,4381.1472564783753,792,2235.631210214774,14205.750149353225,-3500,14311.003084912492,3531.5411287384563,3867.4375165501428,3867.4375165501428,0,67.666786193847656,51.707126617431641,null,null,{"$f":"R367+S367","v":7398.9786452885992}]
[" ","1951-05-31",4552,7920.1348348411238,1201.7531623665504,0,0,5340.1184548049596,6241.1103515625,3538,1747.3727155970266,5153.8529145288303,967,2682.5397119982645,16021.245509290336,-3500,13980.153630722763,3139.2756427785725,2092.8504285190493,2092.8504285190484,0,69.54046630859375,53.042621612548828,null,null,{"$f":"R368+S368","v":5232.1260712976218}]
[" ","1951-06-30",4233.3971507499882,9786.5473110801413,1133.7631166690371,0,1010.8659571832521,5250.6047968711864,6384.88232421875,3404.1732123421489,3113.6351682266736,4021.541558558119,890.09533194711184,1958.9534653875564,13113.372686960409,-5000,6353.5372451709773,3324.6189076977498,1790.1794118372163,1790.1794118372165,0,81.833328247070313,52.659900665283203,null,null,{"$f":"R369+S369","v":5114.7983195349661}]
[" ","1951-07-31",3518.6277476036453,15958.945200645507,1092.3874059473851,125.80645161290323,655.49600056786005,9288.0642355607288,10432.8525390625,2856.5630460881034,8905.1974131392162,8709.7310912773937,591.99999999999989,4696.0778475594498,24911.714309316576,-9102.0639550392298,12381.133660885851,3210.3425363760493,5928.3313637951051,5703.8177220854932,0,77.353981018066406,51.029796600341797,null,null,{"$f":"R370+S370","v":9138.6739001711539}]
[" ","1951-08-31",3094.9076072806556,11746.544751387511,1047.7771775729411,0,596.34908712800529,6010.3434480005708,7157.72998046875,2365.5981017112481,8247.5863964790406,8580.3093646675898,539.43742881331957,1604.3881359806919,18118.913143944432,-10785.45737400193,5491.1291806709678,4600,6680,6680,0,84.293617248535156,51.215854644775391,null,null,{"$f":"R371+S371","v":11280}]
[" ","1951-09-30",2914.9296370912634,8511.4562797453909,1019.285042516483,2.8675826564199939E-3,373.84788563301748,7753.1791732059028,8773.537109375,1916.5325803258593,8012.6918077939717,9985.7723488642441,432.86524625692135,2369.8977611283171,22063.77812584522,-9677.8326042256704,11513.255327163293,4225.3505776641323,6680,6680,0,76.035423278808594,50.684589385986328,null,null,{"$f":"R372+S372","v":10905.350577664132}]
[" ","1951-10-31",2898.8115939795439,6188.7187584466546,1014.7571562515628,0,40.495967744612912,5557.6415443167052,5543.00439453125,1740.9290575465614,4000.0000000000091,4458.7958916946372,401.21079478588712,1351.9422540537053,12155.20524524173,-5036.3689282411015,7187.5,2917.0450734431993,3522.7677827388766,3522.7677827388766,0,82.457427978515625,51.770668029785156,null,null,{"$f":"R373+S373","v":6439.8128561820758}]
[" ","1951-11-30",3002.6886349356614,8172.252118622162,1014.4594557004109,0,29.241666668600001,7736.6630250549852,8279.685546875,1688.8092014392369,1714.5198367024047,2877.4602082001061,432.66497542360275,1870.1023684738889,14276.664754836242,-9619.0133753465852,4904.9592502618598,4600,6680,6680,0,88.686088562011719,52.520565032958984,null,null,{"$f":"R374+S374","v":11280}]
[" ","1951-12-31",3306,23374.250673701987,1016.8228020255714,0,26.997311829741935,22117.883384180037,22117.8828125,2100.4706402407633,1700,3140.107967069323,567,3673.9783546013718,36346.013491588426,-5290.322580645161,39685.032051792339,4345.6063659100619,2897.0709106067079,2897.0709106067079,0,55.251277923583984,48.605495452880859,null,null,{"$f":"R375+S375","v":7242.6772765167698}]
[" ","1952-01-31",3604,18271.270458715459,1227.0726960159868,3311.6129032258063,0,25035.106092523143,25035.10546875,2540.8619055680315,1700,17283.706205652332,567,8778.8078994635762,56461.985633723081,-4516.1290322580644,79550.352758150984,4599.9999999999964,4878.4065254026245,4878.4065254026245,0,54,45.338108062744141,null,null,{"$f":"R376+S376","v":9478.4065254026209}]
[" ","1952-02-29",3739,27619.307741212007,1392.2458600866582,2861.6046475610187,0,23843.829156803269,23877.81640625,2832,7844.6717693882429,17127.280884991444,566,9258.4522370620198,56994.542330205542,-4482.7586206896549,72711.093619591047,4600.0000000000018,4355.3896541136055,4355.3896541136073,0,54,44.343574523925781,null,null,{"$f":"R377+S377","v":8955.3896541136073}]
[" ","1952-03-31",4022,18007.166844953728,1500.0000000000002,1733.6790586071436,0,22586.610265363226,22586.609375,2988,7072.5615818602928,16208.52312928143,661,6724.168321682534,47634.954317229829,-3258.0645161290322,63687.577777234874,4599.9999999999527,6106.6933168490923,6106.6933168490905,0,54,46.39630126953125,null,null,{"$f":"R378+S378","v":10706.693316849045}]
[" ","1952-04-30",4290,22973.101919069173,1500.0000000000002,68.915141829782726,0,20414.380696512366,20429.220703125,3452,17581.454905803072,28594.602432259391,792,8670.5547223587764,56030.19842147483,-3500,71890.36979801525,4600,5953.0206502492329,5953.0206502492329,0,54,49.532474517822266,null,null,{"$f":"R379+S379","v":10553.020650249233}]
[" ","1952-05-31",4552,12532.014854836039,1500.0000000000002,115.31047453943573,0,10919.370998106491,11738.3095703125,3538,20391.224884264651,34934.780797887674,967,9164.4929258045777,56008.619700114286,-3500,63550.483597505678,4360.0287007218849,6253.0474965119884,6253.0474965119865,0,54,52.332958221435547,null,null,{"$f":"R380+S380","v":10613.076197233873}]
[" ","1952-06-30",4500,9284.9930311452226,1500,136.67042617254859,31.130199009447097,5962.3845534263646,6919.31103515625,3538,9069.6248646801778,18112.344484874819,967,7725.0460226741116,34702.164102531184,-5000,36318.636674620982,4600.0000000000309,6156.0795751736423,6156.0795751736423,0,55.482078552246094,53.319747924804688,null,null,{"$f":"R381+S381","v":10756.079575173673}]
[" ","1952-07-31",4150,13604.194857234204,1500,210.39310873943083,38.143237419538309,7476.5252671417784,8758.083984375,3538,2346.8912159792017,5229.928553868026,942,3078.7440565167058,18237.517255050723,-8354.9242919379685,10645.906426769448,4600,6680,6680,0,73.827117919921875,51.928112030029297,null,null,{"$f":"R382+S382","v":11280}]
[" ","1952-08-31",3700,12276.793340628677,1499.9999999999998,182.46139735658477,31.733791103810745,6343.7205320073344,7372.150390625,3438.1668364667894,2712.5755901328107,4707.407968580982,791.99999999999977,3709.9433828416627,16496.846116593089,-9473.7240042618723,6764.774225156073,4600,6680,6680,0,83.124153137207031,51.387020111083984,null,null,{"$f":"R383+S383","v":11280}]
[" ","1952-09-30",3399.9999999999995,11169.582886914297,1464.1110116284744,0,477.15346923870044,10850.137607802861,11686.8291015625,3149.978257347705,5559.5771131235133,7317.8121278619938,743.36563902579371,1750,21369.855243599526,-8943.7854916942342,13403.33333336,4600,6680,6680,0,73.992378234863281,50.434181213378906,null,null,{"$f":"R384+S384","v":11280}]
[" ","1952-10-31",3250.0000000000005,8551.9960587767619,1431.9936811644111,0,448.64664444938825,7852.3443076515205,7771.767578125,2929.8119452516544,4000.0000000000182,4744.6367296339722,708.71323573057543,1319.7734800172198,14286.364742768792,-6237.3982940486749,8046.5725806709679,4600,3534.005057273238,3534.005057273238,0,80.397537231445313,51.723529815673828,null,null,{"$f":"R385+S385","v":8134.005057273238}]
[" ","1952-11-30",3188.4594215152247,6356.9326328642392,1415.0748170364866,0,299.99999999999909,5856.3353435610898,6277.35693359375,2839.3764425736731,2499.999999999904,2978.6426528420629,564.24674770434638,3821.9307732934931,13989.930980532961,-9163.874772011819,5052.4343988418586,4600,6680,5747.651217085785,919.51347448337219,88.146133422851563,53.396984100341797,null,null,{"$f":"R386+S386","v":11280}]
[" ","1952-12-31",3345,18915.991919784276,1425.2282168464083,0,0,22799.116104774555,22799.115234375,2918,2892.4036192419767,3924.8852644762687,567,2513.4883894520162,32233.024434670246,-9492.2362381132516,30451.365821379368,4600,7101.1519903964745,7101.1519903964745,0,59.981292724609375,51.077976226806641,null,null,{"$f":"R387+S387","v":11701.151990396475}]
[" ","1953-01-31",3366,44507.622125879221,1500,1204.0976247950648,0,26427.625756477239,26427.625,2809,20520.690529230782,20509.223014047369,566,6963.6136308161667,61379.456679105075,-3645.1612903225805,98560.12482373089,4053.8681526349924,2702.5787684233269,2702.5787684233269,0,54,46.495803833007813,null,null,{"$f":"R388+S388","v":6756.4469210583193}]
[" ","1953-02-28",3713.3586573540638,5710.6013048256209,1499.9999880339594,28.990060697255689,0,10308.420824099889,10967.5830078125,3058.0397751760192,1700,8402.2817445961628,558.05873291543867,1999.9999785507919,24332.947456410573,-5000,22669.995643008358,3382.3128449320316,4230.8665850911002,4230.866585091102,0,63.840633392333984,45.855876922607422,null,null,{"$f":"R389+S389","v":7613.1794300231322}]
[" ","1953-03-31",4147.3133949202756,7705.1092384847016,1499.9999887575068,27.357223945853359,2.7557537695424124,10149.691544305391,10298.298828125,3059,6149.8694295999376,7735.9741401970605,619.72677307996059,1583.5301037719482,20821.981036877958,-3258.0645161290322,19671.937191579018,2764.7345184502092,2889.9950629332889,2889.995062933288,0,64.267448425292969,48.340660095214844,null,null,{"$f":"R390+S390","v":5654.729581383498}]
[" ","1953-04-30",4512.3124807488766,7537.4378409194996,1499.0929189173639,24.737460373331388,0,8434.0953661930762,8313.6279296875,3284,4531.8288506699464,6916.4919847802639,792,2579.3629900033379,18339.88835110515,-3097.5438937160593,18060.539327495484,3342.1187200127465,2673.4123098846553,2673.4123098846553,0,67.265129089355469,52.134433746337891,null,null,{"$f":"R391+S391","v":6015.5310298974018}]
[" ","1953-05-31",4552,13238.794863592911,1499.9999671922083,86.495605942850972,0,11185.335385918412,12554.9931640625,3538,3272.67524885375,8492.7900625463517,967,2126.3851660129112,23828.705653668741,-3500,21822.503423950526,3264.6043059016943,2176.4028706011309,2176.4028706011309,0,66.426544189453125,51.326854705810547,null,null,{"$f":"R392+S392","v":5441.0071765028251}]
[" ","1953-06-30",4500,11748.467236227094,1499.9999453588953,159.80627982795389,36.252272043958918,7630.3636639250553,8830.78125,3538,5514.254915460866,10744.953452665566,967,4309.2597103181106,24633.769637683559,-5000,18415.53334912991,3138.0194999811647,2092.0129999874425,2092.0129999874425,0,67.346290588378906,52.308551788330078,null,null,{"$f":"R393+S393","v":5230.0324999686072}]
[" ","1953-07-31",4053.9823458114593,13781.154681964628,1491.8009766658433,125.80645161290323,40.658602153225807,7661.2357291236822,8691.6376953125,3043.9577842722283,9392.3240107851761,10448.514930384603,906.62507477264273,2809.261776297441,22650.884794520083,-11122.012184736875,8000,4600,7004.9017250857196,6680,0,79.652992248535156,51.853630065917969,null,null,{"$f":"R394+S394","v":11604.90172508572}]
[" ","1953-08-31",3700,10793.853423803062,1495.3334393552743,305.0373847450897,31.873091558405918,5247.5096174405098,6069.5537109375,2605.3156924756113,8025.8335888400097,8732.7913399444114,792,2660.1824535522574,18264.886962048095,-10699.92339794775,5770.3226888258614,4600,6680,6680,0,85.872528076171875,51.63800048828125,null,null,{"$f":"R395+S395","v":11280}]
[" ","1953-09-30",3399.9999999999991,11186.462578921548,1459.3505690407635,0,478.76408926062686,10884.173697604994,11769.8359375,2173.6104333175958,7877.8559361195821,9738.6770810884591,748.93517931998315,1533.7373196932112,22883.058728056036,-9808.258635623486,12309.583333360055,4600,6680,6680,0,77.437095642089844,50.416526794433594,null,null,{"$f":"R396+S396","v":11280}]
[" ","1953-10-31",3250.0000000000005,8994.3265659069893,1428.2073009803778,0,448.64664444938825,8457.962836108125,8414.669921875,1974.882150846995,4000.0000000000432,4545.1261771210056,699.16319351218158,1332.6051236595831,14591.592872842071,-6724.2356481329189,7734.0725806709679,4600,3711.7032779558858,3711.703277955864,0,79.189590454101563,51.433444976806641,null,null,{"$f":"R397+S397","v":8311.7032779558867}]
[" ","1953-11-30",3252,9979.3519484979588,1488.8634229266563,1184.1885165455033,0,8412.0111169319807,8655.943359375,1994.5879884098831,1700,2306.6138083430719,567,3787.2697171818154,15101.722245213065,-9343.9145704696166,5318.4453436515614,4600,6680,6680,0,83.356597900390625,52.790668487548828,null,null,{"$f":"R398+S398","v":11280}]
[" ","1953-12-31",3315.5914340858808,6985.7898072907274,1470.267333810807,0,290.32258064516134,7571.5759072632281,8160.52392578125,1875.5706047789618,4330.5514308214215,5016.7980637620612,557.64325172724625,1878.6463683951329,15480.509888343624,-9787.5444795034418,5073.0649618188163,4600,7030.7022573503291,6514.778003475536,515.92425387479307,84.9979248046875,49.841621398925781,null,null,{"$f":"R399+S399","v":11630.702257350329}]
[" ","1954-01-31",3552,21170.679681031186,1500,428.32142299855116,0,20068.030126209756,20068.029296875,2023.0230758725852,2928.1886070696901,1700,567,1677.2575453882698,25288.817060017074,-3645.1612903225805,24301.872477264231,3009.6558638615502,2006.4372425743636,2006.4372425743636,0,64.219573974609375,47.252044677734375,null,null,{"$f":"R400+S400","v":5016.0931064359138}]
[" ","1954-02-28",3661,28169.14996091256,1500,0,0,24207.172436818175,24242.375,2389.6297448343421,1700,7409.0424614153053,567,2951.7412440922408,47381.480026570433,-4464.2857142857147,55245.467705514937,3590.8723670816498,2393.9149113877638,2393.9149113877638,0,54,45.513992309570313,null,null,{"$f":"R401+S401","v":5984.7872784694136}]
[" ","1954-03-31",4106,18301.372572291566,1500,0,0,21695.85846482417,21695.859375,2943,1768.6718370683111,8463.4815254575806,656,4012.2336672605857,36972.364426299086,-3258.0645161290322,40512.471265554501,3000.7874270382522,2000.5249513588346,2000.5249513588337,0,54.413120269775391,47.149871826171875,null,null,{"$f":"R402+S402","v":5001.3123783970868}]
[" ","1954-04-30",4546,17753.340243350984,1499.9999733255956,60.315669872265232,0,20585.856334722404,20597.345703125,3292,6219.0309677556215,13935.30184537157,792,3710.4573581429495,38206.607679446941,-3115.266350423984,43163.417453842689,3775.7421380545211,2517.1614253696816,2517.1614253696816,0,54.331211090087891,49.985404968261719,null,null,{"$f":"R403+S403","v":6292.9035634242027}]
[" ","1954-05-31",4552,8995.7673404513662,1448.4547315688189,0,719.00052699766184,6210.7908654670673,6740.681640625,3417.6217580979082,2010.3806688018653,5529.6522036365805,889.37584798542753,1154.9547490000632,13780.583400360721,-3178.8822442265464,10697.581,3117.1537460463796,1678.4674017172811,1678.4674017172811,0,75.727531433105469,53.243457794189453,null,null,{"$f":"R404+S404","v":4795.6211477636607}]
[" ","1954-06-30",4255.8441465939868,11108.554156303413,1393.1969117338706,0,806.10871808972445,7182.0593541733815,8791.6552734375,3255.2573314136253,3774.2807955458507,5027.6296702524542,833.7612889515118,1136.1411671434425,14887.424745066153,-5000,7706.6665000000003,3399.8348498302607,1830.6803037547575,1830.6803037547575,0,82.254425048828125,52.433555603027344,null,null,{"$f":"R405+S405","v":5230.5151535850182}]
[" ","1954-07-31",3587.125850451122,16180.859836391719,1311.8701619815615,0,1154.1496057369698,9895.2951809530969,11998.8486328125,2742.4229868361222,8306.0787965674645,7934.4411257026122,543.83410238216436,4089.256923062715,24964.303023492703,-9299.6808230814058,11888.282040270606,3291.5731127064987,6175.7921214445041,5933.9563477550364,0,78.446037292480469,51.364051818847656,null,null,{"$f":"R406+S406","v":9467.3652341510024}]
[" ","1954-08-31",3277.8387355152217,12028.156501946152,1275.0701040613458,0,478.37650750700732,7199.5529568322272,8233.0634765625,2284.2435073421448,7814.1691245783586,7750.0693323727619,493.51813396057094,1483.5491783390894,17890.806773438795,-10554.916880532637,5702.8225806709679,4381.8171026213258,6680,6680,0,84.155128479003906,51.535629272460938,null,null,{"$f":"R407+S407","v":11061.817102621326}]
[" ","1954-09-30",3158.0062561747077,9180.7524501462176,1239.1822355791739,0,497.23698833322612,8306.373769232885,9205.611328125,1841.0254934360664,7867.5491106412201,9674.6089979501339,393.31800472990142,2160.3855787314337,21859.60968486805,-8955.7800288850849,12278.33333336,3455.7969736981431,6680,6680,0,76.642280578613281,50.875484466552734,null,null,{"$f":"R408+S408","v":10135.796973698143}]
[" ","1954-10-31",3099.184800238615,6319.6971710146181,1205.256019660015,0,489.14261219400117,5469.1249152069486,5690.5126953125,1643.1277404759992,3999.99999999996,4858.950041412777,337.33092127278093,1315.8561075347902,12613.891317189926,-5568.4160922566152,7109.0725806709679,3175.5756959370237,3931.1697828141914,3931.1697828141914,0,81.823806762695313,51.874340057373047,null,null,{"$f":"R409+S409","v":7106.7454787512152}]
[" ","1954-11-30",3221.1370456156696,7848.012805385617,1208.5828107003874,6.2911847179369764E-3,0,9520.565324186402,10045.3212890625,1572.9478085728269,1700,2287.4337642577079,321.43764594889041,1525.211231975544,14723.664837431625,-9565.4519267898104,5071.4692593960935,4600,6680,6549.9898972050132,130.01010279498678,85.33154296875,52.713699340820313,null,null,{"$f":"R410+S410","v":11280}]
[" ","1954-12-31",3360,10487.520073920758,1209.7750357789196,0,26.997311829741932,14581.484965874339,15508.947265625,1596.7435787181196,1700,3895.0758834594753,383.33127810920473,1553.6670010826708,23619.995962542103,-9703.4846665332589,15130.54548564271,4600,7042.1597167001528,7042.1597167001528,0,71.948097229003906,50.29913330078125,null,null,{"$f":"R411+S411","v":11642.159716700153}]
[" ","1955-01-31",3506.5732605657431,6619.8061593137536,1222.5988157559475,188.86876527876626,0,9482.1047662641722,10362.9404296875,1653.2469647381965,1700,4012.1617465441668,447.51265024197357,1237.1941774882141,17114.547049248329,-5225.8064516129034,15547.988398400994,4453.5980704454169,2969.0653802969446,2969.0653802969446,0,70.601051330566406,46.714111328125,null,null,{"$f":"R412+S412","v":7422.6634507423614}]
[" ","1955-02-28",3659.1228380315656,5098.0598187152755,1250.1811517630979,513.78930289957157,0,5942.7043019568109,6474.5009765625,1739.9115731233935,1700,2226.8514846517096,455.11485221756647,1194.0995354443112,13720.421829703761,-5000,9843.7500000000073,3595.7468617909194,3009.1014010243566,3009.1014010243566,0,77.684402465820313,46.733600616455078,null,null,{"$f":"R413+S413","v":6604.848262815276}]
[" ","1955-03-31",3827.5649433707667,4601.5772173463247,1246.9388972345901,0,16.976643530960065,6156.1810447084217,6252.98095703125,1864.2968804190045,1700,2279.8679146978625,457.37078951216546,1527.4217090742163,11014.30006441693,-3438.4938843547166,8411.8562690039798,3269.8438073926873,1760.6851270576008,1760.6851270576008,0,81.070381164550781,49.556419372558594,null,null,{"$f":"R414+S414","v":5030.528934450288}]
[" ","1955-04-30",4199.7216112591932,5763.9069787696253,1238.1192292782835,0,135.08633054392587,5983.7857309999044,6459.9287109375,1936.3571935425348,1655.9527409701032,2800,551.14809361841651,841.62290447793464,10936.635737246088,-1751.4047142100999,10530.617500955654,800,2857.2070755098757,2857.2070755098757,0,79.164031982421875,52.925991058349609,null,null,{"$f":"R415+S415","v":3657.2070755098757}]
[" ","1955-05-31",4324.6970258737301,7826.4727870325451,1199.8749775697377,0,512.99515654871914,4725.5156069337345,6394.69921875,2115.7030810695392,1094.5867562330316,2800.0000000000227,716.02680271256793,815.57417803190083,11206.614530521205,-2598.2466308501789,8520.5068191745559,1768.5765128469802,1937.8910620826259,1937.8910620826248,0,80.908348083496094,53.678749084472656,null,null,{"$f":"R416+S416","v":3706.4675749296061}]
[" ","1955-06-30",3859.4897502304802,13272.665153275519,1153.9367496476261,0,643.17536023129355,8332.1810737448468,9664.3818359375,1947.9961429856103,3353.6182770610785,3349.3544361337481,735.77560178915758,765.43380339350449,14105.636960213409,-3734.7912275314584,7935.1297652741096,3308.9091004282218,300,300,0,80.805572509765625,52.049751281738281,null,null,{"$f":"R417+S417","v":3608.9091004282218}]
[" ","1955-07-31",3345.3601817831013,13248.111618729972,1017.4977637801927,0,2079.4848892840564,8864.712759744345,10967.248046875,1775.9890782381278,1960.3330849079898,1000.0000000001116,647.9216239569065,1675.1349875953626,14296.232739664825,-5907.6531611278951,5393.4314112931297,3199.515426029875,2356.2535097099972,512.15373263125616,883.82761303344728,85.685066223144531,51.662395477294922,null,null,{"$f":"R418+S418","v":5555.7689357398722}]
[" ","1955-08-31",3075.3492884970401,9520.9547258596867,875.82594761813618,0,2178.179710899095,6253.9393773861457,8114.2333984375,1702.0720402391994,1478.9687431160978,1000,563.03954873637042,1750.0000000000002,11395.548970049185,-5903.5667119539048,3990.1884488069545,4242.6605860939289,1710.3123745942889,300,0,88.560455322265625,52.355968475341797,null,null,{"$f":"R419+S419","v":5952.9729606882174}]
[" ","1955-09-30",3054.5733231976137,5334.2132469594681,803.29545181646824,0,1124.6693636625612,4848.4589216625454,6237.8466796875,1627.9683458400209,1000,2639.9357636532086,521.80304225054499,1425.1127240513067,11248.76782237119,-7217.4453282480645,3178.3126943518218,4333.0408608820126,4004.4865432664928,3187.569398371541,0,90.11474609375,52.784347534179688,null,null,{"$f":"R420+S420","v":8337.5274041485063}]
[" ","1955-10-31",2940.522212304083,6337.8616297315839,716.66361481754734,0,1357.7319332203988,5892.9765198849163,6821.30322265625,1439.010493953439,2116.4381473907633,2332.9989430122109,493.01300745772568,944.75835304788836,10814.495228626873,-4826.0562706891742,5657.2871318748748,2236.9901545766779,3878.0769567935436,2215.7940683788165,0,89.467201232910156,52.296577453613281,null,null,{"$f":"R421+S421","v":6115.067111370221}]
[" ","1955-11-30",2964.7575985229023,7768.09133358287,658.02205448224527,0,995.22110806390265,7299.6577192283803,8136.17236328125,1307.3055364847207,1700,1840.2320218342509,482.83412107605102,1419.7707039415368,12473.455224067962,-7763.4741542041011,4500,3401.6403773019551,5848.9746213851276,4915.0955260548662,0,89.9764404296875,53.182182312011719,null,null,{"$f":"R422+S422","v":9250.6149986870823}]
[" ","1955-12-31",3252,41976.536862583758,662.87501032251782,0,26.997311829740966,21089.115239978932,21089.115234375,2755.2339112339268,1700,3377.2627942159679,524,16996.269525853062,48328.764103212809,-5290.322580645161,93654.840456416219,4600,5535.7417378897517,5535.7417378897517,0,54,49.364490509033203,null,null,{"$f":"R423+S423","v":10135.741737889752}]
[" ","1956-01-31",3252,51484.513386265346,871.92003183856229,3311.6129032258063,0,27163.075655694051,27163.076171875,2788,20371.903938183572,37084.673202441991,460,16134.369079701994,75622.197133024834,-1695.7890104825487,161217.58700097929,4600,9749.7999999999993,9749.7999999999993,0,54,44.733024597167969,null,null,{"$f":"R424+S424","v":14349.8}]
[" ","1956-02-29",3288,31348.663493729095,1010.4782411502016,2386.7404397827381,0,19371.968223193831,19405.955078125,2788,11341.567931953043,18684.796236776296,458,6472.9062774078393,50500.701720663725,-4482.7586206896549,83698.8992592047,4600,6485.5345092665139,6485.5345092665139,0,54,43.290950775146484,null,null,{"$f":"R425+S425","v":11085.534509266514}]
[" ","1956-03-31",3971.4022272897364,8517.1293033153197,1151.5572206091199,2338.0089143715718,0,12002.158996600481,12290.9384765625,3018,6405.4952979407253,16975.299598233392,616,2911.2191752467756,31510.832561071242,-3258.0645161290322,37719.504290646029,2202.4621789280945,5591.7998780745147,5591.7998780745147,0,56.498863220214844,47.261440277099609,null,null,{"$f":"R426+S426","v":7794.2620570026093}]
[" ","1956-04-30",4487.0189016080731,7310.3908730749044,1151.5118248428942,41.867490227755567,0,10272.745143012817,11337.673828125,3427,3236.9900161792093,7004.1441782367556,792,2375.182967610227,20955.113978821537,-3500,21628.26204518275,3288.5122070625803,4339.9686156451598,4339.9686156451598,0,64.173233032226563,51.694171905517578,null,null,{"$f":"R427+S427","v":7628.4808227077401}]
[" ","1956-05-31",4552,14571.502144019099,1267.5646391399109,1977.0201359888742,0,9882.6652972791999,11108.51171875,3538,10828.1952935464,17920.979229341687,967,5262.5263157337713,35535.199154999107,-3500,37188.126581046447,4437.612067149651,2958.4080447664342,2958.4080447664342,0,54.995265960693359,51.871753692626953,null,null,{"$f":"R428+S428","v":7396.0201119160847}]
[" ","1956-06-30",4464.4480845144608,9037.103810606437,1257.3343492968918,0,33.814483885450159,4746.6148986816406,6332.84912109375,3538,4355.8938223891182,8520.9740353454836,967,4470.8260410250568,19591.661284916612,-5000,18463.445189266291,4599.9999999999873,4312.4551734478537,4312.4551734478537,0,64.981788635253906,53.3916015625,null,null,{"$f":"R429+S429","v":8912.4551734478409}]
[" ","1956-07-31",4115.6650734755358,10432.706000113525,1245.3092753270728,0,40.389842553952349,4604.2074279785156,5865.70556640625,3138.107262816507,8087.9724814469937,9026.6497529665521,942.00000000000023,1797.921793724292,17384.227688312978,-9239.1980991814344,8000,4600,7004.9017250857196,6680,0,78.236419677734375,52.562870025634766,null,null,{"$f":"R430+S430","v":11604.90172508572}]
[" ","1956-08-31",3700.0000000000005,12199.709984784386,1300.8041873450718,1578.9439178463563,539.0049460902801,6185.2696004408335,7461.0048828125,3056.6653754985286,1925.2223208740854,2420.2340527989986,792,3180.1713083283144,13936.267245847579,-6829.3129063189244,6458.3416825944178,4600,3079.2702278962997,3079.2702278962997,0,84.391136169433594,51.149730682373047,null,null,{"$f":"R431+S431","v":7679.2702278962997}]
[" ","1956-09-30",3399.9999999999995,11594.334116863569,1266.0528316274103,0,476.08976168558195,10615.105541490097,11247.779296875,2755.5368122574032,6033.9263394596828,7818.3233060232888,751.99999999999989,1609.829302231127,21600.502503069583,-9496.9511779340137,12309.58333336,4600,6680,6680,0,76.317657470703125,50.053722381591797,null,null,{"$f":"R432+S432","v":11280}]
[" ","1956-10-31",3249.9999999999995,10184.298647678796,1235.6865273775275,0,448.64664444938825,8965.2671113357155,8911.1552734375,2603.9128925429923,4000,3821.5124919312389,712,1481.6727963506476,15254.658464487577,-7258.8800642830938,8202.822580670967,4600,4659.7630684572596,4659.7630684572596,0,79.993278503417969,51.262340545654297,null,null,{"$f":"R433+S433","v":9259.7630684572596}]
[" ","1956-11-30",3158.497050785812,7088.5006535096136,1216.1033711413795,0,299.99999999999818,6520.990851981689,6807.06640625,2515.6136465110453,2500,2934.5073248279018,557.09858211604376,3896.1326828939432,14470.832051191466,-9258.3125896071942,4840.2196202682098,4600,6680,4821.618671459888,1698.4684942909425,86.850875854492188,53.298843383789063,null,null,{"$f":"R434+S434","v":11280}]
[" ","1956-12-31",3149.1104443203722,5386.4024654627246,1215.1103649400861,0,0,5429.6253519178372,5844.40771484375,2276.0256370003426,5738.9102948922691,5914.8608254628789,547.12705117953669,1811.6916283134572,14435.906855711961,-9164.3485899005645,4665.8372577840255,3945.7407531448512,7053.4600191736081,7053.4600191736081,0,88.865066528320313,51.062534332275391,null,null,{"$f":"R435+S435","v":10999.20077231846}]
[" ","1957-01-31",3264.7000258146491,5359.6850756922295,1218.3077222509839,0,0,6808.7544199314034,7373.22607421875,2357.3922141772878,1700,2990.8324119231283,527.67576923872423,1248.4128762226824,12324.281652715094,-5225.8064516129034,8177.8139513567057,4119.8044263111915,2746.5362842074355,2746.5362842074355,0,83.083793640136719,48.302436828613281,null,null,{"$f":"R436+S436","v":6866.340710518627}]
[" ","1957-02-28",3675,12925.500502281877,1244.8185353985014,439.99740897784989,0,15000,15035.201171875,2759.5128748843781,3836.7345305702456,1700.0013368891994,563,3572.0837429642097,24273.463719708157,-4464.2857142857147,22723.117038404227,3693.4929677484174,2462.3286451656136,2462.3286451656136,0,64.719139099121094,46.764389038085938,null,null,{"$f":"R437+S437","v":6155.821612914031}]
[" ","1957-03-31",4129,17152.564165593933,1388.9918898262654,2375.3116871605876,13.277226128408325,19535.165344659817,19539.701171875,2990,5477.4330732574545,15659.02091006821,652,4223.428070066685,38586.669151362541,-3258.0645161290322,41808.089115719878,3379.719928252191,2253.1466188347954,2253.1466188347954,0,54.481597900390625,48.144477844238281,null,null,{"$f":"R438+S438","v":5632.8665470869864}]
[" ","1957-04-30",4538.9204292656013,5465.8979664690632,1383.4720835318471,0,36.566801055906637,6280.0687941508313,6873.29248046875,3165.3727035824159,1000,3323.1127371347056,747.6839040953007,1262.6572830967148,11724.825453977495,-3339.3285917460357,10661.686908852962,2044.1181062535934,4165.8318656928996,4165.8318656928996,0,74.820121765136719,53.252906799316406,null,null,{"$f":"R439+S439","v":6209.949971946493}]
[" ","1957-05-31",4552,14529.000019769221,1493.5504864073596,1873.8591388673726,0,8927.1965395129428,9993.7197265625,3456.6236591398588,1000,4846.353763531496,967,2206.0732516075973,18259.952411360184,-3500,16652.762540302705,3278.9833753038561,2185.9889168692375,2185.9889168692375,0,69.3800048828125,51.918437957763672,null,null,{"$f":"R440+S440","v":5464.9722921730936}]
[" ","1957-06-30",4379.3072950906962,8893.7440216438226,1390.1825875031332,0,1568.7781424434747,5426.3168943650362,6731.24462890625,3322.8121106189715,3633.5518562744655,5769.2549833439007,932.18479666077769,2397.8936337062505,14458.789054691721,-5000,7479.1665000000003,3296.2492848008214,1774.9034610465942,1774.9034610465947,0,81.59075927734375,53.580341339111328,null,null,{"$f":"R441+S441","v":5071.1527458474156}]
[" ","1957-07-31",3711.075772566915,16080.78065760559,1304.8844338044928,0,1223.2249292092035,10837.479417306728,12372.7177734375,2835.8459113953122,7697.3596922827892,7704.0354623677758,722.55153207608191,3659.6213004079173,24397.202290930225,-10138.594356410911,10838.939732406559,4032.482701162081,6224.4898592806676,5845.1385871406683,0,80.103858947753906,51.250682830810547,null,null,{"$f":"R442+S442","v":10256.972560442748}]
[" ","1957-08-31",3343.2174389044376,10791.453649934787,1265.059728619522,0,509.63454767922696,5276.0590957913992,6607.095703125,2377.7784866961688,7046.5718692039827,7962.5609440828139,660.17397274904704,1750.0000000000018,16840.635759841352,-9525.8246040590675,5773.3870806709683,3272.3269736694606,6680,6680,0,85.428817749023438,51.575668334960938,null,null,{"$f":"R443+S443","v":9952.3269736694601}]
[" ","1957-09-30",3279.9043539889403,8052.2287349697735,1229.0483311947726,0,524.81457502474029,7663.4501751873431,8288.046875,1952.2371806348526,7979.9958823349061,9548.6347383546217,580.64833498725795,1894.2358873974499,20903.297738331967,-8446.7295158337256,12122.08333336,2992.4631565590034,6680,6680,0,76.442581176757813,51.424755096435547,null,null,{"$f":"R444+S444","v":9672.4631565590025}]
[" ","1957-10-31",3249.9999999999995,10233.712316923118,1309.6808401475982,1287,0,10785.581482267256,11404.59375,1845.4177371787187,2464.4325010243283,2970.1152545591867,542.57367345521982,1356.3372742080014,16261.808892706407,-9343.5881372943077,6718.7500000000055,4600,6680,6680,0,81.117446899414063,51.881275177001953,null,null,{"$f":"R445+S445","v":11280}]
[" ","1957-11-30",3252,10416.771966865188,1349.6350279449084,692.47291007141996,0,10401.146690295418,10455.4189453125,1753.4957851139263,1974.7376180339365,1700,531.76526579430458,1712.0439036411706,14521.057382366595,-9410.0072079053025,4941.1617807747898,4600,6680,6680,0,84.184211730957031,53.175312042236328,null,null,{"$f":"R446+S446","v":11280}]
[" ","1957-12-31",3338,15194.83735417846,1350.0969344849887,0,26.997311829741932,17402.042534886041,17402.04296875,1897.1228710509686,1700,2887.3422592688926,567,1997.2227980232863,23373.269299005307,-5290.322580645161,18948.229709040053,4093.6753671211686,2729.1169114141117,2729.1169114141117,0,66.675247192382813,50.062374114990234,null,null,{"$f":"R447+S447","v":6822.7922785352803}]
[" ","1958-01-31",3531,22405.181202251493,1500.0000000000002,2360.7888986410021,0,22451.72553102133,22451.724609375,2174.8806712010196,1700,4623.4743003540207,567,2513.4231545946559,32979.987852522994,-4516.1290322580644,35933.969511884745,3768.2025017509754,2512.1350011673198,2512.1350011673198,0,56.142536163330078,46.837211608886719,null,null,{"$f":"R448+S448","v":6280.3375029182953}]
[" ","1958-02-28",3252,84428.894470961168,1500,0,0,27824.230995139573,27859.43359375,2788,11327.08841443165,15374.052793650988,557,10414.945660425086,70350.436160687081,-4464.2857142857147,172813.80187788029,4585.9490694790011,3057.299379652668,3057.299379652668,0,54,45.057777404785156,null,null,{"$f":"R449+S449","v":7643.2484491316691}]
[" ","1958-03-31",3416,31078.150735301355,1500,0,0,24415.63931088318,24415.638671875,2788,11899.292666411446,30935.290958286292,656,7159.7632852799479,64852.443245275223,-3258.0645161290322,98416.068530184362,4600,5568.6415735422252,5568.6415735422252,0,54,45.574718475341797,null,null,{"$f":"R450+S450","v":10168.641573542225}]
[" ","1958-04-30",4173,23018.610702459198,1500,34.937258966942835,0,25070.898569060097,25079.025390625,3235,7677.7721179353921,25462.620857748057,792,10107.506078229486,63995.982800763435,414.18610730248565,102322.51960398273,4451.6992060937455,6680,6680,0,54,49.811176300048828,null,null,{"$f":"R451+S451","v":11131.699206093745}]
[" ","1958-05-31",4552,12094.254222274403,1499.9999999999998,102.29203488232288,0,11102.843187298289,11887.2587890625,3538,10506.737447973803,19190.706790251774,967,7832.7627887712279,40150.731597807804,-3500,45008.380062146593,3940.3920074454227,5995.5287881944023,5995.5287881944032,0,55.108760833740234,52.396411895751953,null,null,{"$f":"R452+S452","v":9935.9207956398241}]
[" ","1958-06-30",4500,11894.939711944144,1500.0000000000002,135.51390998364451,0,8809.9837138221374,10240.9970703125,3538,6736.7198289103071,12417.534662519063,967,5534.7149282003875,29740.765154452536,-5000,30302.771994986411,4600,5290.3994397458846,5290.3994397458828,0,61.325027465820313,52.843963623046875,null,null,{"$f":"R453+S453","v":9890.3994397458846}]
[" ","1958-07-31",4150,14388.428874771322,1500.0000000000002,163.24884760364128,0,7552.5802866349313,9078.263671875,3410.9813751806796,3431.1734106311442,5022.3320325445775,941.99999999999989,1920.5445518425536,16994.559067370064,-9075.1489330610675,8000,4600,7004.9017250857196,6680,0,80.701011657714844,51.592918395996094,null,null,{"$f":"R454+S454","v":11604.90172508572}]
[" ","1958-08-31",3700,13744.469051613265,1500,164.2641008178887,0,7914.1582845754683,9150.4990234375,3357.7409353589223,1525.5400929195362,2459.294073089995,792,3371.1936118442636,15897.589140896724,-9614.5601391389282,6375.8257535692337,4600,6680,6680,0,84.11029052734375,51.382179260253906,null,null,{"$f":"R455+S455","v":11280}]
[" ","1958-09-30",3399.9999999999995,12434.519574043457,1464.811383227559,0,463.60153259770118,11197.404253254981,11346.4306640625,3218.388331812781,2966.0600822691245,5120.8004931180913,751.99999999999989,1622.1248768942787,18557.982964461095,-7431.9555709081724,12153.33333336,4600,5101.1923164402297,5101.1923164401696,0,78.399337768554688,50.282634735107422,null,null,{"$f":"R456+S456","v":9701.1923164402288}]
[" ","1958-10-31",3249.9999999999995,9587.6380238858328,1432.3603508640865,0,448.64664444938825,8240.1542811860745,8178.76513671875,2994.0064619915279,4000,5179.2558281087277,698.32362879101129,1327.7651966747535,15344.431777778882,-7014.3568961251476,8359.072580670967,4600,4470.0883650666892,4470.0883650666892,0,79.756843566894531,52.098911285400391,null,null,{"$f":"R457+S457","v":9070.0883650666892}]
[" ","1958-11-30",3170.6440359248004,6855.9538795063017,1412.613511731797,0,300,5695.8582072293066,5950.0029296875,2892.1833982360254,2500,2960.9446112478704,559.99650571348809,3384.3716856075202,13395.493787826639,-9243.0483943275322,4865.5567607461417,4600,6680,5357.3251099053305,1183.1812912418354,86.482948303222656,54.110248565673828,null,null,{"$f":"R458+S458","v":11280}]
[" ","1958-12-31",3253.5210796392985,4606.260278137579,1412.5019833597025,0,0,4814.1966402432881,5012.3095703125,2687.5237728318689,5351.0952482142047,5745.545184010567,529.956563106771,1825.9948646211451,13738.237431205467,-8783.9668276605335,4576.2753573285117,3616.3671584936183,7092.5382276393721,7092.5382276393721,0,86.285301208496094,54.441417694091797,null,null,{"$f":"R459+S459","v":10708.90538613299}]
[" ","1959-01-31",3648,17299.930013730125,1450.2354151990392,529.84312426122915,0,19313.378962899478,19313.37890625,2978,1842.9232010052992,2395.0735953309827,567,1659.0631484392661,26218.54677624613,-3645.1612903225805,26146.155151855655,3179.876018306742,2119.9173455378245,2119.9173455378245,0,61.282863616943359,50.577388763427734,null,null,{"$f":"R460+S460","v":5299.7933638445666}]
[" ","1959-02-28",3777,20443.922355607807,1500,840.8784802162138,0,23407.530678411506,23442.732421875,2839,9567.3876704194317,16636.351513166181,567,3035.5187500074458,45532.107188359805,-4464.2857142857147,52512.095485585291,4227.7224471174641,2818.4816314116406,2818.4816314116406,0,54,48.32464599609375,null,null,{"$f":"R461+S461","v":7046.2040785291047}]
[" ","1959-03-31",4221.0812319328188,5448.5332276440695,1499.9999782882248,47.510578275363606,0,8691.2331145119661,8882.083984375,3054,2241.8106610951409,5200.4822867099447,620.58435900760867,1062.3243898353835,15950.519343763044,-3258.0645161290322,14349.447620310964,3148.6088015008077,2099.072534333874,2099.072534333874,0,69.632057189941406,51.561271667480469,null,null,{"$f":"R462+S462","v":5247.6813358346817}]
[" ","1959-04-30",4523.5519737614622,4408.1436174658538,1476.7635661574577,0,300,4893.6986583254638,5246.177734375,3137.6527867852487,1890.3710872756583,2800,694.80703671461413,772.5048588416555,9154.4694660638706,-1943.8433792736223,7317.4091820505246,799.99999999998181,2541.320627336132,2541.320627336132,0,81.09979248046875,56.038539886474609,null,null,{"$f":"R463+S463","v":3341.3206273361138}]
[" ","1959-05-31",4413.2909090230478,8372.0578251192492,1396.6357552430666,0,1189.6505377322583,5221.9998573116854,6879.71142578125,3071.4784354728486,3309.6789247586867,4923.6200438685946,700.55099005157706,754.97123504593162,13030.533969924038,-2870.0645580797477,9029.9113551639439,2585.8493839714147,1134.2559283120058,1134.2559283120058,0,78.788902282714844,54.105960845947266,null,null,{"$f":"R464+S464","v":3720.1053122834205}]
[" ","1959-06-30",3847.0213660574536,14711.643043096095,1392.2619656545796,130,42.013888891666667,8006.9687035254683,9315.3623046875,2711.3638294579405,5722.9741160572485,6042.9680624061857,652.30239929853542,612.32338359030052,16249.947685304742,-5000,8161.5737497218688,1832.245316763976,3058.1128559922499,3058.1128559922508,0,81.391693115234375,51.946456909179688,null,null,{"$f":"R465+S465","v":4890.3581727562259}]
[" ","1959-07-31",3230.2012936121318,16075.54306667462,1260.3131602850178,0,1975.6579609482706,10188.019101472129,12294.4326171875,2195.1599595926987,7598.6075678534717,7133.8186028869659,375.36657612788048,3577.3719285386428,24097.015778001463,-11454.410949386438,8677.6239112597341,4586.4534700001441,6852.0578620828128,6676.7091834998573,3.2908165001426823,81.044517517089844,51.575466156005859,null,null,{"$f":"R466+S466","v":11438.511332082957}]
[" ","1959-08-31",2888.3440248796542,11318.640080914383,1199.6765359993444,0,849.48292726077239,6386.3015170996205,7954.62548828125,1698.831651906823,7590.3035103872153,7379.1082824574378,285.18204236696499,1246.1800765144344,17274.184563770148,-10891.884924380782,4390.3225806709679,4338.636781007599,6992.2367649487833,6680,0,85.309791564941406,51.993309020996094,null,null,{"$f":"R467+S467","v":11330.873545956383}]
[" ","1959-09-30",2896.5736425824757,7335.9587277698829,1164.4821645852476,0,508.56423783780593,7352.0711877557223,8180.298828125,1710.1508356022155,1045.580656259174,2410.8027654425432,257.69141799926075,1347.1889679181293,12937.690528824309,-8215.1458758042427,4580.8935413804993,4600,5170.4949238416648,3665.5082951892364,1384.1978563176376,88.208396911621094,52.763919830322266,null,null,{"$f":"R468+S468","v":9770.4949238416648}]
[" ","1959-10-31",2722.9892300282072,7798.9102509269333,1109.6679660209088,0,817.87025717978145,7067.5214594683357,7018.033203125,1485.7458433494528,2308.6742318643192,2732.4013946898249,247.69409107188011,508.36417795885745,10603.677799824607,-6207.1814941775392,4392.3691001450698,3265.7517197140428,4314.3497946629705,2530.9162611061429,0,89.737236022949219,52.483207702636719,null,null,{"$f":"R469+S469","v":7580.1015143770128}]
[" ","1959-11-30",2531.3976954841073,8160.7250600226616,1085.9107358050712,0,368.41395181936485,7321.850239974804,7128.82666015625,1298.0724251736794,1888.6551837685827,2009.1283280080359,243.86093747657029,520.79011839599525,10112.233345625498,-5341.6806939953312,4588.1085872591721,3431.379614989065,3274.1100955539723,2363.2485660547236,0,90.906944274902344,54.104202270507813,null,null,{"$f":"R470+S470","v":6705.4897105430373}]
[" ","1959-12-31",2441.8475345113261,6512.8353549431722,1068.4968875715315,0,290.32258064516134,6230.40887966426,6611.59716796875,1195.7242758620612,1807.0888903285386,2264.2748020518702,250.48670293591243,546.93730934663733,10158.902791693812,-5086.4775039484721,4890.5597007582437,3178.8637033895689,3198.7907399855885,2632.4154857708513,0,91.004951477050781,53.738674163818359,null,null,{"$f":"R471+S471","v":6377.6544433751569}]
[" ","1960-01-31",2666.3657092414178,5823.2116296379472,1071.8358224891333,0,0,7043.2504483695275,7788.77490234375,1296.7797229788848,1200,2863.2319052701559,283.87629725171587,393.1271183623378,12327.770805368678,-5225.8064516129034,8281.8560477705414,3060.3452535027373,3695.3593690628768,3695.3593690628768,0,85.0638427734375,49.863578796386719,null,null,{"$f":"R472+S472","v":6755.704622565614}]
[" ","1960-02-29",3389.5248140136887,12299.702672006026,1133.3498645538882,1019.9879513444311,0,16235.823848349602,16269.8115234375,1853.9911704125907,1200,4205.518449668255,472.69095054066821,1365.3403085481855,27539.838087484284,-4482.7586206896549,28575.493516035451,3799.622429138783,2533.0816194258537,2533.0816194258537,0,61.071712493896484,48.280220031738281,null,null,{"$f":"R473+S473","v":6332.7040485646367}]
[" ","1960-03-31",4082.9661589349275,8101.1156144835404,1141.9482427574778,148.67363795058804,0,12208.866827654952,12343.8095703125,2418.2075730477159,1000,2632.7246630916798,654,2248.1531209023028,18134.407115534596,-3258.0645161290322,16391.88719959803,2755.544116546343,1837.0294110308928,1837.0294110308928,0,66.863059997558594,50.013961791992188,null,null,{"$f":"R474+S474","v":4592.5735275772358}]
[" ","1960-04-30",4168.1577003501516,8034.3349106600763,1137.7940786599252,130,150.14101020525325,8362.1156612550458,8546.201171875,2657.3618125668872,1300.9961554759307,2800,718.6734008466176,2146.7632311978623,14008.181558306223,-1616.4771089816484,12595.833000000001,2211.3239187310091,318.87472413526166,318.87472413526166,0,73.640495300292969,53.609115600585938,null,null,{"$f":"R475+S475","v":2530.1986428662708}]
[" ","1960-05-31",4282.5579801744698,7020.259672172424,1117.7926076351505,0,235.37514278351608,3881.6415605053171,5499.71044921875,2737.2261444853307,1414.859323714546,2799.9999999999827,764.00623991834277,883.01152424472275,10540.795325165445,-2395.8637980200024,7368.8817444950437,1393.7680758439155,1672.1587327129687,1672.1587327129687,0,82.267112731933594,54.710956573486328,null,null,{"$f":"R476+S476","v":3065.9268085568842}]
[" ","1960-06-30",3788.1076691973776,13853.993884010422,1071.0412067183379,0,628.36417343963876,8018.2664469974006,9205.892578125,2457.169029126303,4775.2070169993231,5126.4922698780674,730.53612872004669,840.50970071559948,15498.892408713313,-5000,7243.3334999999997,3016.9420215538598,1624.507242375154,1624.5072423751535,0,80.464103698730469,52.414566040039063,null,null,{"$f":"R477+S477","v":4641.4492639290138}]
[" ","1960-07-31",3269.3424004985386,12843.958983804039,932.41673002372579,0,2111.2077102554626,7988.1943825264334,10090.25,1936.8367077041244,7650.4501885244945,7428.499119959758,619.30373535159958,1438.0259951731555,19462.673216940817,-10807.740025364503,5000,3681.3902744907973,6953.8053226743559,6680,0,84.320716857910156,52.177486419677734,null,null,{"$f":"R478+S478","v":10635.195597165153}]
[" ","1960-08-31",2990.1714385688215,9587.2995988967596,788.82186356058935,0,2220.9295251791386,5786.7499458746297,7858.46923828125,1749.7539912092004,2442.7269932264862,2447.2784688822176,537.24033582406685,1750,13138.776142613968,-7157.7427434199708,4077.7407465934889,3155.5439164866521,4114.1522203905888,2568.8144630292586,802.22617463994516,89.774101257324219,52.348342895507813,null,null,{"$f":"R479+S479","v":7269.6961368772409}]
[" ","1960-09-30",2915.1499372944754,5978.5497735758863,692.52298940925471,0,1533.7280678145598,5283.0574807237672,6766.90234375,1697.0850271799095,1009.7357102995212,2573.5973902857513,487.3057667806678,1453.2013255868565,11067.724949214913,-6821.4917073169963,3000,3887.6900981047152,3952.5949448481342,2570.6235152001286,0,91.642356872558594,52.403293609619141,null,null,{"$f":"R480+S480","v":7840.2850429528498}]
[" ","1960-10-31",2763.3944007464506,7523.1600914163791,614.83049146665792,0,1220.5254437299682,6507.2742199537443,7312.755859375,1512.1081075242835,2012.5183114781262,2759.0548696867627,449.74085635274446,928.70460328596744,11480.677435590696,-5748.3857515748023,5229.1833959637561,3204.8726495370238,3761.2077183367478,1945.6579625812997,0,89.453163146972656,52.293342590332031,null,null,{"$f":"R481+S481","v":6966.080367873772}]
[" ","1960-11-30",2866.6845698975048,6485.0590453816612,612.59696625134404,0,65.684894214560757,6586.7983835282948,6849.9638671875,1445.3075694722534,1220.1884397016538,2271.31759946898,476.92592754162519,1013.1161977494411,11848.956217609964,-7609.3683851002497,4500,3680.2067251707931,5593.6672518585192,5554.8769739329437,0,90.568344116210938,53.498115539550781,null,null,{"$f":"R482+S482","v":9273.8739770293123}]
[" ","1960-12-31",3300.8896974551612,8447.9254202865286,614.59113998653481,0,0,12081.233417085023,12704.8017578125,1372.2692462414943,2712.4509919427537,2584.3344709593766,510.10386849130992,955.88183955772752,17152.485978506633,-4466.4624880398806,12927.526268590876,2255.262466651011,3462.8176581145995,3257.7524332489593,0,79.388946533203125,50.199554443359375,null,null,{"$f":"R483+S483","v":5718.0801247656109}]
[" ","1961-01-31",3500.4774871947729,5952.4822126914514,616.50950955647397,0,0,6739.8456276630159,7941.0712890625,1458.3464186534331,1200,1966.2727892687033,479.37360492276946,966.76586438241634,12512.259832362439,-5225.8064516129034,9053.4283542388803,4121.433193078331,2747.6221287188855,2747.6221287188855,0,82.036033630371094,46.794460296630859,null,null,{"$f":"R484+S484","v":6869.0553217972165}]
[" ","1961-02-28",3914,16547.337926275104,673.80304556359977,1017.2577565279346,0,22112.767312385313,22147.96875,1717.6428257971677,1200,4269.5102547031556,515.30214682587302,687.28827799351961,31444.705354622416,-4464.2857142857147,31622.256313902366,3536.1305811441493,2357.420387429434,2357.420387429434,0,59.163021087646484,46.828762054443359,null,null,{"$f":"R485+S485","v":5893.5509685735833}]
[" ","1961-03-31",4280,10488.131115525652,679.63269466241729,98.239391947246361,0,15452.712138954099,15452.7119140625,1979.7213470124614,1022.087251611777,1000,569.35288902466539,708.74072946329807,17640.212493760995,-3258.0645161290322,15707.356259452172,2807.3031019376335,1871.5354012917564,1871.5354012917564,0,67.091712951660156,48.505218505859375,null,null,{"$f":"R486+S486","v":4678.83850322939}]
[" ","1961-04-30",4552,5830.677296043008,671.99034044067162,0,77.205787527118162,7033.6332278432728,7291.06005859375,2101.3579826994724,1230.074802649365,2800,632.68376023053293,648.42951959857578,10870.701661462352,-1963.2569016838552,8406.2760505538827,800,1576.9896473580043,1576.9896473580043,0,79.406997680664063,53.292549133300781,null,null,{"$f":"R487+S487","v":2376.9896473580043}]
[" ","1961-05-31",4505.8331884519348,9849.1317030507362,666.14804338692022,0,34.861922026176074,5617.4915180602384,6985.4306640625,2182.0314541030143,1222.3989737862425,2919.6726077042613,684.88343561203112,634.00672177078638,10939.090616144475,-2140.8614169859729,7667.5097187197016,1838.8695021034837,746.09719829201731,746.09719829201731,0,84.36712646484375,52.465385437011719,null,null,{"$f":"R488+S488","v":2584.966700395501}]
[" ","1961-06-30",4041.412076142421,13528.984757250573,664.88352136062861,130,42.013888891666667,7638.4813652799039,9126.791015625,1920.6678817343261,4988.0570768611569,5362.5455859654103,649.44589507914486,589.68679075465832,15314.014101270757,-5000,7100,2904.1868693005672,1671.7982625758732,1671.7982625758732,0,83.094902038574219,52.233570098876953,null,null,{"$f":"R489+S489","v":4575.9851318764404}]
[" ","1961-07-31",3431.3363562650802,14693.926127811234,530.681433157431,0,2066.900177736954,9142.9735529487916,11240.677734375,1731.5624429597185,2198.1475633630403,1780.9900543380313,565.10250866877038,723.19964147775499,14805.509249089126,-6076.1515794380684,5000,2810.2724899173891,2629.4050315143959,300,672.37650936027421,88.075180053710938,51.599327087402344,null,null,{"$f":"R490+S490","v":5439.677521431785}]
[" ","1961-08-31",3117.9703782757133,10247.159356649179,412.69595680888187,0,1832.0650154371131,6347.8300423536384,8418.23828125,1667.0816323220154,1315.1541626041983,987.89916575717916,494.092088545926,723.7408519317305,10836.370190887434,-4928.5678478687005,4001.1649680990549,3310.2168614171387,1478.7891430213797,300,0,90.277427673339844,52.207462310791016,null,null,{"$f":"R491+S491","v":4789.0060044385182}]
[" ","1961-09-30",3086.4181128032546,5347.3774332689272,366.62016061540027,0,720.28217342305913,4710.8744494510129,6065.14013671875,1592.2639416107982,773.33333330000005,2543.4573788907792,474.67009420788378,766.34072187717356,9544.1858898198207,-5049.1802541001871,3431.0508431138896,2994.1794852726148,2831.3078903371061,2538.9177167914763,0,91.501617431640625,52.586921691894531,null,null,{"$f":"R492+S492","v":5825.4873756097204}]
[" ","1961-10-31",2864.6286825995344,8546.6169670473246,363.758602377182,0,12.725471401098376,7237.8404705496832,7194.669921875,1374.3018179981962,2448.6241229137654,3117.8057508241454,463.75972858578189,500.00000000000006,10980.305734008329,-6335.4198564728595,4000,3983.2685849046848,3425.7771564395116,1816.0397725034554,0,89.252326965332031,52.130592346191406,null,null,{"$f":"R493+S493","v":7409.0457413441964}]
[" ","1961-11-30",2846.8748885854616,8434.3053983461159,364.55618723501891,0,0,7315.8538944190159,7360.724609375,1234.7094310509826,1792.788489278505,2048.3420123933238,483.28364196032868,535.40106766255474,10705.430969497142,-3832.6389127456096,6964.8560542454779,1520.1761389389849,3242.8315622385812,2033.8096170441111,0,86.341575622558594,53.778251647949219,null,null,{"$f":"R494+S494","v":4763.0077011775666}]
[" ","1961-12-31",3167.0613730386731,8439.1761462488612,372.8302531398823,113.25806451612912,0,11723.808354274393,12460.775390625,1247.9342338133213,900,1144.6661630094204,526.09340267022003,500,15593.626572798505,-10027.344012824829,5167.1893083981777,4600,6974.1258603881788,6767.0754231618175,207.05043722636128,84.209251403808594,49.513298034667969,null,null,{"$f":"R495+S495","v":11574.12586038818}]
[" ","1962-01-31",3245.046145289924,6341.6890613500673,372.88155846299804,0,0,7304.5548274995544,7735.7939453125,1332.324747025632,900,1561.4481498358648,538.26645731538758,452.33747149418036,10637.096255544677,-5225.8064516129034,6000,4133.7402310600191,2225.8601244169336,2225.8601244169336,0,85.325660705566406,46.626483917236328,null,null,{"$f":"R496+S496","v":6359.6003554769522}]
[" ","1962-02-28",3675,25425.859379064001,502.05261670665129,2270.2817310349319,0,20052.918377711059,20088.119140625,1863.6167297380036,900,10551.069905869952,567,5868.9845620862443,46991.247921388567,-4464.2857142857147,60850.571649211401,4600,3581.7166948432905,3581.7166948432914,0,54,45.274707794189453,null,null,{"$f":"R497+S497","v":8181.7166948432905}]
[" ","1962-03-31",4209.3343553099467,8755.7012272244428,519.17516643870954,274.41689392544686,0,13066.385832451053,13608.4267578125,2206.4367906213583,800,4769.7157061645958,664,1631.9819837741441,21018.183178116236,-3258.0645161290322,21651.550856013389,3442.3944390935726,2294.9296260623819,2294.9296260623828,0,63.193992614746094,47.889583587646484,null,null,{"$f":"R498+S498","v":5737.3240651559545}]
[" ","1962-04-30",4552,5868.0229897193021,515.87184792618996,0,1.4650369129513103,6810.03358126898,7128.4267578125,2708.8032556218832,781.57478543247362,2799.9999999999454,792,3181.5934797300561,13777.796030649213,-3500,13120.531995860272,4219.3363517960224,2812.8909011973492,2812.8909011973492,0,69.569168090820313,53.601093292236328,null,null,{"$f":"R499+S499","v":7032.2272529933716}]
[" ","1962-05-31",4464.8899088359858,9521.2997742745902,497.82401346914702,0,236.51001365919049,5287.9104943405082,6725.8642578125,2818.3815602396444,2646.3566547408109,4091.8755526118048,924.94922865442709,1314.1194235543376,12815.335809344331,-3500,9687.5,3559.0587487173048,1916.4162493093122,1916.4162493093129,0,77.565864562988281,53.01763916015625,null,null,{"$f":"R500+S500","v":5475.474998026617}]
[" ","1962-06-30",4111.2263040986909,11099.699542614204,498.20262383454229,129.99999999999946,42.013888891666667,4999.9999999999973,6360.23974609375,2661.6575279698432,4757.4020425075505,5236.6623889183247,926.8784324435311,1377.4605144380989,13677.71777938253,-5000,6280,3291.3346772479999,1772.2571339027677,1772.2571339027677,0,84.063735961914063,52.503494262695313,null,null,{"$f":"R501+S501","v":5063.5918111507672}]
[" ","1962-07-31",3508.2549309341525,14408.669195965569,404.06996652294026,0,1438.8266249815406,8768.9566773148035,10875.3701171875,2183.9832348888899,7118.2282763743951,6870.6718767784751,705.98154260622073,3627.2632500467435,23132.22480093826,-10808.371532085679,8666.8992715799395,3883.5805340966285,7035.8677075459218,6680,0,82.454414367675781,51.393417358398438,null,null,{"$f":"R502+S502","v":10919.448241642551}]
[" ","1962-08-31",3133.2225914088649,11112.752542601216,364.11533541943169,0,575.867807106246,5708.6754418215896,6979.119140625,1830.2085262040607,5974.9994492097876,6806.4709684609479,579.13145159579392,2330.4272562927458,16854.701492198536,-10203.64852969435,4818.6800904653037,3819.2842448189272,6839.051423001466,4496.3423330739715,1576.0359989032622,88.268081665039063,51.670612335205078,null,null,{"$f":"R503+S503","v":10658.335667820393}]
[" ","1962-09-30",3082.2084199929295,5416.4993882128019,353.53671912022435,0,123.45025951941057,4802.5657971696073,5366.59375,1718.0520451456296,1405.7460060761032,3164.218911982518,525.29461493541874,1536.6686216880348,10523.553621620043,-6508.142004283829,3015.384226692011,4246.6218423814289,3262.2369304217054,2607.9225259423838,0,90.6998291015625,52.659278869628906,null,null,{"$f":"R504+S504","v":7508.8587728031343}]
[" ","1962-10-31",3250,12172.548726923913,351.6575849092921,0,39.697530188978085,15066.070209542897,15066.0703125,2294.5369523435111,1200.0000000000164,11110.760649979879,712,1882.492747828564,32750.491887790784,-9438.2890414306603,27997.636773490318,4600,6680.0000000000009,6680,0,61.934150695800781,51.969749450683594,null,null,{"$f":"R505+S505","v":11280}]
[" ","1962-11-30",3252,6776.6647024223093,400.96684516508816,837.941003376455,0,5333.0410033764474,5447.60791015625,2302.2430399805007,1200,4925.903836726472,567,4568.4081034002129,15677.649323616526,-9634.2250639467202,5283.6540502194548,4600,6680.0000000000009,6680,0,81.808135986328125,53.748298645019531,null,null,{"$f":"R506+S506","v":11280}]
[" ","1962-12-31",3349,13437.107157926859,435.31492018122611,543.74354991099312,0,15951.339901615491,15951.33984375,2591.7549600748921,1200,7336.1074767783412,567,3614.7018480282486,27772.737114588424,-5290.322580645161,24498.763424752182,3889.5621003579786,2593.0414002386492,2593.0414002386492,0,63.556156158447266,50.148109436035156,null,null,{"$f":"R507+S507","v":6482.6035005966278}]
[" ","1963-01-31",3538.2302725873933,5778.0665978305915,453.30660655761591,270.97271371645746,0,6862.156494140625,7854.87744140625,2907.1407818800599,1200,1246.7661599631347,544,4455.4865557584226,15189.006418808905,-4516.1290322580644,13979.896782698219,3674.1395330079945,2449.42635533866,2449.42635533866,0,74.214393615722656,46.463977813720703,null,null,{"$f":"R508+S508","v":6123.5658883466549}]
[" ","1963-02-28",3944,17058.457085853988,591.46952094515132,2464.2857142857142,0,22497.698166187136,22532.900390625,3057,15801.67665392424,27725.843125476815,499,12195.468914285528,61746.472625167109,-4464.2857142857147,76297.240063911304,4041.0954604070575,2694.063640271469,2694.063640271469,0,54,46.536270141601563,null,null,{"$f":"R509+S509","v":6735.1591006785266}]
[" ","1963-03-31",4226,9724.9396283422138,640.75688493176358,796.69940878616478,0,12117.224039677249,12182.1806640625,2927,8283.1496483399969,9726.5980865615602,629,2279.7472893133618,24685.612819283815,-3258.0645161290322,25533.663671243354,3058.0106959783843,2038.673797318922,2038.673797318922,0,61.529476165771484,48.312057495117188,null,null,{"$f":"R510+S510","v":5096.6844932973063}]
[" ","1963-04-30",4137,40883.608792100655,857.70826606715718,3640,0,24791.922765626379,24799.158203125,3180,13105.687493190295,27119.241680329786,792,5964.960564746315,61524.484400505571,-3500,90756.694511771901,4600,3096.8343043013647,3096.8343043013647,0,54,48.344619750976563,null,null,{"$f":"R511+S511","v":7696.8343043013647}]
[" ","1963-05-31",4552,8428.3138524267197,853.89709238505168,0,0,5686.868788521364,6228.966796875,3538,3138.9920120357674,12767.951559636153,967,5674.8243773422055,25412.792030155972,-3393.578474919233,24891.8231905059,3214.5468403051459,2143.0312268700977,2143.0312268700977,0,60.773857116699219,53.871726989746094,null,null,{"$f":"R512+S512","v":5357.5780671752436}]
[" ","1963-06-30",4383.5907749643466,9343.793199398744,855.47427145451729,130,0,4999.9999999999982,6484.732421875,3457.7923156434908,3346.8000457857979,5675.6613918913063,935.32234001679331,2834.2520844695077,15106.817530209924,-5000,9520.8330000000005,3574.7375962043334,1924.8587056484912,1924.8587056484912,0,74.079864501953125,53.354957580566406,null,null,{"$f":"R513+S513","v":5499.5963018528246}]
[" ","1963-07-31",3770.0991742003307,15761.736849021889,853.22510665736036,125.80645161290329,40.658602153225821,8838.7833545962658,10102.45703125,2910.2962334232316,9149.6320871194857,10019.552899404576,802.78557851062351,2520.560516519954,23563.193400026132,-11034.33182098348,9777.0251647022324,4600,6938.7248044966609,6663.4371199999996,0,76.792510986328125,51.193561553955078,null,null,{"$f":"R514+S514","v":11538.724804496662}]
[" ","1963-08-31",3453.5082304066941,10502.905405562302,816.35029119506396,0,489.30524660261403,4529.8263664245605,5920.07568359375,2473.7119228955071,7171.0113430114225,8548.7026964451434,698.02248095338894,2022.9760585660483,17312.373987020401,-10399.367734488711,5632.2580806709675,4292.1541816078825,6680,6680,0,84.50775146484375,51.729110717773438,null,null,{"$f":"R515+S515","v":10972.154181607882}]
[" ","1963-09-30",3236.5985663925303,9051.3081495944862,794.62737794052794,0,280.54897797605321,8576.2183370491148,9182.583984375,2026.3722143397763,8002.404734002369,10080.194002132554,602.61358425383389,2149.2868584183002,22401.393845639355,-8838.8789052954853,13207.525527503412,3608.800816054214,6680,6680,0,73.784957885742188,50.777679443359375,null,null,{"$f":"R516+S516","v":10288.800816054214}]
[" ","1963-10-31",3234.0457928094088,6404.8965707762618,793.4353461743658,4.4529502095238208E-3,0,6400.4476660740065,6288.88720703125,1873.8249575122818,3012.4334433309618,3645.8769984096143,561.4135358169699,1348.1283349860341,12533.014017881622,-5848.8770082208939,6562.5,3334.367530322068,4202.6828272904995,4202.6828272904995,0,81.377815246582031,52.4876708984375,null,null,{"$f":"R517+S517","v":7537.0503576125675}]
[" ","1963-11-30",3252,12272.822224745416,819.50901252314941,391.05933117203494,0,12634.764512557582,13589.1455078125,1955.2223187151089,1700,4536.2302262206385,567,3310.3865730060033,23274.856452337488,-9301.5465064837626,16220.691692091677,4600,6680,6680,0,71.623321533203125,53.817554473876953,null,null,{"$f":"R518+S518","v":11280}]
[" ","1963-12-31",3258.1278006935777,6927.2000753379498,801.52234807967432,0,290.32258064516134,7643.0418327417892,8474.1474609375,1917.8979555027158,1756.9413675098458,2919.3415834287734,546.19785533005484,2522.5569476938158,15249.905513962496,-9726.6283551147426,5254.5337104424871,4600,7068.26425955388,5399.6615807971993,1616.2150747073701,84.805206298828125,50.400676727294922,null,null,{"$f":"R519+S519","v":11668.26425955388}]
[" ","1964-01-31",3696.6603438112706,6978.1532909156977,820.58358185145096,289.08539761560371,0,9062.0614370072708,9888.69921875,2039.4862633749299,1700,6252.6307758090716,567,2102.4411618428244,20815.691929011657,-5225.8064516129034,19016.893132632627,4280.6944675290906,2853.7963116860601,2853.7963116860601,0,67.883056640625,47.062744140625,null,null,{"$f":"R520+S520","v":7134.4907792151507}]
[" ","1964-02-29",3928.3281745838103,4913.1562927129053,887.83485718101906,1218.8644735630046,0,5716.754731762504,6405.29541015625,2166.3808048923884,1700,2174.109787721035,567,1457.6047781911695,14079.516647662709,-4402.3053110732253,10307.388112695113,4128.3034942810518,1791.6013161650108,1791.6013161650108,0,76.360137939453125,47.2796630859375,null,null,{"$f":"R521+S521","v":5919.9048104460626}]
[" ","1964-03-31",4076.4704913022097,4762.8495879812508,884.50591587551935,0,23.369809690275357,5613.8392158659308,5783.54052734375,2291.538512790803,1700,2292.2457589442947,553.71262849110735,1592.893601454542,11195.471775348036,-3500,8297.3991943352685,3151.4059554106097,1741.7922187840702,1741.7922187840695,0,81.034431457519531,49.389427185058594,null,null,{"$f":"R522+S522","v":4893.1981741946802}]
[" ","1964-04-30",4045.8427365877264,7356.5343284183418,850.04392315195173,0,501.0113859004129,6193.4846986567763,6535.75830078125,2394.4448899636209,1230.382913756594,2799.9999999999382,659.14058921158914,845.78851396694756,10554.905085539716,-2134.1992987342046,8592.21932817792,2211.2763045823026,1221.3164634673581,1221.3164634673581,0,80.35308837890625,52.229923248291016,null,null,{"$f":"R523+S523","v":3432.5927680496607}]
[" ","1964-05-31",3896.5504164649042,8327.2260351870864,830.31913588426437,0,235.23071028828838,3615.6116100586532,5362.2412109375,2421.2603880731413,2271.7017557239365,4180.3542173928909,745.25206646269567,1462.2843984360647,11895.446663665218,-2808.8917807042158,8316.1653020479007,2610.2642604486387,1050.8612789914887,1050.8612789914887,0,81.238677978515625,54.286960601806641,null,null,{"$f":"R524+S524","v":3661.1255394401273}]
[" ","1964-06-30",3600.8684686539241,11272.66715987809,795.17505540547313,0,494.91382374181399,5382.5576441685444,6747.76220703125,2214.7600610026961,4071.1950275021009,5078.5470204857766,707.63513518863192,1782.2226097090065,14496.93885926123,-5000,7243.3334999999997,3199.038914358865,1927.2481913713175,1927.2481913713175,0,81.654731750488281,54.54364013671875,null,null,{"$f":"R525+S525","v":5126.2871057301827}]
[" ","1964-07-31",3200.238625364912,11818.424181176541,656.24688968948408,0,2131.999499075333,6414.9966266488391,8377.8466796875,1698.6929377488782,7352.7304843488055,7577.1988743773909,587.42969344337212,1749.9999999999998,18462.577422585258,-10010.083637214095,5000,2977.6818792207864,6952.876573554433,6680,0,85.277687072753906,52.229991912841797,null,null,{"$f":"R526+S526","v":9930.5584527752198}]
[" ","1964-08-31",2879.8722217492709,9938.9449424713439,578.29228209926032,0,1156.4598163195822,5672.8622376473095,7345.35888671875,1646.8138392978194,1000,1649.5408173362584,524.98602366225418,1750.0000000000002,11031.415324662463,-5299.4493537076287,4074.3552094541383,3572.0176485686206,1795.300263633254,300,958.16294379610224,90.925086975097656,51.994724273681641,null,null,{"$f":"R527+S527","v":5367.3179122018746}]
[" ","1964-09-30",2852.5216453764165,4982.2408176419021,555.05359367775634,0,313.192621272547,4397.0512903501894,5061.6298828125,1562.0186444752133,1134.7274327746509,2484.7650003162962,480.56737066994634,1437.5961817102734,8732.4863570917805,-4873.7859032058604,3076.4511283600586,3434.0825541192658,2340.6826838467305,2205.9552510720823,0,92.084617614746094,52.917388916015625,null,null,{"$f":"R528+S528","v":5774.7652379659958}]
[" ","1964-10-31",2785.3142523452038,5906.6937733426066,535.25073404435909,0,294.71952287358147,5447.3012462647366,5182.86474609375,1349.2335608440014,2837.7877832801591,2970.9767852214054,424.91929888921607,1449.9648003308,10132.957732175351,-5973.5135476836331,4016.4486725427378,3306.8483820023021,4182.0912887507047,2830.3656560833833,0,91.859306335449219,54.332466125488281,null,null,{"$f":"R529+S529","v":7488.9396707530068}]
[" ","1964-11-30",2931.7990917176817,6968.9542104287339,532.8390765085669,0,81.258100285076694,8158.7102451061501,8972.0537109375,1216.3713704552758,2495.887924470494,3748.5831365647909,484.70677006542752,910.76668863642305,14681.911173251927,-6397.8160558566706,8483.9855710087868,3278.4198509398711,4667.3964638384205,3699.6230414487609,0,82.813819885253906,52.404975891113281,null,null,{"$f":"R530+S530","v":7945.8163147782916}]
[" ","1964-12-31",3252,35459.829378717841,535.41034187052207,0,0,16628.839354943124,16628.83984375,2735.8451326407449,1700,7553.4249464196628,428,20954.34075458931,42117.365496599814,-5290.322580645161,84894.002520860697,4458.7699328347981,2972.5132885565326,2972.5132885565326,0,54,48.424640655517578,null,null,{"$f":"R531+S531","v":7431.2832213913307}]
[" ","1965-01-31",3368,31850.581777324991,731.85620425889351,3148.1300468448881,0,25681.715933009007,25681.716796875,2788,17966.659702293135,36960.063081240718,425,12403.578234556331,70213.820057058576,-4516.1290322580644,108615.06056898882,4600,3816.9814060750232,3816.9814060750232,0,54,44.362693786621094,null,null,{"$f":"R532+S532","v":8416.9814060750232}]
[" ","1965-02-28",3772.4335342625091,6761.8025729021829,877.64944923602479,2642.3547200121207,0,8777.246264191539,9391.4384765625,2997,4858.8294242985048,12804.76772978995,443,5209.6905776709409,30639.703001137241,-4464.2857142857147,32958.450037583811,4600.0000000000018,3948.8182508679456,3948.8182508678515,0,58.83453369140625,44.497386932373047,null,null,{"$f":"R533+S533","v":8548.8182508679474}]
[" ","1965-03-31",4010.5754014661698,5463.4770238359142,885.1581169779347,151.99235379768828,11.964174125959403,7612.4382819726025,7972.81201171875,3096,5241.7751839937109,8153.0234143467105,612,1915.2508933963677,18990.543083955152,-3258.0645161290322,19138.533335629494,4182.7648324756738,2820.1193106836272,2820.1193106836267,0,65.257766723632813,47.953659057617188,null,null,{"$f":"R534+S534","v":7002.8841431593009}]
[" ","1965-04-30",4500,18282.800008721926,1044.0530270799936,2730,74.191729538590863,20247.913154410224,20262.1171875,3354,7799.2225792727004,13294.438165426855,792,5366.6338080490987,40351.859178856568,-3500,48131.072539337183,3140.2964265993742,5753.7500874997895,5753.7500874997913,0,54,49.460319519042969,null,null,{"$f":"R535+S535","v":8894.0465140991637}]
[" ","1965-05-31",4540.8383364680058,8889.2542339616921,1037.7174318734535,0,0,4885.1060180664063,5581.46337890625,3538,3484.9882244787877,8545.3757160891037,967,3205.3572736909118,17492.283771012379,-3500,16000.823247824961,3347.7064201373055,2231.804280091535,2231.804280091535,0,71.03924560546875,53.154800415039063,null,null,{"$f":"R536+S536","v":5579.5107002288405}]
[" ","1965-06-30",4307.8768167344588,9482.4107388519606,1028.266134535977,0,42.013888891666625,4655.3186187744141,5728.70654296875,3538,2160.6912452638753,5585.2655796718745,967,3000,14465.180037883052,-5000,9437.639374455699,3517.6262740382567,2345.0841826921901,2345.0841826921901,0,80.481407165527344,52.586696624755859,null,null,{"$f":"R537+S537","v":5862.7104567304468}]
[" ","1965-07-31",3850.405061342145,12991.821130441631,1025.0941657154888,125.80645161290323,40.658602153225807,5454.5622280662992,6365.8759765625,3028.3429756413784,8682.593632057502,9769.3753044159039,831.62291733657969,3413.5822178634025,20241.287312986191,-10084.212432467415,8891.7255762273344,4600,7004.9017250857196,6660.4307207499605,19.569279250039472,79.631675720214844,51.546787261962891,null,null,{"$f":"R538+S538","v":11604.90172508572}]
[" ","1965-08-31",3583.7786400876034,9689.1231023367382,988.05313370402837,0,506.75208634023141,4587.0862960815439,5559.251953125,2738.2359711429708,5718.9071414500741,7763.1069476828925,786.54502734850314,1749.9999999999995,15541.356712652128,-9764.3787874161426,6035.6598876322932,4600,6680,6680,0,85.802734375,52.148284912109375,null,null,{"$f":"R539+S539","v":11280}]
[" ","1965-09-30",3399.9999999999995,8211.624291414555,956.24583666085891,0,443.11118303197605,7470.9868583821435,8086.4794921875,2301.3809326392516,8123.8164269095741,10497.306454176187,683.72606063981868,2762.5943817725647,21128.730817382759,-8774.719968341411,12723.954645902078,3851.4040128869415,6680,6680,0,77.683235168457031,50.430702209472656,null,null,{"$f":"R540+S540","v":10531.404012886942}]
[" ","1965-10-31",3250,6631.9112403753952,952.44204180627742,0,0,5797.3693343589393,5785.09912109375,2121.346613374466,3999.9999999999836,5008.5672991143256,641.12486581861731,1312.582918867201,11791.909485165232,-4851.1790744501523,6718.7500000000318,3358.6429185684192,3208.9725466142741,3208.9725466142741,0,81.834678649902344,52.301567077636719,null,null,{"$f":"R541+S541","v":6567.6154651826928}]
[" ","1965-11-30",3252,12889.720379038507,977.55365765177032,345.77823361385424,0,13783.861751265707,14129.55078125,2190.0615945018635,1700,3088.9415827384196,567,3351.6224392609174,21613.633974832574,-8589.1719102092284,15163.418403240914,4600,6680,6680,0,69.702568054199219,52.376125335693359,null,null,{"$f":"R542+S542","v":11280}]
[" ","1965-12-31",3359,6064.672462375639,1003.565903042376,409.38807990705743,0,5719.6458800145019,6452.076171875,2234.9512627407794,1700,3661.8234086967732,567,2128.4566000579748,13310.188804447096,-9067.8356592506061,6382.6129455200171,4600,7383.3113488270101,7383.3113488270101,0,80.277565002441406,47.947357177734375,null,null,{"$f":"R543+S543","v":11983.31134882701}]
[" ","1966-01-31",3725,12257.762870226619,1049.8372028730887,717.98670784979527,0,16819.913059662387,16819.912109375,2383.9744096095742,1700,5106.1166557786428,567,1937.9856652590531,25419.361284061742,-5225.8064516129034,26266.703580608671,4600,3577.171015729592,3577.1710157295793,0,61.258968353271484,45.980628967285156,null,null,{"$f":"R544+S544","v":8177.171015729592}]
[" ","1966-02-28",4037,11040.221026420408,1081.0625579770401,534.19237065936136,0,14686.904885937551,16107.71875,2473.3488704498986,1700,4902.8384332293872,567,1630.2915591443486,25608.657875817957,-5250,23894.456237617334,4600,3365.3931262487095,3365.3931262487095,0,61.79302978515625,45.075832366943359,null,null,{"$f":"R545+S545","v":7965.3931262487095}]
[" ","1966-03-31",4229,16570.559343005858,1131.4996350629258,858.20519106062216,0,17553.176287778548,17555.345703125,2695.044622010857,1700,3230.3006409469899,633.88493673500193,1299.6790176538609,21743.267490725051,-3258.0645161290322,21542.598162279101,3457.8238866790766,2305.2159244528034,2305.2159244528034,0,65.271316528320313,46.558029174804688,null,null,{"$f":"R546+S546","v":5763.03981113188}]
[" ","1966-04-30",4552,10298.722785243946,1128.1149307765018,28.274076903857477,0,11057.157195409623,11400.76953125,3001.4996299163918,1000,4874.7079503888599,792,914.42838419884583,17372.083584564545,-2732.2861671529522,16100.517048424452,2305.7085437914525,2997.4028244223387,2997.4028244223387,0,67.365676879882813,51.016422271728516,null,null,{"$f":"R547+S547","v":5303.1113682137911}]
[" ","1966-05-31",4450.6019177659191,8410.3081133911328,1074.5961674986786,0,760.36670581827366,5141.6253209628221,6398.3056640625,2998.5931450378284,2374.643235589444,4952.7764800508467,823.68550406870202,891.30779716906227,12392.269892389741,-2928.0996561679517,8735.8870000000006,2919.0488202910174,1191.4257306576174,1191.4257306576174,0,78.005592346191406,52.910224914550781,null,null,{"$f":"R548+S548","v":4110.4745509486347}]
[" ","1966-06-30",3813.93909797776,15163.82664937713,1071.7761028472801,130,42.013888891666625,8170.3897471407154,9290.2666015625,2725.5508971043914,3940.5794572534701,4635.071285410826,767.17178672024158,686.56586436036821,14912.526361804124,-5000,7176.875,3236.4665630082782,1742.7127646967674,1742.7127646967674,0,82.941429138183594,51.809085845947266,null,null,{"$f":"R549+S549","v":4979.1793277050456}]
[" ","1966-07-31",3197.8909456588185,16011.212508626417,939.68092648790491,0,2014.5474317169571,9849.1795113892567,11721.888671875,2251.3505385082267,7627.4978084598306,7739.5566417067357,593.33537545751244,2051.8093262496604,22535.656522950092,-11094.170478355838,7980.0121906559389,4277.5879393989017,6961.6674483668494,6501.3970409895073,178.60295901049267,82.81121826171875,50.935821533203125,null,null,{"$f":"R550+S550","v":11239.255387765752}]
[" ","1966-08-31",2948.8156161751331,9913.836423824072,835.18800332926639,0,1578.623777631437,5479.9996562165979,7558.0966796875,1848.2086402879431,6502.3865652366185,6844.8418998162042,518.09968795563304,1449.3215296789699,16157.50460739168,-10201.659832559904,4000,3544.6578433213235,6985.5144620014262,6680,0,88.809738159179688,51.883575439453125,null,null,{"$f":"R551+S551","v":10530.172305322751}]
[" ","1966-09-30",2849.8082047741595,7180.3412209449962,807.91073637045008,0,368.73438125194332,6506.9383119281756,6919.279296875,1741.6499400970706,1879.4485422764249,3401.6041468586454,475.19725340717241,1361.4554051228754,11813.284798740902,-7336.2278073842281,3601.5562667541708,4104.0088516481164,4374.7267799594392,2736.7047059529805,1071.3031195491731,90.690200805664063,51.172935485839844,null,null,{"$f":"R552+S552","v":8478.7356316075566}]
[" ","1966-10-31",2738.6004326235279,6877.290203597493,766.23517715735545,0,618.09885465847583,6024.1463696596793,5905.796875,1500.0060507725163,2682.9059764767512,3292.3421608620456,471.38209969898691,609.97049377083806,10082.800538607864,-5685.7616697838439,4201.4234354931687,3013.3136609480348,4083.1120017105427,2786.3641961518229,0,91.297813415527344,52.004722595214844,null,null,{"$f":"R553+S553","v":7096.4256626585775}]
[" ","1966-11-30",3133.490713752793,6173.0665563393995,767.99780105183629,0,29.241666668600001,6777.0438537969394,7484.91943359375,1522.6801821555275,1700,2074.2557364377249,567,774.81012106545779,13063.482668817967,-8600.9811131039241,5126.4963529042525,3648.556395155093,6680,6680,0,89.259429931640625,52.342769622802734,null,null,{"$f":"R554+S554","v":10328.556395155094}]
[" ","1966-12-31",3335,17389.5566302058,768.4814985698082,0,26.997311829741932,22379.310003688101,22379.310546875,1784.834710195194,1700,6825.9266076271042,567,5097.2973555045965,37366.799090069682,-5290.322580645161,39694.13804359184,4321.529980892652,2881.01998726177,2881.01998726177,0,55.503425598144531,49.331916809082031,null,null,{"$f":"R555+S555","v":7202.5499681544225}]
[" ","1967-01-31",3551,18780.318813597394,851.73357271995576,1267.6447470701601,0,19157.950688926274,19157.951171875,2415.259196073855,1700,4707.2472465088813,563,6896.3721779926927,35536.378115299456,-4516.1290322580644,47937.289304343278,4369.15066935098,2912.7671129006367,2912.767112900654,0,54,45.852550506591797,null,null,{"$f":"R556+S556","v":7281.9177822516167}]
[" ","1967-02-28",3920,12377.699704773273,1001.2486597874775,2717.1351768570703,0,18268.309255808228,18303.51171875,2856.5915797068119,1700,18037.815420197858,552,4967.9760883310892,44071.937187150215,-4464.2857142857147,51069.326192657907,3782.9132789014161,2521.9421859342779,2521.9421859342779,0,54,44.986370086669922,null,null,{"$f":"R557+S557","v":6304.855464835694}]
[" ","1967-03-31",4033,20358.660671478436,1151.9491148642783,2443.0212980871138,0,16410.782167971385,16410.78125,2847,12860.471801319129,18373.271254658532,636,6850.6294058066223,45300.224499320437,-3258.0645161290322,59679.079136765009,4599.9999999999509,3780.2887138584788,3780.2887138584788,0,54,46.378597259521484,null,null,{"$f":"R558+S558","v":8380.2887138584301}]
[" ","1967-04-30",4479,17450.478598065143,1327.2913689728296,2916.3283834353442,0,18567.253462029712,18573.775390625,3236,2159.9974501671572,8365.9549913460796,792,4479.8209840080472,33111.388695240646,-1740.1875350677005,51701.242867900815,4600,6680,6680,0,54,48.561023712158203,null,null,{"$f":"R559+S559","v":11280}]
[" ","1967-05-31",4552,18116.13806043654,1434.6565643309636,1854.3901317430546,0,15000.000000000002,15073.890625,3538,9235.6495308922913,16018.34119302894,967,7060.950296518562,40253.133130646551,-3500,46310.600330333327,4123.1481475793935,5490.486589103084,5490.486589103084,0,54,50.675418853759766,null,null,{"$f":"R560+S560","v":9613.6347366824775}]
[" ","1967-06-30",4500,11391.861535096496,1499.9999625939361,1178.4780753015143,0,7242.2924479731819,8711.732421875,3538,8491.619256738828,18549.419578656383,967,7372.0992813127159,35746.781094847029,-4630.4906831756416,39324.480477081277,4600,6680,6680,0,54.435073852539063,52.637344360351563,null,null,{"$f":"R561+S561","v":11280}]
[" ","1967-07-31",4150,12092.429933454556,1489.8424403250774,0,0,4842.2859860213512,5798.44677734375,3538,1416.5323970547574,5048.9912586662576,942,2983.5201334974972,14335.935423761299,-5601.5146896076076,13909.198824729108,4600,6969.9165533871037,6680,0,69.111099243164063,52.548561096191406,null,null,{"$f":"R562+S562","v":11569.916553387104}]
[" ","1967-08-31",3699.9999999999995,12182.846225725194,1499.9999251049999,327.84789453663342,0,6353.8077501475018,7334.6015625,3336.8126117591228,3763.5484922498345,5671.1365609563954,792.00000000000011,3280.0656589564715,17009.577997796718,-9919.993741809998,6479.4491090073479,4600,6680,6680,0,82.391578674316406,51.643238067626953,null,null,{"$f":"R563+S563","v":11280}]
[" ","1967-09-30",3399.9999999999991,10674.507848921114,1465.1325464231375,0,463.60153259770118,10126.656174051652,10232.70703125,2984.7363622440143,6452.4810738136439,7991.0901561049741,754.56602132258058,1750,21232.026747234097,-9327.8186906511582,12465.83333336,4600,6680,6680,0,74.296287536621094,50.560245513916016,null,null,{"$f":"R564+S564","v":11280}]
[" ","1967-10-31",3250,8950.6728806061692,1433.5243685698915,2.0981421019520309E-3,448.64664444938825,8761.266568450088,8636.4501953125,2783.3359771924224,4000,4442.0175812651833,712,1706.5957005165676,15893.80832611941,-8120.4172090092907,7890.3225806709679,4600,5847.055458347706,5847.055458347706,0,79.287643432617188,51.650093078613281,null,null,{"$f":"R565+S565","v":10447.055458347706}]
[" ","1967-11-30",3202.4502320359156,6192.1241313736991,1440.0487828210664,112.20000000000002,0,6253.5077803155182,6146.94189453125,2734.3727557876214,1700,1945.4220704927727,567,4298.1432537080018,13298.506818170037,-9306.5069838746131,4934.7143911529183,4600,6680,6138.4123044694607,541.58769553053935,88.52276611328125,54.002147674560547,null,null,{"$f":"R566+S566","v":11280}]
[" ","1967-12-31",3235.3087638007282,7169.8960341862612,1423.0585198934859,0,290.32258064516157,8294.5330996322828,8980.1083984375,2741.9239154620254,1755.5063583641959,2556.9756018358476,567.00000000000011,1931.4822327916754,14480.865007449605,-9232.2602273270531,4973.867125905841,4388.4495899651829,6734.5350161772976,5125.9791157354521,1557.6033055381879,89.584930419921875,51.112083435058594,null,null,{"$f":"R567+S567","v":11122.98460614248}]
[" ","1968-01-31",3488.9113871589425,8815.2363124870026,1447.6931259916296,368.69883279099156,0,13390.725537687011,13844.9306640625,2895.9588767907476,1700,4014.3059068329712,567,1908.5542109084795,21808.090854263632,-5225.8064516129034,20005.770762205302,2234.8911510155658,4844.0716381255306,4844.0716381255306,0,67.507614135742188,47.841938018798828,null,null,{"$f":"R568+S568","v":7078.9627891410964}]
[" ","1968-02-29",3654,27692.368425493129,1500,896.32688053290963,0,21859.898018940818,21893.88671875,2962,11325.843510609722,15351.367865281889,547,6322.0389725726891,50103.185761145469,-4482.7586206896549,62120.344102571325,2805.0900717305449,3418.4853564668601,3418.4853564668601,0,54,46.429416656494141,null,null,{"$f":"R569+S569","v":6223.575428197405}]
[" ","1968-03-31",4242.4410291618942,7812.1402747582761,1499.9999895939329,22.77097392204336,0,13794.856681611265,14100.12109375,3036,6618.577403436766,14747.357051696365,640,1963.6390467420326,30464.083828694362,-3258.0645161290322,32719.565338078424,2595.355504561745,2976.9525292837006,2976.9525292837006,0,58.365192413330078,50.047428131103516,null,null,{"$f":"R570+S570","v":5572.3080338454456}]
[" ","1968-04-30",4481.153227195563,4922.1501890640102,1494.0439701557882,0,3.8361026955014808,5381.181821097347,5583.2109375,3179.818858701165,2000.2628566516214,2800,718.15430917860601,889.16031256965528,9935.8129190319942,-2066.2521426029107,8318.7804200614428,1749.9434465354457,1818.5364170195485,1818.5364170195485,0,78.755577087402344,53.934898376464844,null,null,{"$f":"R571+S571","v":3568.4798635549942}]
[" ","1968-05-31",4384.2184333312025,8403.4008583489049,1488.0364775185817,0,0,4601.1898651122438,6192.09814453125,3237.7490872660915,1585.1114218559483,3214.1366639365392,740.57243533348333,900.43466030102172,11337.975266672005,-2815.4649740787991,7688.5008245643257,2884.7589996195575,886.05695790444906,886.05695790444906,0,82.192962646484375,53.630088806152344,null,null,{"$f":"R572+S572","v":3770.8159575240065}]
[" ","1968-06-30",3920.9666125176295,12621.335266286043,1390.1970328322423,0,1494.4528812757605,7769.082595407308,8736.9892578125,2988.8917133995278,4295.8160283473553,4816.7741003667488,687.90240445295012,858.11075631695212,15183.487711607184,-5000,7243.6282145894893,3175.8921209095734,1710.0957574129134,1710.0957574129129,0,82.611183166503906,52.211441040039063,null,null,{"$f":"R573+S573","v":4885.9878783224867}]
[" ","1968-07-31",3231.2179458104215,16352.243955184784,1253.675988269661,0,2069.0075984004698,9441.6476628676828,11284.3544921875,2484.087172168875,7783.6735699347155,7903.6294387395601,411.77999439677353,3703.1787970454766,24686.018711034259,-11412.806959655929,9422.0301247132484,4600,6865.2072617450449,6384.5518901266987,0,80.028312683105469,51.314723968505859,null,null,{"$f":"R574+S574","v":11465.207261745045}]
[" ","1968-08-31",3080.8755504852365,8822.339137756253,1193.5727539039644,0,882.3595876084737,4200.6062544996503,5956.52392578125,2033.6871478806304,7771.574947136326,7395.6169839835611,353.24376541201315,1404.0390693067716,16426.491996118686,-10139.746258078307,4934.3046088404299,3872.8791235297581,6992.2357423084313,6680,0,85.775688171386719,52.739383697509766,null,null,{"$f":"R575+S575","v":10865.11486583819}]
[" ","1968-09-30",2978.8188281728426,7835.9493560533974,1137.4196832025775,0,837.12746273395078,6843.332682155582,7231.35498046875,1917.0731539533747,2243.602680458901,2869.9489281922783,309.54353389573282,1462.3813891196351,12648.592719836064,-8294.9492284427615,3607.344174717045,4335.2448722300105,5197.8087509993666,3208.9219766417309,1563.2822814393494,89.867401123046875,51.338294982910156,null,null,{"$f":"R576+S576","v":9533.053623229378}]
[" ","1968-10-31",2990.951347162907,5641.0048312680483,1086.8313363812822,0,774.01464487913199,5893.250682540026,5785.3994140625,1702.6458922109982,3975.6471183216681,4329.8644695190933,284.18527464085071,974.96174998124377,12007.102497250109,-7473.2948434312821,4390.3225806709679,3015.8566327967878,6033.5872487522474,5466.973590425926,0,89.46337890625,52.390884399414063,null,null,{"$f":"R577+S577","v":9049.4438815490357}]
[" ","1968-11-30",3004.2486844146874,6700.3707198913271,1070.453264834945,0,299.99999999999909,7220.805211803452,7557.23974609375,1651.6630101009141,2499.99999999998,3198.8334628552884,354.53890060852609,1033.1746194944326,13284.024337534442,-7797.9629627583163,5617.2512971985307,3619.0567939281004,5805.9682405946096,5402.1108556882555,0,86.323867797851563,53.081401824951172,null,null,{"$f":"R578+S578","v":9425.0250345227105}]
[" ","1968-12-31",3354,11025.434935540381,1074.352455267652,0,26.997311829741932,15731.236345218655,15731.236328125,1769.3919244839121,1700,2787.2975603443024,491.7966118897977,1031.626624173884,20956.734313888879,-9693.7320868341849,13856.50006397182,4600,7061.3848512457907,7061.3848512457907,0,75.535293579101563,49.882137298583984,null,null,{"$f":"R579+S579","v":11661.384851245792}]
[" ","1969-01-31",3358,41099.335684687918,1243.4297585528916,2643.629298214888,0,23150.836167954873,23150.8359375,2788,7977.562987899365,27305.432978241599,543,15755.01459090093,54477.949652527794,-3645.1612903225805,116883.44083830659,4600,6654.0236854830364,6654.0236854830364,0,54,46.29248046875,null,null,{"$f":"R580+S580","v":11254.023685483036}]
[" ","1969-02-28",3480,37318.906123792549,1427.5783534435259,3203.5714285714284,0,26025.417975268811,26060.619140625,2788,12472.486521227964,31104.999044098691,527,10428.499114509113,70062.103273967514,2352.2788058922079,132933.80485038063,4600,8593.0459282774736,6043.944189144946,2549.1017391325295,54,44.162765502929688,null,null,{"$f":"R581+S581","v":13193.045928277474}]
[" ","1969-03-31",4030,12480.391230835616,1500,1196.9441988980727,0,18002.727196725395,18002.7265625,3027,6449.6062836080428,18596.713991487861,637,4680.9925756923913,40244.002396424243,5367.5222970627838,65920.291065413039,1990.0630442418615,3618.9127358317396,3618.9127358317396,0,54,46.933830261230469,null,null,{"$f":"R582+S582","v":5608.9757800736006}]
[" ","1969-04-30",4434,16836.994377164745,1500,60.253365561969638,0,20594.735963459709,20611.462890625,3470,7559.9754220683189,14908.443853082184,792,6216.7585341404611,40540.499503961386,5711.1893708463031,63453.517254737228,2734.0985350629617,3427.8520074674789,3427.8520074674789,0,54,50.391941070556641,null,null,{"$f":"R583+S583","v":6161.9505425304405}]
[" ","1969-05-31",4552,14609.612023610107,1499.9999999999998,135.52471333000426,0,11548.574158524512,12364.806640625,3538,12825.092370915501,21978.739278383091,967,6962.5175317453268,43142.701110809438,3691.0276801185682,59464.990118869529,3942.3588866754326,5149.3111825045535,5149.3111825045535,0,54.165416717529297,51.914066314697266,null,null,{"$f":"R584+S584","v":9091.6700691799851}]
[" ","1969-06-30",4454.3173474874566,9211.2495164935463,1490.3248801040406,0,42.013888891666625,4842.0259704589844,5952.22412109375,3538,3740.8514265680387,8188.9899124654521,967,5288.2602161724153,21191.08770215842,-1199.8154319364535,32080.43704121717,4600,6680,6625.1091722291239,54.890827770876058,62.381881713867188,52.958171844482422,null,null,{"$f":"R585+S585","v":11280}]
[" ","1969-07-31",4061.3330658704831,11417.06430081687,1477.3653091697524,0,40.658602153225807,4628.6461639404297,5507.01953125,3317.8783259263209,3820.0966332959943,4520.6891458751879,942,1816.0273291412959,13263.78741428494,-7382.2574016834551,8000,4600,6680,6680,0,80.009391784667969,52.33660888671875,null,null,{"$f":"R586+S586","v":11280}]
[" ","1969-08-31",3700,11025.576689622654,1437.4858506877385,0,489.30524660261409,4854.5911754868721,5949.0068359375,3031.8712212902351,5405.4108448577672,5873.9443376759191,792.00000000000011,3189.0373210398593,16569.341901989748,-9664.1452093172556,7078.8308806709683,4600,6680,6680,0,83.996284484863281,51.914073944091797,null,null,{"$f":"R587+S587","v":11280}]
[" ","1969-09-30",3399.9999999999995,12128.367848241392,1429.5897503763633,0,19.304450927024021,11224.059089184948,11543.029296875,2775.1050256947474,5596.8460499399971,7602.5885673459034,752.00000000000023,1687.7127500445022,21504.624938609028,-8936.8197021180749,13312.5,4600.0000000000618,6680,6680,0,75.652069091796875,50.554149627685547,null,null,{"$f":"R588+S588","v":11280.000000000062}]
[" ","1969-10-31",3249.9999999999995,9868.185905504899,1405.8416661891324,109.25806451612902,448.64664444938825,9353.0885781217476,9196.646484375,2673.7714889822782,3622.5175551110187,3627.4131464817046,712.00000000000023,1614.619035136192,15475.663103998386,-8424.3702932469641,7577.8225806709679,4600,6446.1226422583341,6446.1226422583341,0,80.808799743652344,51.488716125488281,null,null,{"$f":"R589+S589","v":11046.122642258335}]
[" ","1969-11-30",3182.5834022475256,6827.9806363953339,1410.9283365328297,112.20000000000002,0,6211.1422216508845,6445.89892578125,2672.0054329199143,1813.3333333332689,1837.7831989050719,561.60085469673299,4068.1355454793534,13521.42041535626,-9003.4062839491635,4940.238644539405,4600,6680,5796.1559713919742,817.74052945325457,84.731849670410156,53.843452453613281,null,null,{"$f":"R590+S590","v":11280}]
[" ","1969-12-31",3317,24808.851214653307,1416.385146816122,0,0,18860.760955436184,18860.76171875,2806,7472.0452394283611,14196.450854041279,567,5315.0135327693633,39592.153446846045,-5290.322580645161,46767.061464445484,4599.9999999999982,3127.4878251300865,3127.4878251300865,0,54,51.089359283447266,null,null,{"$f":"R591+S591","v":7727.4878251300852}]
[" ","1970-01-31",3252,75708.898957866244,1500,1231.0106587989544,0,24631.560587677355,24631.560546875,2787,35835.053088410219,67722.451858778571,453,19992.026495045724,69007.047868522364,-108.30646017962408,209361.14588668337,2187.3126862742183,7530.7961444508283,7530.7961444508283,0,54,45.882469177246094,null,null,{"$f":"R592+S592","v":9718.1088307250466}]
[" ","1970-02-28",3431,20842.626303046927,1500,0,0,24842.487988449957,24877.689453125,2787,10654.558121625201,33777.322600984662,446,6354.5178446672699,61555.563057132516,-3872.3086587044763,80226.118877657253,2309.4100961047866,6258.6412400394956,6258.6412400394956,0,54,44.500541687011719,null,null,{"$f":"R593+S593","v":8568.0513361442827}]
[" ","1970-03-31",4098.2630258204526,8522.2695819847668,1500.0000000000002,32.277171591100803,0,14489.924484652751,15000.1220703125,3163,4108.8340238298679,14085.129612741755,611,3588.9876875017526,32146.430011472996,-3258.0645161290322,38336.94340666588,2682.6958822315437,4961.2742133715501,4961.2742133715501,0,56.252891540527344,48.519985198974609,null,null,{"$f":"R594+S594","v":7643.9700956030938}]
[" ","1970-04-30",4185.3399575597696,6862.4497291935268,1491.9129226284492,0,52.820297147093299,7819.1792132061855,7955.91015625,3239.8480173043749,1497.3226916826366,2800,702.880836339506,1274.1713372780034,12652.345737690943,-3316.5192763754544,11659.675473924002,3191.5634663511482,3115.4414840683785,3115.4414840683785,0,71.288421630859375,52.269371032714844,null,null,{"$f":"R595+S595","v":6307.0049504195267}]
[" ","1970-05-31",4112.0707900236102,8262.8550362255337,1484.1431591958863,0,0,4050.3990478515625,5637.1787109375,3293.7095011320685,1000,3344.8187073591066,809.91016130681464,1296.1713991161141,11567.370511559942,-3273.1162583192763,8223.3673089827389,2945.8464648326499,1761.5397598401069,1761.5397598401069,0,80.129814147949219,53.885242462158203,null,null,{"$f":"R596+S596","v":4707.3862246727567}]
[" ","1970-06-30",3754.1305679325401,12917.919626977075,1481.7942097511609,129.99999999999997,42.013888891666284,7228.6987500822224,8337.3828125,3111.8120145272737,2585.5811043659937,4039.9632186962754,751.84535613438652,2022.0764312613192,15466.790918629426,-5000,8384.7556124815801,3273.167703139547,1762.4749170751279,1762.4749170751284,0,81.967521667480469,52.263809204101563,null,null,{"$f":"R597+S597","v":5035.6426202146749}]
[" ","1970-07-31",3113.3352457511733,16309.382898213944,1408.0725095314822,0,1029.9676764384094,9986.6707657161642,11359.54296875,2535.5049321089887,8535.3139440312989,8808.5883014818137,524.78295096745796,3835.0132276437994,24915.976510268425,-9437.773460151202,12064.347803643139,2648.2475246638987,7167.259442110877,6680,0,78.087371826171875,51.220138549804688,null,null,{"$f":"R598+S598","v":9815.5069667747757}]
[" ","1970-08-31",2754.0256244185457,11720.518894943403,1396.3549418540074,0,40.658602153225843,5728.0636564650376,7358.20458984375,2082.5374251527032,7677.6497126863396,8226.7924460905178,475.46276395978936,1524.0493755994655,17660.878520746879,-10815.42473482652,5227.8227999999999,4600,6680,6680,0,84.03375244140625,51.412574768066406,null,null,{"$f":"R599+S599","v":11280}]
[" ","1970-09-30",2599.9519494661813,9038.3556353414751,1359.6381015903164,0,490.31888635446433,7922.2006612942942,8637.525390625,1922.9885480803782,3303.2209419288147,4836.7328505957912,429.94269815254052,1546.9661704221903,15471.834667529052,-6080.6167878809629,8953.6239484404396,4278.9513559666557,2853.6239484404391,2853.6239484404391,0,79.615531921386719,50.728584289550781,null,null,{"$f":"R600+S600","v":7132.5753044070952}]
[" ","1970-10-31",2571.1224411303388,6634.3367111406233,1328.8616009551813,0,448.64664444938825,6230.0401208079566,6145.02734375,1732.4658850855669,3632.9343339789721,3996.8558098015665,379.14767653209321,1347.0246354231763,12242.304412149317,-3415.8557467546452,9218.75,1738.3160224032599,3312.5034355054818,3312.5034355054818,0,79.866203308105469,52.217639923095703,null,null,{"$f":"R601+S601","v":5050.8194579087412}]
[" ","1970-11-30",3081.8300971129288,10440.719071033447,1455.5995094845628,2022.3204887940119,0,8546.6129073433713,9487.73828125,1858.730873152487,2500,1465.9609698008239,471.11499741491184,1962.4492777494272,15415.938527707154,-9209.8099689995579,8068.0964614607274,4600,6680,6680,0,82.523246765136719,52.790523529052734,null,null,{"$f":"R602+S602","v":11280}]
[" ","1970-12-31",3319,23913.530234982281,1458.9733427876622,0,0,25685.894448270934,25685.89453125,2209.5260703669564,1700,12399.02821697734,567,4946.7092429733339,49114.423092538193,-5290.322580645161,57752.465707400785,4383.4152142678968,2922.2768095119955,2922.2768095119955,0,54,49.996738433837891,null,null,{"$f":"R603+S603","v":7305.6920237798922}]
[" ","1971-01-31",3515,23286.758482464804,1500,648.81817596353494,0,24183.974381816541,24183.974609375,2545.859476537888,1700,8676.9653381882563,567,4739.2074190622416,41871.965050620413,-4516.1290322580644,47277.582683880653,3966.2407675411951,2644.1605116941282,2644.1605116941282,0,54,46.003475189208984,null,null,{"$f":"R604+S604","v":6610.4012792353233}]
[" ","1971-02-28",3907.3550764703737,6236.2963283702084,1499.9999864909087,32.728401410357137,0,9688.7384008071967,10437.9296875,2842.3332849711737,1700,5425.2399272162438,558,3267.2153457165959,23068.795813743698,-4464.2857142857147,20676.236293155052,3811.3792191008929,2540.9194794005766,2540.9194794005766,0,64.432571411132813,45.700965881347656,null,null,{"$f":"R605+S605","v":6352.2986985014695}]
[" ","1971-03-31",3873,24719.864719528399,1499.999998298679,6.1574087636457673,2.4342897229685572,17148.513878961618,17154.037109375,3162,8500.2039933715678,11453.6305884961,648,4065.2487615499781,35951.732361410497,-3258.0645161290322,46070.403976506866,3524.1974749661044,2349.4649833107355,2349.4649833107355,0,54.259544372558594,46.230899810791016,null,null,{"$f":"R606+S606","v":5873.66245827684}]
[" ","1971-04-30",4518.1403881054102,6366.8576874078253,1495.6783556892558,0,0,7268.5114402487461,8017.3427734375,3433,3839.4583851918142,12717.728613978617,792,2305.0676202277346,23182.51704507141,-3268.8640275823432,23690.540056261983,3862.2163031932305,2574.8108687954864,2574.8108687954864,0,63.012474060058594,52.489192962646484,null,null,{"$f":"R607+S607","v":6437.0271719887169}]
[" ","1971-05-31",4552,13957.624296765969,1499.9999648708167,146.90899433272131,0,10246.035183149836,11545.642578125,3538,8564.9827577546821,13391.504892536448,951.93896786086862,2999.999978553511,29506.042419560003,-3303.5103315112287,27558.51782130243,3152.6631955301245,2101.7754636867494,2101.7754636867494,0,58.506008148193359,51.230518341064453,null,null,{"$f":"R608+S608","v":5254.4386592168739}]
[" ","1971-06-30",4500,10701.284332207761,1499.9999397956274,178.14749474528838,42.013888891666625,5540.1361787075548,6536.15576171875,3538,5598.4855157106776,10284.341456614084,961.20553052742571,2999.999978554567,20410.119602807434,-5000,13781.411501525301,3013.6808390805077,2009.1205593870659,2009.1205593870668,0,67.750892639160156,52.962348937988281,null,null,{"$f":"R609+S609","v":5022.8013984675736}]
[" ","1971-07-31",3989.6062799085025,13691.780142393394,1492.1133767817514,125.80645161290323,40.658602153225807,6523.4591357584559,7326.892578125,3049.170101625155,9145.6927349530433,11853.316464174717,882.90757680839567,2598.8372536836287,22493.13986418688,-11141.115565193602,8000,4600,7004.9017250857205,6680,0,78.109733581542969,51.859760284423828,null,null,{"$f":"R610+S610","v":11604.901725085721}]
[" ","1971-08-31",3694.0568163357957,9990.6801099356253,1405.4657323477181,0,1254.8769749511584,4768.7777411965571,6166.41015625,2665.9061454312764,7361.7383299878802,9403.473440647711,792,2019.2590095112591,18037.749296635644,-10459.110828483175,6035.2824396878859,4229.1463298493245,6680,6680,0,83.797439575195313,52.384136199951172,null,null,{"$f":"R611+S611","v":10909.146329849325}]
[" ","1971-09-30",3399.9999999999995,11314.021014995635,1395.5839357594693,0,38.321033282058039,10432.80672949474,10820.4912109375,2259.3861567536287,7645.9251153170353,10427.31233846708,740.31371813195551,1539.9754582087298,22451.588551171222,-9829.3874183064763,11750,4600,6680,6680,0,76.037429809570313,50.334999084472656,null,null,{"$f":"R612+S612","v":11280}]
[" ","1971-10-31",3250,9801.3036510246748,1363.7004063416039,0,448.64664444938825,9211.206859453956,9020.6572265625,2167.3942112391069,2852.3665153180518,4086.0497827558988,694.95419565493398,1329.1675833272213,14114.266738441775,-6353.5337729810126,7890.3225806709679,4600,3530.375211757565,3530.375211757565,0,78.76007080078125,51.458961486816406,null,null,{"$f":"R613+S613","v":8130.375211757565}]
[" ","1971-11-30",3161.316774064544,8092.8280544076697,1369.8280393921204,112.20000000000002,0,6572.2433061672064,6790.95166015625,2119.4354969956958,2035.1356136888705,2493.8376076497602,561.61468174952347,3819.5257524697172,13505.241849013873,-8461.3202359991046,4721.8022803556069,4600,5664.2230785006395,4004.6794366834292,1344.3927323092485,87.562202453613281,53.468524932861328,null,null,{"$f":"R614+S614","v":10264.22307850064}]
[" ","1971-12-31",3350.8579154597273,6006.9255038479942,1373.2656038633133,0,0,7217.4211785325833,7819.2294921875,2169.5075676228134,1700,3594.0169290817275,567,2777.1024703260045,16116.891480099377,-9681.1995057168751,7312.5643132977002,4600,7054.5126873142381,7054.5126873142381,0,85.790870666503906,49.61053466796875,null,null,{"$f":"R615+S615","v":11654.512687314238}]
[" ","1972-01-31",3714,6812.5299814843556,1409.3134013858041,587.47164093175684,0,8284.7595268951627,8624.2099609375,2327.8544938296868,1700,4004.9142694639854,567,1680.3135625718894,14999.999997756977,-5225.8064516129034,10816.687645050217,3982.86309251071,2655.2420616738063,2655.2420616738063,0,80.556900024414063,45.944625854492188,null,null,{"$f":"R616+S616","v":6638.1051541845163}]
[" ","1972-02-29",3979,8600.4579029972701,1428.9928665496016,340.22875669437366,0,9512.1007018088403,10231.576171875,2577.2305936984499,1700,4522.6195852963865,567,2760.5913552796837,20517.179600732336,-4482.7586206896549,17251.128471524702,3641.0244464879611,2427.3496309919733,2427.3496309919733,0,68.284866333007813,46.401073455810547,null,null,{"$f":"R617+S617","v":6068.3740774799344}]
[" ","1972-03-31",4249,18041.972807432299,1465.8247352240464,688.99170987317018,35.104396007555223,19098.253181861284,19121.59375,2996.0695874410685,1700,5248.6083817173085,646,3669.8150171341035,27934.966955635529,-3258.0645161290322,27155.704256924437,2638.9087557608677,1759.2725038405747,1759.2725038405774,0,60.537105560302734,48.605197906494141,null,null,{"$f":"R618+S618","v":4398.1812596014424}]
[" ","1972-04-30",4551.5113874467024,8247.3246157099384,1463.6892927157471,130,81.762948972578727,8000,8406.810546875,3155.9792925188599,1000,4164.8651410490465,767.33488781856727,1107.4880724483917,13826.877797065325,-2283.3461952981465,12298.187212055196,1105.1133860989698,2641.6277088707202,2641.6277088707197,0,72.254386901855469,52.152915954589844,null,null,{"$f":"R619+S619","v":3746.74109496969}]
[" ","1972-05-31",4455.0842093985457,8987.6937786885883,1457.027966107436,0,0,4592.687423706132,5910.12744140625,3235.7730118452669,999.99999999992804,3876.1114390775856,889.77551053175091,1110.2234041652907,10821.806721182249,-2882.0595246212479,6957.2539138220864,2197.9405006677753,1416.0660012740937,1416.0660012740937,0,82.345909118652344,53.366336822509766,null,null,{"$f":"R620+S620","v":3614.0065019418689}]
[" ","1972-06-30",3990.4386781973817,12881.802509934732,1336.2575547554,0,1879.2423104223503,7365.8924566507649,9353.2509765625,2981.9316256875209,3260.4109184536628,4371.8791850664684,820.01115717232142,1735.2724875287749,15395.198384307765,-5000,7687.0525259722353,3153.4372898876022,1698.0046945548634,1698.0046945548634,0,82.944358825683594,52.222396850585938,null,null,{"$f":"R621+S621","v":4851.4419844424656}]
[" ","1972-07-31",3310.9066199646259,16018.333556979447,1278.7488042804994,0,767.84721145776075,9117.9678440793468,10794.0673828125,2375.0337516430895,8571.7617224194946,9354.1707399980241,577.03405580463766,3614.6183164909507,24213.068119872882,-11337.390763426811,9176.0108193031338,4583.4352060000083,6832.943941815096,6680,0,80.541328430175781,51.174896240234375,null,null,{"$f":"R622+S622","v":11416.379147815103}]
[" ","1972-08-31",2971.5098519010348,11073.930830790961,1261.2576977193362,0,136.95007213074351,6156.3021718924501,7293.1181640625,1977.8104161462315,6069.862365663218,8006.966298582066,513.05313486794796,1680.9747904446103,16789.512347241052,-10740.814793386406,4170.316438672281,3933.6447652806669,7242.2889784987419,5139.8063167792116,1065.694476922853,88.006790161132813,51.738426208496094,null,null,{"$f":"R623+S623","v":11175.933743779409}]
[" ","1972-09-30",2980.4305778301036,6049.0651328921167,1224.2389263210061,0,534.85708815796784,5367.8741235184389,5846.26025390625,1746.2405129946594,3838.849834477342,6287.2998894658131,471.02375185393481,1537.9840270054544,13472.906503358889,-8679.0483357147023,4167.4825879164582,4476.0438313315917,5529.5370918759054,5291.3771374432563,238.1599544326491,89.59173583984375,52.003536224365234,null,null,{"$f":"R624+S624","v":10005.580923207497}]
[" ","1972-10-31",3064.2007142116054,6109.3143091971988,1178.8811333377455,0,732.68448704251114,6618.1280683000132,6602.6611328125,1639.7655094838829,2099.199814508057,2873.396202005496,432.78581921750646,1295.3076641075459,11037.964836304785,-7028.8167999857433,4390.3225806709679,3561.5520135098045,5080.2262254327879,4418.5947170441978,0,87.788894653320313,52.144462585449219,null,null,{"$f":"R625+S625","v":8641.778238942592}]
[" ","1972-11-30",3252,8845.2617642378245,1181.4287634413131,0,29.241666668600001,10377.075418882034,11479.58984375,1670.9718828285952,1700,4280.5128903870318,500.70746919700264,1354.8417375933477,18450.151514951718,-9151.6756978772864,11337.177620707524,4600,6680,6680,0,79.400985717773438,52.644344329833984,null,null,{"$f":"R626+S626","v":11280}]
[" ","1972-12-31",3346,11775.186360842445,1182.0716157420143,0,26.997311829741932,15336.717484509507,15336.7177734375,1876.2828888971383,1700,5638.2338744584113,567,2763.4323581751091,25023.155422878721,-5290.322580645161,22245.052461599276,4182.2967276396721,2788.1978184264508,2788.1978184264508,0,63.899051666259766,49.795494079589844,null,null,{"$f":"R627+S627","v":6970.4945460661229}]
[" ","1973-01-31",3552,26138.096196917504,1382.085703500949,3127.4692828999559,0,24538.329194396119,24538.330078125,2483.1027185256826,1700,16164.610242108985,559,9556.7226043870978,54471.177719147585,-4516.1290322580644,75874.070611632662,4261.2344710172356,2840.8229806781592,2840.8229806781601,0,54,46.452564239501953,null,null,{"$f":"R628+S628","v":7102.0574516953948}]
[" ","1973-02-28",3636,29502.860041024669,1499.9999999999998,2018.2289481764074,0,24284.326168660806,24319.52734375,2788,4629.6732575438418,18694.944866095429,555,7429.9263933296688,58418.224638445594,-4464.2857142857147,85413.231813815975,4600,3534.7837531398518,3534.7837531398518,0,54,44.908710479736328,null,null,{"$f":"R629+S629","v":8134.7837531398518}]
[" ","1973-03-31",4162,14362.99090057321,1500,0,4.2284946239354841,20464.224527703889,20464.224609375,2951,6099.7891027778214,20067.89653853613,652,3584.4165073564986,43945.436455914765,-3258.0645161290322,58710.67702939771,4503.2485362060343,3569.455999706408,3569.4559997064084,0,54,46.731430053710938,null,null,{"$f":"R630+S630","v":8072.7045359124422}]
[" ","1973-04-30",4516.0051072040324,5987.6705958165221,1495.9258437513013,25.758492766224268,0,8334.7755792876724,9798.564453125,3293.0803776685448,1000,5305.7439015735463,792,2241.083374728265,17264.148451582925,-3500,17719.492348137705,3486.6274217853734,4271.4255561547088,4271.4255561547088,0,65.829826354980469,52.111667633056641,null,null,{"$f":"R631+S631","v":7758.0529779400822}]
[" ","1973-05-31",4552,9155.464741453874,1488.6770639609724,0,0,5309.3266323016414,6122.47119140625,3538,2591.8769759703014,7001.8736546317032,967,3201.2779074942173,16637.104967156723,-3500,14660.28035293187,3563.227314821625,2375.484876547745,2375.484876547745,0,73.040176391601563,53.754493713378906,null,null,{"$f":"R632+S632","v":5938.71219136937}]
[" ","1973-06-30",4121.0110556584686,12433.459172579658,1384.0445266997108,0,1608.2271819955686,6973.5806216873098,8892.7060546875,3316.0706864601225,3512.0654022428553,6274.7498822552661,857.67626605532757,2871.5667113352156,18086.695641344784,-5000,11476.119323176898,3545.1845993817933,1908.9455535132674,1908.9455535132679,0,77.520111083984375,52.463661193847656,null,null,{"$f":"R633+S633","v":5454.1301528950607}]
[" ","1973-07-31",3472.8203643399193,15968.256134624507,1348.3806526156284,0,420.79074878208405,8481.5597253506166,9720.0146484375,2766.8123927109682,7532.699317038584,8526.375889887302,694.34426692407192,2837.1938856521201,21781.732936351986,-10726.486050268337,8000,4353.2646016905082,6833.3447425461036,6680,0,81.998611450195313,51.344165802001953,null,null,{"$f":"R634+S634","v":11186.609344236611}]
[" ","1973-08-31",3264.5723028747943,9765.7976224759514,1335.8013880643109,0,60.987903229838707,4560.9562950135023,5990.68994140625,2327.7750471919894,6569.6644603877148,8676.2244555523957,644.67127372855271,1493.0242497690886,16490.9541473391,-9888.7198048535829,5806.4516999999996,4072.4922196964462,6680,6680,0,86.812042236328125,52.252105712890625,null,null,{"$f":"R635+S635","v":10752.492219696447}]
[" ","1973-09-30",3169.4170388458965,7742.2417154457689,1297.437524568581,0,534.85708815796784,6849.714306710619,7541.4775390625,1887.4682627015179,6973.6316071690944,9699.2110273419203,575.32155657075793,1875.4328816327879,19569.936025802763,-7614.4372344627045,12309.58333336,2368.0079319348488,6680,6680,0,78.911285400390625,51.118576049804688,null,null,{"$f":"R636+S636","v":9048.0079319348479}]
[" ","1973-10-31",3226.3542375851334,6465.3488319446524,1265.4507163020942,0,489.14261219400117,6689.8200164166456,6613.71044921875,1688.9896992559045,3999.9999999998417,4708.3411696579105,543.40296746900469,1354.7253949560913,13643.531450880209,-6869.6414810510869,7577.8225806709679,3518.1202004778534,5620.2928678572825,5620.2928678572825,0,80.84368896484375,52.165966033935547,null,null,{"$f":"R637+S637","v":9138.4130683351359}]
[" ","1973-11-30",3252,37649.635575812499,1432.6601690243367,2719.6820576529904,0,21613.480567175422,21613.48046875,2368.2673804158503,1700,7414.525757247312,567,5732.9414831763452,45447.805788241174,-9076.6778947059029,49666.197425787832,4600,6680,6680,0,54,52.535686492919922,null,null,{"$f":"R638+S638","v":11280}]
[" ","1973-12-31",3267,29862.620913741866,1489.4467626853782,1030.7114788391359,0,25286.084117622322,25286.083984375,2800,2356.9061536397921,10716.48296411157,567,7086.6537531918138,48936.964156010275,-5290.322580645161,57692.02804164782,4600,3144.39317499758,3144.3931749975841,0,54,47.638763427734375,null,null,{"$f":"R639+S639","v":7744.39317499758}]
[" ","1974-01-31",3252,55183.93591784485,1499.9999999999998,124.74209550051864,0,26297.176433568486,26297.17578125,2870,20186.784519593046,38491.449915703241,505,11683.965807122046,69816.369294387012,-4516.1290322580644,130343.72049450719,4600,3908.4852325030024,3908.4852325030024,0,54,44.419090270996094,null,null,{"$f":"R640+S640","v":8508.4852325030024}]
[" ","1974-02-28",3694,11911.779458551995,1500,8.7932481662515176,0,16587.681618235529,16622.8828125,3009,5792.2143431768918,15755.823839003897,499,4768.9470866328538,40970.470515962617,-4464.2857142857147,44638.382346768376,4600,3067.2045164408728,3067.2045164408728,0,54.305095672607422,44.382942199707031,null,null,{"$f":"R641+S641","v":7667.2045164408728}]
[" ","1974-03-31",3416,47256.084634367886,1500,0,25.494385065829647,25508.602505226438,25534.09765625,2788,26259.007573738698,34652.660652359635,622,9540.9725039605091,67987.943802347989,-3258.0645161290322,111386.45967609904,4599.9999999999545,3288.7827966703135,3276.0356041373984,12.747192532915051,54,44.987049102783203,null,null,{"$f":"R642+S642","v":7888.782796670268}]
[" ","1974-04-30",4289,15593.77257625731,1500,48.843175242217605,0,22036.131484642669,22049.291015625,3292,8450.1798528262261,27652.155364643422,792,5790.7906696961636,50595.961285549056,-3500,67315.995223755512,4600,4009.0374998809802,4009.0374998809802,0,54,50.483451843261719,null,null,{"$f":"R643+S643","v":8609.0374998809802}]
[" ","1974-05-31",4552,8870.916806432002,1493.0008038547164,0,0,5228.3246942113356,5980.09130859375,3538,5777.794306184881,9906.7286049695958,967,3665.8199349595429,19915.067596637815,-3500,18724.642343532636,3700.3592727254536,2466.9061818169666,2466.9061818169675,0,66.19317626953125,53.943820953369141,null,null,{"$f":"R644+S644","v":6167.2654545424202}]
[" ","1974-06-30",4473.8891501407834,9662.2270467016078,1484.535741815502,0,0,4832.4889526367188,5577.0869140625,3538,4360.8583618267958,9025.0017348219444,967,3054.758769047276,18395.36140083996,-5000,14279.515036419025,4131.4613368166711,2754.3075578777753,2754.3075578777753,0,70.836532592773438,53.425579071044922,null,null,{"$f":"R645+S645","v":6885.7688946944463}]
[" ","1974-07-31",4150.0000000000009,12994.829797536337,1500,384.02685906898796,0,7241.0525163953425,8334.775390625,3310.4469508128695,5562.3352657226988,8197.72451646029,942.00000000000011,2195.8330783983511,19868.028693202996,-10270.936433587583,8000,4600,7004.9017250857196,6680,0,80.464767456054688,52.060245513916016,null,null,{"$f":"R646+S646","v":11604.90172508572}]
[" ","1974-08-31",3700.0000000000005,13580.64665998383,1492.9353457668274,147.32543460826167,115.03409389693176,8026.7205665581205,9063.990234375,3283.3342133163351,1569.0362047078252,3830.4311943970069,792,3166.5206317822067,16822.3292994408,-10279.755589434644,5567.9785635102908,4600,6680,6680,0,85.51116943359375,51.334514617919922,null,null,{"$f":"R647+S647","v":11280}]
[" ","1974-09-30",3399.9999999999995,12454.810743906186,1457.5306932601459,0,463.60153259770112,12142.670685319099,12694.181640625,3037.8421028508005,4687.2937888101369,7567.3865668626713,752,1594.8742485304131,21758.160877806538,-9185.9059020330205,12934.58333336,4600,6680,6680,0,74.39215087890625,49.679595947265625,null,null,{"$f":"R648+S648","v":11280}]
[" ","1974-10-31",3250,9606.0466301292527,1460.7239600578614,109.25806451612902,0,9520.05670300165,9140.1494140625,2871.5901544236826,3322.9102475856935,3288.2239703907217,705.10697030123652,1342.7228280820432,14211.297486275156,-7497.5593652063726,6718.75,4600,5298.8745864005805,5298.8745864005805,0,81.570350646972656,51.580188751220703,null,null,{"$f":"R649+S649","v":9898.8745864005796}]
[" ","1974-11-30",3176.0905461292809,7793.4866893442477,1466.2198113582983,112.20000000000002,0,7055.712142577644,7338.32568359375,2839.1426177306921,2157.2861848552743,1891.6306923525053,561.29588743369982,3487.2106467752869,13294.807308932208,-8890.0486777034057,5003.331117957885,4600,6680,5661.810926282451,943.51499243010403,88.126602172851563,54.028396606445313,null,null,{"$f":"R650+S650","v":11280}]
[" ","1974-12-31",3347.7719175899201,6250.7254497672766,1469.2891763151983,0,0,8046.2987615348466,8694.693359375,2835.7559598624339,1700,3214.5209774216501,555.38210212191086,1869.4847017233949,14918.767516003008,-9466.0297084649283,5817.5551981879944,4600,7208.5517745495299,7208.5517745495317,0,85.128921508789063,51.372627258300781,null,null,{"$f":"R651+S651","v":11808.551774549531}]
[" ","1975-01-31",3445.3216736920881,6658.4886815119517,1469.1718743608537,0,0,8008.9780030520396,8365.3427734375,2871.4008290231554,1700,3045.9035016671123,567,1232.98929969552,13931.69883851237,-5225.8064516129034,10086.16068632922,4357.5484992380998,2847.7079545812503,2847.7079545812503,0,82.79388427734375,48.498958587646484,null,null,{"$f":"R652+S652","v":7205.2564538193501}]
[" ","1975-02-28",3936,17372.571524357245,1500,527.15885233026631,0,22846.550587364716,22881.751953125,2884,7970.0597854500384,18775.303037360551,567,4372.0593123228573,51751.568160725219,-4464.2857142857147,62926.606088879678,4600,3986.8115985984332,3986.8115985984332,0,54,47.166309356689453,null,null,{"$f":"R653+S653","v":8586.8115985984332}]
[" ","1975-03-31",3756,41096.350139512913,1500,0,0,25217.553288905117,25217.552734375,2833,12899.874407000227,19032.264615447235,662,4743.0856255850749,59544.567179382204,-3258.0645161290322,89255.161270694138,4600,4042.5955140777405,4042.5955140777405,0,54,47.018478393554688,null,null,{"$f":"R654+S654","v":8642.5955140777405}]
[" ","1975-04-30",4415.8293137917199,7385.5911734487272,1500,50.452762270094901,0,10620.41201254818,11498.8798828125,3276.5509634081245,1000,7270.3441367994183,792,2042.9409853431075,21123.946650578873,-3500,23597.045045663173,4600,3127.3242372671393,3127.3242372671393,0,63.630996704101563,51.363525390625,null,null,{"$f":"R655+S655","v":7727.3242372671393}]
[" ","1975-05-31",4552,13484.428414693388,1500,133.94691734646977,0,9990.3502205433197,10695.3818359375,3538,8359.8590642244017,13502.81909491953,967,4664.3827740669503,29728.386325729221,-3394.4185186751583,28188.991241238873,3093.7077487040224,2062.4718324693476,2062.4718324693476,0,58.983524322509766,52.40625,null,null,{"$f":"R656+S656","v":5156.17958117337}]
[" ","1975-06-30",4469.9058055746445,10209.31501938958,1488.8299770685614,0,27.748988135805007,4940.6778259277344,5686.27783203125,3538,6123.0943323400834,11950.78584477965,967,4312.625976862756,22366.886524058915,-5000,19440.772071413463,4599.9999999999573,3325.2806974729938,3325.2806974729938,0,63.866241455078125,53.260013580322266,null,null,{"$f":"R657+S657","v":7925.280697472951}]
[" ","1975-07-31",4150,12338.857635052036,1493.4083858003203,248.91270046712248,30.109597430507165,5550.8891064364398,6870.1787109375,3073.2662063864791,8054.5674972801471,10231.4041068599,936.97511475641602,1750.0000000000007,19542.092510949067,-10147.181714359624,8000,4600,7004.9017250857214,6680,0,77.622871398925781,52.212528228759766,null,null,{"$f":"R658+S658","v":11604.901725085721}]
[" ","1975-08-31",3699.9999999999995,12714.958597119497,1500.0000000000002,263.76485839788006,25.143704695650285,6884.7964776732706,8148.41064453125,2994.3900093258881,2245.9300601471255,4598.7534541285886,792.00000000000023,3080.5388413728533,16484.067880866438,-10114.666081530304,5770.322688825845,4600,6680,6680,0,83.670486450195313,51.294021606445313,null,null,{"$f":"R659+S659","v":11280}]
[" ","1975-09-30",3400,11918.223476967501,1464.7287320676148,0,474.50506718342081,11232.840227039045,11682.52734375,2693.1737294551317,5715.5089560066954,8658.8439419459592,745.58274053241712,1529.4231587102677,21846.252990755271,-9633.0335732608582,12153.33333336,4600,6680,6680,0,76.04510498046875,50.298305511474609,null,null,{"$f":"R660+S660","v":11280}]
[" ","1975-10-31",3250,11557.162309137151,1499.8508311506732,587.23189998459998,0,10307.374416037163,10191.904296875,2663.2554618324807,1700,2568.2317734774692,711.00488995778801,1879.0000000000005,16043.619029440813,-8696.3276035696326,7500,4600,6680,6680,0,80.030914306640625,51.312065124511719,null,null,{"$f":"R661+S661","v":11280}]
[" ","1975-11-30",3252,6960.0920143963649,1500,27.009930661322581,0,5649.6315517817729,5960.92822265625,2701.7476173007321,1700,2032.6640024227661,567,4374.2302837428169,13749.591186237983,-8960.0353233455899,4949.7697844303893,4600,6680,6680,0,85.091346740722656,53.569728851318359,null,null,{"$f":"R662+S662","v":11280}]
[" ","1975-12-31",3269.1318031176252,6890.2950726409554,1482.0127940203749,0,290.32258064515952,6915.9902738075652,7700.54931640625,2757.7060472411431,1756.9413675098594,3463.572141435754,557.479197144267,1936.3824802560282,14332.688526993197,-9105.0496128457053,4743.603337260327,4600,6362.9973865982811,4417.4575526012231,1893.1522299477529,88.70166015625,51.607017517089844,null,null,{"$f":"R663+S663","v":10962.997386598281}]
[" ","1976-01-31",3499.8881421043911,4574.0801070266589,1480.5504606686914,0,0,5384.996104668222,5588.77685546875,2827.9218174636999,1700,2945.4042364257998,510.91041120615887,1213.2370658868106,10434.058597234936,-4454.188342252377,6755.1979739164526,3630.2611610828799,2358.9754607417563,2358.9754607417563,0,87.40716552734375,48.330276489257813,null,null,{"$f":"R664+S664","v":5989.2366218246361}]
[" ","1976-02-29",3652.8411679805545,6930.4946155949883,1479.6123008417908,0,0,5866.2666015624973,6572.9755859375,2956.8947752522799,1700,2655.0341081130919,467.20810378254919,1223.7123810184573,13503.171888934132,-5000,9107.7208201356098,4017.1447599571725,2678.0965066381473,2678.0965066381473,0,83.208297729492188,48.736366271972656,null,null,{"$f":"R665+S665","v":6695.2412665953198}]
[" ","1976-03-31",3885.0959450978798,6144.4123883737184,1473.6514449196029,124.25806451612904,173.49464405264428,7866.3655084516886,9430.0751953125,3066.3008368568771,1700,3168.6506772124385,468.54053611288134,780.44660713090047,14282.746723061735,-4713.5081542473008,9818.8241498596581,3952.1955995344078,2142.3366560091699,2142.3366560091663,0,80.286003112792969,50.998317718505859,null,null,{"$f":"R666+S666","v":6094.5322555435778}]
[" ","1976-04-30",4075.679659037643,5268.3557910634627,1455.9625888899204,0,239.6659176051601,5633.7286539526749,6510.5849609375,2988.6873753665664,1000.0000000000337,3551.8689506966457,462.84947028722604,776.81998655635493,11383.415860126337,-2015.356515119603,8902.800705276637,800,2003.1194050893137,2003.1194050893137,0,81.384834289550781,53.312191009521484,null,null,{"$f":"R667+S667","v":2803.1194050893137}]
[" ","1976-05-31",3857.6357972064775,9003.1535151045628,1410.2494043983834,0,588.12175354473436,4867.875541211959,5971.525390625,2872.4012985151471,1137.0437975060493,1000,471.62682084160264,755.54394523218753,8139.6706296797129,-2188.6979318855579,4000.0000000000873,1749.9951195924496,823.41889510087071,823.41889510087071,0,89.621879577636719,55.091655731201172,null,null,{"$f":"R668+S668","v":2573.4140146933205}]
[" ","1976-06-30",3419.490590002441,11572.311922509707,1314.4812599796064,0,1442.0135286477603,7978.4186054710326,8722.583984375,2564.5036262723861,3041.7410553437148,2897.9649420678934,464.40204213818663,267.84266122401834,12166.895218338352,-4890.9962258085525,4270.2562205243812,2195.7042848532287,2541.0740924055567,2541.0740924055567,0,89.084854125976563,54.13818359375,null,null,{"$f":"R669+S669","v":4736.7783772587854}]
[" ","1976-07-31",3080.6947210077324,11692.530120260019,1157.6137975335744,0,2387.4041854349794,7684.2615312579301,9282.89453125,1988.2595109856616,6801.0182281838679,7100.7163373265757,442.19944544922163,444.104944305348,16905.278488677352,-8962.3580180615609,4879.0859026207972,1835.4235044482448,7029.3098728095711,6680,0,89.3118896484375,53.037681579589844,null,null,{"$f":"R670+S670","v":8864.7333772578168}]
[" ","1976-08-31",2968.1436089354934,8054.3711549289737,1029.8396139077279,0,2002.1559300643576,6474.8169681961817,8279.953125,1788.9474032550136,1916.8707105847113,2943.9488495005726,434.18509514465813,280.08460075126908,11489.263367970021,-6785.3371965274582,3924.2678823900224,2198.6620174202089,5175.3131124664096,4036.5989746862806,756.59929144986643,91.070915222167969,53.285350799560547,null,null,{"$f":"R671+S671","v":7373.9751298866186}]
[" ","1976-09-30",2930.8682201796432,6092.3347935689744,1003.2640836252693,0,365.69422442410314,5700.7795504637834,6333.8408203125,1760.7753498652767,1841.2505296057927,2847.2630676124068,421.35069523394287,318.73743898122416,9028.4204584372856,-5396.0506447046955,3046.3514184015535,3449.3391629455937,2959.3746117062151,2313.1130998160388,0,93.934219360351563,53.530220031738281,null,null,{"$f":"R672+S672","v":6408.7137746518092}]
[" ","1976-10-31",2758.3870997573467,7918.2070945270298,953.32435515133716,0,751.61205519931173,7148.4684209087391,6867.52294921875,1546.5241297647196,2420.2673368017236,2932.6151068848321,413.15515454395319,375,9805.9844444014707,-3578.7548872824555,6152.035168272384,1991.5727995136986,2699.3184026354756,1186.1779451869038,0,87.029624938964844,54.175701141357422,null,null,{"$f":"R673+S673","v":4690.8912021491742}]
[" ","1976-11-30",2577.2910540106277,9149.5870690535867,931.4351898994372,0,347.09216196221183,8024.7205830551948,8186.201171875,1391.8792856715831,1692.5043967018423,2009.6438849217886,401.81296498962485,375,10813.490872846423,-6755.2031529442829,3543.849605748992,4600,3466.4931734601346,2372.3725591982784,400.27276773728408,89.60626220703125,54.082710266113281,null,null,{"$f":"R674+S674","v":8066.4931734601341}]
[" ","1976-12-31",2428.8963121818629,8659.8392916557859,911.51137937851183,0,306.02980098758547,8072.3600410940116,8415.4228515625,1155.9097637030354,3026.4259988712038,3842.9410566642428,366.64445238039286,499.99999999999989,12611.155045301373,-3707.3386870681534,8589.29748228069,2970.1660586193439,1714.7960281236399,811.31109260594349,0,84.161949157714844,51.379547119140625,null,null,{"$f":"R675+S675","v":4684.962086742984}]
[" ","1977-01-31",2408.4546769555282,5439.6292477193583,912.17408063028404,0,0,5327.8086676154235,5732.1259765625,1101.2803961093102,1200,2830.9518022715879,346.22204739064091,345.054503691592,9137.2570986661067,-5000,4500.0000000000036,4093.986359549287,2204.454193603463,2204.454193603463,0,87.941337585449219,47.793270111083984,null,null,{"$f":"R676+S676","v":6298.44055315275}]
[" ","1977-02-28",2273.2263526882252,7552.18419795515,911.45086802537264,8.1342526548303807E-3,0,7704.0748861743514,8407.2724609375,1084.905180258585,1200,1553.2567701160724,325.10675823682817,337.19922445784266,12999.999999999998,-5000,7825.4954483757992,4389.4276326681174,1775.7178950761127,1775.717895076114,0,81.978485107421875,47.407257080078125,null,null,{"$f":"R677+S677","v":6165.1455277442301}]
[" ","1977-03-31",2081.3127958849223,8181.571853390913,910.27157910742994,0,0,7948.2080984754984,9046.248046875,1068.0338694353866,1000,1680.8528006716185,300,346.99509525613087,11363.9089477507,-3680.4220996036015,7238.7094999999999,3703.373959355411,571.56270718567794,571.56270718567794,0,82.253433227539063,48.302650451660156,null,null,{"$f":"R678+S678","v":4274.9366665410889}]
[" ","1977-04-30",1822.2781340065349,7954.5189346765837,875.96151716710415,0,483.72167666846599,6701.4558015145749,7879.42919921875,936.07388340686862,1306.5030007842452,1424.9289105795235,265.00541022999573,325.83484644316644,9862.488336835755,-1634.7013154151718,7100,1597.3308926582047,300,300,0,84.153488159179688,52.244575500488281,null,null,{"$f":"R679+S679","v":1897.3308926582047}]
[" ","1977-05-31",1674.8084207138941,7273.1928014036685,852.80384964994005,0,335.99721039663609,3353.766960144043,4536.12158203125,877.31901761160861,988.07272837715686,750,243.05022677485906,376.09521222837196,5865.4790246788607,-990.26222908624595,4000.0000000001496,1269.6526452310811,300.00000000000546,300.00000000000546,0,91.211471557617188,55.204986572265625,null,null,{"$f":"R680+S680","v":1569.6526452310866}]
[" ","1977-06-30",1151.3156912613506,12361.351657588086,821.05745189845857,0,402.72051655800391,5528.6059184747655,6527.34619140625,605.05059377192811,3450.3711247355427,1670.8341124152212,201.33737825355934,317.64472261513316,8815.3833570859952,-2068.0337413737443,4000,800,300,300,0,92.41082763671875,52.759822845458984,null,null,{"$f":"R681+S681","v":1100}]
[" ","1977-07-31",650.0625283175533,13611.245564805466,693.32133329513442,0,1940.6586021532257,8412.9408461397652,10132.380859375,395.35544521911913,2629.0408434391097,750,142.53282736671548,320.97014424549519,11535.241799169586,-4585.0568064690851,4000,814.79123012980085,2976.5561768613838,300,552.03381166108011,93.153579711914063,54.498664855957031,null,null,{"$f":"R682+S682","v":3791.3474069911845}]
[" ","1977-08-31",550,8760.3571870256474,571.55873443169537,0,1867.1669031927072,5620.170468292099,7579.61328125,261.40597678228306,2320.9000449230202,825.18580977554245,90,636.46555346608261,9478.3089649859103,-3537.9777956638081,4156.0107032283759,1278.633742202481,1804.1018914632086,300,0,92.925857543945313,60.915325164794922,null,null,{"$f":"R683+S683","v":3082.7356336656894}]
[" ","1977-09-30",550,4742.140826868671,490.23976500887181,0,1306.1906351602333,4365.0626025726197,5826.9130859375,213.35499313597668,2063.329446194854,1802.8832413850587,90,283.94942131329424,8024.9942772068825,-4140.9175526642393,3035.434219673637,1041.5348965551216,3478.7024436918737,1865.646371256983,0,93.135078430175781,65.751167297363281,null,null,{"$f":"R684+S684","v":4520.2373402469948}]
[" ","1977-10-31",550,6775.3940013812125,409.11122388718331,0,1280.1848318947814,6250.3115145503316,6843.26513671875,177.37494507624922,1359.5165123050515,1307.5185714048052,90,375,8292.5142713958649,-2929.6536116425268,4778.3536580301361,1890.4703863317782,1579.4341633443098,300,0,90.102760314941406,60.505413055419922,null,null,{"$f":"R685+S685","v":3469.9045496760882}]
[" ","1977-11-30",550,5898.3959637561766,341.00690821701926,0,1150.4357635871138,5125.2674733270933,6221.84912109375,201.81765175272426,900,1357.069762278622,90,447.03882230951973,8121.9797094276,-4376.5342733530724,3500,2262.169888004481,2948.3680248329338,1691.1982095188423,0,91.257743835449219,54.611202239990234,null,null,{"$f":"R686+S686","v":5210.5379128374152}]
[" ","1977-12-31",973.82822643416148,9089.2341886349732,447.58371590946177,1697.3006577296228,0,9494.4249351254275,9988.75390625,406.06968906409264,900,2661.8904403493802,193.5601495205317,500,14099.218231974492,-4691.6659501586182,10101.521246811672,2716.0617388718647,2964.1488702758734,2759.7673000714249,0,81.095077514648438,48.697338104248047,null,null,{"$f":"R687+S687","v":5680.2106091477381}]
[" ","1978-01-31",2875.4815778174684,19497.856003274537,600.65718729736466,2382.4755616112097,0,23119.726915893054,23119.7265625,1310.8088966431551,900,11513.517797712073,567,1720.922289050799,44019.916956229077,-4516.1290322580644,63473.669606383577,4212.5126498575173,2808.3417665716779,2808.3417665716779,0,54,46.429576873779297,null,null,{"$f":"R688+S688","v":7020.8544164291952}]
[" ","1978-02-28",3567,16635.855286087826,784.84961690194223,3251.257154042853,0,21248.930183504905,21284.130859375,1777.9786623431335,893.68383716692801,5944.8070506246813,567,5051.3787610547179,38548.97613673743,-4464.2857142857147,48156.860981710539,4600,4272.1748729677965,4272.1748729677965,0,54,43.821331024169922,null,null,{"$f":"R689+S689","v":8872.1748729677965}]
[" ","1978-03-31",4000,26588.926158458213,926.64076812771725,2270.4303295513887,0,24809.8186136443,24809.818359375,2653.1396280172685,800,9617.5314804688278,657,6220.9553386992129,49360.299627171145,-3258.0645161290322,66093.790184275684,4600,3820.2270229434434,3820.2270229434434,0,54,46.592605590820313,null,null,{"$f":"R690+S690","v":8420.2270229434434}]
[" ","1978-04-30",4552,14058.248996980212,1089.634160554868,2746.9398676917176,0,17504.088762347219,17514.330078125,3170.4588160786648,1000,5849.0075941238929,792,4440.5360599834703,29771.920848235241,-3500,36844.078785790713,4510.3153218238931,5868.2839758493992,5868.2839758493992,0,56.027793884277344,51.199657440185547,null,null,{"$f":"R691+S691","v":10378.599297673292}]
[" ","1978-05-31",4552,11361.524571200012,1108.0836652806113,415.56672575207341,0,8000,8599.5693359375,3487.5369452934337,1000,4786.0832894645027,967,3091.1077783306691,17496.950209105707,-3445.1584161744954,19023.295511369281,3936.5402195462189,5289.5291242255007,5289.5291242255007,0,65.470489501953125,52.977115631103516,null,null,{"$f":"R692+S692","v":9226.06934377172}]
[" ","1978-06-30",4287.6756698662712,10385.649269346453,1100.4266056592198,0,1.415703265195134E-5,4704.2212524414063,5633.9853515625,3522.4784998901378,1000,4761.4497673831556,960.34613787270257,3000,14039.949741779543,-5000,11207.572229713785,4600,3929.009475776289,3929.009475776289,0,74.174148559570313,53.023078918457031,null,null,{"$f":"R693+S693","v":8529.009475776289}]
[" ","1978-07-31",3933.5247401505758,10740.616526788748,1017.359237299257,0,1205.9002385238884,4762.7987140748683,5976.98486328125,3023.2639155314932,6949.2401187774976,8664.8685912552228,862.2459568975803,2658.4509631115079,17991.574197141937,-8187.118024007872,8000,2516.6841537864839,7004.9017250857205,6680,0,80.785072326660156,52.758560180664063,null,null,{"$f":"R694+S694","v":9521.5858788722035}]
[" ","1978-08-31",3617.8988905665983,9645.3554636774643,980.31651993954392,0,468.97594552599685,4554.8929290771484,5857.00439453125,2594.7449522591633,7296.6655532036475,9350.8034069671994,775.30867009523172,1749.9999999999991,17294.969221800788,-10217.648238052567,5843.9515806709678,4587.5902631662166,6680,6680,0,84.944610595703125,52.327808380126953,null,null,{"$f":"R695+S695","v":11267.590263166217}]
[" ","1978-09-30",3399.9999999999995,8132.5029575230092,946.28254674052243,0,492.84319926630121,8620.8748215510877,9371.3525390625,2219.9864802991701,7728.8279974166162,10241.449368673801,740.653513732222,1548.8148882445812,21593.833783179554,-8815.381025792798,12622.08333336,4130.5634053416052,6680,6680,0,75.823043823242188,50.778484344482422,null,null,{"$f":"R696+S696","v":10810.563405341605}]
[" ","1978-10-31",3237.5834803968355,6863.6621946417117,911.8903019152757,0,489.14261219400117,5762.265574502464,5582.48193359375,1975.648787630063,4000.0000000000568,5160.9017306728092,675.27105078819477,1323.2421441128777,12393.252607682645,-5343.228238492904,6952.8225806709679,3092.4451561789156,3754.9269998837472,3754.9269998837472,0,81.709121704101563,52.676918029785156,null,null,{"$f":"R697+S697","v":6847.3721560626627}]
[" ","1978-11-30",3186.014189679473,5738.0207331959473,909.54071498954613,0,29.241666668600001,4899.4342657535008,5110.1533203125,1838.3748774491507,2500.0000000000205,3668.9083374615743,566.99999999999989,3051.4979145120233,13156.356557804133,-9108.8932485102014,5038.3465323811306,4600,6680,6497.256687079328,169.82774956200683,86.686836242675781,53.153057098388672,null,null,{"$f":"R698+S698","v":11280}]
[" ","1978-12-31",3187.8172592397395,4223.089978128477,906.93317685981265,0,26.997311829741932,4531.3047332763672,4744.43505859375,1595.2469037672417,5023.5942228304912,6196.253826206882,539.00966647691791,1834.6141067765047,13564.433229024964,-8877.8066413971828,4500,3576.399710971039,7125.4500531520498,7125.4500531520498,0,89.624717712402344,49.991901397705078,null,null,{"$f":"R699+S699","v":10701.84976412309}]
[" ","1979-01-31",3344.2990044387716,7124.6085853798877,927.59279154144258,258.84747129903394,0,9827.8788182193748,10611.296875,1747.5851288397653,1200,5710.3058519083224,567,2383.0622969525443,20845.492830516352,-5225.8064516129034,21047.58255593574,4600,3488.2184434082783,3488.2184434082783,0,68.993499755859375,47.641147613525391,null,null,{"$f":"R700+S700","v":8088.2184434082783}]
[" ","1979-02-28",3685.490756299087,10657.320154695548,976.14096071353902,814.0209282047033,0,15321.154336429652,15356.3564453125,2061.8934082407882,1200,6988.8349590009275,567,3823.6673631318258,30123.164800175404,-5250,35698.401365792291,4600,4970.6556618532559,4970.6556618532559,0,57.576587677001953,46.767692565917969,null,null,{"$f":"R701+S701","v":9570.6556618532559}]
[" ","1979-03-31",4191.7376600393163,7681.4831912510163,1006.7384200191316,492.94488970828553,0,11343.402224292426,12090.6962890625,2428.8625956747765,1000,6894.9611705507195,657,3489.8161835140882,24450.186061354492,-3258.0645161290322,28586.452275726195,4600,3939.0135514890972,3939.0135514890972,0,60.589870452880859,49.553665161132813,null,null,{"$f":"R702+S702","v":8539.0135514890972}]
[" ","1979-04-30",4453.8042456170579,5600.2776709089603,1041.7789195822429,659.12006802025485,37.456301185083817,7999.9999999999982,9164.1181640625,2654.2843585660062,1000,3903.0240498100625,792,1741.0411286337569,16263.775801830423,-3500,17335.819704228135,3457.1169820705281,4538.9593651134228,4538.9593651134228,0,68.302406311035156,53.500152587890625,null,null,{"$f":"R703+S703","v":7996.0763471839509}]
[" ","1979-05-31",4552,8556.4865006047985,1035.4234847918192,0,0,5001.6591465272177,5850.97265625,2939.2096430737806,1000,4560.0952222908954,964.03007116207584,3000,14051.780106264288,-3500,14005.048838428385,3734.8060557410336,3340.9379100972747,3340.9379100972747,0,71.120063781738281,54.474483489990234,null,null,{"$f":"R704+S704","v":7075.7439658383082}]
[" ","1979-06-30",3943.1047804512336,14031.795570969643,1013.2361006819995,0,225.29138203131802,7534.9346344413125,8336.7080078125,2639.1167255681498,4769.2202629265239,5521.6271439938482,806.35714820708654,3039.8411788878166,17454.868711446226,-5000,10384.375,3339.2797960475741,1798.0737363333142,1798.0737363333142,0,74.010986328125,52.070838928222656,null,null,{"$f":"R705+S705","v":5137.3535323808883}]
[" ","1979-07-31",3335.4738777016846,14578.007829189923,954.19167633302072,125.80645161290323,940.65860215322493,8648.3719814386604,9812.236328125,2281.7305687333346,5229.9182371191337,6172.6071139442765,643.83121661693633,2724.3500130710718,20243.058866862582,-10675.61803946592,6500,3876.4686287334716,7047.3611265839418,5029.1696659670415,1650.8303340329585,81.231941223144531,51.70611572265625,null,null,{"$f":"R706+S706","v":10923.829755317412}]
[" ","1979-08-31",3118.0147622777217,8130.1045964220757,935.03552960906131,0,197.52000219483409,4106.155662259478,5291.4921875,1986.4684140317704,4729.3012194982621,6908.2088016204116,590.81992440252725,1525.3703645947246,14029.667247182562,-8811.3298326686345,4082.9294531451987,4600,5046.6699410917481,3955.4149497965823,32.039385745625836,88.272880554199219,53.035072326660156,null,null,{"$f":"R707+S707","v":9646.6699410917481}]
[" ","1979-09-30",3083.8021481477981,5367.0700533165709,926.69403447290995,0,41.092372774605337,4582.028450012318,5354.322265625,1752.3438840489646,3594.2078023953609,6102.3306196966896,541.3050188894822,1546.2322909276659,12713.275241170817,-8605.6071546785133,3254.8303993490717,4485.0372074922088,5599.1352015496668,5599.1352015496668,0,90.233245849609375,53.635604858398438,null,null,{"$f":"R708+S708","v":10084.172409041876}]
[" ","1979-10-31",3177.8089414676592,5342.4494500235387,923.14824347374724,0,40.495967744612912,5049.5466918945313,5166.47412109375,1672.2628393998195,3407.05866436833,3990.6296646675182,511.12797115728114,1368.365856998807,11344.060119253252,-7548.2390187304773,4145.4728235921611,4146.5877573529006,5493.6417726161053,5493.6417726161053,0,90.27288818359375,53.350597381591797,null,null,{"$f":"R709+S709","v":9640.2295299690049}]
[" ","1979-11-30",3252,7391.8685327826606,911.61385383499203,0,231.66373015202007,8004.4842735477923,9363.951171875,1572.2205107797238,2460.5603657974207,3228.0181826420217,546.86502838485478,1579.352834541764,14655.597065318869,-5718.229603814485,9676.8312724348871,2437.547410419128,4817.0327131237163,3938.6666666666665,0,81.833717346191406,53.213653564453125,null,null,{"$f":"R710+S710","v":7254.5801235428444}]
[" ","1979-12-31",3367,9508.8056737995048,913.52101315287121,0,26.99731182974196,11351.153844476463,12571.26171875,1623.1627982218658,1700,3235.0912452251741,567,2272.5336156658764,19831.893355765962,-9663.8432155107948,11698.312210670636,4600,7085.9522516358065,7085.9522516358065,0,80.090751647949219,50.356662750244141,null,null,{"$f":"R711+S711","v":11685.952251635807}]
[" ","1980-01-31",3528,27086.357939408656,1060.5989564192278,2348.2205838627283,0,22584.455892151371,22584.455078125,2716.2640169488363,1700,23273.713210533009,481,16725.746306291388,52047.444869894112,-3645.1612903225805,96341.724981940992,4600,6253.0308336344442,6253.0308336344424,0,54,47.3492431640625,null,null,{"$f":"R712+S712","v":10853.030833634444}]
[" ","1980-02-29",3292,43396.665508207661,1209.2267424280692,2460.2581892384246,0,22676.60734322033,22710.595703125,2788,16459.488943418248,35184.531263763864,457,13158.636528607289,55726.613308163942,1817.6694980380871,130059.70854452152,4600,5728.0157019417256,4098.2414302719244,1629.7742716698012,54,45.092395782470703,null,null,{"$f":"R713+S713","v":10328.015701941726}]
[" ","1980-03-31",4016.8630267426579,10369.40642880922,1391.1002009075437,2982.1935483870966,0,13685.841155888071,15332.7548828125,3028,5309.5412356700263,21897.482977600346,621,4731.7793601324265,37616.883903326998,3064.451254995105,59983.684036033817,1883.3961428658738,3828.1326644482142,3828.1326644482142,0,54,48.386173248291016,null,null,{"$f":"R714+S714","v":5711.5288073140882}]
[" ","1980-04-30",4231.6965744630206,8285.8145554742623,1390.2593394912406,37.448240232605606,1.904356890560166E-2,9563.4511948603886,10631.4208984375,3295.2193456133577,1000,6924.6097338569671,792,2707.606437887026,20572.783957604552,-1718.892492652184,23275.729518427572,2562.9524490918984,3344.1259503829519,3344.1259503829524,0,62.972213745117188,52.07330322265625,null,null,{"$f":"R715+S715","v":5907.0783994748508}]
[" ","1980-05-31",4247.4519058473334,8188.2340952301256,1384.3855719091025,0,0,4195.9342041015625,5676.5087890625,3492.9363592427271,1000,4862.7020021997887,967,2787.6717099017487,13434.073516261731,-3500,13361.40254916696,4130.3581212295294,2753.5720808196966,2753.5720808196857,0,72.761772155761719,53.187820434570313,null,null,{"$f":"R716+S716","v":6883.930202049226}]
[" ","1980-06-30",4029.2907327060034,10206.154324188987,1376.075172689553,0,28.996984030377728,4145.3860321044922,5414.75537109375,3465.5806355792556,1000,3491.0761942176305,967,2674.2887777472984,11661.072183934326,-4237.2334316852875,11452.063718038302,4600,3842.8690978271261,3842.8690978271288,0,76.955787658691406,52.628204345703125,null,null,{"$f":"R717+S717","v":8442.8690978271261}]
[" ","1980-07-31",3741.1110597168899,9876.3952745821098,1248.1823179994108,0,1921.8814178558271,4580.0386047363281,6032.90380859375,3102.0106413269195,5766.2585806969237,7335.7304302430839,941.99999999999989,1950.0181623587112,16004.497035391143,-8731.4857597615919,8000,4600,7004.9017250857196,6680,0,81.56591796875,52.614891052246094,null,null,{"$f":"R718+S718","v":11604.90172508572}]
[" ","1980-08-31",3443.8583389649366,9548.669094180199,1209.1311130835938,0,497.23778632417691,4511.2980546951321,5973.619140625,3019.9441956604933,1000,2457.1343551193727,792,3116.773925297347,12541.408879853392,-6063.7400657789567,6448.951269496858,4600,2343.4164250257854,2343.4164250257854,0,85.259765625,52.038871765136719,null,null,{"$f":"R719+S719","v":6943.4164250257854}]
[" ","1980-09-30",3399.9999999999995,6636.0252515675656,1171.2580723656199,0,534.85708815796784,5877.2132661687065,6907.11279296875,2584.695091492174,7418.7013120434622,9325.0937635517039,751.1063462695538,1529.4281474170155,17975.976157476271,-6330.4559737014242,12153.33333336,1089.894886146197,6680,6680,0,78.852516174316406,51.718704223632813,null,null,{"$f":"R720+S720","v":7769.8948861461968}]
[" ","1980-10-31",3250.0000000000005,6652.5780623382952,1137.6218622602003,0,489.14261219400117,5968.0652922729123,5916.43408203125,2333.3533095613552,3999.99999999992,4765.6938543000624,702.1173245597389,1327.2298598353902,12226.201948616515,-5055.9114516091049,7421.5725806709679,3047.7697482175195,4007.2812568966874,4007.2812568966874,0,81.350906372070313,52.428607940673828,null,null,{"$f":"R721+S721","v":7055.0510051142064}]
[" ","1980-11-30",3051.6636064883101,7756.9811884124792,1134.0393730828125,0,29.241666668600004,6403.6479763295138,6552.939453125,2182.6200906046893,2500,2754.2682397905692,531.61117469078249,3761.6764770769078,13949.523806416777,-8936.5522283659157,4783.8642595046695,4600.0000000000291,6576.0531395012131,4303.9463125480979,2149.7478149782128,86.23565673828125,53.515369415283203,null,null,{"$f":"R722+S722","v":11176.053139501242}]
[" ","1980-12-31",3203.4696777006639,5985.8813961264423,1134.6356637643898,0,26.997311829741935,7638.1320658529003,8210.462890625,2123.1225810847882,3447.8962412403225,4022.8749222947117,505.94123861081692,1851.9929546888154,15366.601148281785,-9763.4351089167576,5162.939873710975,4600,7068.9082055712242,7068.9082055712242,0,84.765548706054688,49.633277893066406,null,null,{"$f":"R723+S723","v":11668.908205571224}]
[" ","1981-01-31",3522.2382336777123,9271.6624362602161,1204.4364151730915,1034.0867938996523,0,13437.134404873374,14477.83984375,2256.3533481735135,1711.7002532920906,1955.2896491798485,498.99632797058194,1594.2144202218219,20052.121030958275,-5225.8064516129034,17901.59052814843,4285.0756503074281,2856.7171002049545,2856.7171002049545,0,66.650390625,47.114048004150391,null,null,{"$f":"R724+S724","v":7141.7927505123826}]
[" ","1981-02-28",3929.4162253845507,8867.0169175225055,1236.954043124081,576.56082311204943,0,12517.210037382934,13796.25390625,2495.3753894730803,1700,6719.0529364124941,514.40028445231644,1220.7591628567036,25253.158378703291,-5000,22101.276337112129,4094.3389716761626,2729.5593144507752,2729.5593144507752,0,63.666156768798828,47.720451354980469,null,null,{"$f":"R725+S725","v":6823.8982861269378}]
[" ","1981-03-31",4256,14474.432456270584,1333.8277152910248,1560.2267419393088,0,16359.009893257513,16359.009765625,2767.3466327427959,1700,4145.2407142168031,620.15459918384329,1355.2526310924909,22235.886101625932,-3258.0645161290322,23521.621287479051,3491.9664051844647,2327.9776034563074,2327.9776034563074,0,62.370651245117188,48.195075988769531,null,null,{"$f":"R726+S726","v":5819.9440086407722}]
[" ","1981-04-30",4492.3457846581932,5412.1623348262228,1330.1465778702247,0,7.2424478750416057,7725.146743334356,8848.0673828125,2931.9121687770166,1000,5006.6116829184848,683.91054382270443,984.43105302031472,15331.678123755441,-2228.9710117851118,13974.782376349589,2420.0727350764564,1741.1447435635591,1741.1447435635591,0,70.190704345703125,53.779731750488281,null,null,{"$f":"R727+S727","v":4161.2174786400155}]
[" ","1981-05-31",4285.2449722721494,9983.9982600858948,1324.6946155600749,0,0,4714.8600921630868,4741.24462890625,2914.5585193201582,1036.4758573045847,3748.3638641560065,682.76591864288162,981.25024441048447,9697.9432031154975,-2676.1484312605326,6231.217298213146,2922.8375325191832,761.45796500907318,761.45796500907318,0,84.053779602050781,53.449394226074219,null,null,{"$f":"R728+S728","v":3684.2954975282564}]
[" ","1981-06-30",3715.5509333051523,14024.899013140115,1222.5255735603921,0,1550.76093265022,7179.1707735571563,8167.52685546875,2518.8833026039833,5771.7193522468824,6166.9610674874084,627.94650845355318,530.59728129322104,15292.913626116371,-5000,7180.5686982426232,3113.8673529540647,1745.7260538454248,1745.7260538454245,0,83.957199096679688,52.443344116210938,null,null,{"$f":"R729+S729","v":4859.5934067994895}]
[" ","1981-07-31",3235.5898857669795,14006.431943628115,1089.7099474254103,0,2004.5223577304864,7794.4314618364606,9225.8662109375,1972.4049802111965,7239.4443561809194,7302.0662194634142,531.38940833290121,1014.0235894631287,18327.715421618112,-9806.9277655800797,5000,2812.3779149453221,6981.3162748775958,6680,0,87.924224853515625,51.822856903076172,null,null,{"$f":"R730+S730","v":9793.6941898229179}]
[" ","1981-08-31",2944.3456766424933,9516.5403339391578,964.4469207120344,0,1909.1854130507099,6020.2209762336015,7427.5146484375,1762.8125606642066,2414.4670780408196,3772.5459694783099,470.86168216952115,1009.8759048720493,13364.931879224887,-7686.7259642809258,4173.4293025351872,3462.3212906419344,4492.0237399395282,3208.7688382852461,963.0916904676078,90.029861450195313,52.289211273193359,null,null,{"$f":"R731+S731","v":7954.3450305814622}]
[" ","1981-09-30",2916.3720160174889,5009.8314714884445,910.01488516068241,0,827.81622439090961,4983.5152567337373,5144.416015625,1672.8833841812684,2208.0532976336972,4183.3537290161548,438.32056081516498,1056.533490036818,10815.717268121942,-6834.7487905205235,3403.3333333599999,3616.9385133154456,4340.8858351058016,2516.9641174331355,0,91.145835876464844,53.325748443603516,null,null,{"$f":"R732+S732","v":7957.8243484212471}]
[" ","1981-10-31",2941.5598233610604,5635.466294214496,878.81753318761935,0,501.84726167902352,6126.919161421667,5847.107421875,1607.3025697157989,2181.3032300443665,2703.2123990959367,472.81956181412892,513.19205064141352,10063.048739009419,-5793.2561752093025,4435.4484529749016,3115.2546127537757,4286.5790274882074,2961.8981562896133,0,90.05535888671875,52.412124633789063,null,null,{"$f":"R733+S733","v":7401.8336402419827}]
[" ","1981-11-30",3252,21557.097384827233,880.69274989127769,0,29.241666668600001,21690.59096326615,21690.591796875,2409.9872338835467,1200,5901.9361831342812,546,5625.4352936680843,38306.539505325898,-9362.7391039807735,33997.423867333971,4600,6680,6680,0,57.743953704833984,52.990409851074219,null,null,{"$f":"R734+S734","v":11280}]
[" ","1981-12-31",3276,34541.199599107502,1044.5525891876637,2604.9354838709678,0,24083.413242792794,24083.4140625,2788,11880.654435657147,28485.675147302518,433,13582.254557905671,57697.437156069907,-5290.322580645161,81796.337240101391,4042.6849928716715,2695.1233285811154,2695.1233285811154,0,54,48.080089569091797,null,null,{"$f":"R735+S735","v":6737.8083214527869}]
[" ","1982-01-31",3616,15449.234629806138,1232.0652004384692,2974.1486923778084,0,20487.594659640461,20487.59375,2943,8086.8911909420085,31330.22484326487,459,9043.0917084802677,53989.028647368905,-4516.1290322580644,75203.292718698736,4600.0000000000018,3436.8743276363512,3436.8743276363516,0,54,44.587604522705078,null,null,{"$f":"R736+S736","v":8036.874327636353}]
[" ","1982-02-28",3530,34360.154321250455,1367.9948279309851,2436.0455698943215,0,20639.685748266544,20674.88671875,2987,17980.579868048477,35479.688416908561,402,15956.906954237576,55804.664781843749,-3852.0656289159265,105206.15054272146,4600,9463.6,9463.6,0,54,44.011646270751953,null,null,{"$f":"R737+S737","v":14063.6}]
[" ","1982-03-31",3953,21258.520859040364,1500,2117.4977068990861,0,22967.638490074736,22967.638671875,2936,13394.440787873034,29150.941948376927,590,8762.9919443518829,57930.235144459584,-3258.0645161290322,81839.019032704586,4093.6412622965659,8092.3914844847277,8092.3914844847259,0,54,46.601108551025391,null,null,{"$f":"R738+S738","v":12186.032746781293}]
[" ","1982-04-30",4094,33942.484364983131,1499.9999848908521,34.164526047367076,0,24279.099564024844,24287.736328125,3303,18990.840901497722,49216.469964468648,792,15330.191631004362,71474.829714682535,6991.750742272292,143419.95437328675,2725.6300528416341,6679.9999999999991,6680,0,54,48.425258636474609,null,null,{"$f":"R739+S739","v":9405.6300528416323}]
[" ","1982-05-31",4540.1693337718616,5966.5349045245021,1492.0976263062282,0,0,4432.2958984375,3529.528076171875,3538,8015.0533715237434,17383.226621953843,967,8447.15452562477,30544.676420690645,-1684.809454595922,39260.589489861333,3935.5567760233853,6680,6680,0,55.192607879638672,56.393257141113281,null,null,{"$f":"R740+S740","v":10615.556776023386}]
[" ","1982-06-30",4500,8459.1603153747328,1485.7512052180602,0,0,4933.9181345031129,5736.701171875,3538,3732.9672242060778,9130.6179972996488,967,4931.4101086199908,20227.689601699167,-5000,19791.662828984394,4600,4856.8482271479479,4856.8482271479479,0,64.221504211425781,55.327709197998047,null,null,{"$f":"R741+S741","v":9456.8482271479479}]
[" ","1982-07-31",4150,10482.468017635199,1477.0525407077587,0,0,4764.3051509231173,5625.44140625,3357.5198080316732,3798.237272764085,6118.5189760132744,941.99999999999989,1921.3579335528775,14163.105885056393,-7880.1331119415845,8000,4600,6680,6680,0,79.280769348144531,53.6981201171875,null,null,{"$f":"R742+S742","v":11280}]
[" ","1982-08-31",3700.0000000000005,11358.625484694259,1499.9999383311258,505.84946814013568,0,6077.0535047952599,6729.6484375,3273.8071456389121,2027.8868249921461,3696.7516175948713,792,3180.4214594248001,14319.773062286855,-9239.1401271908944,5524.1934000000037,4600,6680,6680,0,85.621917724609375,51.570545196533203,null,null,{"$f":"R743+S743","v":11280}]
[" ","1982-09-30",3400,11556.928381651222,1466.8686996082181,0,463.60153259770118,12260.123251947336,12285.943359375,3309.3162538684005,1000,3926.8249756567352,752,2081.1906247369852,18934.141231265778,-7196.176384737435,14962.637960878958,4600,6680,6680,0,70.639060974121094,50.946479797363281,null,null,{"$f":"R744+S744","v":11280}]
[" ","1982-10-31",3250,11008.508247940177,1499.9999973943336,544.4024528634136,0,10684.81746900812,10445.7451171875,3149,4915.6224049044422,6703.8779459316029,712,2859.590613759342,21020.15648063966,-7173.2522710562589,15744.282482284136,4600,6680,6680,0,68.548690795898438,52.82330322265625,null,null,{"$f":"R745+S745","v":11280}]
[" ","1982-11-30",3252,10489.245675436214,1500,0,0,12086.094102831124,13064.9658203125,2981,7180.4889570204923,10414.420551775436,565,7557.4631382994667,33139.6938230667,-4765.3372648023396,39730.863759569111,4600,6680,6680,0,56.03265380859375,52.726020812988281,null,null,{"$f":"R746+S746","v":11280}]
[" ","1982-12-31",3328,22245.966021814726,1500,0,0,24629.33284499115,24629.33203125,2930,9719.0483587413892,19902.105426540827,565,9501.2172790269215,55468.809237789494,-1383.2964768433771,81599.55151861647,4600,8665.1612903225778,7106.1140713624982,1559.0472189600814,54,49.56787109375,null,null,{"$f":"R747+S747","v":13265.161290322578}]
[" ","1983-01-31",3371,32218.882530664006,1500,0,0,21439.789980274803,21439.7890625,2854,12500.555087549064,16358.989888159424,556,8681.0150068295952,48565.687673247085,10658.591190568086,113034.01499240183,2969.3919607951616,3427.8061612174042,3427.8061612174042,0,54,45.652393341064453,null,null,{"$f":"R748+S748","v":6397.1981220125654}]
[" ","1983-02-28",3252,55089.606275250124,1500,0,0,27451.669284972671,27486.87109375,2788,21721.950201594642,36588.060232966833,543,13560.520621475451,75564.193499396235,14529.594326703264,184170.09282922556,2308.5934921591593,3171.8358922634802,3171.8358922634802,0,54,44.346687316894531,null,null,{"$f":"R749+S749","v":5480.4293844226395}]
[" ","1983-03-31",3417,73215.399022251484,1500,0,0,27656.048983952238,27656.048828125,2788,31802.542903352787,59101.184321202803,628,17882.364967353951,82458.356240310037,25297.579675617948,268920.6839040498,1990.9645269734417,3097.6421076537704,3097.6421076537704,0,54,45.805870056152344,null,null,{"$f":"R750+S750","v":5088.6066346272119}]
[" ","1983-04-30",4074,17893.439948652172,1500,0,0,22978.20999984306,22986.208984375,3208,8770.9013042669576,17896.600228751973,792,6462.354184527122,48414.339341825194,8413.9425118121999,87256.12609080135,2721.7345506967763,2800.7672774685584,2800.7672774685575,0,54,50.174228668212891,null,null,{"$f":"R751+S751","v":5522.5018281653347}]
[" ","1983-05-31",4552,17249.958649048236,1499.9999602743701,86.929219886862853,0,19540.008611595174,18951.859375,3538,11889.150190222488,23970.101693719855,967,9023.5611203790049,52914.085325576627,5028.947820577072,74516.2944828904,3932.7703787608716,3627.3174952436316,3627.3174952436316,0,54,52.189411163330078,null,null,{"$f":"R752+S752","v":7560.0878740045027}]
[" ","1983-06-30",4500,17361.945749707636,1499.9999421406703,130.83111509927707,0,16647.688823117915,16331.9599609375,3538,11717.672245904087,22424.263996879123,967,11015.34019529634,50198.413923201886,895.002581923035,68733.349896605199,4600,6159.6127161286586,4611.6732151837823,1547.9395009448758,54,53.279468536376953,null,null,{"$f":"R753+S753","v":10759.612716128659}]
[" ","1983-07-31",4150,15800.442183402496,1499.9999327336154,147.19594780035231,0,10861.575277878377,11371.2548828125,3538,2876.7259161434808,6980.0192707396664,942,4885.9287028052868,23511.983485827328,-1393.6123199332324,34115.678857814615,4600,6680,4868.3024016846894,1811.6975983153106,57.335468292236328,52.132122039794922,null,null,{"$f":"R754+S754","v":11280}]
[" ","1983-08-31",3700,15101.783037314153,1499.9999394145759,132.57655486848762,0,10270.112109581774,11188.783203125,3538,1500.831924298584,4727.1907418330566,792,4096.5945369493274,19955.765775150336,-7264.3714474901208,16296.70372450612,4600,6680,6680,0,67.967643737792969,51.415142059326172,null,null,{"$f":"R755+S755","v":11280}]
[" ","1983-09-30",3400,13442.787277923075,1499.9999543714089,103.17554597569158,0,14039.858309039815,13706.2353515625,3351,5047.2240648599563,7296.4858543549117,752,2719.5584063697875,23737.437250090163,-6856.3589574061916,20113.465541909514,4600,6680,6680,0,66.534675598144531,51.209659576416016,null,null,{"$f":"R756+S756","v":11280}]
[" ","1983-10-31",3250,10468.010956246402,1499.9999769529065,50.433318382566313,0,11138.775259680129,10725.5693359375,3163,3773.8785153143385,5132.574058567192,712,1941.9655698892302,18192.644299929358,-8111.7955139562364,10574.000115110204,4600,6680,5811.1226489157907,868.87735108420964,74.593986511230469,53.84466552734375,null,null,{"$f":"R757+S757","v":11280}]
[" ","1983-11-30",3252,19644.101571581858,1500,0,0,22675.382548786863,22675.3828125,2950,13178.394588962519,21700.778641433561,472,13763.058327678009,54269.550431992633,77.178794920888322,78079.462895068078,1926.7535604883499,6680,6680,0,54,54.236236572265625,null,null,{"$f":"R758+S758","v":8606.7535604883506}]
[" ","1983-12-31",3285,42593.590788672664,1500,0,0,26758.160972957841,26758.16015625,2788,23709.415130764086,47788.051623676554,406,16266.07339965977,72576.643502107778,5151.8586986120008,156582.66043995635,1461.7980912893925,7182.1727339739336,7182.1727339739336,0,54,50.356746673583984,null,null,{"$f":"R759+S759","v":8643.9708252633263}]
[" ","1984-01-31",3650,12030.575165762999,1499.9999925820634,16.23222650916566,0,17817.891620710576,17817.892578125,3091,4877.6929879103463,21279.451234542394,427,6364.2459521634673,43605.692363151495,-312.73295041676465,63527.16997363852,1972.7168751644206,6129.4022865763545,6129.4022865763545,0,54,45.699836730957031,null,null,{"$f":"R760+S760","v":8102.1191617407749}]
[" ","1984-02-29",4005,8080.7938980609251,1500,0,0,11026.378837141599,11979.21875,3078,8595.1600631082547,16419.363670662678,458,5446.0612579249246,34708.959407644114,-3329.7730266652152,40214.0416686346,2765.1840893105436,6224.7284811502159,6224.7284811502159,0,55.582355499267578,45.990760803222656,null,null,{"$f":"R761+S761","v":8989.9125704607595}]
[" ","1984-03-31",4246,13862.823042247432,1499.9999779707637,48.205260014090207,0,16030.215561243016,16033.568359375,3120,9025.4174405026697,14847.713131293693,615,3762.8493422083579,33564.547173394298,-3258.0645161290322,37168.235945846434,2782.4065959766212,4534.2033869110328,4534.2033869110328,0,55.245712280273438,48.430782318115234,null,null,{"$f":"R762+S762","v":7316.609982887654}]
[" ","1984-04-30",4552,6127.9515380278899,1499.9999678222694,72.760059504367121,0,8557.0184606755156,9419.7333984375,3355.9981824023516,1000,4792.6963353683241,792,1437.947675067629,15844.443377073987,-3500,16050.375961576918,3607.0017031553311,4070.1262838755306,4070.1262838755306,0,66.962226867675781,52.809440612792969,null,null,{"$f":"R763+S763","v":7677.1279870308617}]
[" ","1984-05-31",4552,8984.2020392487029,1491.6077516957985,0,0,4612.5824739739428,5192.8876953125,3504.7621397244075,999.99999999997613,5423.4332329994522,967,2385.1288925415874,11985.898770381047,-3471.5553713060067,9164.1546535128764,3709.9550412642375,1754.5392888152628,1754.5392888152628,0,79.946266174316406,53.558677673339844,null,null,{"$f":"R764+S764","v":5464.4943300795003}]
[" ","1984-06-30",4272.2476889088985,11164.73002901041,1487.0173273746973,129.99999999999662,42.013888891624788,6060.1658423436456,6276.95361328125,3360.4737059302415,3641.656889614685,5763.6083924175027,901.30221795448983,2963.2561229867388,14212.076468738747,-5000,7768.3339352672574,3539.1183446199857,1905.6791086415287,1905.6791086415287,0,82.221641540527344,52.820590972900391,null,null,{"$f":"R765+S765","v":5444.7974532615144}]
[" ","1984-07-31",3604.0158004264417,16477.304857178191,1422.5624526720253,0,869.31661427200356,9547.3592968243429,11088.1435546875,2850.9853164796759,8552.236190284304,9430.5923462064347,668.50301534035623,4343.7558359961868,24793.782343693478,-10177.279445073724,11612.252470069139,4600,6152.0932282277363,5994.0459745385242,0,79.651313781738281,51.552574157714844,null,null,{"$f":"R766+S766","v":10752.093228227735}]
[" ","1984-08-31",3371.9872476505384,8978.0975860397139,1383.6277219300614,0,489.30524660261403,4621.7939605712845,5650.0029296875,2431.0734330454575,7099.7236415941697,9178.2550998856459,622.34218490297064,1484.4579591677782,17045.521491539454,-10357.975976144811,5738.1045806709681,4522.7321005578433,6680,6680,0,85.107070922851563,52.684722900390625,null,null,{"$f":"R767+S767","v":11202.732100557843}]
[" ","1984-09-30",3234.318583834437,8449.8563696393139,1346.0407560083229,0,505.61542148936786,7982.9394808921188,8149.43310546875,2107.1736425970148,6062.9416083478736,7561.7419438843126,528.74551334074283,2168.070646075797,18081.925589529539,-6417.7646294538972,11965.83333336,3495.453123191307,4805.961412958136,4805.961412958136,0,77.637336730957031,51.690589904785156,null,null,{"$f":"R768+S768","v":8301.4145361494429}]
[" ","1984-10-31",3246.4852370591661,6524.6333983715685,1344.2886602377866,0,0,6236.9064160178013,5902.04052734375,1937.9208733898217,4000,3649.3505632832412,499.94159918202064,1346.8410052879003,12124.634113508657,-7029.719164522754,6875,4337.2015646813106,5476.6458730998866,5476.6458730998866,0,81.660667419433594,52.356723785400391,null,null,{"$f":"R769+S769","v":9813.8474377811981}]
[" ","1984-11-30",3252,16904.623629637255,1378.9584737985947,482.87821005571647,0,18800.768794607397,18800.76953125,2057.4365130165943,1700,2419.360099605221,567,2362.245972454341,26620.275854410153,-8826.5443623764113,22313.201926420603,4600,6680,6680,0,62.640434265136719,53.572177886962891,null,null,{"$f":"R770+S770","v":11280}]
[" ","1984-12-31",3360,8860.9209304763499,1400.726274715287,336.25085595968142,0,12517.03248203847,13347.556640625,2138.591003507463,1700,3811.1967120273257,567,2722.1873301393812,21548.707077374842,-9683.4429322426258,12485.719615556558,4600,7048.2051109499953,7048.2051109499953,0,68.738677978515625,49.884140014648438,null,null,{"$f":"R771+S771","v":11648.205110949995}]
[" ","1985-01-31",3541.570874217201,4881.3500272780966,1400.3736218668871,0,0,6359.5166340080541,7048.56591796875,2189.702795962045,1700,3227.9303123277505,538.27791652275937,1563.9709933119452,12725.629525527591,-5225.8064516129034,8785.4018443562272,4245.3673181793592,2830.2448787862349,2830.2448787862359,0,75.983497619628906,46.368282318115234,null,null,{"$f":"R772+S772","v":7075.6121969655942}]
[" ","1985-02-28",3713.6708750625389,5789.856608528411,1411.8723626092385,223.30959879387001,0,7474.5409196832834,8380.384765625,2379.4629221781743,1700,4075.9683183841635,567,1409.2443580103718,17100.818728263654,-5000,13645.127182111852,4222.3926889471813,2814.9284592981121,2814.9284592981121,0,70.096565246582031,47.444816589355469,null,null,{"$f":"R773+S773","v":7037.3211482452934}]
[" ","1985-03-31",3925.3710394011637,5645.9976840951222,1446.8462182154565,566.73730906984349,0,6720.6410233822317,7482.90869140625,2612.4884385380506,1700,3636.6311933173811,620.18845172936631,1588.0070179858974,13000,-3500,12492.946686919577,3937.312961284204,2109.4668465306722,2109.4668465306722,0,70.762367248535156,49.976043701171875,null,null,{"$f":"R774+S774","v":6046.7798078148762}]
[" ","1985-04-30",4151.7636373661517,4890.1617298956553,1440.162742098021,0,25.3010027188989,6199.2606077396131,7158.4462890625,2863.0182693388115,1000,3782.2342885233443,792,1140.8995317078886,12340.966214792099,-2165.72136370008,11382.043437367734,1083.3484730486298,3206.609524042412,3206.609524042412,0,73.183914184570313,54.949932098388672,null,null,{"$f":"R775+S775","v":4289.9579970910418}]
[" ","1985-05-31",3898.9430201245523,9245.5043527909365,1345.9164045891041,0,1407.0539820913991,5146.6971047875768,5257.62451171875,2693.2978197697962,3897.0707993317997,6045.481509383244,796.93633357599629,1565.1786950188707,12936.032981256347,-3033.4054092091596,9012.9030000000002,2633.1906471255688,1375.7813835307174,1375.7813835307174,0,78.954681396484375,53.632991790771484,null,null,{"$f":"R776+S776","v":4008.9720306562863}]
[" ","1985-06-30",3374.483493389218,13335.604314279621,1340.7677336964916,130,42.013888891666625,5878.4817661173602,6651.86083984375,2320.0975239798986,4923.1233229582613,5754.9815949357344,642.33177693919743,2561.8522773677932,15015.575417070046,-5000,7100,3191.3747261387985,1718.4325448439347,1718.4325448439347,0,82.480186462402344,52.161373138427734,null,null,{"$f":"R777+S777","v":4909.8072709827329}]
[" ","1985-07-31",3054.2875953565112,11705.47948934512,1204.4950383802025,0,2049.6621102206173,6332.5663227948062,8435.1025390625,1827.6619640399963,7324.0036692439262,8290.7836044000578,523.95327934194233,1512.935611631133,18384.63252302058,-9965.2187465054812,5000,3041.2419595366678,6967.3182375544629,6680,0,87.398590087890625,52.687557220458984,null,null,{"$f":"R778+S778","v":10008.56019709113}]
[" ","1985-08-31",2756.6422886929372,10486.909171022087,1111.3296876385566,0,1380.0299038944213,5264.2596917914798,7101.46923828125,1722.0376267955824,1481.7650740627039,3351.6158205229294,449.10986329980148,1478.2171516471069,11880.612805811219,-5721.4126366495693,4973.2774388192174,4147.3341652183581,1889.5536444675727,300,960.91305508336836,88.383834838867188,52.129825592041016,null,null,{"$f":"R779+S779","v":6036.8878096859307}]
[" ","1985-09-30",2773.8706227003759,5637.7828888893464,1057.3403394757802,0,840.28155178682482,4416.5368635570649,5336.673828125,1661.4332809308894,1314.703721616004,4839.5067930178884,409.97907142879558,1431.636028454275,11405.823159083662,-7354.0744642247337,3651.8268162498953,4600,4152.0282171237568,3563.3939399340888,0,90.201179504394531,52.901336669921875,null,null,{"$f":"R780+S780","v":8752.0282171237559}]
[" ","1985-10-31",2786.689575312088,5738.6177065182583,1007.5168830173934,0,750.72037533296407,4741.4585945773069,4673.369140625,1492.8065385227301,2594.0346026253601,3509.3085986276687,396.20417046024085,765.87691686721621,9157.3170832870037,-5100.9159815067105,4328.556142640562,2246.9983438553199,4352.087771532927,3109.8854278660438,0,90.911209106445313,52.611328125,null,null,{"$f":"R781+S781","v":6599.086115388247}]
[" ","1985-11-30",2755.1257504089258,7209.27091031909,990.87045165816141,0,300.00000000000102,5543.9658143385223,6420.10595703125,1365.7859937630567,1702.8300970864348,2867.6390334847183,464.78384957434832,864.08390544537258,11302.334830819542,-7346.2543257831021,4502.8300970864138,3835.572046237241,5271.5472763671187,5268.7171792807048,0,90.819564819335938,53.401786804199219,null,null,{"$f":"R782+S782","v":9107.1193226043597}]
[" ","1985-12-31",2943.5082552717572,6282.4762454863994,983.6173327888439,0,138.88419270420928,7659.4262929429578,9003.619140625,1357.8432580368162,1704.2765631405464,4819.7426491219649,567,1482.0200869926819,16722.063340141409,-5202.1784565524704,12847.490574401223,2169.8835334802989,4599.9068318602358,4591.0764909592399,0,78.138862609863281,50.611190795898438,null,null,{"$f":"R783+S783","v":6769.7903653405347}]
[" ","1986-01-31",3518.4560865666585,8777.3982590922278,1011.3960363935549,399.02893296165291,0,10706.134709753724,12718.90625,1661.1906916118994,1700,5827.7938177280657,551,5065.2117860497983,23669.320370485882,-3645.1612903225805,23219.815343194998,3125.4039059688498,2083.6026039792255,2083.6026039792255,0,62.913780212402344,48.055042266845703,null,null,{"$f":"R784+S784","v":5209.0065099480753}]
[" ","1986-02-28",3252,70977.986278250115,1183.8985093999484,2957.1428571428573,0,27079.356110265908,27114.55859375,2859.2339559874363,20531.342487871232,47006.014008115184,440,32575.558884916169,76204.157748488869,145.18113957332298,226203.80120532127,4600,9463.6,9463.6,0,54,45.270217895507813,null,null,{"$f":"R785+S785","v":14063.6}]
[" ","1986-03-31",3534,33908.077380427538,1409.1692311843253,3636.1388697138373,0,24225.22666994674,24225.2265625,2788,23003.9402187296,48908.139103438611,593,12470.750779049893,70796.200847431304,3344.237054404206,139971.66531314133,4600,8431.6129032258068,8431.6129032258068,0,54,47.055171966552734,null,null,{"$f":"R786+S786","v":13031.612903225807}]
[" ","1986-04-30",4030.3765931319599,5288.320641657192,1413.6304286164229,170.41051088634913,41.149427169326074,7999.9999999999991,9441.20703125,3142.1538548259787,1000,7016.6485035670548,792,2453.7377481056501,19576.282102242058,-1871.9965373181913,24026.053133427944,3371.6216267906216,4967.4772640626852,4967.4772640626852,0,64.924507141113281,52.158405303955078,null,null,{"$f":"R787+S787","v":8339.0988908533072}]
[" ","1986-05-31",4023.9277153311828,9392.592156487819,1402.1045619602351,0,81.991615281894894,4298.7788696289063,5288.68310546875,3231.6536889687022,1000,4212.1445847987025,967,2020.7275869696073,11676.879548218472,-3500,12519.397604070316,3422.8154835459536,4571.3316431915255,4571.3316431915155,0,71.852279663085938,55.422653198242188,null,null,{"$f":"R788+S788","v":7994.1471267374791}]
[" ","1986-06-30",3726.8270915894241,10330.911636365025,1384.5233299036549,0,140.15347459243804,4293.2470092773438,5525.20849609375,3177.2004640402733,1646.3999159717084,2849.7730153750922,967,2112.0927485684465,10627.09240478219,-4057.0661706534147,9176.3659635218464,4600,2804.640744140097,2734.6691458086916,69.971598331405403,77.510589599609375,55.286357879638672,null,null,{"$f":"R789+S789","v":7404.640744140097}]
[" ","1986-07-31",3339.1168913676333,12297.714446871818,1317.4419187563553,125.80645161290323,1056.5550011268651,6034.4827586206929,7643.5986328125,2726.7477451579025,7024.2086647534497,7565.0874187795789,788.20399026512882,3301.237987340869,18965.807898714898,-8504.6723660719617,8346.1469708750883,2401.8847796222103,6873.4698571374938,6371.6425705857282,306.53014286250709,81.931755065917969,52.978351593017578,null,null,{"$f":"R790+S790","v":9275.3546367597046}]
[" ","1986-08-31",3046.042206772011,10234.738249128839,1272.903089716772,0,577.08364016796543,4033.4380722045939,5493.01708984375,2573.8184513018946,2572.5372279249668,3789.428609549052,740.6105343489337,1489.1484217492448,11148.292001875936,-4882.8935325965613,5843.9515806711597,3885.4267282563737,1584.7389669222637,1584.7389669222637,0,85.227294921875,51.847808837890625,null,null,{"$f":"R791+S791","v":5470.1656951786372}]
[" ","1986-09-30",3151.8753565410525,5290.1337022750949,1236.1764639568773,0,540.36278735014605,4727.2230834960246,5587.24609375,2241.8941475410811,7757.9784761423562,10000.921430332248,711.18833310867024,1577.9239512691281,17582.265745301054,-6306.1393433420089,11809.58333336,1525.1746444661885,6680,6680,0,74.452774047851563,52.679981231689453,null,null,{"$f":"R792+S792","v":8205.1746444661876}]
[" ","1986-10-31",3137.6913830059684,6000.4503838787477,1203.891631972909,0,463.70069633547018,5401.9198497843909,5192.8623046875,2036.5974796553387,4000.00000000004,4915.0770493639684,669.31382955440608,1326.9458773766646,12539.247410520988,-5785.4009124551267,7265.3225806709679,3193.1813903290213,4865.6351511653284,4865.6351511653284,0,80.62872314453125,53.975601196289063,null,null,{"$f":"R793+S793","v":8058.8165414943496}]
[" ","1986-11-30",3011.817726350479,6900.4826784504567,1183.6380229134484,0,300.32996440603625,5088.4354139229054,5682.0126953125,1930.2180861049569,2500,2678.4616177662929,522.10508614361424,3522.0194082722105,13017.885180399266,-8441.285903877113,4654.1697805667645,4600,6303.4831089044364,4735.7566198061395,1464.2214502572533,87.415580749511719,53.906967163085938,null,null,{"$f":"R794+S794","v":10903.483108904436}]
[" ","1986-12-31",2929.2586746937786,6596.9941650792252,1183.9322784293322,0,0,6817.7909745224088,7318.4365234375,1661.7568204060767,4840.1502997304806,5437.6842154120604,482.20894343332685,1953.3251240288671,15423.664488827617,-9706.8612482061617,5142.5536306330159,4600,7073.5412204542754,7073.5412204542754,0,89.647186279296875,50.999137878417969,null,null,{"$f":"R795+S795","v":11673.541220454275}]
[" ","1987-01-31",3057.5682682315119,6253.1894296215514,1185.5170997473972,0,0,7486.8770176480921,7832.9306640625,1644.0968049485143,1700,3751.6111067447841,457.3906008865992,1248.939337349273,13593.160506411616,-5225.8064516129034,9286.7563016597505,3876.8499137240424,2918.3359981189642,2918.3359981189642,0,83.132308959960938,47.749584197998047,null,null,{"$f":"R796+S796","v":6795.1859118430066}]
[" ","1987-02-28",3389.2692377198514,7572.9591875195474,1209.8203719597811,420.8278349873313,0,11107.549484213901,11910.7587890625,1803.8652673095969,1700,4913.2597344797014,487.6018009147453,1270.4860151111784,21564.421470768964,-5000,18203.149709248039,3979.8079955768794,2653.2053303845773,2653.2053303845782,0,69.239639282226563,47.784343719482422,null,null,{"$f":"R797+S797","v":6633.0133259614568}]
[" ","1987-03-31",4114.8983328022377,9662.0864477510895,1243.4797320201058,522.65720472299643,1.1414626271038417,14758.88486996533,15437.33203125,2125.9455099551228,1700,4755.446968881115,593.70639809136105,837.21924907001994,23085.168622915953,-3258.0645161290322,22727.965102507223,3098.6796280829253,2065.7864187219398,2065.7864187219398,0,64.730224609375,49.815761566162109,null,null,{"$f":"R798+S798","v":5164.4660468048651}]
[" ","1987-04-30",4080.8970221796699,7797.4932213178454,1210.2118751984633,0,474.79059020369664,7896.0192748680493,9169.5185546875,2146.9623241218801,999.99999999996658,2199.57495647223,635.70003461494468,756.383297465532,12376.218708854711,-2240.8607147930334,9368.3330000000005,1890.5744627047061,1006.4818152661691,1006.4818152661691,0,80.92047119140625,53.686603546142578,null,null,{"$f":"R799+S799","v":2897.0562779708753}]
[" ","1987-05-31",3780.9609910901017,10260.437654865384,1128.0059663741501,0,1222.7929457869373,5308.0375693721844,6506.77783203125,2012.4690020413461,1230.3162292803422,3540.0429476181162,611.48999621971143,879.78462966057702,10876.934048748913,-2352.4861375189662,6762.5,2463.0445905432548,300,300,0,84.132575988769531,55.027156829833984,null,null,{"$f":"R800+S800","v":2763.0445905432548}]
[" ","1987-06-30",3155.9978141328847,15669.366020261958,1106.433853811466,130,339.47874644104189,8366.1177175743032,9734.998046875,1640.9499991208629,4038.0376896199782,3980.2138036241158,537.5294053100049,822.87413232796985,14395.065256719612,-4235.3948442068577,7202.717765393284,3044.2674583049857,952.71533854052552,952.71533854052552,0,83.190910339355469,52.333995819091797,null,null,{"$f":"R801+S801","v":3996.9827968455111}]
[" ","1987-07-31",2695.5747307248125,14513.342901554835,972.36246763378028,0,2044.6858628895234,9142.2462773907318,11244.7822265625,1464.4498701410955,1816.4541044284331,1000,431.40771594959915,1241.7916493943458,14122.837544157292,-6249.64098955384,5000,2755.9359133783428,3111.8798922474439,300,1007.7902212682601,85.136871337890625,52.132820129394531,null,null,{"$f":"R802+S802","v":5867.8158056257871}]
[" ","1987-08-31",2402.4972773307918,9994.4207067333846,841.08515381869506,0,1999.3257268845862,6543.512785814758,8615.232421875,1307.8555517327484,1000,1041.1278319712712,369.99137206461415,663.80333443549807,10682.073280145707,-5170.4781781548409,4048.6803323058493,3120.3562905023909,1941.85130379302,300,0,89.877464294433594,52.216403961181641,null,null,{"$f":"R803+S803","v":5062.2075942954107}]
[" ","1987-09-30",2287.087670088169,6763.3381031122417,751.06453615309272,0,1421.9912425463949,5777.1227318848632,7544.4189453125,1223.9603265575367,1193.3815973573019,2579.4600390826186,378.47414582052517,426.58825422998871,10196.954221758328,-5947.7409240384168,3183.6396315490883,3627.2066768834388,3160.2170362439756,2051.9885862884703,0,92.534210205078125,52.447662353515625,null,null,{"$f":"R804+S804","v":6787.4237131274149}]
[" ","1987-10-31",2141.7950621021082,7006.0617770117742,667.72295301536519,0,1318.6500551796312,6375.0498625160808,6995.99755859375,1140.2610470087475,1738.5917823148397,2378.3732827529084,372.25369921074315,385.31764020581591,9801.2552564930938,-5356.3188640498156,4127.871069476686,3620.0489797200821,3012.3487384519449,1253.4602845723184,0,90.711349487304688,54.6268310546875,null,null,{"$f":"R805+S805","v":6632.3977181720275}]
[" ","1987-11-30",2099.5183150252656,6192.2931365569784,590.8937809145574,0,1302.4008512489722,4330.7177077701745,6249.01025390625,1096.8892331405157,1973.7851390550591,2408.328789408482,400.57112229408568,417.30424555343825,9756.9335881244733,-5179.2015872052252,4614.7400298252014,2779.930637533852,3671.1602951399464,1766.9221303383588,0,89.793937683105469,54.092277526855469,null,null,{"$f":"R806+S806","v":6451.0909326737983}]
[" ","1987-12-31",2610.078496629555,8745.0988915968574,589.233466145644,0,80.377491415976522,11848.550928947814,13278.3056640625,1330.4238724719801,1772.4231343518045,2941.8796643539167,502.72749226657913,500.00000000000011,18253.4550316778,-5285.7659677250685,13456.435570991182,3322.3324908699169,3262.3148053038267,2635.8596266671238,0,76.663818359375,51.132678985595703,null,null,{"$f":"R807+S807","v":6584.6472961737436}]
[" ","1988-01-31",3039.8951967424805,10231.278284981614,623.86203489439322,504.93459072814102,0,16468.455548324724,16468.455078125,1551.5389783272481,1200,4825.6826064137113,567,1452.5908812981916,24824.585733258504,-5225.8064516129034,24491.886657902636,4086.1103361472265,2724.0735574314826,2724.0735574314826,0,64.779350280761719,47.135101318359375,null,null,{"$f":"R808+S808","v":6810.1838935787091}]
[" ","1988-02-29",3219.2532576786571,4764.0124668531553,631.05744581368049,152.09114450830754,0,6350.0719274708499,7143.43017578125,1595.1587783022958,1200,2043.2374575968659,567,959.29748114197196,12999.999999999991,-4039.3314953304566,9166.1048212136957,3473.0302860649022,1806.9005574916087,1806.9005574916087,0,80.168937683105469,47.668365478515625,null,null,{"$f":"R809+S809","v":5279.9308435565108}]
[" ","1988-03-31",3369.0416691264172,4401.5586387237217,626.45497688514695,0,25.17895859816489,5100.2073589225765,5031.0712890625,1679.7810330882219,1064.17909002737,999.99999999999307,513.86123969008383,2028.2661262965973,8713.5207740493206,-578.59069608691607,8531.0490000000009,800,556.2045678786817,556.2045678786817,0,80.248085021972656,49.7823486328125,null,null,{"$f":"R810+S810","v":1356.2045678786817}]
[" ","1988-04-30",3485.1257579837315,4663.0488944769204,623.00468309713017,0,21.933976262536351,4753.5246368646194,6953.41015625,1715.6367721976783,750.00000000003456,3261.8235405141122,569.77762287644566,416.7979123602185,11719.663224410915,-1769.5304365703969,9597.5752209112925,1354.5800607339424,1238.838296039301,1238.838296039301,0,77.795875549316406,50.980579376220703,null,null,{"$f":"R811+S811","v":2593.4183567732434}]
[" ","1988-05-31",3377.3309161812722,9296.7948952621518,613.39079144622178,0,97.698011870086404,4900.6804871678041,6131.85400390625,1671.3647030450807,1932.2800541303293,3503.9255746099916,571.39985232977176,507.42358522925463,10419.286275950863,-2050.9985523157957,7100,1613.6208308777759,925.24117542793829,925.24117542793829,0,84.374496459960938,51.021007537841797,null,null,{"$f":"R812+S812","v":2538.8620063057142}]
[" ","1988-06-30",3005.3468020369583,12759.030615943682,605.66689959644202,0,42.013888891666667,6505.6536337786511,7686.9501953125,1446.0940258002331,4099.0755110237969,3770.2389569640736,511.65857037843489,723.73340493983073,12256.932580728811,-2561.4045692190539,7101.4894375707499,1833.3658469112204,300,300,0,84.857673645019531,52.806175231933594,null,null,{"$f":"R813+S813","v":2133.3658469112206}]
[" ","1988-07-31",2632.1297574857776,11147.418826871299,476.31745711379853,0,1982.2613775728364,6733.8735410444597,8781.1298828125,1114.6168968723011,4831.0275460507428,3439.0326912611367,445.26644088178375,509.02986210524455,13011.897396863125,-5307.8605854891812,4289.2487512468851,1421.3100421563013,3161.1575747788615,300,224.57454444092525,89.770431518554688,53.928382873535156,null,null,{"$f":"R814+S814","v":4582.4676169351624}]
[" ","1988-08-31",2341.2581770412198,9262.3594438368091,370.62437683630401,0,1627.5997319378594,6319.1801967966585,8388.2568359375,1017.369708115905,1443.3493928407138,1660.6191354963594,393.47533613247845,354.73772091364862,10582.084094214057,-5583.8592105777734,3036.6562744746443,3905.1291076845018,1444.8620323797181,300.00000000000273,0,93.204803466796875,52.467288970947266,null,null,{"$f":"R815+S815","v":5349.9911400642195}]
[" ","1988-09-30",2265.0496910948723,5000.3051876520476,283.51545781310915,0,1392.0529170250452,3701.8198747872057,5463.16748046875,917.48234103418588,2082.8533333758805,3341.9341006709465,373.43942173225571,392.42635759781939,8737.4761344396484,-4311.015165535242,3333.022405178609,2087.3614392025415,2857.1546980385574,1141.8186220020038,0,93.872901916503906,53.743328094482422,null,null,{"$f":"R816+S816","v":4944.5161372410985}]
[" ","1988-10-31",2107.264456350882,6296.8580447439044,201.97633407426304,0,1292.0683180407075,5402.889135489474,6078.95654296875,865.31235039310479,1532.5770030721355,1930.4126671123327,365.55602341026275,375,8502.3131925705966,-2585.9300552134864,5409.1427664582616,2742.1567321887942,546.93621609876323,300,0,90.579093933105469,55.231254577636719,null,null,{"$f":"R817+S817","v":3289.0929482875572}]
[" ","1988-11-30",2255.1994261049763,7210.0548720438856,202.66760158436969,0,0,6829.032219993951,6816.57763671875,925.48089717822029,900,1544.8053283152146,460.94974574170152,407.4008256312228,9830.4981238553992,-6179.5888715642795,3500,2731.17542752398,4801.6596994820629,4675.0270000723895,0,89.597999572753906,53.992031097412109,null,null,{"$f":"R818+S818","v":7532.835127006043}]
[" ","1988-12-31",2352.0503925107505,5034.7361102973655,203.00006047951578,0,0,5920.586685374943,6605.5107421875,940.41503427531529,900,1673.5449668012943,540.06999673099847,500,9928.3204122855877,-3222.8736197919461,6845.3076362076763,1381.8370491733967,2916.6292801456402,2843.9741573332622,0,85.133644104003906,51.409027099609375,null,null,{"$f":"R819+S819","v":4298.466329319037}]
[" ","1989-01-31",2453.1469235056879,5942.0986513084663,202.80906352698446,3.660474929023732E-8,0,7919.6532837803379,8623.6083984375,965.49014748448792,900,2638.0892186563201,567,729.26502774920687,12463.633658183764,-5225.8064516129034,7652.4032161095438,3982.9880504498014,2655.3253669665373,2655.3253669665364,0,83.921195983886719,48.191032409667969,null,null,{"$f":"R820+S820","v":6638.3134174163388}]
[" ","1989-02-28",2514.6940003049658,5387.6906992059166,202.61448119836845,0,0,5804.0283861914331,6793.265625,1105.1355708528581,900,1620.0103411791415,562.65928233209445,1582.2471271890436,12519.658973072756,-4428.8764586755524,8635.7139999999999,4025.3279248349427,1812.1541127492237,1812.1541127492237,0,81.559829711914063,47.668613433837891,null,null,{"$f":"R821+S821","v":5837.4820375841664}]
[" ","1989-03-31",3841,14845.348289836456,381.47043075064596,2882.0506548452549,0,19676.828621082277,19676.828125,2255.9430794716191,800,12185.771077630703,642,9286.394015642325,41319.190951555465,-3258.0645161290322,44792.234207984002,2716.5413936334248,1811.0275957556191,1811.0275957556191,0,54.146816253662109,49.919868469238281,null,null,{"$f":"R822+S822","v":4527.568989389044}]
[" ","1989-04-30",4293.3984052541537,6275.3144847592375,411.72291673313396,683.18324182110541,135.87849385378763,8555.45507775839,10287.1748046875,2641.1793922978686,750,8870.960981001348,792,3156.812135776443,22706.11849984268,-2377.7013542773802,20576.729085859472,1961.3874555037853,1307.5916370025236,1307.5916370025236,0,63.990402221679688,55.645923614501953,null,null,{"$f":"R823+S823","v":3268.9790925063089}]
[" ","1989-05-31",3874.7154360194186,13280.772728810101,408.30249306780087,127.49695051154137,123.24408556590782,8000,8666.587890625,2490.4519985875449,3096.2085546047647,5278.0305101074509,894.08179812656044,1674.9813741349285,15353.558190940184,-2718.519925215463,11208.870999999999,1857.9417384976887,1000.43016688337,1000.43016688337,0,75.401924133300781,53.342014312744141,null,null,{"$f":"R824+S824","v":2858.3719053810587}]
[" ","1989-06-30",3553.0480187276557,9470.994703919263,384.16475298373342,0,325.04317235109613,4066.0095951728963,5173.33642578125,2203.7180333154365,3868.6631195374866,4203.0593459419697,693.84077463297751,3788.2532502465506,13597.79961945741,-5000,5781.25,3058.6658151790257,1646.9739004810158,1646.9739004810158,0,84.300468444824219,53.216457366943359,null,null,{"$f":"R825+S825","v":4705.6397156600415}]
[" ","1989-07-31",3076.2862303071943,12041.477650977153,328.26834316297948,125.80645161290323,940.65860215322584,7112.4734012827075,8746.8427734375,1673.6036073634755,7211.6766456543291,6854.2791976053677,539.40848434535064,1996.9434327576716,19154.243640644887,-10648.113440141442,4864.707131494064,3458.5258761355321,6929.0817363816186,6680,0,87.483695983886719,52.228675842285156,null,null,{"$f":"R826+S826","v":10387.607612517151}]
[" ","1989-08-31",2759.0488729416697,9428.3956594241463,273.40001862629373,0,818.19920906787672,5380.6632498098124,6361.345703125,1538.8001992771613,2255.6106047785765,3369.0917240950639,450.16306650195446,1750.0000000000018,12268.361694193525,-5749.1159036860936,4914.0871416292321,3617.1265299219103,2136.132857643428,300,976.33079563186175,88.742950439453125,52.428020477294922,null,null,{"$f":"R827+S827","v":5753.2593875653383}]
[" ","1989-09-30",2795.0019439448315,4346.6709933145521,260.95185698348365,0,191.02867777654745,5099.2238614568651,5897.44091796875,1529.6051606044387,1079.3056100773269,2892.5520144212219,421.08080542145581,1589.890916728104,10770.706879540186,-6761.8815891117411,3531.5347217945896,4473.0011352589108,3611.7791763516952,3225.9983990812129,0,90.568901062011719,53.645839691162109,null,null,{"$f":"R828+S828","v":8084.7803116106061}]
[" ","1989-10-31",2927.7549987616317,4883.1818724645782,253.15567308337967,0,118.12266752600675,5791.6831080862567,5694.759765625,1492.3288910447604,1878.947202871655,1953.4276775876035,399.80965243822527,1361.0704681499424,9783.2206631624995,-5414.1516421852557,4009.3691783135146,2504.9916678579821,4129.1685950182982,3073.7403762233034,0,91.830131530761719,53.542198181152344,null,null,{"$f":"R829+S829","v":6634.1602628762803}]
[" ","1989-11-30",2879.350471105191,5440.1068609948552,252.49025181992809,0,0,4774.4846018361341,4797.53271484375,1468.2967993632421,1139.2180962552211,1313.0051647545279,405.13791089365236,1771.1937979660192,8381.5969743716378,-4004.1975021579347,4500,2798.5062799123398,2372.1201879054242,2000.5599500298085,0,91.599189758300781,54.164402008056641,null,null,{"$f":"R830+S830","v":5170.626467817764}]
[" ","1989-12-31",2747.7636763850173,6423.4360922667011,251.82074894263573,0,0,6840.695883960675,7255.44580078125,1479.746074331639,902.64844190411441,973.66960790821668,391.17542295505638,1742.9741583333162,10223.422135462777,-5436.633135853097,4500,4600,1954.7237706532142,1862.6840457207609,7.1814811203460067,89.769966125488281,51.6796875,null,null,{"$f":"R831+S831","v":6554.7237706532142}]
[" ","1990-01-31",2987.0629787671714,7444.6479214746541,311.39248695212802,944.21694603774574,0,9250.0471877872733,9706.4072265625,1554.4253058033485,900,4990.4024082663609,426.00274602046181,1218.0311176929608,17699.652986992798,-5225.8064516129034,13534.721588250752,3861.8734312448346,2574.5822874965584,2574.5822874965584,0,77.64453125,48.509757995605469,null,null,{"$f":"R832+S832","v":6436.455718741393}]
[" ","1990-02-28",3079.9513440136739,4985.7856239556404,321.97922294674191,191.57632055698193,0,6402.6508308503453,7037.08154296875,1638.3352317942433,900,4227.2281097110226,435.25755442916932,1214.2498976925358,16095.521200042154,-5000,12205.465720693832,3756.0509391036658,2504.0339594024081,2504.0339594024445,0,76.728736877441406,47.640003204345703,null,null,{"$f":"R833+S833","v":6260.0848985060738}]
[" ","1990-03-31",3344.6848159603633,5827.2257589044093,317.29376732726581,0,56.323502353548008,7794.5260054823239,7889.7060546875,1901.8991083598155,800,2943.6758711879534,545.31429539186536,743.57421312899021,11994.987669995557,-4050.5867149574433,8124.967925453444,3301.4670379897807,1768.2899435329607,1768.2899435329607,0,83.394905090332031,49.707309722900391,null,null,{"$f":"R834+S834","v":5069.7569815227416}]
[" ","1990-04-30",3346.4679426048151,4558.0542338583864,313.26726130644363,0,24.578928257274022,4534.8778756095908,6378.7646484375,1907.497122641214,750,3810.2242131011253,561.70342763210886,1768.5135175758792,12039.837389819515,-1813.3177203371811,9580,1290.0381070942403,910.54217768476155,910.54217768476155,0,81.693626403808594,51.766281127929688,null,null,{"$f":"R835+S835","v":2200.5802847790019}]
[" ","1990-05-31",3496.7901481231393,7924.7938075731081,310.72424648716463,0,0,4324.3851318359375,5015.7724609375,1928.0054711116416,792.78542593830457,2181.8831800699168,584.44923296453908,731.10345853556248,7812.7229008719914,-1568.5285595052501,5896.0158083775477,1028.0553902978563,1371.1105211635995,1371.1105211635995,0,85.708000183105469,52.378185272216797,null,null,{"$f":"R836+S836","v":2399.1659114614558}]
[" ","1990-06-30",3246.2949461422754,10991.195782715809,297.12173939218292,0,152.67069336061101,6309.6178725269519,7303.18505859375,1690.9181782566448,3605.8694928716791,4658.3659600576657,558.39082592255704,630.71735091327116,12226.088967348647,-5000,4094.755504117049,2052.9897411631041,2538.1092403237112,2538.1092403237108,0,86.925651550292969,53.570594787597656,null,null,{"$f":"R837+S837","v":4591.0989814868153}]
[" ","1990-07-31",2856.3934791012366,10898.327748203228,174.57440276157701,0,1914.5432583568972,6196.1479439699888,8242.837890625,1438.9319699228988,3372.6466904614326,4102.5484018156294,460.20988608719819,1139.5489326383217,13251.252661176472,-5773.7399526889149,4359.0018776616434,1758.9524380131902,3307.3902770124478,300,554.08142360173997,89.348625183105469,53.998340606689453,null,null,{"$f":"R838+S838","v":5066.3427150256375}]
[" ","1990-08-31",2492.3122683054416,9682.2620689527394,168.79663515935312,0,40.658602153225807,5629.0232936096018,6904.94677734375,1312.7910978887537,1491.9182765561814,3071.890790888493,411.91953229244086,1063.2031025227277,10697.129537565612,-5184.1962878372215,3713.2315574601894,4600,313.03145203196073,300,9.2789598968017799,90.236045837402344,52.442867279052734,null,null,{"$f":"R839+S839","v":4913.0314520319607}]
[" ","1990-09-30",2443.655909611743,4653.8857344201497,163.66925767919039,0,42.013888891666667,3805.3765862411283,4434.1748046875,1228.8528104624929,1267.6592249202427,2728.2851037127648,381.32205101817476,1013.9251250731907,7576.8589653960626,-3363.7688398618429,3209.844036094762,1976.9829802950278,1782.5271299928941,1766.0246558771776,0,92.081306457519531,54.7452392578125,null,null,{"$f":"R840+S840","v":3759.5101102879216}]
[" ","1990-10-31",2304.3723766675653,6177.7576736411211,158.18574705038424,0,57.635683688260457,5313.9003280692032,5090.20556640625,1146.6231517500751,996.74700465748549,900,357.93285331062799,469.81350276529275,6919.1641634892521,-3056.7098677685681,3504.8298780632886,2566.5501899489191,1267.4497448495931,1248.2855813603742,0,92.856613159179688,55.522754669189453,null,null,{"$f":"R841+S841","v":3833.9999347985122}]
[" ","1990-11-30",2161.1272641829187,6622.6396952229652,157.42659868209415,0,0,5412.1356143729981,5306.69384765625,1060.9018734987374,900,900.00000000005116,371.85322899761229,490.06170511829805,6917.9548200669733,-3006.7635052783735,3716.978164387408,2268.8247050318973,1618.9742166719593,1604.2029837058058,0,92.731185913085938,54.617279052734375,null,null,{"$f":"R842+S842","v":3887.7989217038566}]
[" ","1990-12-31",2070.6226671286081,5160.433179292233,157.358161912973,0,0,5554.7905603382078,5776.8818359375,990.50702458373985,1364.1107222146834,900,379.54769689565643,503.19390854408027,7683.4039400507927,-3097.1544146714441,4394.64840128795,2013.4024872417735,1879.9633422811448,1871.4883926808511,0,92.7691650390625,52.748306274414063,null,null,{"$f":"R843+S843","v":3893.3658295229184}]
[" ","1991-01-31",1920.0590101984731,6435.8463753998058,156.9251938120799,0,0,6978.8980532597616,7098.9072265625,937.92593231287049,900,1731.9886257591399,350.30666298233422,468.52763965047336,9424.8915657488105,-2509.3610377452933,7394.320636917344,2548.2334966570265,777.0435171024601,777.0435171024601,0,87.339302062988281,49.621158599853516,null,null,{"$f":"R844+S844","v":3325.2770137594866}]
[" ","1991-02-28",1909.3365620334148,5152.6286536107909,157.0597685109656,0,0,5512.4057777094877,6036.4921875,952.43267526198815,900,1780.5177658362884,306.2976174190436,863.69279969290221,12297.513681566534,-5000,7407.1430000000291,3973.401324690446,2291.0654158047064,2291.0654158046918,0,87.692054748535156,49.851234436035156,null,null,{"$f":"R845+S845","v":6264.4667404951524}]
[" ","1991-03-31",2333.9269750834374,9363.3623426970917,246.68600300957684,1410.266493297217,1.3918167118224533E-4,15617.441996977068,15617.4423828125,1337.2946964181024,800,7367.9427903916558,479.15325916175391,973.01325969566551,27076.658599311537,-4516.1290322580644,28937.472558405017,3766.1756843569151,2510.7837895712723,2510.7837895712769,0,61.085060119628906,50.019729614257813,null,null,{"$f":"R846+S846","v":6276.9594739281874}]
[" ","1991-04-30",2503.0622507277872,4990.6941811506431,238.96717795759412,0,101.73387323242747,7560.2715117624521,8540.337890625,1536.9112618819213,750,4089.1114402058638,614.18556545739614,724.72426074200234,13736.061654410805,-1839.5008899469722,12057.828765561893,1958.3689325311814,873.10966560489419,873.10966560489419,0,76.377822875976563,52.451286315917969,null,null,{"$f":"R847+S847","v":2831.4785981360756}]
[" ","1991-05-31",2424.6744717508486,7861.8407356695707,217.78617505819739,0,303.95749578023373,3482.6717758178711,3526.02001953125,1628.6354383888722,750,3202.9195219596986,736.68487869986825,720.60649215015735,7345.0810797196436,-1883.161360984222,4643.7638455318083,2012.4666836300007,348.80258206506005,348.80258206506005,0,88.100654602050781,54.083652496337891,null,null,{"$f":"R848+S848","v":2361.2692656950608}]
[" ","1991-06-30",2172.7664999806902,7983.0381496898053,186.38106620748113,0,472.66917008848952,3498.261329650878,3929.784423828125,1541.7707752275392,2516.5286154087448,3454.093446426582,744.45131606333973,1262.4340832156281,8770.9594673195461,-2661.0763651291063,4075.6043788251154,1575.3883333418867,640.34227300585189,640.34227300585189,0,89.351806640625,56.333953857421875,null,null,{"$f":"R849+S849","v":2215.7306063477386}]
[" ","1991-07-31",1863.6605782133427,8959.945483837475,105.36901610968062,0,1260.5455032636369,4390.9240321075158,4961.51025390625,1346.5412961326483,3301.6019690194889,4183.5259190591005,665.94481900978167,1750,11574.505972483381,-4484.1366314951829,4161.9801608567595,1349.4804139658866,2341.8703746073847,300,593.36016621205238,90.137123107910156,54.588897705078125,null,null,{"$f":"R850+S850","v":3691.3507885732715}]
[" ","1991-08-31",1658.3082137582944,7086.2948169510155,100.96066947464064,0,31.72538396067155,3422.602859602152,3779.42529296875,1216.2752935034071,2327.7395876138344,3181.8712850730067,464.16847927687957,3313.7500680396556,10398.824205114501,-5225.7191544308571,3455.160514434006,4600,370.6549193433184,300,64.795471758992221,91.3856201171875,53.636234283447266,null,null,{"$f":"R851+S851","v":4970.6549193433184}]
[" ","1991-09-30",1593.8075389529133,4731.4013556649425,98.86107069331544,0,0,4088.1709103319081,4192.0908203125,1189.9950035507547,1376.2899256665955,2564.8165598890519,401.83749862901783,1260.1612460567158,7429.2804865069538,-3275.8693953130005,3000,2716.8416400892484,768.04222038195007,742.27390998717192,0,94.268516540527344,55.748092651367188,null,null,{"$f":"R852+S852","v":3484.8838604711982}]
[" ","1991-10-31",1543.4251301832537,4628.7852699821442,97.439921554861328,0,0,3869.3626426188866,3485.95751953125,1091.0604379394351,947.11820623083736,1558.4503105771362,325.53198711036998,1879,6929.6430847231459,-2411.7050222890484,4375.7623872910808,1644.734412614619,1482.6038992925685,1452.6794098018584,0,91.277549743652344,56.382102966308594,null,null,{"$f":"R853+S853","v":3127.3383119071877}]
[" ","1991-11-30",1378.9155498342307,6753.7968952956126,97.07852415584297,0,0,5547.5093275942736,5058.28515625,983.53434146743143,952.49495366902647,900,327.7604575332125,973.48900968465227,6916.3427868975086,-3273.8070239335539,3500,2400.7480096193185,1757.8481988756473,1734.7831897554133,0,91.175430297851563,54.380138397216797,null,null,{"$f":"R854+S854","v":4158.596208494966}]
[" ","1991-12-31",1374.5464590962872,4702.3959582760926,97.649467443840237,0,0,4601.0691922169453,4751.646484375,930.19640360365941,900,1653.0939267817012,371.03641451539113,543.43023125571176,6803.2464300241427,-2712.5500338685251,3944.8738105594393,1003.1503270492368,2411.7604491629709,2398.5269709372733,0,92.785758972167969,52.024074554443359,null,null,{"$f":"R855+S855","v":3414.9107762122076}]
[" ","1992-01-31",1409.3544651659486,5014.5429966881784,97.956693518797138,0,0,6867.0063617687601,7344.9453125,935.34162455575336,900,2905.9916359850263,371.64735916053144,522.18616910874835,10706.439665671256,-2767.6403230511933,8617.7924210546098,1674.0590179244236,1962.0654238508382,1962.0654238508382,0,85.799507141113281,48.25665283203125,null,null,{"$f":"R856+S856","v":3636.1244417752619}]
[" ","1992-02-29",2052.6505846086734,10809.449180881871,149.35362400162487,863.55245567893871,0,16690.649801488933,16724.63671875,1194.2973803524808,900,7940.0312714089632,564.10324277912798,615.35066171841299,28314.04063322796,-4482.7586206896549,31824.075769453804,3972.4977456210918,2648.3318304140621,2648.3318304140621,0,59.956600189208984,48.768264770507813,null,null,{"$f":"R857+S857","v":6620.8295760351539}]
[" ","1992-03-31",2495.899888920113,7435.8026292950362,184.63063538521379,558.18840533872367,0,12050.197857026486,13723.1083984375,1434.4653765819965,800,4133.7357861058435,658,1219.7961145996981,19137.663751412267,-4516.1290322580644,16400.063716609831,3531.4811124905777,2354.3207416603914,2354.3207416603923,0,66.814918518066406,50.973979949951172,null,null,{"$f":"R858+S858","v":5885.8018541509691}]
[" ","1992-04-30",2745.7843677979158,5350.2461732583452,177.28948750054158,0,102.9374014161458,7167.7318901699327,8615.7236328125,1546.3964297184102,750,3618.7188665371823,735.65655598839453,468.9970691767262,12808.271317191313,-1862.2072038534743,10471.479637131451,800,1618.3115053211777,1618.3115053211777,0,75.966468811035156,53.354423522949219,null,null,{"$f":"R859+S859","v":2418.3115053211777}]
[" ","1992-05-31",2447.161940430185,9794.6132642723242,158.8879103395077,0,251.5534524808732,4448.9687228025223,4528.90234375,1376.1921965137446,2390.0611797229808,3103.680937917401,625.79502450076075,1913.5125570882658,9498.0438399572304,-1792.9090079689372,6038.5083000000004,1379.7138679357568,300,300,0,86.323577880859375,54.668811798095703,null,null,{"$f":"R860+S860","v":1679.7138679357568}]
[" ","1992-06-30",1997.9370643676352,11295.288510088965,153.95222036295286,0,42.013888891666667,5823.7212222460457,6384.75048828125,1047.8512995436647,3829.9721279729201,4111.2941479605015,482.38330837569549,1864.6835471879483,12548.400979729511,-2555.496914543352,7100,1609.6383092084302,300,300,0,84.990280151367188,55.732791900634766,null,null,{"$f":"R861+S861","v":1909.6383092084302}]
[" ","1992-07-31",1579.230974819269,11027.671919476246,103.77360348512107,0,770.0511783689833,5436.343475021391,6024.7470703125,719.88923822177367,3698.9747747802776,3238.5105073353793,375.58233407669479,1154.8604999258,10941.772443097401,-3916.1503586501058,4194.7798695329529,1342.0621479444453,1725.0852880718048,300,453.54788511481672,90.446723937988281,53.583026885986328,null,null,{"$f":"R862+S862","v":3067.1474360162501}]
[" ","1992-08-31",1083.4064533209823,11711.743115984022,101.07103866565072,0,0,7229.3001703900818,7495.435546875,546.44045741682953,1838.0240730138366,1806.9031614296364,311.10805971626888,587.49581650790242,10028.570661811265,-5067.5256333240814,3036.3556715579807,4334.2841952772142,309.95647077288203,300,0,93.517570495605469,53.621498107910156,null,null,{"$f":"R863+S863","v":4644.2406660500965}]
[" ","1992-09-30",1083.0673984562668,4636.6610229084608,99.054058090001234,0,0,4429.1748950264027,4946.84814453125,411.19088577406768,2021.2200195028286,2668.5276874834044,270.87038488368955,459.24525976593281,7508.5723935822034,-3299.76194607252,3099.6425200348795,1613.6882426790576,2087.990164852662,2044.2042233249222,0,94.488960266113281,59.684326171875,null,null,{"$f":"R864+S864","v":3701.6784075317196}]
[" ","1992-10-31",1015.2761476460844,5585.7925635529691,98.465477874708824,0,0,5061.2227537917688,4635.44921875,401.07888096653164,1869.7012893755123,1749.0518028180045,251.61044838086562,409.72106986390202,6949.5306066807107,-1504.6909033488264,5125.9371340309353,1601.7497367158348,350.84819016124612,300,0,92.002700805664063,60.901828765869141,null,null,{"$f":"R865+S865","v":1952.5979268770809}]
[" ","1992-11-30",877.80891629286566,6660.7894902134512,98.075087740798494,0,0,5729.4786644518044,5674.298828125,431.84334124521939,899.99999999997476,964.18575828622386,242.87057962888258,387.70779373610992,6908.6749586204496,-3149.1059013758313,3500,3464.4263496057843,461.29252913027369,422.10008208182444,0,90.781623840332031,56.637615203857422,null,null,{"$f":"R866+S866","v":3925.7188787360578}]
[" ","1992-12-31",1104.1943203366095,7293.1146362062445,105.26585880587734,95.059751403259256,0,8457.3666718106815,9298.810546875,594.35403950391594,900,1873.4428210933179,344.38241485962993,503.11139564026382,13035.460586823778,-5044.6476392501536,9040.1850184267387,3454.941966395319,2728.4759311272915,2705.9893848647771,0,81.908027648925781,51.244335174560547,null,null,{"$f":"R867+S867","v":6183.4178975226105}]
[" ","1993-01-31",1753.4277391694893,15052.739531338791,268.79103237037378,2591.9875130072842,0,23742.109811907823,23742.109375,1168.9753997373257,900,11319.52782974028,567,5031.4192972009696,46649.694032986015,-3645.1612903225805,64051.907928564469,4423.9730534171858,2949.3153689447909,2949.3153689447909,0,54,45.239151000976563,null,null,{"$f":"R868+S868","v":7373.2884223619767}]
[" ","1993-02-28",2468.6536471353979,12354.41462130396,379.33691415998658,1927.9007625596819,0,23010.129370146664,23045.330078125,1638.5873296408859,900,10017.326280315237,553,6897.2556268067101,44831.203935929952,-4464.2857142857147,55479.727788202756,4587.2402846334089,3058.1601897556066,3058.1601897556066,0,54,45.212451934814453,null,null,{"$f":"R869+S869","v":7645.4004743890155}]
[" ","1993-03-31",3925.8442391763133,11595.475787564113,489.28795031278128,1796.8981785792882,0,15156.546211683843,15156.5458984375,2815.981801681754,800,6388.6687739076624,637,8330.3451425089988,29827.340700445504,-3258.0645161290322,33752.890176744004,3535.2852666766889,3129.3677857728403,3129.3677857728412,0,57.350299835205078,48.826358795166016,null,null,{"$f":"R870+S870","v":6664.6530524495292}]
[" ","1993-04-30",4480.2969569715042,12126.202296349176,690.71762418564356,3420.1023338529153,0,14489.096403778804,16612.96484375,3456,1087.3999054095707,11299.40589463729,792,3645.9972115149494,34178.489968546135,-3500,35492.597203047888,3476.8109252282743,3192.4953204558128,3192.4953204558037,0,55.576725006103516,52.474830627441406,null,null,{"$f":"R871+S871","v":6669.3062456840871}]
[" ","1993-05-31",4552,12927.406491979515,798.40217850504268,1797.7664466385759,0,8822.7664466385777,9675.662109375,3538,7748.6148968663701,11830.833759864185,967,4026.1383448494189,27918.421183023813,-3500,26533.724147213899,3718.9073470681033,2479.2715647120549,2479.2715647120667,0,60.626808166503906,52.758449554443359,null,null,{"$f":"R872+S872","v":6198.1789117801582}]
[" ","1993-06-30",4500,13248.811681369189,912.1153638493804,2009.0350216442994,0,9722.1785580586238,10410.7470703125,3538,4438.6138252998553,8033.2338013722765,967,4085.1219793316068,24192.151607563657,-5000,20242.348206903836,4036.0181814987745,2690.6787876658454,2690.6787876658454,0,65.665748596191406,52.825225830078125,null,null,{"$f":"R873+S873","v":6726.69696916462}]
[" ","1993-07-31",3935.9533272779131,13266.270539108924,828.31392412945797,0,1226.351255494747,7862.0784592207074,8156.02197265625,3035.5590709747703,8660.4166744888716,9305.4608875298218,863.14069952344175,2765.0718544231859,20925.688792621717,-10476.817837307437,8000,4238.0093120665742,7004.9017250857205,6680,0,80.038162231445313,51.878612518310547,null,null,{"$f":"R874+S874","v":11242.911037152295}]
[" ","1993-08-31",3652.4618738347108,9583.8569422166602,728.99807428878376,0,1499.294463034747,6556.1459343740671,7162.89453125,2662.8719616134167,6487.5669292075436,7224.5381382361047,772.98474953388416,1825.3564432221319,16848.069949107616,-9397.0546623108276,6408.4675806709683,3448.7563309163274,6680,6680,0,85.058982849121094,52.641731262207031,null,null,{"$f":"R875+S875","v":10128.756330916327}]
[" ","1993-09-30",3399.9999999999995,9249.6319607872156,691.74761907389598,0,534.85708815796784,9124.4526195815833,8961.0751953125,2192.7070257994274,7975.1871762725132,9181.2626232405837,661.80946761405323,2301.5269331777622,20771.37816555073,-7941.1033486618726,12622.08333336,2746.7755401486311,6680,6680,0,76.202049255371094,50.662097930908203,null,null,{"$f":"R876+S876","v":9426.775540148632}]
[" ","1993-10-31",3250,7468.8922048739505,666.58033031606271,6.485072069098357E-3,376.22969262885044,7592.3706164072664,7216.57080078125,2004.0214011295677,4000,4318.3019525594118,603.39570646100913,1327.2136691065152,13371.337251253368,-5591.3583049976751,7827.3198325871053,3713.2078732357541,3576.2298125222792,3576.2298125222792,0,81.037567138671875,52.582805633544922,null,null,{"$f":"R877+S877","v":7289.4376857580337}]
[" ","1993-11-30",3036.5873410928334,8265.0821615326749,661.69616163559931,0,71.087500004700019,7341.5247202321771,7033.169921875,1895.7605757830331,2500,2424.6899599051849,511.91678828507668,2499.2052741271377,13015.221845145326,-8495.1346607033956,4500,4600,5661.2582744663541,3345.7537042337253,2270.4399133134439,87.327903747558594,54.061531066894531,null,null,{"$f":"R878+S878","v":10261.258274466354}]
[" ","1993-12-31",3072.6995582552631,6999.1828498680597,660.88111889888262,0,26.997311829741932,8563.6228973620855,8857.9677734375,1869.7814208352049,2838.1512413269274,3097.1307967733869,489.66884633634157,1858.7838925413264,15559.231569232323,-10104.392749516657,5178.4297421699303,4600,6999.5364388631706,6051.4243944783047,945.70102654616767,87.554847717285156,51.936153411865234,null,null,{"$f":"R879+S879","v":11599.536438863171}]
[" ","1994-01-31",3211.7332073309926,5412.4862008658311,662.01904897160978,0,0,6956.6999333395224,7520.5615234375,1874.9505125622086,1200,2646.2988682118144,440.02245508072536,1240.1676401970524,12776.247167660547,-5000,8861.369158825235,3144.0001266757467,3279.6884841986453,3279.6884841986453,0,82.392539978027344,49.372634887695313,null,null,{"$f":"R880+S880","v":6423.688610874392}]
[" ","1994-02-28",3436.1070514067105,7767.8433747608251,689.90315093365962,455.26685017923916,0,11983.561664142824,13358.037109375,1983.6857835985929,1200,4179.7407406293387,440.28534161097025,1272.2770279385422,23732.216336523623,-5000,21657.906315618449,3953.8217176438375,2635.881145095892,2635.881145095892,0,66.806732177734375,48.124767303466797,null,null,{"$f":"R881+S881","v":6589.7028627397294}]
[" ","1994-03-31",3609.2616093543602,5660.6709540096344,687.68368463716411,0,1.4259581453552834,7545.2567620454838,7650.25146484375,2169.9050063242048,1000,2461.0948384984536,468.3233845295178,768.13777930514198,11532.017118330565,-3794.9609122783527,7947.9012866887533,3204.6329845021082,1716.1485301165203,1716.1485301165203,0,81.428703308105469,50.77593994140625,null,null,{"$f":"R882+S882","v":4920.7815146186285}]
[" ","1994-04-30",3673.0822688841226,4684.272787338311,676.98623241233736,0,143.60630302759847,4082.2151870727539,5934.66796875,2141.1221374551237,1000,3605.2439007557678,518.50097876931977,768.52687305336963,10819.844695110682,-1849.3803469293061,8379.3217879835101,800,1690.7763898091594,1690.7763898091589,0,82.915229797363281,56.335826873779297,null,null,{"$f":"R883+S883","v":2490.7763898091594}]
[" ","1994-05-31",3585.3356371579353,7106.0258166670847,668.32699340587908,0,91.236033936105514,3566.8839416503906,4263.49560546875,2109.636574226769,1000,2543.1670997716801,556.5973838554811,778.86934100776432,8441.4326837230547,-1857.1138718341108,5931.7974410645602,896.94812568772136,1855.9152917987446,1855.9152917987446,0,86.716667175292969,56.100654602050781,null,null,{"$f":"R884+S884","v":2752.863417486466}]
[" ","1994-06-30",3166.4948956010917,12256.238032990594,654.45178502595945,0,123.72291679900029,5459.9863882056325,6246.54638671875,1671.7703485109466,5547.1428446666605,5204.6252562912141,543.85692294876094,666.5777626835594,12313.016085273623,-5000,4091.846362014935,1786.7737469992917,2801.3420813739813,2801.3420813739813,0,87.719192504882813,52.367256164550781,null,null,{"$f":"R885+S885","v":4588.115828373273}]
[" ","1994-07-31",2700.9742739599515,12511.278752108827,536.19221631701339,0,1806.5738665625645,7683.2846379954699,9777.146484375,1529.3457966880735,1529.4123220992997,1000,476.66850603878174,935.87376299714197,13395.806051438469,-6072.2695251395726,4000,2945.9370295173935,2618.9353493484259,300,775.73579785225809,89.051841735839844,53.137870788574219,null,null,{"$f":"R886+S886","v":5564.872378865819}]
[" ","1994-08-31",2373.5890052875429,9856.5534450832311,419.41317696282232,0,1807.1801591899998,7284.0573494553137,9353.1337890625,1409.0519501349697,999.99999999989677,1165.4815033507216,414.86223841385674,663.41586971234562,12126.997230803618,-6162.9876844580085,3686.5046459735331,4463.7996795659747,1703.8433198981484,300,0,89.791542053222656,52.095413208007813,null,null,{"$f":"R887+S887","v":6167.642999464123}]
[" ","1994-09-30",2395.812525450785,4804.5171960501539,338.09931449262876,0,1303.7145133534691,5766.6460997186714,7777.923828125,1300.7281284460889,1700.5109866987609,2563.4379250387196,390.76475415651566,324.99055285561809,11190.314970184138,-6375.0072758723927,3480.8428766599973,3305.1030047655768,3875.968880330945,3168.6198096610337,0,90.182579040527344,54.814956665039063,null,null,{"$f":"R888+S888","v":7181.0718850965222}]
[null,"1994-10-31",2208.5912935625556,6887.3562751468944,255.59319075138552,0,1311.3196136154686,6584.5479279697283,7163.21044921875,1152.980791662754,2503.3132582254652,1685.2441057316112,384.21022211201995,375,9966.6983221761384,-4894.2841231038565,4598.7682568278206,2635.6354305636605,3144.9328288751121,1502.8342535954966,0,88.829452514648438,54.499267578125,null,null,{"$f":"R889+S889","v":5780.5682594387727}]
[null,"1994-11-30",2174.9462739447858,5533.6459918001183,249.6490205184229,0,114.86507942035695,4362.0475264014185,4595.88818359375,1101.7014469020787,2479.6494089641337,2626.0073798199851,430.13369835423669,421.55756741389098,8411.120129548548,-4374.3707614876712,4291.2996602822996,2203.5167357289019,3201.5478877391579,1751.2265691606422,0,90.723594665527344,53.354938507080078,null,null,{"$f":"R890+S890","v":5405.0646234680598}]
[null,"1994-12-31",2203.9905689844672,6144.794178961738,251.09001909267846,0,0,7840.3835879025473,8790.4228515625,1142.727936415029,1892.4621348650439,5587.6410572911554,553.45344465265202,500.00000000000017,16041.017944915126,-6710.7854645837215,9769.7992216490802,3230.4194873164297,4640.5243475246716,4026.3654311895693,0,83.427970886230469,51.041645050048828,null,null,{"$f":"R891+S891","v":7870.9438348411013}]
[null,"1995-01-31",3252.10009765625,45892.877411501679,442.66073509618792,2940.783886028446,0,25910.73372886013,25910.734375,2371.1516338989954,1200,17600.628815219439,546,13678.637392108805,66360.069554457645,-3645.1612903225805,121743.6272996699,4166.8377557244248,2777.8918371496165,2777.8918371496165,0,54,46.722202301025391,null,null,{"$f":"R892+S892","v":6944.7295928740414}]
[null,"1995-02-28",3742.5,16358.961232776346,627.76212000512032,3335.9721392657098,0,19879.311641965167,19914.513671875,2788,3149.6027816426781,16488.626365827724,530,5622.8847962430063,41902.705652203564,-4464.2857142857147,45716.139702427332,3918.986675533466,2612.657783688961,2612.6577836889792,0,54,46.335739135742188,null,null,{"$f":"R893+S893","v":6531.644459222427}]
[null,"1995-03-31",3416.5,69071.949603890971,848.08859811655782,3479.2258064516127,0,26089.383240091574,26089.3828125,2788,34017.606051026814,58299.1490591068,618,17231.406051275571,76495.342781809493,-1498.1331556974562,207558.28396603212,4367.9888546554757,8431.6129032258068,8431.6129032258068,0,54,46.592426300048828,null,null,{"$f":"R894+S894","v":12799.601757881283}]
[null,"1995-04-30",4216.7998046875,14221.355749334856,1055.6948125625211,3527.1000897438807,0,13614.336096975389,15063.91015625,3208,12888.20717380217,25723.811757911968,792,6928.5170671020451,45491.267000145992,-2264.4901643710309,62286.555101737467,2733.5057398537574,6680,6680,0,54,51.484539031982422,null,null,{"$f":"R895+S895","v":9413.5057398537574}]
[null,"1995-05-31",4552,18443.892652591559,1220.5343533655303,2716.9925351616967,0,19063.777218093746,19122.943359375,3538,18235.502587245464,32836.716338586994,967,10161.739799784489,59212.93090405556,553.96193853293062,78754.226184729443,3927.2795235340482,6680,6680,0,54,52.208389282226563,null,null,{"$f":"R896+S896","v":10607.279523534049}]
[null,"1995-06-30",4500,11484.432961129667,1328.6843107491434,1915.0711781129096,0,7650.6072315723695,8970.248046875,3538,10955.366393327084,17570.397597766845,967,9096.5080302361021,36554.003044755853,-5000,39098.0996437348,4599.9999999999982,6261.4133820805182,6261.4133820805291,0,56.542316436767578,53.019428253173828,null,null,{"$f":"R897+S897","v":10861.413382080516}]
[null,"1995-07-31",4150,12935.100695368363,1399.7314219927907,1296.8834363739461,0,6068.9719843867215,7645.251953125,3538,2362.4340611324874,4473.530218521254,942,4252.9935644310817,16917.091232390059,-3385.5501532195376,22022.133574253432,4600,6680,6680,0,64.704032897949219,52.290687561035156,null,null,{"$f":"R898+S898","v":11280}]
[null,"1995-08-31",3700,13132.568510870628,1499.9999255569071,1781.0785504754438,0,6683.516577326578,8276.6025390625,3443.4477703943826,2709.7233658455898,2800,792,3702.4486131411663,15171.265730523819,-9299.0800782960141,6904.9600971413547,4600,6680,6680,0,82.174026489257813,51.099445343017578,null,null,{"$f":"R899+S899","v":11280}]
[null,"1995-09-30",3400,12040.582711854477,1499.999950533504,111.85397851151069,0,11659.313643042256,12544.9501953125,3350.9999999999977,2352.0959046402713,4731.8624055944456,752,1971.3906084457617,19867.801865517893,-9456.4554362762792,10492.021219137123,4600,6680,6680,0,79.855697631835938,50.960723876953125,null,null,{"$f":"R900+S900","v":11280}]
[null,"1995-10-31",3249.9999999999995,8961.3264847273913,1467.2029243603613,8.0449543175901332E-4,448.64664444938825,7818.1104314555769,7311.431640625,3121.7241157520129,4000.0000000000532,4871.5141430727244,711.99999999999989,1642.6315825297627,14479.958253890978,-5568.4404387351569,9140.322580670967,3906.9267230448895,3454.1347863331639,3454.1347863331639,0,79.824256896972656,52.254737854003906,null,null,{"$f":"R901+S901","v":7361.0615093780534}]
[null,"1995-11-30",3090.4463571587567,7784.3206243374152,1447.3772902756048,0,299.99999999999932,5362.8934812462448,5629.20166015625,3015.5704304731726,2500,2248.6643213564066,531.1230606988197,4282.8652516542888,12813.912574408281,-9292.945971370551,4670.1422146829136,4600,6680,4962.9205006676348,1564.2486941939123,86.092361450195313,54.679244995117188,null,null,{"$f":"R902+S902","v":11280}]
[null,"1995-12-31",3367.60009765625,9648.1899656117639,1453.6891743787965,0,0,12326.708489601684,13175.3759765625,3139,2178.8276359852789,4144.2198642729736,567,2813.2158539238203,22407.920503136036,-5290.322580645161,19292.622428902472,4061.0010247333439,2707.3340164888959,2707.3340164888959,0,66.543350219726563,53.665561676025391,null,null,{"$f":"R903+S903","v":6768.3350412222399}]
[null,"1996-01-31",3722.5,12288.002081892044,1500,733.974684732686,0,18108.604002069202,18108.603515625,2788,11887.310719285377,17844.618514278707,557,5697.4571794471558,40673.882384004093,-4516.1290322580644,46224.712559495136,3615.4789013471873,3361.8079921790504,3361.8079921790504,0,54,50.333969116210938,null,null,{"$f":"R904+S904","v":6977.2868935262377}]
[null,"1996-02-29",3503.10009765625,43953.515867416521,1500,0,0,26427.794481860117,26461.783203125,2788,21189.343719675049,36019.815647482348,494,13461.377104920281,71565.196063193245,-4482.7586206896549,127753.82997027859,2804.476836873775,9136.8191299285281,9136.8191299285281,0,54,49.202480316162109,null,null,{"$f":"R905+S905","v":11941.295966802303}]
[null,"1996-03-31",4009.89990234375,17594.89334780545,1499.9999967213603,7.174451158566634,0,22068.460803751314,22068.4609375,2995,10126.819948387472,26374.543322924339,621,6875.1443636000049,55455.991757501091,-3258.0645161290322,71180.369332044036,1774.1657959224158,7548.6637949087199,7548.6637949087199,0,54,49.791717529296875,null,null,{"$f":"R906+S906","v":9322.8295908311356}]
[null,"1996-04-30",4487.238398034383,7257.694462237414,1499.999983309257,37.740854903772203,0,10627.102996750689,12784.2666015625,3352,6701.8597707755243,14822.89414012405,792,4235.3979404927522,33060.582866680277,-3500.0000000000014,42556.611098447953,3756.0975142811467,4607.1658788460154,4607.1658788460154,0,54,55.257671356201172,null,null,{"$f":"R907+S907","v":8363.263393127163}]
[null,"1996-05-31",4478.0452655227464,16447.945822196954,1499.2089709993024,41.604700492971688,0,15000,14482.9765625,3537.9999999999977,10423.796166689093,19421.936708663186,967,7306.1539347345506,42652.295655755865,-3500,44724.943327039386,4282.2341183807239,2854.8227455871638,2854.8227455871493,0,54.934074401855469,52.953609466552734,null,null,{"$f":"R908+S908","v":7137.0568639678877}]
[null,"1996-06-30",4393.0354198071836,8480.2393054135064,1491.0304147481334,0,0,4815.9817504882813,6059.60791015625,3538,2347.482183168378,4145.7432032877077,967,2775.1233162668013,14422.583798920261,-5000,10354.122945973751,4108.3649863441151,2738.909990896087,2738.909990896087,0,76.311897277832031,54.030891418457031,null,null,{"$f":"R909+S909","v":6847.2749772402021}]
[null,"1996-07-31",3948.246712950543,12817.549839397681,1488.8268282650997,125.8064516129011,0,7501.4377847697942,9150.2626953125,3040.6161848852457,8372.6183382075651,7873.8434002535523,867.66984161335779,2283.8916030396713,21641.456759614655,-10891.78165888341,8000,4600,7004.9017250857205,6680,0,81.897560119628906,52.495285034179688,null,null,{"$f":"R910+S910","v":11604.901725085721}]
[null,"1996-08-31",3684.7729881117771,9325.9570617873578,1479.6398449631938,0,0,4570.0341949462891,6636.85498046875,2889.5832061126857,2831.8738299129509,3486.3297235980085,784.34979372532166,1750,14128.774424529127,-7478.1302401652665,5877.0159999999996,4600,3496.7425674375063,3496.7425674375063,0,87.020225524902344,52.758468627929688,null,null,{"$f":"R911+S911","v":8096.7425674375063}]
[null,"1996-09-30",3400.0000000000005,8868.1727783770657,1443.0151767408522,0,505.61542148936837,9129.2189441228238,10284.0126953125,2471.0855354282962,7381.4006195673919,9818.3390870543953,745.55653389451049,1540.092652519379,22770.284424932091,-9229.3931665626405,13403.33333336,4290.0562374637166,6680,6680,0,77.663002014160156,52.343936920166016,null,null,{"$f":"R912+S912","v":10970.056237463716}]
[null,"1996-10-31",3250,8158.1004859813238,1413.0825707381985,0,448.64664444938916,6254.4420734549904,5448.4326171875,2294.6405327206048,4000,2817.2820761259891,706.72373449958059,1417.8706384913378,10516.678304023244,-3564.7911137485989,7577.8225806709679,2720.146102175634,2627.7842761952124,2627.7842761952124,0,81.947219848632813,52.970123291015625,null,null,{"$f":"R913+S913","v":5347.9303783708465}]
[null,"1996-11-30",3252,8538.0718181591055,1500,1452.9184264267374,0,5940.7532129278397,5797.5361328125,2330.4163570272285,1700,1779.0667189291082,567,5055.6771619379379,13952.389212534947,-8681.8043773441859,7141.8598443181763,4600,6680,6680,0,81.813789367675781,54.705757141113281,null,null,{"$f":"R914+S914","v":11280}]
[null,"1996-12-31",3252.10009765625,39548.797949167754,1500,0,0,23056.497410287142,23056.498046875,2788,14325.605082121887,20596.947288974825,512,14902.3781995186,51450.228463366962,-4018.6423092968653,83133.394297984472,4600,8665.1612903225796,8665.1612903225796,0,54,51.954166412353516,null,null,{"$f":"R915+S915","v":13265.16129032258}]
[null,"1997-01-31",3252.10009765625,50195.746368147069,1500,0,0,27029.742416280606,27029.7421875,2788,40890.018354284774,98367.5843066284,370,33110.44419125183,83275.081398630573,23638.885357305015,279003.92500369798,4600,9749.7999999999993,9749.7999999999993,0,54,46.430854797363281,null,null,{"$f":"R916+S916","v":14349.8}]
[null,"1997-02-28",3788.800048828125,8059.7424758889338,1499.9999900932014,24.00114570779002,0,13773.58029662741,14252.6826171875,2952,10284.818675287692,30134.224711141291,394,6662.1138542826138,50292.28013899723,-1448.9382138368474,72172.233884141839,4600,9463.6000000002205,6271.4457107212556,3192.1542892789648,54,46.905139923095703,null,null,{"$f":"R917+S917","v":14063.60000000022}]
[null,"1997-03-31",4009.5749176837776,7765.8517132823772,1499.9999859597301,30.723643813122045,0,8933.1569558519914,9168.4931640625,3123,5286.5891767397434,9816.1203581289101,591,1744.9641920697097,22370.169084626043,-2741.1937276082981,25005.851549493986,2300.4202807583069,6238.2817488041928,6238.2817488041928,0,61.289505004882813,50.323921203613281,null,null,{"$f":"R918+S918","v":8538.7020295625007}]
[null,"1997-04-30",4183.5261857288815,6749.4093987703764,1495.5721327718422,0,0,6665.1985771748023,9067.6923828125,3304.8632414002777,1000,5821.8429215597243,789.00718812468028,1299.9875643927144,16745.840198329664,-3500,15519.686823251763,3700.4154669884524,2989.51329476005,2989.51329476005,0,68.380271911621094,53.821456909179688,null,null,{"$f":"R919+S919","v":6689.9287617485024}]
[null,"1997-05-31",3977.7700242384713,9983.1076859298119,1488.6617512608402,0,0,4129.572326660159,5593.43359375,3344.8968863763484,1000.0000000000055,4068.8067641009147,948.49790229442749,1537.2868623248344,11443.690374363186,-3407.8906399460402,9456.6323215412103,3932.50919096999,2303.7763671730922,2303.7763671730922,0,77.869384765625,54.465110778808594,null,null,{"$f":"R920+S920","v":6236.2855581430822}]
[null,"1997-06-30",3666.2148035456507,10867.122035428481,1486.2019086864934,130.00000000000054,42.013888891665601,4999.9999999999945,7301.85888671875,3161.618487155512,2991.179041331236,4225.5358621131963,855.01832906343884,2618.2337462214045,14383.911218308796,-5000,8636.6901001774568,4064.2494862069257,2188.4420310345618,2188.4420310345618,0,79.840133666992188,53.070930480957031,null,null,{"$f":"R921+S921","v":6252.6915172414874}]
[null,"1997-07-31",3102.0696307840876,14786.175425837471,1426.2902381898318,125.80645161290323,940.65860215322573,8875.3346270681068,11412.0693359375,2775.264996066252,5646.8687672056612,6088.8079395067834,570.45531877249937,4818.1053042544027,23585.217395065341,-9226.6183297696589,11067.132905385384,4600,5029.0268904271925,4786.7611311474984,0,79.183540344238281,51.707244873046875,null,null,{"$f":"R922+S922","v":9629.0268904271925}]
[null,"1997-08-31",2925.0769506541792,8591.2587504264538,1388.7054626265249,0,489.30524660261409,4062.1941146850577,6515.69140625,2569.6540225275876,3722.7449279710536,5569.8300237238991,516.00700883662421,1482.7058877546585,14805.086194025454,-8621.8835186051729,5312.5,4600,4755.5285786586846,4755.5285786586846,0,86.461883544921875,53.008266448974609,null,null,{"$f":"R923+S923","v":9355.5285786586846}]
[null,"1997-09-30",2750.2694816878852,8334.3363132412669,1352.5862378617571,0,499.47954274257404,7711.9921451525188,8701.009765625,2151.5610121544178,7075.458339044385,8241.5746021889718,431.84259840483804,1966.4822163187396,19599.206876958222,-8378.2156327464654,10862.0257986046,3427.4130222694312,6680,6680,0,78.877616882324219,51.216140747070313,null,null,{"$f":"R924+S924","v":10107.413022269431}]
[null,"1997-10-31",2654.4947576386567,7660.3528265844561,1321.8904882466072,0,448.64664444938825,6234.4505324306383,5797.1787109375,1975.0911290891809,3640.9304382975988,3530.4896543187951,388.09217008030612,1336.1803335596451,11207.100835387873,-4308.5310447956963,7187.5,2846.8749999999995,3193.2558306303481,3193.2558306303481,0,81.789779663085938,51.984752655029297,null,null,{"$f":"R925+S925","v":6040.1308306303472}]
[null,"1997-11-30",2809.4588623426862,8612.3255655458233,1326.6526106677316,0,0,7485.4013011960451,8055.4912109375,1953.8812435214334,2499.99999999998,2889.1964594086021,370.61813387239442,1901.9997670719872,14430.29751101357,-9269.9185426155782,5489.6743932070785,4600,6679.9999999999991,6581.9772552931427,89.39043116691937,86.734260559082031,54.177761077880859,null,null,{"$f":"R926+S926","v":11280}]
[null,"1997-12-31",3060.4851150745917,6862.0065017723009,1329.0159587076321,0,0,12996.50711188992,14067.8330078125,2072.9644696567552,2207.0509321064669,1700,380.80819224217856,1869.8502325419652,19578.582232956433,-9619.8633516875307,10411.103049748015,4600,7063.3174464677031,7063.3174464677031,0,81.944831848144531,51.160469055175781,null,null,{"$f":"R927+S927","v":11663.317446467703}]
[null,"1998-01-31",3338.5,38300.19228946606,1489.7571465157737,2483.0914086850503,0,23314.629484062396,23314.62890625,2788,2053.7039197234312,16599.18493439709,567,4760.5738982194916,29136.835056515632,-3645.1612903225805,57747.49111963719,4425.834206092617,2950.5561373950804,2950.5561373950804,0,54,47.542198181152344,null,null,{"$f":"R928+S928","v":7376.3903434876975}]
[null,"1998-02-28",3252.1000976562505,73200.031766935048,1499.9999999999998,175.16635182551539,0,27671.642956699456,27706.84375,2787.9999999999955,18646.282171655235,77854.381015198654,554.99999999999989,12707.30663336127,66187.939974543813,4354.8757399242613,228789.40804365699,4600,5310.4951422091071,5028.2439711203961,282.25117108871109,54,44.978412628173828,null,null,{"$f":"R929+S929","v":9910.4951422091071}]
[null,"1998-03-31",3503.89990234375,30769.356200500235,1500,0,0,23589.796304901356,23589.796875,2817,14265.145246880908,29363.193885464301,646,7425.4363047277639,58902.329167519434,-3258.0645161290322,85798.807323137473,4600,6660.2758200276021,4302.6947948818461,2357.581025145756,54,46.264186859130859,null,null,{"$f":"R930+S930","v":11260.275820027602}]
[null,"1998-04-30",4383.0139868007154,10635.045706816876,1500,0,0,17778.14727031592,17789.43359375,3298,2962.4976813454341,18830.775621394703,792,5759.6223826090181,44216.577818058904,1095.324948149364,63502.061116065452,2915.474882000296,4056.9466976617236,4056.9466976617236,0,54,52.305198669433594,null,null,{"$f":"R931+S931","v":6972.4215796620192}]
[null,"1998-05-31",4552,23629.513001050036,1500,0,0,21625.430401962363,21658.759765625,3537.9999999999973,9218.9674443532767,9700.7189265726993,967,6557.4789119252091,42868.938094609781,-1789.3941903401087,54789.572214537286,3913.1016411703317,5814.420893296603,5814.420893296603,0,54,51.374462127685547,null,null,{"$f":"R932+S932","v":9727.5225344669343}]
[null,"1998-06-30",4500,23363.321548233445,1499.9999724468805,62.302605049074607,0,22526.873639284935,22609.654296875,3538.0000000000009,11207.106710796961,24588.347911804402,967,8285.2716686893491,61052.654894743195,-3331.7281298493435,69544.403509346026,4600,6680,6680,0,54,51.657451629638672,null,null,{"$f":"R933+S933","v":11280}]
[null,"1998-07-31",4150,17107.350849354152,1499.9999321851665,148.39559214809424,0,11074.397233602955,12941.560546875,3538,2737.3411840434583,5516.6289008897138,942,3484.0329867657119,23502.22421060858,-2794.704783698995,29557.979672890477,4600,6680,6680,0,58.848430633544922,51.587059020996094,null,null,{"$f":"R934+S934","v":11280}]
[null,"1998-08-31",3700,14804.883871291506,1499.9999302497702,152.63136046901138,0,8774.515107799245,11318.64453125,3538.0000000000005,1347.854531302567,2903.0223926661479,792,3342.7007583986929,18653.738936017358,-8854.2905535867394,10946.794056591914,4600,6680,6680,0,72.652870178222656,51.256019592285156,null,null,{"$f":"R935+S935","v":11280}]
[null,"1998-09-30",3400,13330.1908271471,1499.9999517733718,109.05033372913996,0,13309.373715597383,13763.08984375,3351,4471.5704443764953,7592.0899070245077,750.05434110388785,1749.9999785531618,23955.912390415899,-8190.0154059424422,17031.750454230056,4600,6680,6680,0,66.6988525390625,52.82806396484375,null,null,{"$f":"R936+S936","v":11280}]
[null,"1998-10-31",3250,10817.913197737587,1499.9999758764604,52.788883270017436,0,9757.425724438488,9301.6064453125,3163,3921.0973896288433,3784.2976152725132,712,1717.2810699631164,15551.629476038072,-8289.9548667134732,8137.7311482457299,4600,6680,6680,0,76.88409423828125,55.196685791015625,null,null,{"$f":"R937+S937","v":11280}]
[null,"1998-11-30",3252,14489.220365020907,1500,0,0,12439.513638472285,12291.2548828125,3008,6815.0506716060954,7011.0463732742637,567,4686.8534721970282,25534.868431997154,-8684.7670799874868,19157.139035714237,4600,6680,6680,0,68.368927001953125,55.208766937255859,null,null,{"$f":"R938+S938","v":11280}]
[null,"1998-12-31",3349,14758.121959324133,1500,0,0,18384.380902188841,18384.380859375,3107,4749.6562175256504,9135.9192587949728,567,3227.8057537736945,32948.047299307931,-5290.322580645161,30345.619616605407,4362.4141334851938,2908.2760889901278,2908.2760889901278,0,60.669025421142578,52.495906829833984,null,null,{"$f":"R939+S939","v":7270.6902224753212}]
[null,"1999-01-31",3640.10009765625,11066.767923332258,1500,0,0,12233.876685497939,12705.8740234375,2788,13307.384954981442,20426.637819139094,560,5869.5308240548611,38163.676762234769,-4516.1290322580644,40629.791321086224,2526.9479246261581,5472.5998212941158,5472.5998212941149,0,55.265823364257813,48.802604675292969,null,null,{"$f":"R940+S940","v":7999.5477459202739}]
[null,"1999-02-28",3569.60009765625,32841.017099337572,1500,0,0,25745.602883048399,25780.8046875,2788,16570.864203604619,26295.555840320376,560,11384.770217316021,60576.476447371548,-2800.4060907814337,98833.083108403516,2901.279575552499,6298.7547760797761,6298.7547760797761,0,54,46.655040740966797,null,null,{"$f":"R941+S941","v":9200.0343516322755}]
[null,"1999-03-31",3980,19850.591348064452,1500,0,0,23999.391556549581,23999.390625,2817,11340.527306863822,22652.947077673442,654,5124.279549464397,54660.266349332058,-3258.0645161290322,63064.09704433789,2776.131298944325,4350.1469732872665,4350.1469732872665,0,54,47.724838256835938,null,null,{"$f":"R942+S942","v":7126.2782722315915}]
[null,"1999-04-30",4552.1000976562509,7793.120558058391,1499.9999767718921,52.522968726957181,0,11666.769078144376,13442.5458984375,3202.3438129803089,999.99999999993213,6992.3251189229368,782.03579573979732,3000,25353.575804232947,-3500,28414.475579050446,3589.695523722984,3730.9635731270537,3730.9635731270509,0,59.970722198486328,52.514186859130859,null,null,{"$f":"R943+S943","v":7320.6590968500377}]
[null,"1999-05-31",4552,11867.560400990991,1499.9999461484722,117.84045465836417,0,8000,8587.666015625,3529.0460404677633,1000,4749.6171365202999,967,3747.1827454377608,18043.55986749988,-3318.4764912534406,16316.178617325531,3233.7865518848516,2155.8577012565661,2155.8577012565661,0,68.645866394042969,52.343650817871094,null,null,{"$f":"R944+S944","v":5389.6442531414177}]
[null,"1999-06-30",4430.584109281087,9504.6811595700747,1490.8309347597269,9.0500484241320055E-4,34.878600015757684,5000,7020.9248046875,3537.9999999999995,1693.6232352859183,4288.4197289815811,967,3419.9674368057454,15644.951669651089,-5000,9841.2474919156084,3426.5519748982415,2162.6963173433905,2162.6963173433905,0,78.4930419921875,53.24847412109375,null,null,{"$f":"R945+S945","v":5589.248292241632}]
[null,"1999-07-31",3858.7787681155583,14696.95395085499,1485.9599079263771,125.80645161290323,40.658602153225807,8085.1666065947757,9977.990234375,3011.1804725220554,8723.4791330432145,8897.1051399056796,835.41932032701777,3129.8811089294682,23023.734691357942,-10889.096527918118,9351.6749650581951,4600,6884.4118553573571,6664.2712549999997,0,78.397857666015625,51.364665985107422,null,null,{"$f":"R946+S946","v":11484.411855357357}]
[null,"1999-08-31",3601.6230270396313,9946.2300772368471,1448.8320226777175,0,488.19038451672174,4533.3004104983538,6971.5478515625,2862.9865580749311,3179.5792828932508,5518.9825083066517,792,1644.4971049722183,15166.336590692978,-9002.0342627540958,5632.2580806709675,4600,4982.7941950086597,4982.7941950086597,0,85.130218505859375,52.191673278808594,null,null,{"$f":"R947+S947","v":9582.7941950086606}]
[null,"1999-09-30",3399.9999999999995,10149.375661614762,1412.4096282871653,0,505.61542148936786,9072.5064913037986,10410.861328125,2431.7994756197086,7040.8470048715262,9448.0128893352176,751.99999999999989,1606.7028522943622,21923.665859446119,-9078.7870884387885,12778.33333336,3976.5356515340013,6680,6680,0,78.188056945800781,50.914142608642578,null,null,{"$f":"R948+S948","v":10656.535651534001}]
[null,"1999-10-31",3250,9898.82695377446,1380.9336044384836,0,448.64664444938825,8113.766052727211,7392.08154296875,2206.7067651028706,3999.9999999999595,3645.048870118856,709.15510552630599,1328.4507769005525,12994.587019671839,-6009.0847503005243,6952.8225806709679,4282.5389620898341,3463.9137590355112,3463.9137590355112,0,82.0006103515625,51.997467041015625,null,null,{"$f":"R949+S949","v":7746.4527211253453}]
[null,"1999-11-30",3201.9014644156418,8701.832765220377,1364.6559098048601,0,299.99999999999909,6981.6859637916214,7113.2607421875,2161.0319875696578,2499.9999999999409,1725.8677078991145,555.87439435826093,3970.9169530597578,13969.602754194169,-9271.9737786383448,4968.5537675044279,4600,6680,5809.8287174917541,864.16864986930159,86.2833251953125,54.452789306640625,null,null,{"$f":"R950+S950","v":11280}]
[null,"1999-12-31",3172.856815590435,7422.1690609261841,1363.3908615445125,0,0,7395.1217240472197,8161.00146484375,1930.3262343988326,5207.4232951829053,4648.2039808986119,529.1130436622484,1851.8011539335139,15460.945774645594,-9841.6021248074285,4993.4453981970946,4600.0000000000009,7004.1273619911362,7004.1273619911362,0,85.83856201171875,53.4947509765625,null,null,{"$f":"R951+S951","v":11604.127361991137}]
[null,"2000-01-31",3614.5,13988.604573032468,1395.8780911539013,459.8507634504316,0,14362.699403555251,14927.2119140625,2162.6933960957658,1700,5649.1039782878106,564,3753.6530249299458,26511.955999367638,-3645.1612903225805,26229.83215880975,3281.2721623566645,2187.5147749044395,2187.5147749044395,0,60.27716064453125,49.873844146728516,null,null,{"$f":"R952+S952","v":5468.786937261104}]
[null,"2000-02-29",3281.5,49573.872357446984,1500,1712.9348199191807,0,26600.096112420135,26634.083984375,2856,2599.5834945483948,24203.784231757432,558,10096.918289311068,59299.848384237179,-4482.7586206896549,105282.41344531707,4600,8034.4326033674279,8034.4326033674279,0,54,47.538036346435547,null,null,{"$f":"R953+S953","v":12634.432603367428}]
[null,"2000-03-31",3975.60009765625,18915.701078249083,1499.9999930653237,15.174736567749612,0,22745.461431728709,22745.4609375,2964,9371.2235666793858,34061.530653907153,656,4440.2640737964148,52745.739874183091,-3258.0645161290322,67414.006424750696,4600,3527.2051785163585,3527.2051785163585,0,54,48.830875396728516,null,null,{"$f":"R954+S954","v":8127.2051785163585}]
[null,"2000-04-30",4552.10009765625,8512.9067277344002,1499.9999819261679,40.868331589391282,0,9653.5222972503925,11349.3681640625,3361.208190796754,1000,6697.4836030086271,792,2533.7719989161374,20628.936583932616,-3500,20743.808875690986,4421.3797102713525,2947.5864735142359,2947.586473514235,0,62.600872039794922,53.293025970458984,null,null,{"$f":"R955+S955","v":7368.9661837855883}]
[null,"2000-05-31",4552,9655.4064186978103,1495.8864949531483,0,0,7069.6803413421949,8101.17431640625,3538,1492.3507944233972,5143.0479269371181,967,1651.5019382385149,15618.478976415874,-3500,13708.304255262736,2373.2330013645023,3292.7878735186387,3292.7878735186387,0,69.710548400878906,53.962177276611328,null,null,{"$f":"R956+S956","v":5666.020874883141}]
[null,"2000-06-30",4218.1496685636193,11418.773279241941,1397.7128557732833,0,1502.4860630533735,7696.604881754065,8745.3603515625,3362.0951673110626,3221.0443527135385,4088.04604981997,885.69701977796672,1955.6689605776271,14724.418741038746,-5000,7732.5651325673944,3317.1204864364722,1786.1418003888834,1786.1418003888821,0,81.199310302734375,53.046043395996094,null,null,{"$f":"R957+S957","v":5103.2622868253557}]
[null,"2000-07-31",3579.6345288275074,15540.906231172215,1332.9732057809863,0,911.53440281390158,9022.4653614061772,10476.091796875,2773.3729096585985,9369.7773737976095,9106.6703371226977,563.812781726955,4867.7701139722758,24542.90967354599,-10141.187173641996,11175.72152688019,3480.1392054530334,7114.9115807781309,6680,0,80.589691162109375,51.324195861816406,null,null,{"$f":"R958+S958","v":10595.050786231164}]
[null,"2000-08-31",3288.1760442583859,11242.185987093178,1295.526721311775,0,468.97594552600111,6429.0256805740519,8220.0576171875,2322.4734152789119,7387.0939714921196,8474.0160279556658,515.39555768896525,1474.5922063847909,17977.88100171394,-10667.940855922658,5843.9515806709678,4600.0000000000009,6680,6680,0,85.9959716796875,52.017379760742188,null,null,{"$f":"R959+S959","v":11280}]
[null,"2000-09-30",3245.897453740562,8952.2735802505922,1257.99319341354,0,534.85708815796784,8805.1879595560149,9389.5244140625,1897.3508348882317,7537.5277545961872,9399.0232049998267,429.76728256661568,2105.8532354576987,20947.168603729551,-9016.3274103544245,11965.83333336,4073.3559959407416,6680,6680,0,77.974327087402344,52.283405303955078,null,null,{"$f":"R960+S960","v":10753.355995940741}]
[null,"2000-10-31",3171.4686173008126,7897.1081234298499,1227.0241899207128,0,489.14261219400117,6768.860223894606,5643.43017578125,1728.9472499380004,4000.0000000000746,3034.4422116367459,388.50549483202053,1368.4856171281863,10069.295180170051,-4344.13998177336,6952.8225806709679,3336.5834189332304,3109.4688694995875,3109.4688694995875,0,82.517021179199219,52.414985656738281,null,null,{"$f":"R961+S961","v":6446.0522884328184}]
[null,"2000-11-30",2972.2774051236893,9590.5844462038822,1219.0829648867921,0,123.77668371523323,7850.8132289140931,7894.2529296875,1615.8053048178795,2500,2314.2483835727817,363.41382318262424,1837.38872965264,12571.480585808908,-8308.9047441528783,4615.7820838280313,4600,5800.3616300816138,3788.4870777052874,1830.2413760848267,87.46075439453125,54.315849304199219,null,null,{"$f":"R962+S962","v":10400.361630081614}]
[null,"2000-12-31",2828.437828868482,9056.5829414556629,1206.2627536395489,0,198.55677945188984,8549.4444564486494,9185.4208984375,1573.4477798445926,2651.2912813354696,3143.1873128652087,350,1834.0705614254864,14333.353519751279,-9163.4043865204221,4768.3810404844589,4600,6515.5954710907099,3895.6274172420344,1996.4449421172158,86.689300537109375,54.055007934570313,null,null,{"$f":"R963+S963","v":11115.59547109071}]
[null,"2001-01-31",2984.2353614914127,6544.3096472324696,1220.8721071525281,172.23881185592788,0,8666.4335277664049,9386.11328125,1574.4811729049768,1700,4653.6326650465771,330.12229163178819,1249.8714259835426,15909.037026735961,-5225.8064516129034,12491.776471132553,4304.9076501547752,2869.9384334365259,2869.9384334365259,0,74.67041015625,50.076065063476563,null,null,{"$f":"R964+S964","v":7174.8460835913011}]
[null,"2001-02-28",3418.1054280664243,8859.0087578412822,1252.3504364133946,508.31178529819027,0,13489.401076675298,15113.78125,1669.4292486338588,1700,4776.7531258371964,344.6389939782394,1299.2864880412847,25524.244312145394,-5000,25607.772069384424,4166.7031119110798,2777.8020746073844,2777.8020746073844,0,61.588451385498047,48.080917358398438,null,null,{"$f":"R965+S965","v":6944.5051865184641}]
[null,"2001-03-31",3912.7675736051938,9003.719796937201,1272.9771573527387,336.55592118687485,1.013808151971725,14455.851526634448,15212.8916015625,1878.3725309310669,1700,4219.1841195923807,446.46178412520402,801.43975782665461,22436.948021906868,-3258.0645161290322,23178.150873903211,3328.3619011046062,2218.9079340697394,2218.9079340697385,0,63.917079925537109,50.954620361328125,null,null,{"$f":"R966+S966","v":5547.2698351743456}]
[null,"2001-04-30",4134.6748145871225,5004.5300656767558,1261.9554701591655,0,130.62790174127181,5406.9668874943673,7136.9482421875,1945.8388207985938,1000,4029.7589064650601,539.94743631335371,789.04875512479248,12185.910323464661,-2091.8972602685858,11482.666914553789,2036.6136562176325,2237.4749794813924,2237.4749794813924,0,75.289031982421875,54.831535339355469,null,null,{"$f":"R967+S967","v":4274.088635699025}]
[null,"2001-05-31",3910.3215289595396,10206.836588874628,1186.3886784285496,0,1086.5832709761116,4791.2741365035408,6169.513671875,1848.4070665153799,2493.5638007708799,3834.3962225920959,583.97512570685967,754.20301647795384,10865.649817439253,-2770.163697091531,7039.3957986539117,2461.0577788791602,1066.4744963007684,1066.4744963007684,0,83.028884887695313,54.547149658203125,null,null,{"$f":"R968+S968","v":3527.5322751799285}]
[null,"2001-06-30",3331.8634401082345,14519.667124270347,1164.8814166215682,130,356.48001989307932,7109.1271405958578,9454.982421875,1560.8775531977808,4175.037069476698,3921.9043808359393,530.82281782724601,575.34118127711452,14162.853084224091,-4085.8437488204186,7197.7068914473803,2681.0540518808602,1122.1292021217141,1122.1292021217141,0,82.089035034179688,51.929252624511719,null,null,{"$f":"R969+S969","v":3803.1832540025744}]
[null,"2001-07-31",3021.9421017570839,11740.219541808905,1064.1174666289619,0,1498.7471944974584,7019.9473111352372,9869.7177734375,1330.8021645054705,2610.8435569251219,2504.281309831892,456.62529310187097,801.58368055795825,14242.589289202029,-5753.5208226402192,5862.7741394729674,2300.292348642547,3147.4702668438317,300,985.33683059352916,85.742515563964844,52.717399597167969,null,null,{"$f":"R970+S970","v":5447.7626154863792}]
[null,"2001-08-31",2882.1830430527571,8341.4510440907434,952.85369215936066,0,1684.4969085294367,4544.5122936552907,6780.3974609375,1220.4696868683734,1449.7340057357408,2927.3317095110401,400.83452741328688,641.36792362180631,11002.574688229883,-5642.7661563363272,3890.3225806709679,2678.5709606220653,2935.0781259625664,422.56410978916983,0,90.035919189453125,53.609626770019531,null,null,{"$f":"R971+S971","v":5613.6490865846317}]
[null,"2001-09-30",2804.2414250935312,6551.7902297308819,883.05152663952333,0,1088.6125325241846,7229.8385891597982,9239.2138671875,1128.1703564277857,1000.0000000001294,2878.6696644413337,403.15585510508834,691.15493031025187,10629.462058623119,-6722.6680294727339,3149.0178626398556,3575.0439546606349,4202.8468379972337,3066.5027806097632,0,91.324851989746094,53.006782531738281,null,null,{"$f":"R972+S972","v":7777.8907926578686}]
[null,"2001-10-31",2501.5956487907852,10051.992096504217,797.44130675082818,0,1341.8429988397424,8374.3938264171647,8098.8974609375,1014.208806304573,2438.7825976544545,1200,400.23087785088575,435.47456371552823,9544.8920031963862,-4961.2920086678296,4223.7968924009019,3624.3907650513866,2574.5836930086325,937.92072448958515,0,89.894981384277344,52.444835662841797,null,null,{"$f":"R973+S973","v":6198.9744580600191}]
[null,"2001-11-30",2683.0715122195611,7191.8263557245627,726.04583602161529,0,1263.7480702632336,6787.2113934157442,7715.9375,1006.5246256555353,1200,1996.928752529685,460.19914111344985,493.80587986725004,10498.19431524651,-3547.369071641755,7439.9688399963434,1035.5619885637225,3734.340027912202,2706.6955148913548,0,85.644142150878906,54.345046997070313,null,null,{"$f":"R974+S974","v":4769.902016475924}]
[null,"2001-12-31",3333.800048828125,13884.889953587666,729.13186275107512,0,26.997311829741932,19460.775251353003,19460.775390625,1195.641088256998,1200,4822.3536469401679,567,1610.0707393170544,28347.902553004955,-5290.322580645161,29075.685927120252,4335.9996626589027,2890.6664417726006,2890.6664417726006,0,62.520980834960938,50.86566162109375,null,null,{"$f":"R975+S975","v":7226.6661044315033}]
[null,"2002-01-31",3678.39990234375,18174.371422412944,922.74759696812691,3113.5734966294431,0,21746.648990907641,21746.6484375,1519.6083121288327,1200,7711.3681091411099,567,3448.1369111025333,40002.735684477564,-4516.1290322580644,45028.360812368141,3966.5358817613023,2644.357254507534,2644.357254507534,0,54.172050476074219,47.730438232421875,null,null,{"$f":"R976+S976","v":6610.8931362688363}]
[null,"2002-02-28",4022.0000000000005,8013.1927787532131,940.43741765368043,327.36131264702584,0,8484.9938363810816,9848.8095703125,1673.2697332507141,1200,4180.1317288869077,563,3168.1273294710331,19907.997750936636,-5250,15459.682754292473,3564.3727829523586,3187.3588527745314,3187.3588527745324,0,70.142219543457031,47.807624816894531,null,null,{"$f":"R977+S977","v":6751.7316357268901}]
[null,"2002-03-31",4410.8515912324228,6876.439917856881,946.26655581304794,130.4885965417746,5.5728312373979989,9351.606866333279,9701.65625,1981.0973673069375,1000,5503.6985610656338,653.76181226139477,3000,19314.661455810863,-3258.0645161290322,17653.643820968769,2953.3360433697476,1968.8906955798298,1968.8906955798298,0,69.307075500488281,49.667613983154297,null,null,{"$f":"R978+S978","v":4922.2267389495773}]
[null,"2002-04-30",4552.10009765625,7599.1024040116135,942.6559277284673,30.119809654552252,25.425519666004163,8443.7459388425632,10214.494140625,2141.9740462211316,1000,6200.245597026822,792,2331.3189842864304,18933.992661852968,-2294.0007737980823,17418.376449304837,2195.1560427719978,1463.4373618479985,1463.4373618479985,0,69.477302551269531,53.352127075195313,null,null,{"$f":"R979+S979","v":3658.5934046199964}]
[null,"2002-05-31",4365.4238313067017,10264.645627753833,937.21720527436639,0,0,4628.5636596679688,5872.65185546875,2199.0733901936774,1000,4083.6939388465771,927.54776195978798,1203.893192792083,11202.046169932129,-2192.3752009439722,9988.0754474611331,1703.0842119319116,1796.1685111423801,1796.1685111423801,0,80.547073364257813,52.979385375976563,null,null,{"$f":"R980+S980","v":3499.2527230742917}]
[null,"2002-06-30",3962.5201704741025,11669.086305178995,890.67052290736615,0,644.53424606359943,4776.1104284790517,6526.99560546875,1900.0750342171104,3834.4126453352592,4987.1029848792659,811.95774148291423,2658.2480493497578,14089.379722050578,-5000,6632.9438904164117,3149.5801073292669,1695.9277501003762,1695.9277501003762,0,82.24554443359375,52.811286926269531,null,null,{"$f":"R981+S981","v":4845.5078574296431}]
[null,"2002-07-31",3435.7221949852837,13403.498053308915,832.15677714502999,125.80645161290323,940.6586021532263,7690.9303132189261,9430.3076171875,1669.9454789328959,2517.2605867312027,3193.1138344190654,671.32660691037404,1750,15433.878251666727,-8095.5292613993679,3906.5360778399263,3525.6341845044944,4268.7202447827931,2380.4443327942472,892.31128774930687,86.935813903808594,52.068611145019531,null,null,{"$f":"R982+S982","v":7794.3544292872875}]
[null,"2002-08-31",3213.9858505090097,9071.3931449340089,794.18818115628915,0,501.48490800280535,5007.0921861223133,7542.75,1617.0799523953217,1000,3102.3301047717232,619.48787126098307,1503.2876935005331,12188.071452943406,-6013.9891380579884,4251.36646814716,4600,1575.0364685954537,1209.4436709584188,0,89.154052734375,52.733139038085938,null,null,{"$f":"R983+S983","v":6175.0364685954537}]
[null,"2002-09-30",3146.7657592425367,6116.6785110645487,746.29438079315412,0,713.38621420515358,5017.1826944716322,7028.46044921875,1565.8611027752229,1027.1745849438933,2692.140980774077,569.1826996889265,1547.1320550654814,11317.814092648314,-7010.9841828212338,3184.0163983887014,4547.0969600867202,3512.8844571066779,2394.2309992233513,0,91.097808837890625,52.756023406982422,null,null,{"$f":"R984+S984","v":8059.9814171933976}]
[null,"2002-10-31",2954.0866064731754,7932.833083564813,722.10765883108991,0,333.50785075611924,6142.1462945677886,5409.85107421875,1326.4619257926697,3612.0734766212504,3564.8897754133468,508.01231014377515,1323.6055807747287,10207.141017096092,-5484.6972285478496,4179.4780062166519,3330.1442902605918,3364.0859555149809,1208.7338147839937,0,90.124946594238281,52.261131286621094,null,null,{"$f":"R985+S985","v":6694.2302457755723}]
[null,"2002-11-30",2884.9850537239654,7112.042167499284,722.30910794882084,0,0,4781.9875486051315,4799.78271484375,1252.1798936397097,1989.7667241696183,2349.2145223280345,524.61609203971614,1559.0232347453812,8947.956875607375,-4375.0039217248795,4745.9622951012798,3048.2250308440871,2587.756791281919,2449.5699619238903,0,89.401397705078125,53.915504455566406,null,null,{"$f":"R986+S986","v":5635.9818221260066}]
[null,"2002-12-31",3291.300048828125,24457.205207230236,821.40843598162508,1485.1602583582196,0,22145.895238694538,22145.89453125,1639.1449206153293,1700,2706.8275040810322,567,3185.1055770559069,36591.90117944705,-5290.322580645161,40206.298629354249,4220.9193263638672,2813.946217575909,2813.946217575909,0,56.459728240966797,50.726142883300781,null,null,{"$f":"R987+S987","v":7034.8655439397762}]
[null,"2003-01-31",3515.199951171875,26072.401518710627,1027.8308943022739,3311.6129032258063,0,25338.5569882991,25338.556640625,2172.4278043767445,1700,13008.8275769765,562,3864.9139464342052,50619.25378775342,-4516.1290322580644,57413.659177457135,3527.3099840236646,2351.5399893490985,2351.5399893491112,0,54,46.770370483398438,null,null,{"$f":"R988+S988","v":5878.8499733727631}]
[null,"2003-02-28",3830.9870981480699,7440.6938043367445,1054.3845185161965,477.95729410285895,0,11060.691117445185,12306.6220703125,2470.6896136755731,1700,6512.7542754455089,551,2279.2073053039235,25654.055549500434,-5250,22304.56538136497,4028.4399319601093,2685.6266213067356,2685.6266213067361,0,63.490570068359375,47.340908050537109,null,null,{"$f":"R989+S989","v":6714.0665532668445}]
[null,"2003-03-31",4248.3700185740418,9475.6208653346184,1109.3448525325134,903.67521068419899,0,12699.494195175846,13767.392578125,2827.881806202246,1700,5242.9142912316402,644.46421090740114,1593.7030266653353,22340.431852499365,-3258.0645161290322,20548.152714325988,2867.6168942054146,1911.7445961369431,1911.7445961369431,0,64.240364074707031,50.208992004394531,null,null,{"$f":"R990+S990","v":4779.3614903423577}]
[null,"2003-04-30",4552.10009765625,14411.169870299716,1196.4249631079158,1462.8480359716582,0,13656.504494219167,15467.44921875,3202.0244513548696,1000,5675.4924779971907,792,2996.3278792522788,25230.694272315348,-3033.9658168387168,26177.406639512021,3405.9759150536829,2270.6506100357892,2270.6506100357892,0,59.761734008789063,51.015842437744141,null,null,{"$f":"R991+S991","v":5676.6265250894721}]
[null,"2003-05-31",4552,19330.399886728486,1354.2369055753375,2620.7680410200896,0,20398.677372987237,20343.6875,3538,3350.5506732947251,8267.6317228842636,967,4406.4505923058359,36243.923853934153,-3155.2251244480453,35724.87795786286,2835.688625797965,1890.4590838653103,1890.4590838653103,0,58.160980224609375,51.548740386962891,null,null,{"$f":"R992+S992","v":4726.1477096632752}]
[null,"2003-06-30",4465.7270043828312,8162.3971272495937,1254.0929824431714,0,1542.5819445464333,4923.5799865722656,6023.05908203125,3533.3746501189135,2106.7277579810097,5598.9925955906119,967,1805.0126572632191,13631.193636616354,-5000,6135.4165000000003,3107.3190534111272,1607.0889062556098,1607.0889062556098,0,81.403518676757813,55.182601928710938,null,null,{"$f":"R993+S993","v":4714.407959666737}]
[null,"2003-07-31",3777.5416080194536,16636.805995486706,1239.1949600961375,0,87.51953859014337,9643.0540030774082,10293.8076171875,2914.5847800555139,9607.4942381964756,9291.6855506993197,680.63557476942617,4847.9767615439614,24931.731288569787,-10852.0024905686,10133.131065789981,3816.9780159614593,6966.6871762739966,6680,0,78.629730224609375,51.963390350341797,null,null,{"$f":"R994+S994","v":10783.665192235456}]
[null,"2003-08-31",3445.8306685023172,10378.337798922488,1203.8240048299676,0,468.97594552594637,5549.5092547204313,6870.48291015625,2484.0474043662684,7171.4870099964319,9048.8523779300376,634.1376799201671,1485.0274019561327,17663.399761760607,-10440.150448727079,5561.693580670968,4258.1287058792204,6680,6680,0,85.272994995117188,52.278953552246094,null,null,{"$f":"R995+S995","v":10938.12870587922}]
[null,"2003-09-30",3225.8355760190293,10307.163914066721,1165.6735243007768,0,534.85708815796784,9121.4204692952389,9994.8955078125,2007.9076178796668,8285.9119409000068,10437.914273513759,530.0858857402585,2179.0699659588363,22578.570972517788,-8963.55850454342,12778.33333336,3374.2269820242436,6680,6680,0,77.909324645996094,51.124580383300781,null,null,{"$f":"R996+S996","v":10054.226982024244}]

{"sheet":"Other","index":10,"n_rows":32,"n_cols":3,"rows_kept":32,"cut":false,"hidden":false,"merged":[]}
[]
[]
[]
[null,{"$f":"31-8","v":23},{"$f":"33-8","v":25}]
[]
[]
[]
[null,"Period:","Statistic:"]
[null,"October","Averages"]
[null,"November","Minimums"]
[null,"December","Maximums"]
[null,"January"]
[null,"February","75% Exceedence Probability"]
[null,"March","50% Exceedence Probability"]
[null,"April","25% Exceedence Probability"]
[null,"May"]
[null,"June","Driest Periods (29-34,76-77,87-92)"]
[null,"July","VIC Bias Correction Period (70-03)"]
[null,"August"]
[null,"September","Wet Years (40-30-30)"]
[null,null,"Above Normal Years (40-30-30)"]
[null,"January-December","Below Normal Years (40-30-30)"]
[null,"March-February","Dry Years (40-30-30)"]
[null,"October-September","Critically Dry Years (40-30-30)"]
[null,null,"Dry and Critically Dry Years (40-30-30)"]
[null,"November-March"]
[null,"August-October","Wet Years (60-20-20)"]
[null,"October-January","Above Normal Years (60-20-20)"]
[null,"December-February","Below Normal Years (60-20-20)"]
[null,"March-June","Dry Years (60-20-20)"]
[null,"June-September","Critically Dry Years (60-20-20)"]
[null,"September-November","Dry and Critically Dry Years (60-20-20)"]

{"sheet":"Conv_Flags","index":11,"n_rows":996,"n_cols":27,"rows_kept":996,"cut":false,"hidden":false,"merged":[]}
[null," "]
[null," "]
[null," "]
[null," "]
[null," ",null,null,null,null,null,null,null,null,null,null,null,null,null,null,null,{"$f":"SUMPRODUCT(R12:R93,K12:K93)","v":10},null,null,null,null,null,null,null,{"$f":"SUMPRODUCT(Z12:Z93,S12:S93)","v":16}]
[null," "]
[null," ",null,null,null,null,null,null,null,null,null,null,null,null,null,null,{"$f":"SUM(Q12:Q93)","v":18},{"$f":"SUM(R12:R93)","v":12},{"$f":"Q7/82","v":0.21951219512195122},null,null,null,null,null,{"$f":"SUM(Y12:Y93)","v":13},{"$f":"SUM(Z12:Z93)","v":16},{"$f":"Y7/82","v":0.15853658536585366}]
[null," ",null,null,null,null,null,null,null,"Hist Climate",null,null,"Hist Climate",null,null,null,null,null,null,null,"Hist Climate"]
[null,null,null,null,null,"Hist Climate","Hist Climate","Hist Climate",null,"Driest Periods",null,null,"40-30-30 type sets",null,null,null,null,null,null,null,"60-20-20 type sets"]
[null,"Date","CFS->TAF/MON",null,"WATERYEAR","40-30-30","60-20-20","Shasta",null,"WATERYEAR",null,null,"WATERYEAR","W","AB","BN","D","C","D & C",null,"WATERYEAR","W","AB","BN","D","C","D & C"]
[null,null,null,null,1921,2,2,1,null,1921,0,null,1921,{"$f":"IF($F11=1,1,0)","v":0},{"$f":"IF($F11=2,1,0)","v":1},{"$f":"IF($F11=3,1,0)","v":0},{"$f":"IF($F11=4,1,0)","v":0},{"$f":"IF($F11=5,1,0)","v":0},{"$f":"R11+Q11","v":0},null,1921,{"$f":"IF($G11=1,1,0)","v":0},{"$f":"IF($G11=2,1,0)","v":1},{"$f":"IF($G11=3,1,0)","v":0},{"$f":"IF($G11=4,1,0)","v":0},{"$f":"IF($G11=5,1,0)","v":0},{"$f":"Z11+Y11","v":0}]
[null,"1921-09-30",null,null,1922,2,1,1,null,1922,0,null,1922,0,1,0,0,0,{"$f":"R12+Q12","v":0},null,1922,1,0,0,0,0,{"$f":"Z12+Y12","v":0}]
[" ","1921-10-31",{"$f":"(B13-B12)*86400/43560/1000","v":6.1487603305785121E-2},null,1923,3,2,3,null,1923,0,null,1923,0,0,1,0,0,{"$f":"R13+Q13","v":0},null,1923,0,1,0,0,0,{"$f":"Z13+Y13","v":0}]
[" ","1921-11-30",5.9504132231404959E-2,null,1924,5,5,4,null,1924,0,null,1924,0,0,0,0,1,1,null,1924,0,0,0,0,1,1]
[" ","1921-12-31",6.1487603305785121E-2,null,1925,4,3,1,null,1925,0,null,1925,0,0,0,1,0,1,null,1925,0,0,1,0,0,0]
[" ","1922-01-31",6.1487603305785121E-2,null,1926,4,4,3,null,1926,0,null,1926,0,0,0,1,0,1,null,1926,0,0,0,1,0,1]
[" ","1922-02-28",5.5537190082644627E-2,null,1927,1,2,1,null,1927,0,null,1927,1,0,0,0,0,0,null,1927,0,1,0,0,0,0]
[" ","1922-03-31",6.1487603305785121E-2,null,1928,2,3,1,null,1928,0,null,1928,0,1,0,0,0,0,null,1928,0,0,1,0,0,0]
[" ","1922-04-30",5.9504132231404959E-2,null,1929,5,5,3,null,1929,1,null,1929,0,0,0,0,1,1,null,1929,0,0,0,0,1,1]
[" ","1922-05-31",6.1487603305785121E-2,null,1930,4,5,2,null,1930,1,null,1930,0,0,0,1,0,1,null,1930,0,0,0,0,1,1]
[" ","1922-06-30",5.9504132231404959E-2,null,1931,5,5,4,null,1931,1,null,1931,0,0,0,0,1,1,null,1931,0,0,0,0,1,1]
[" ","1922-07-31",6.1487603305785121E-2,null,1932,4,2,4,null,1932,1,null,1932,0,0,0,1,0,1,null,1932,0,1,0,0,0,0]
[" ","1922-08-31",6.1487603305785121E-2,null,1933,5,4,4,null,1933,1,null,1933,0,0,0,0,1,1,null,1933,0,0,0,1,0,1]
[" ","1922-09-30",5.9504132231404959E-2,null,1934,5,5,4,null,1934,1,null,1934,0,0,0,0,1,1,null,1934,0,0,0,0,1,1]
[" ","1922-10-31",6.1487603305785121E-2,null,1935,3,2,1,null,1935,0,null,1935,0,0,1,0,0,0,null,1935,0,1,0,0,0,0]
[" ","1922-11-30",5.9504132231404959E-2,null,1936,3,2,1,null,1936,0,null,1936,0,0,1,0,0,0,null,1936,0,1,0,0,0,0]
[" ","1922-12-31",6.1487603305785121E-2,null,1937,3,1,2,null,1937,0,null,1937,0,0,1,0,0,0,null,1937,1,0,0,0,0,0]
[" ","1923-01-31",6.1487603305785121E-2,null,1938,1,1,1,null,1938,0,null,1938,1,0,0,0,0,0,null,1938,1,0,0,0,0,0]
[" ","1923-02-28",5.5537190082644627E-2,null,1939,4,4,3,null,1939,0,null,1939,0,0,0,1,0,1,null,1939,0,0,0,1,0,1]
[" ","1923-03-31",6.1487603305785121E-2,null,1940,2,2,1,null,1940,0,null,1940,0,1,0,0,0,0,null,1940,0,1,0,0,0,0]
[" ","1923-04-30",5.9504132231404959E-2,null,1941,1,1,1,null,1941,0,null,1941,1,0,0,0,0,0,null,1941,1,0,0,0,0,0]
[" ","1923-05-31",6.1487603305785121E-2,null,1942,1,1,1,null,1942,0,null,1942,1,0,0,0,0,0,null,1942,1,0,0,0,0,0]
[" ","1923-06-30",5.9504132231404959E-2,null,1943,1,1,1,null,1943,0,null,1943,1,0,0,0,0,0,null,1943,1,0,0,0,0,0]
[" ","1923-07-31",6.1487603305785121E-2,null,1944,4,3,3,null,1944,0,null,1944,0,0,0,1,0,1,null,1944,0,0,1,0,0,0]
[" ","1923-08-31",6.1487603305785121E-2,null,1945,3,2,1,null,1945,0,null,1945,0,0,1,0,0,0,null,1945,0,1,0,0,0,0]
[" ","1923-09-30",5.9504132231404959E-2,null,1946,3,2,1,null,1946,0,null,1946,0,0,1,0,0,0,null,1946,0,1,0,0,0,0]
[" ","1923-10-31",6.1487603305785121E-2,null,1947,4,4,3,null,1947,0,null,1947,0,0,0,1,0,1,null,1947,0,0,0,1,0,1]
[" ","1923-11-30",5.9504132231404959E-2,null,1948,3,3,1,null,1948,0,null,1948,0,0,1,0,0,0,null,1948,0,0,1,0,0,0]
[" ","1923-12-31",6.1487603305785121E-2,null,1949,4,3,2,null,1949,0,null,1949,0,0,0,1,0,1,null,1949,0,0,1,0,0,0]
[" ","1924-01-31",6.1487603305785121E-2,null,1950,3,3,2,null,1950,0,null,1950,0,0,1,0,0,0,null,1950,0,0,1,0,0,0]
[" ","1924-02-29",5.752066115702479E-2,null,1951,2,2,1,null,1951,0,null,1951,0,1,0,0,0,0,null,1951,0,1,0,0,0,0]
[" ","1924-03-31",6.1487603305785121E-2,null,1952,1,1,1,null,1952,0,null,1952,1,0,0,0,0,0,null,1952,1,0,0,0,0,0]
[" ","1924-04-30",5.9504132231404959E-2,null,1953,1,3,1,null,1953,0,null,1953,1,0,0,0,0,0,null,1953,0,0,1,0,0,0]
[" ","1924-05-31",6.1487603305785121E-2,null,1954,2,3,1,null,1954,0,null,1954,0,1,0,0,0,0,null,1954,0,0,1,0,0,0]
[" ","1924-06-30",5.9504132231404959E-2,null,1955,4,4,2,null,1955,0,null,1955,0,0,0,1,0,1,null,1955,0,0,0,1,0,1]
[" ","1924-07-31",6.1487603305785121E-2,null,1956,1,1,1,null,1956,0,null,1956,1,0,0,0,0,0,null,1956,1,0,0,0,0,0]
[" ","1924-08-31",6.1487603305785121E-2,null,1957,2,3,1,null,1957,0,null,1957,0,1,0,0,0,0,null,1957,0,0,1,0,0,0]
[" ","1924-09-30",5.9504132231404959E-2,null,1958,1,1,1,null,1958,0,null,1958,1,0,0,0,0,0,null,1958,1,0,0,0,0,0]
[" ","1924-10-31",6.1487603305785121E-2,null,1959,3,4,1,null,1959,0,null,1959,0,0,1,0,0,0,null,1959,0,0,0,1,0,1]
[" ","1924-11-30",5.9504132231404959E-2,null,1960,4,5,1,null,1960,0,null,1960,0,0,0,1,0,1,null,1960,0,0,0,0,1,1]
[" ","1924-12-31",6.1487603305785121E-2,null,1961,4,5,1,null,1961,0,null,1961,0,0,0,1,0,1,null,1961,0,0,0,0,1,1]
[" ","1925-01-31",6.1487603305785121E-2,null,1962,3,3,1,null,1962,0,null,1962,0,0,1,0,0,0,null,1962,0,0,1,0,0,0]
[" ","1925-02-28",5.5537190082644627E-2,null,1963,1,2,1,null,1963,0,null,1963,1,0,0,0,0,0,null,1963,0,1,0,0,0,0]
[" ","1925-03-31",6.1487603305785121E-2,null,1964,4,4,3,null,1964,0,null,1964,0,0,0,1,0,1,null,1964,0,0,0,1,0,1]
[" ","1925-04-30",5.9504132231404959E-2,null,1965,1,1,1,null,1965,0,null,1965,1,0,0,0,0,0,null,1965,1,0,0,0,0,0]
[" ","1925-05-31",6.1487603305785121E-2,null,1966,3,3,1,null,1966,0,null,1966,0,0,1,0,0,0,null,1966,0,0,1,0,0,0]
[" ","1925-06-30",5.9504132231404959E-2,null,1967,1,1,1,null,1967,0,null,1967,1,0,0,0,0,0,null,1967,1,0,0,0,0,0]
[" ","1925-07-31",6.1487603305785121E-2,null,1968,3,4,1,null,1968,0,null,1968,0,0,1,0,0,0,null,1968,0,0,0,1,0,1]
[" ","1925-08-31",6.1487603305785121E-2,null,1969,1,1,1,null,1969,0,null,1969,1,0,0,0,0,0,null,1969,1,0,0,0,0,0]
[" ","1925-09-30",5.9504132231404959E-2,null,1970,1,2,1,null,1970,0,null,1970,1,0,0,0,0,0,null,1970,0,1,0,0,0,0]
[" ","1925-10-31",6.1487603305785121E-2,null,1971,1,3,1,null,1971,0,null,1971,1,0,0,0,0,0,null,1971,0,0,1,0,0,0]
[" ","1925-11-30",5.9504132231404959E-2,null,1972,3,4,1,null,1972,0,null,1972,0,0,1,0,0,0,null,1972,0,0,0,1,0,1]
[" ","1925-12-31",6.1487603305785121E-2,null,1973,2,2,1,null,1973,0,null,1973,0,1,0,0,0,0,null,1973,0,1,0,0,0,0]
[" ","1926-01-31",6.1487603305785121E-2,null,1974,1,1,1,null,1974,0,null,1974,1,0,0,0,0,0,null,1974,1,0,0,0,0,0]
[" ","1926-02-28",5.5537190082644627E-2,null,1975,1,1,1,null,1975,0,null,1975,1,0,0,0,0,0,null,1975,1,0,0,0,0,0]
[" ","1926-03-31",6.1487603305785121E-2,null,1976,5,5,3,null,1976,1,null,1976,0,0,0,0,1,1,null,1976,0,0,0,0,1,1]
[" ","1926-04-30",5.9504132231404959E-2,null,1977,5,5,4,null,1977,1,null,1977,0,0,0,0,1,1,null,1977,0,0,0,0,1,1]
[" ","1926-05-31",6.1487603305785121E-2,null,1978,2,1,1,null,1978,0,null,1978,0,1,0,0,0,0,null,1978,1,0,0,0,0,0]
[" ","1926-06-30",5.9504132231404959E-2,null,1979,3,2,2,null,1979,0,null,1979,0,0,1,0,0,0,null,1979,0,1,0,0,0,0]
[" ","1926-07-31",6.1487603305785121E-2,null,1980,2,1,1,null,1980,0,null,1980,0,1,0,0,0,0,null,1980,1,0,0,0,0,0]
[" ","1926-08-31",6.1487603305785121E-2,null,1981,4,4,2,null,1981,0,null,1981,0,0,0,1,0,1,null,1981,0,0,0,1,0,1]
[" ","1926-09-30",5.9504132231404959E-2,null,1982,1,1,1,null,1982,0,null,1982,1,0,0,0,0,0,null,1982,1,0,0,0,0,0]
[" ","1926-10-31",6.1487603305785121E-2,null,1983,1,1,1,null,1983,0,null,1983,1,0,0,0,0,0,null,1983,1,0,0,0,0,0]
[" ","1926-11-30",5.9504132231404959E-2,null,1984,1,2,1,null,1984,0,null,1984,1,0,0,0,0,0,null,1984,0,1,0,0,0,0]
[" ","1926-12-31",6.1487603305785121E-2,null,1985,4,4,3,null,1985,0,null,1985,{"$f":"IF($F75=1,1,0)","v":0},{"$f":"IF($F75=2,1,0)","v":0},{"$f":"IF($F75=3,1,0)","v":0},{"$f":"IF($F75=4,1,0)","v":1},{"$f":"IF($F75=5,1,0)","v":0},1,null,1985,{"$f":"IF($G75=1,1,0)","v":0},{"$f":"IF($G75=2,1,0)","v":0},{"$f":"IF($G75=3,1,0)","v":0},{"$f":"IF($G75=4,1,0)","v":1},{"$f":"IF($G75=5,1,0)","v":0},1]
[" ","1927-01-31",6.1487603305785121E-2,null,1986,1,1,1,null,1986,0,null,1986,1,0,0,0,0,0,null,1986,1,0,0,0,0,0]
[" ","1927-02-28",{"$f":"(B77-B76)*86400/43560/1000","v":5.5537190082644627E-2},null,1987,4,5,3,null,1987,1,null,1987,0,0,0,1,0,{"$f":"R77+Q77","v":1},null,1987,0,0,0,0,1,{"$f":"Z77+Y77","v":1}]
[" ","1927-03-31",6.1487603305785121E-2,null,1988,5,5,3,null,1988,1,null,1988,0,0,0,0,1,1,null,1988,0,0,0,0,1,1]
[" ","1927-04-30",5.9504132231404959E-2,null,1989,4,5,1,null,1989,1,null,1989,0,0,0,1,0,1,null,1989,0,0,0,0,1,1]
[" ","1927-05-31",6.1487603305785121E-2,null,1990,5,5,3,null,1990,1,null,1990,0,0,0,0,1,1,null,1990,0,0,0,0,1,1]
[" ","1927-06-30",5.9504132231404959E-2,null,1991,5,5,4,null,1991,1,null,1991,0,0,0,0,1,1,null,1991,0,0,0,0,1,1]
[" ","1927-07-31",6.1487603305785121E-2,null,1992,5,5,4,null,1992,1,null,1992,0,0,0,0,1,1,null,1992,0,0,0,0,1,1]
[" ","1927-08-31",6.1487603305785121E-2,null,1993,2,1,1,null,1993,0,null,1993,0,1,0,0,0,0,null,1993,1,0,0,0,0,0]
[" ","1927-09-30",5.9504132231404959E-2,null,1994,5,5,4,null,1994,0,null,1994,0,0,0,0,1,1,null,1994,0,0,0,0,1,1]
[" ","1927-10-31",6.1487603305785121E-2,null,1995,1,1,1,null,1995,0,null,1995,1,0,0,0,0,0,null,1995,1,0,0,0,0,0]
[" ","1927-11-30",5.9504132231404959E-2,null,1996,1,1,1,null,1996,0,null,1996,1,0,0,0,0,0,null,1996,1,0,0,0,0,0]
[" ","1927-12-31",6.1487603305785121E-2,null,1997,1,1,1,null,1997,0,null,1997,1,0,0,0,0,0,null,1997,1,0,0,0,0,0]
[" ","1928-01-31",6.1487603305785121E-2,null,1998,1,1,1,null,1998,0,null,1998,1,0,0,0,0,0,null,1998,1,0,0,0,0,0]
[" ","1928-02-29",5.752066115702479E-2,null,1999,1,2,1,null,1999,0,null,1999,1,0,0,0,0,0,null,1999,0,1,0,0,0,0]
[" ","1928-03-31",6.1487603305785121E-2,null,2000,2,2,1,null,2000,0,null,2000,0,1,0,0,0,0,null,2000,0,1,0,0,0,0]
[" ","1928-04-30",5.9504132231404959E-2,null,2001,4,4,1,null,2001,0,null,2001,0,0,0,1,0,1,null,2001,0,0,0,1,0,1]
[" ","1928-05-31",6.1487603305785121E-2,null,2002,4,4,1,null,2002,0,null,2002,0,0,0,1,0,1,null,2002,0,0,0,1,0,1]
[" ","1928-06-30",5.9504132231404959E-2,null,2003,2,3,1,null,2003,0,null,2003,0,1,0,0,0,0,null,2003,0,0,1,0,0,0]
[" ","1928-07-31",6.1487603305785121E-2,null,null,3,4,1]
[" ","1928-08-31",6.1487603305785121E-2]
[" ","1928-09-30",5.9504132231404959E-2]
[" ","1928-10-31",6.1487603305785121E-2]
[" ","1928-11-30",5.9504132231404959E-2]
[" ","1928-12-31",6.1487603305785121E-2]
[" ","1929-01-31",6.1487603305785121E-2]
[" ","1929-02-28",5.5537190082644627E-2]
[" ","1929-03-31",6.1487603305785121E-2]
[" ","1929-04-30",5.9504132231404959E-2]
[" ","1929-05-31",6.1487603305785121E-2]
[" ","1929-06-30",5.9504132231404959E-2]
[" ","1929-07-31",6.1487603305785121E-2]
[" ","1929-08-31",6.1487603305785121E-2]
[" ","1929-09-30",5.9504132231404959E-2]
[" ","1929-10-31",6.1487603305785121E-2]
[" ","1929-11-30",5.9504132231404959E-2]
[" ","1929-12-31",6.1487603305785121E-2]
[" ","1930-01-31",6.1487603305785121E-2]
[" ","1930-02-28",5.5537190082644627E-2]
[" ","1930-03-31",6.1487603305785121E-2]
[" ","1930-04-30",5.9504132231404959E-2]
[" ","1930-05-31",6.1487603305785121E-2]
[" ","1930-06-30",5.9504132231404959E-2]
[" ","1930-07-31",6.1487603305785121E-2]
[" ","1930-08-31",6.1487603305785121E-2]
[" ","1930-09-30",5.9504132231404959E-2]
[" ","1930-10-31",6.1487603305785121E-2]
[" ","1930-11-30",5.9504132231404959E-2]
[" ","1930-12-31",6.1487603305785121E-2]
[" ","1931-01-31",6.1487603305785121E-2]
[" ","1931-02-28",5.5537190082644627E-2]
[" ","1931-03-31",6.1487603305785121E-2]
[" ","1931-04-30",5.9504132231404959E-2]
[" ","1931-05-31",6.1487603305785121E-2]
[" ","1931-06-30",5.9504132231404959E-2]
[" ","1931-07-31",6.1487603305785121E-2]
[" ","1931-08-31",6.1487603305785121E-2]
[" ","1931-09-30",5.9504132231404959E-2]
[" ","1931-10-31",6.1487603305785121E-2]
[" ","1931-11-30",5.9504132231404959E-2]
[" ","1931-12-31",6.1487603305785121E-2]
[" ","1932-01-31",6.1487603305785121E-2]
[" ","1932-02-29",5.752066115702479E-2]
[" ","1932-03-31",6.1487603305785121E-2]
[" ","1932-04-30",5.9504132231404959E-2]
[" ","1932-05-31",6.1487603305785121E-2]
[" ","1932-06-30",{"$f":"(B141-B140)*86400/43560/1000","v":5.9504132231404959E-2}]
[" ","1932-07-31",6.1487603305785121E-2]
[" ","1932-08-31",6.1487603305785121E-2]
[" ","1932-09-30",5.9504132231404959E-2]
[" ","1932-10-31",6.1487603305785121E-2]
[" ","1932-11-30",5.9504132231404959E-2]
[" ","1932-12-31",6.1487603305785121E-2]
[" ","1933-01-31",6.1487603305785121E-2]
[" ","1933-02-28",5.5537190082644627E-2]
[" ","1933-03-31",6.1487603305785121E-2]
[" ","1933-04-30",5.9504132231404959E-2]
[" ","1933-05-31",6.1487603305785121E-2]
[" ","1933-06-30",5.9504132231404959E-2]
[" ","1933-07-31",6.1487603305785121E-2]
[" ","1933-08-31",6.1487603305785121E-2]
[" ","1933-09-30",5.9504132231404959E-2]
[" ","1933-10-31",6.1487603305785121E-2]
[" ","1933-11-30",5.9504132231404959E-2]
[" ","1933-12-31",6.1487603305785121E-2]
[" ","1934-01-31",6.1487603305785121E-2]
[" ","1934-02-28",5.5537190082644627E-2]
[" ","1934-03-31",6.1487603305785121E-2]
[" ","1934-04-30",5.9504132231404959E-2]
[" ","1934-05-31",6.1487603305785121E-2]
[" ","1934-06-30",5.9504132231404959E-2]
[" ","1934-07-31",6.1487603305785121E-2]
[" ","1934-08-31",6.1487603305785121E-2]
[" ","1934-09-30",5.9504132231404959E-2]
[" ","1934-10-31",6.1487603305785121E-2]
[" ","1934-11-30",5.9504132231404959E-2]
[" ","1934-12-31",6.1487603305785121E-2]
[" ","1935-01-31",6.1487603305785121E-2]
[" ","1935-02-28",5.5537190082644627E-2]
[" ","1935-03-31",6.1487603305785121E-2]
[" ","1935-04-30",5.9504132231404959E-2]
[" ","1935-05-31",6.1487603305785121E-2]
[" ","1935-06-30",5.9504132231404959E-2]
[" ","1935-07-31",6.1487603305785121E-2]
[" ","1935-08-31",6.1487603305785121E-2]
[" ","1935-09-30",5.9504132231404959E-2]
[" ","1935-10-31",6.1487603305785121E-2]
[" ","1935-11-30",5.9504132231404959E-2]
[" ","1935-12-31",6.1487603305785121E-2]
[" ","1936-01-31",6.1487603305785121E-2]
[" ","1936-02-29",5.752066115702479E-2]
[" ","1936-03-31",6.1487603305785121E-2]
[" ","1936-04-30",5.9504132231404959E-2]
[" ","1936-05-31",6.1487603305785121E-2]
[" ","1936-06-30",5.9504132231404959E-2]
[" ","1936-07-31",6.1487603305785121E-2]
[" ","1936-08-31",6.1487603305785121E-2]
[" ","1936-09-30",5.9504132231404959E-2]
[" ","1936-10-31",6.1487603305785121E-2]
[" ","1936-11-30",5.9504132231404959E-2]
[" ","1936-12-31",6.1487603305785121E-2]
[" ","1937-01-31",6.1487603305785121E-2]
[" ","1937-02-28",5.5537190082644627E-2]
[" ","1937-03-31",6.1487603305785121E-2]
[" ","1937-04-30",5.9504132231404959E-2]
[" ","1937-05-31",6.1487603305785121E-2]
[" ","1937-06-30",5.9504132231404959E-2]
[" ","1937-07-31",6.1487603305785121E-2]
[" ","1937-08-31",6.1487603305785121E-2]
[" ","1937-09-30",5.9504132231404959E-2]
[" ","1937-10-31",{"$f":"(B205-B204)*86400/43560/1000","v":6.1487603305785121E-2}]
[" ","1937-11-30",5.9504132231404959E-2]
[" ","1937-12-31",6.1487603305785121E-2]
[" ","1938-01-31",6.1487603305785121E-2]
[" ","1938-02-28",5.5537190082644627E-2]
[" ","1938-03-31",6.1487603305785121E-2]
[" ","1938-04-30",5.9504132231404959E-2]
[" ","1938-05-31",6.1487603305785121E-2]
[" ","1938-06-30",5.9504132231404959E-2]
[" ","1938-07-31",6.1487603305785121E-2]
[" ","1938-08-31",6.1487603305785121E-2]
[" ","1938-09-30",5.9504132231404959E-2]
[" ","1938-10-31",6.1487603305785121E-2]
[" ","1938-11-30",5.9504132231404959E-2]
[" ","1938-12-31",6.1487603305785121E-2]
[" ","1939-01-31",6.1487603305785121E-2]
[" ","1939-02-28",5.5537190082644627E-2]
[" ","1939-03-31",6.1487603305785121E-2]
[" ","1939-04-30",5.9504132231404959E-2]
[" ","1939-05-31",6.1487603305785121E-2]
[" ","1939-06-30",5.9504132231404959E-2]
[" ","1939-07-31",6.1487603305785121E-2]
[" ","1939-08-31",6.1487603305785121E-2]
[" ","1939-09-30",5.9504132231404959E-2]
[" ","1939-10-31",6.1487603305785121E-2]
[" ","1939-11-30",5.9504132231404959E-2]
[" ","1939-12-31",6.1487603305785121E-2]
[" ","1940-01-31",6.1487603305785121E-2]
[" ","1940-02-29",5.752066115702479E-2]
[" ","1940-03-31",6.1487603305785121E-2]
[" ","1940-04-30",5.9504132231404959E-2]
[" ","1940-05-31",6.1487603305785121E-2]
[" ","1940-06-30",5.9504132231404959E-2]
[" ","1940-07-31",6.1487603305785121E-2]
[" ","1940-08-31",6.1487603305785121E-2]
[" ","1940-09-30",5.9504132231404959E-2]
[" ","1940-10-31",6.1487603305785121E-2]
[" ","1940-11-30",5.9504132231404959E-2]
[" ","1940-12-31",6.1487603305785121E-2]
[" ","1941-01-31",6.1487603305785121E-2]
[" ","1941-02-28",5.5537190082644627E-2]
[" ","1941-03-31",6.1487603305785121E-2]
[" ","1941-04-30",5.9504132231404959E-2]
[" ","1941-05-31",6.1487603305785121E-2]
[" ","1941-06-30",5.9504132231404959E-2]
[" ","1941-07-31",6.1487603305785121E-2]
[" ","1941-08-31",6.1487603305785121E-2]
[" ","1941-09-30",5.9504132231404959E-2]
[" ","1941-10-31",6.1487603305785121E-2]
[" ","1941-11-30",5.9504132231404959E-2]
[" ","1941-12-31",6.1487603305785121E-2]
[" ","1942-01-31",6.1487603305785121E-2]
[" ","1942-02-28",5.5537190082644627E-2]
[" ","1942-03-31",6.1487603305785121E-2]
[" ","1942-04-30",5.9504132231404959E-2]
[" ","1942-05-31",6.1487603305785121E-2]
[" ","1942-06-30",5.9504132231404959E-2]
[" ","1942-07-31",6.1487603305785121E-2]
[" ","1942-08-31",6.1487603305785121E-2]
[" ","1942-09-30",5.9504132231404959E-2]
[" ","1942-10-31",6.1487603305785121E-2]
[" ","1942-11-30",5.9504132231404959E-2]
[" ","1942-12-31",6.1487603305785121E-2]
[" ","1943-01-31",6.1487603305785121E-2]
[" ","1943-02-28",{"$f":"(B269-B268)*86400/43560/1000","v":5.5537190082644627E-2}]
[" ","1943-03-31",6.1487603305785121E-2]
[" ","1943-04-30",5.9504132231404959E-2]
[" ","1943-05-31",6.1487603305785121E-2]
[" ","1943-06-30",5.9504132231404959E-2]
[" ","1943-07-31",6.1487603305785121E-2]
[" ","1943-08-31",6.1487603305785121E-2]
[" ","1943-09-30",5.9504132231404959E-2]
[" ","1943-10-31",6.1487603305785121E-2]
[" ","1943-11-30",5.9504132231404959E-2]
[" ","1943-12-31",6.1487603305785121E-2]
[" ","1944-01-31",6.1487603305785121E-2]
[" ","1944-02-29",5.752066115702479E-2]
[" ","1944-03-31",6.1487603305785121E-2]
[" ","1944-04-30",5.9504132231404959E-2]
[" ","1944-05-31",6.1487603305785121E-2]
[" ","1944-06-30",5.9504132231404959E-2]
[" ","1944-07-31",6.1487603305785121E-2]
[" ","1944-08-31",6.1487603305785121E-2]
[" ","1944-09-30",5.9504132231404959E-2]
[" ","1944-10-31",6.1487603305785121E-2]
[" ","1944-11-30",5.9504132231404959E-2]
[" ","1944-12-31",6.1487603305785121E-2]
[" ","1945-01-31",6.1487603305785121E-2]
[" ","1945-02-28",5.5537190082644627E-2]
[" ","1945-03-31",6.1487603305785121E-2]
[" ","1945-04-30",5.9504132231404959E-2]
[" ","1945-05-31",6.1487603305785121E-2]
[" ","1945-06-30",5.9504132231404959E-2]
[" ","1945-07-31",6.1487603305785121E-2]
[" ","1945-08-31",6.1487603305785121E-2]
[" ","1945-09-30",5.9504132231404959E-2]
[" ","1945-10-31",6.1487603305785121E-2]
[" ","1945-11-30",5.9504132231404959E-2]
[" ","1945-12-31",6.1487603305785121E-2]
[" ","1946-01-31",6.1487603305785121E-2]
[" ","1946-02-28",5.5537190082644627E-2]
[" ","1946-03-31",6.1487603305785121E-2]
[" ","1946-04-30",5.9504132231404959E-2]
[" ","1946-05-31",6.1487603305785121E-2]
[" ","1946-06-30",5.9504132231404959E-2]
[" ","1946-07-31",6.1487603305785121E-2]
[" ","1946-08-31",6.1487603305785121E-2]
[" ","1946-09-30",5.9504132231404959E-2]
[" ","1946-10-31",6.1487603305785121E-2]
[" ","1946-11-30",5.9504132231404959E-2]
[" ","1946-12-31",6.1487603305785121E-2]
[" ","1947-01-31",6.1487603305785121E-2]
[" ","1947-02-28",5.5537190082644627E-2]
[" ","1947-03-31",6.1487603305785121E-2]
[" ","1947-04-30",5.9504132231404959E-2]
[" ","1947-05-31",6.1487603305785121E-2]
[" ","1947-06-30",5.9504132231404959E-2]
[" ","1947-07-31",6.1487603305785121E-2]
[" ","1947-08-31",6.1487603305785121E-2]
[" ","1947-09-30",5.9504132231404959E-2]
[" ","1947-10-31",6.1487603305785121E-2]
[" ","1947-11-30",5.9504132231404959E-2]
[" ","1947-12-31",6.1487603305785121E-2]
[" ","1948-01-31",6.1487603305785121E-2]
[" ","1948-02-29",5.752066115702479E-2]
[" ","1948-03-31",6.1487603305785121E-2]
[" ","1948-04-30",5.9504132231404959E-2]
[" ","1948-05-31",6.1487603305785121E-2]
[" ","1948-06-30",{"$f":"(B333-B332)*86400/43560/1000","v":5.9504132231404959E-2}]
[" ","1948-07-31",6.1487603305785121E-2]
[" ","1948-08-31",6.1487603305785121E-2]
[" ","1948-09-30",5.9504132231404959E-2]
[" ","1948-10-31",6.1487603305785121E-2]
[" ","1948-11-30",5.9504132231404959E-2]
[" ","1948-12-31",6.1487603305785121E-2]
[" ","1949-01-31",6.1487603305785121E-2]
[" ","1949-02-28",5.5537190082644627E-2]
[" ","1949-03-31",6.1487603305785121E-2]
[" ","1949-04-30",5.9504132231404959E-2]
[" ","1949-05-31",6.1487603305785121E-2]
[" ","1949-06-30",5.9504132231404959E-2]
[" ","1949-07-31",6.1487603305785121E-2]
[" ","1949-08-31",6.1487603305785121E-2]
[" ","1949-09-30",5.9504132231404959E-2]
[" ","1949-10-31",6.1487603305785121E-2]
[" ","1949-11-30",5.9504132231404959E-2]
[" ","1949-12-31",6.1487603305785121E-2]
[" ","1950-01-31",6.1487603305785121E-2]
[" ","1950-02-28",5.5537190082644627E-2]
[" ","1950-03-31",6.1487603305785121E-2]
[" ","1950-04-30",5.9504132231404959E-2]
[" ","1950-05-31",6.1487603305785121E-2]
[" ","1950-06-30",5.9504132231404959E-2]
[" ","1950-07-31",6.1487603305785121E-2]
[" ","1950-08-31",6.1487603305785121E-2]
[" ","1950-09-30",5.9504132231404959E-2]
[" ","1950-10-31",6.1487603305785121E-2]
[" ","1950-11-30",5.9504132231404959E-2]
[" ","1950-12-31",6.1487603305785121E-2]
[" ","1951-01-31",6.1487603305785121E-2]
[" ","1951-02-28",5.5537190082644627E-2]
[" ","1951-03-31",6.1487603305785121E-2]
[" ","1951-04-30",5.9504132231404959E-2]
[" ","1951-05-31",6.1487603305785121E-2]
[" ","1951-06-30",5.9504132231404959E-2]
[" ","1951-07-31",6.1487603305785121E-2]
[" ","1951-08-31",6.1487603305785121E-2]
[" ","1951-09-30",5.9504132231404959E-2]
[" ","1951-10-31",6.1487603305785121E-2]
[" ","1951-11-30",5.9504132231404959E-2]
[" ","1951-12-31",6.1487603305785121E-2]
[" ","1952-01-31",6.1487603305785121E-2]
[" ","1952-02-29",5.752066115702479E-2]
[" ","1952-03-31",6.1487603305785121E-2]
[" ","1952-04-30",5.9504132231404959E-2]
[" ","1952-05-31",6.1487603305785121E-2]
[" ","1952-06-30",5.9504132231404959E-2]
[" ","1952-07-31",6.1487603305785121E-2]
[" ","1952-08-31",6.1487603305785121E-2]
[" ","1952-09-30",5.9504132231404959E-2]
[" ","1952-10-31",6.1487603305785121E-2]
[" ","1952-11-30",5.9504132231404959E-2]
[" ","1952-12-31",6.1487603305785121E-2]
[" ","1953-01-31",6.1487603305785121E-2]
[" ","1953-02-28",5.5537190082644627E-2]
[" ","1953-03-31",6.1487603305785121E-2]
[" ","1953-04-30",5.9504132231404959E-2]
[" ","1953-05-31",6.1487603305785121E-2]
[" ","1953-06-30",5.9504132231404959E-2]
[" ","1953-07-31",6.1487603305785121E-2]
[" ","1953-08-31",6.1487603305785121E-2]
[" ","1953-09-30",5.9504132231404959E-2]
[" ","1953-10-31",{"$f":"(B397-B396)*86400/43560/1000","v":6.1487603305785121E-2}]
[" ","1953-11-30",5.9504132231404959E-2]
[" ","1953-12-31",6.1487603305785121E-2]
[" ","1954-01-31",6.1487603305785121E-2]
[" ","1954-02-28",5.5537190082644627E-2]
[" ","1954-03-31",6.1487603305785121E-2]
[" ","1954-04-30",5.9504132231404959E-2]
[" ","1954-05-31",6.1487603305785121E-2]
[" ","1954-06-30",5.9504132231404959E-2]
[" ","1954-07-31",6.1487603305785121E-2]
[" ","1954-08-31",6.1487603305785121E-2]
[" ","1954-09-30",5.9504132231404959E-2]
[" ","1954-10-31",6.1487603305785121E-2]
[" ","1954-11-30",5.9504132231404959E-2]
[" ","1954-12-31",6.1487603305785121E-2]
[" ","1955-01-31",6.1487603305785121E-2]
[" ","1955-02-28",5.5537190082644627E-2]
[" ","1955-03-31",6.1487603305785121E-2]
[" ","1955-04-30",5.9504132231404959E-2]
[" ","1955-05-31",6.1487603305785121E-2]
[" ","1955-06-30",5.9504132231404959E-2]
[" ","1955-07-31",6.1487603305785121E-2]
[" ","1955-08-31",6.1487603305785121E-2]
[" ","1955-09-30",5.9504132231404959E-2]
[" ","1955-10-31",6.1487603305785121E-2]
[" ","1955-11-30",5.9504132231404959E-2]
[" ","1955-12-31",6.1487603305785121E-2]
[" ","1956-01-31",6.1487603305785121E-2]
[" ","1956-02-29",5.752066115702479E-2]
[" ","1956-03-31",6.1487603305785121E-2]
[" ","1956-04-30",5.9504132231404959E-2]
[" ","1956-05-31",6.1487603305785121E-2]
[" ","1956-06-30",5.9504132231404959E-2]
[" ","1956-07-31",6.1487603305785121E-2]
[" ","1956-08-31",6.1487603305785121E-2]
[" ","1956-09-30",5.9504132231404959E-2]
[" ","1956-10-31",6.1487603305785121E-2]
[" ","1956-11-30",5.9504132231404959E-2]
[" ","1956-12-31",6.1487603305785121E-2]
[" ","1957-01-31",6.1487603305785121E-2]
[" ","1957-02-28",5.5537190082644627E-2]
[" ","1957-03-31",6.1487603305785121E-2]
[" ","1957-04-30",5.9504132231404959E-2]
[" ","1957-05-31",6.1487603305785121E-2]
[" ","1957-06-30",5.9504132231404959E-2]
[" ","1957-07-31",6.1487603305785121E-2]
[" ","1957-08-31",6.1487603305785121E-2]
[" ","1957-09-30",5.9504132231404959E-2]
[" ","1957-10-31",6.1487603305785121E-2]
[" ","1957-11-30",5.9504132231404959E-2]
[" ","1957-12-31",6.1487603305785121E-2]
[" ","1958-01-31",6.1487603305785121E-2]
[" ","1958-02-28",5.5537190082644627E-2]
[" ","1958-03-31",6.1487603305785121E-2]
[" ","1958-04-30",5.9504132231404959E-2]
[" ","1958-05-31",6.1487603305785121E-2]
[" ","1958-06-30",5.9504132231404959E-2]
[" ","1958-07-31",6.1487603305785121E-2]
[" ","1958-08-31",6.1487603305785121E-2]
[" ","1958-09-30",5.9504132231404959E-2]
[" ","1958-10-31",6.1487603305785121E-2]
[" ","1958-11-30",5.9504132231404959E-2]
[" ","1958-12-31",6.1487603305785121E-2]
[" ","1959-01-31",6.1487603305785121E-2]
[" ","1959-02-28",{"$f":"(B461-B460)*86400/43560/1000","v":5.5537190082644627E-2}]
[" ","1959-03-31",6.1487603305785121E-2]
[" ","1959-04-30",5.9504132231404959E-2]
[" ","1959-05-31",6.1487603305785121E-2]
[" ","1959-06-30",5.9504132231404959E-2]
[" ","1959-07-31",6.1487603305785121E-2]
[" ","1959-08-31",6.1487603305785121E-2]
[" ","1959-09-30",5.9504132231404959E-2]
[" ","1959-10-31",6.1487603305785121E-2]
[" ","1959-11-30",5.9504132231404959E-2]
[" ","1959-12-31",6.1487603305785121E-2]
[" ","1960-01-31",6.1487603305785121E-2]
[" ","1960-02-29",5.752066115702479E-2]
[" ","1960-03-31",6.1487603305785121E-2]
[" ","1960-04-30",5.9504132231404959E-2]
[" ","1960-05-31",6.1487603305785121E-2]
[" ","1960-06-30",5.9504132231404959E-2]
[" ","1960-07-31",6.1487603305785121E-2]
[" ","1960-08-31",6.1487603305785121E-2]
[" ","1960-09-30",5.9504132231404959E-2]
[" ","1960-10-31",6.1487603305785121E-2]
[" ","1960-11-30",5.9504132231404959E-2]
[" ","1960-12-31",6.1487603305785121E-2]
[" ","1961-01-31",6.1487603305785121E-2]
[" ","1961-02-28",5.5537190082644627E-2]
[" ","1961-03-31",6.1487603305785121E-2]
[" ","1961-04-30",5.9504132231404959E-2]
[" ","1961-05-31",6.1487603305785121E-2]
[" ","1961-06-30",5.9504132231404959E-2]
[" ","1961-07-31",6.1487603305785121E-2]
[" ","1961-08-31",6.1487603305785121E-2]
[" ","1961-09-30",5.9504132231404959E-2]
[" ","1961-10-31",6.1487603305785121E-2]
[" ","1961-11-30",5.9504132231404959E-2]
[" ","1961-12-31",6.1487603305785121E-2]
[" ","1962-01-31",6.1487603305785121E-2]
[" ","1962-02-28",5.5537190082644627E-2]
[" ","1962-03-31",6.1487603305785121E-2]
[" ","1962-04-30",5.9504132231404959E-2]
[" ","1962-05-31",6.1487603305785121E-2]
[" ","1962-06-30",5.9504132231404959E-2]
[" ","1962-07-31",6.1487603305785121E-2]
[" ","1962-08-31",6.1487603305785121E-2]
[" ","1962-09-30",5.9504132231404959E-2]
[" ","1962-10-31",6.1487603305785121E-2]
[" ","1962-11-30",5.9504132231404959E-2]
[" ","1962-12-31",6.1487603305785121E-2]
[" ","1963-01-31",6.1487603305785121E-2]
[" ","1963-02-28",5.5537190082644627E-2]
[" ","1963-03-31",6.1487603305785121E-2]
[" ","1963-04-30",5.9504132231404959E-2]
[" ","1963-05-31",6.1487603305785121E-2]
[" ","1963-06-30",5.9504132231404959E-2]
[" ","1963-07-31",6.1487603305785121E-2]
[" ","1963-08-31",6.1487603305785121E-2]
[" ","1963-09-30",5.9504132231404959E-2]
[" ","1963-10-31",6.1487603305785121E-2]
[" ","1963-11-30",5.9504132231404959E-2]
[" ","1963-12-31",6.1487603305785121E-2]
[" ","1964-01-31",6.1487603305785121E-2]
[" ","1964-02-29",5.752066115702479E-2]
[" ","1964-03-31",6.1487603305785121E-2]
[" ","1964-04-30",5.9504132231404959E-2]
[" ","1964-05-31",6.1487603305785121E-2]
[" ","1964-06-30",{"$f":"(B525-B524)*86400/43560/1000","v":5.9504132231404959E-2}]
[" ","1964-07-31",6.1487603305785121E-2]
[" ","1964-08-31",6.1487603305785121E-2]
[" ","1964-09-30",5.9504132231404959E-2]
[" ","1964-10-31",6.1487603305785121E-2]
[" ","1964-11-30",5.9504132231404959E-2]
[" ","1964-12-31",6.1487603305785121E-2]
[" ","1965-01-31",6.1487603305785121E-2]
[" ","1965-02-28",5.5537190082644627E-2]
[" ","1965-03-31",6.1487603305785121E-2]
[" ","1965-04-30",5.9504132231404959E-2]
[" ","1965-05-31",6.1487603305785121E-2]
[" ","1965-06-30",5.9504132231404959E-2]
[" ","1965-07-31",6.1487603305785121E-2]
[" ","1965-08-31",6.1487603305785121E-2]
[" ","1965-09-30",5.9504132231404959E-2]
[" ","1965-10-31",6.1487603305785121E-2]
[" ","1965-11-30",5.9504132231404959E-2]
[" ","1965-12-31",6.1487603305785121E-2]
[" ","1966-01-31",6.1487603305785121E-2]
[" ","1966-02-28",5.5537190082644627E-2]
[" ","1966-03-31",6.1487603305785121E-2]
[" ","1966-04-30",5.9504132231404959E-2]
[" ","1966-05-31",6.1487603305785121E-2]
[" ","1966-06-30",5.9504132231404959E-2]
[" ","1966-07-31",6.1487603305785121E-2]
[" ","1966-08-31",6.1487603305785121E-2]
[" ","1966-09-30",5.9504132231404959E-2]
[" ","1966-10-31",6.1487603305785121E-2]
[" ","1966-11-30",5.9504132231404959E-2]
[" ","1966-12-31",6.1487603305785121E-2]
[" ","1967-01-31",6.1487603305785121E-2]
[" ","1967-02-28",5.5537190082644627E-2]
[" ","1967-03-31",6.1487603305785121E-2]
[" ","1967-04-30",5.9504132231404959E-2]
[" ","1967-05-31",6.1487603305785121E-2]
[" ","1967-06-30",5.9504132231404959E-2]
[" ","1967-07-31",6.1487603305785121E-2]
[" ","1967-08-31",6.1487603305785121E-2]
[" ","1967-09-30",5.9504132231404959E-2]
[" ","1967-10-31",6.1487603305785121E-2]
[" ","1967-11-30",5.9504132231404959E-2]
[" ","1967-12-31",6.1487603305785121E-2]
[" ","1968-01-31",6.1487603305785121E-2]
[" ","1968-02-29",5.752066115702479E-2]
[" ","1968-03-31",6.1487603305785121E-2]
[" ","1968-04-30",5.9504132231404959E-2]
[" ","1968-05-31",6.1487603305785121E-2]
[" ","1968-06-30",5.9504132231404959E-2]
[" ","1968-07-31",6.1487603305785121E-2]
[" ","1968-08-31",6.1487603305785121E-2]
[" ","1968-09-30",5.9504132231404959E-2]
[" ","1968-10-31",6.1487603305785121E-2]
[" ","1968-11-30",5.9504132231404959E-2]
[" ","1968-12-31",6.1487603305785121E-2]
[" ","1969-01-31",6.1487603305785121E-2]
[" ","1969-02-28",5.5537190082644627E-2]
[" ","1969-03-31",6.1487603305785121E-2]
[" ","1969-04-30",5.9504132231404959E-2]
[" ","1969-05-31",6.1487603305785121E-2]
[" ","1969-06-30",5.9504132231404959E-2]
[" ","1969-07-31",6.1487603305785121E-2]
[" ","1969-08-31",6.1487603305785121E-2]
[" ","1969-09-30",5.9504132231404959E-2]
[" ","1969-10-31",{"$f":"(B589-B588)*86400/43560/1000","v":6.1487603305785121E-2}]
[" ","1969-11-30",5.9504132231404959E-2]
[" ","1969-12-31",6.1487603305785121E-2]
[" ","1970-01-31",6.1487603305785121E-2]
[" ","1970-02-28",5.5537190082644627E-2]
[" ","1970-03-31",6.1487603305785121E-2]
[" ","1970-04-30",5.9504132231404959E-2]
[" ","1970-05-31",6.1487603305785121E-2]
[" ","1970-06-30",5.9504132231404959E-2]
[" ","1970-07-31",6.1487603305785121E-2]
[" ","1970-08-31",6.1487603305785121E-2]
[" ","1970-09-30",5.9504132231404959E-2]
[" ","1970-10-31",6.1487603305785121E-2]
[" ","1970-11-30",5.9504132231404959E-2]
[" ","1970-12-31",6.1487603305785121E-2]
[" ","1971-01-31",6.1487603305785121E-2]
[" ","1971-02-28",5.5537190082644627E-2]
[" ","1971-03-31",6.1487603305785121E-2]
[" ","1971-04-30",5.9504132231404959E-2]
[" ","1971-05-31",6.1487603305785121E-2]
[" ","1971-06-30",5.9504132231404959E-2]
[" ","1971-07-31",6.1487603305785121E-2]
[" ","1971-08-31",6.1487603305785121E-2]
[" ","1971-09-30",5.9504132231404959E-2]
[" ","1971-10-31",6.1487603305785121E-2]
[" ","1971-11-30",5.9504132231404959E-2]
[" ","1971-12-31",6.1487603305785121E-2]
[" ","1972-01-31",6.1487603305785121E-2]
[" ","1972-02-29",5.752066115702479E-2]
[" ","1972-03-31",6.1487603305785121E-2]
[" ","1972-04-30",5.9504132231404959E-2]
[" ","1972-05-31",6.1487603305785121E-2]
[" ","1972-06-30",5.9504132231404959E-2]
[" ","1972-07-31",6.1487603305785121E-2]
[" ","1972-08-31",6.1487603305785121E-2]
[" ","1972-09-30",5.9504132231404959E-2]
[" ","1972-10-31",6.1487603305785121E-2]
[" ","1972-11-30",5.9504132231404959E-2]
[" ","1972-12-31",6.1487603305785121E-2]
[" ","1973-01-31",6.1487603305785121E-2]
[" ","1973-02-28",5.5537190082644627E-2]
[" ","1973-03-31",6.1487603305785121E-2]
[" ","1973-04-30",5.9504132231404959E-2]
[" ","1973-05-31",6.1487603305785121E-2]
[" ","1973-06-30",5.9504132231404959E-2]
[" ","1973-07-31",6.1487603305785121E-2]
[" ","1973-08-31",6.1487603305785121E-2]
[" ","1973-09-30",5.9504132231404959E-2]
[" ","1973-10-31",6.1487603305785121E-2]
[" ","1973-11-30",5.9504132231404959E-2]
[" ","1973-12-31",6.1487603305785121E-2]
[" ","1974-01-31",6.1487603305785121E-2]
[" ","1974-02-28",5.5537190082644627E-2]
[" ","1974-03-31",6.1487603305785121E-2]
[" ","1974-04-30",5.9504132231404959E-2]
[" ","1974-05-31",6.1487603305785121E-2]
[" ","1974-06-30",5.9504132231404959E-2]
[" ","1974-07-31",6.1487603305785121E-2]
[" ","1974-08-31",6.1487603305785121E-2]
[" ","1974-09-30",5.9504132231404959E-2]
[" ","1974-10-31",6.1487603305785121E-2]
[" ","1974-11-30",5.9504132231404959E-2]
[" ","1974-12-31",6.1487603305785121E-2]
[" ","1975-01-31",6.1487603305785121E-2]
[" ","1975-02-28",{"$f":"(B653-B652)*86400/43560/1000","v":5.5537190082644627E-2}]
[" ","1975-03-31",6.1487603305785121E-2]
[" ","1975-04-30",5.9504132231404959E-2]
[" ","1975-05-31",6.1487603305785121E-2]
[" ","1975-06-30",5.9504132231404959E-2]
[" ","1975-07-31",6.1487603305785121E-2]
[" ","1975-08-31",6.1487603305785121E-2]
[" ","1975-09-30",5.9504132231404959E-2]
[" ","1975-10-31",6.1487603305785121E-2]
[" ","1975-11-30",5.9504132231404959E-2]
[" ","1975-12-31",6.1487603305785121E-2]
[" ","1976-01-31",6.1487603305785121E-2]
[" ","1976-02-29",5.752066115702479E-2]
[" ","1976-03-31",6.1487603305785121E-2]
[" ","1976-04-30",5.9504132231404959E-2]
[" ","1976-05-31",6.1487603305785121E-2]
[" ","1976-06-30",5.9504132231404959E-2]
[" ","1976-07-31",6.1487603305785121E-2]
[" ","1976-08-31",6.1487603305785121E-2]
[" ","1976-09-30",5.9504132231404959E-2]
[" ","1976-10-31",6.1487603305785121E-2]
[" ","1976-11-30",5.9504132231404959E-2]
[" ","1976-12-31",6.1487603305785121E-2]
[" ","1977-01-31",6.1487603305785121E-2]
[" ","1977-02-28",5.5537190082644627E-2]
[" ","1977-03-31",6.1487603305785121E-2]
[" ","1977-04-30",5.9504132231404959E-2]
[" ","1977-05-31",6.1487603305785121E-2]
[" ","1977-06-30",5.9504132231404959E-2]
[" ","1977-07-31",6.1487603305785121E-2]
[" ","1977-08-31",6.1487603305785121E-2]
[" ","1977-09-30",5.9504132231404959E-2]
[" ","1977-10-31",6.1487603305785121E-2]
[" ","1977-11-30",5.9504132231404959E-2]
[" ","1977-12-31",6.1487603305785121E-2]
[" ","1978-01-31",6.1487603305785121E-2]
[" ","1978-02-28",5.5537190082644627E-2]
[" ","1978-03-31",6.1487603305785121E-2]
[" ","1978-04-30",5.9504132231404959E-2]
[" ","1978-05-31",6.1487603305785121E-2]
[" ","1978-06-30",5.9504132231404959E-2]
[" ","1978-07-31",6.1487603305785121E-2]
[" ","1978-08-31",6.1487603305785121E-2]
[" ","1978-09-30",5.9504132231404959E-2]
[" ","1978-10-31",6.1487603305785121E-2]
[" ","1978-11-30",5.9504132231404959E-2]
[" ","1978-12-31",6.1487603305785121E-2]
[" ","1979-01-31",6.1487603305785121E-2]
[" ","1979-02-28",5.5537190082644627E-2]
[" ","1979-03-31",6.1487603305785121E-2]
[" ","1979-04-30",5.9504132231404959E-2]
[" ","1979-05-31",6.1487603305785121E-2]
[" ","1979-06-30",5.9504132231404959E-2]
[" ","1979-07-31",6.1487603305785121E-2]
[" ","1979-08-31",6.1487603305785121E-2]
[" ","1979-09-30",5.9504132231404959E-2]
[" ","1979-10-31",6.1487603305785121E-2]
[" ","1979-11-30",5.9504132231404959E-2]
[" ","1979-12-31",6.1487603305785121E-2]
[" ","1980-01-31",6.1487603305785121E-2]
[" ","1980-02-29",5.752066115702479E-2]
[" ","1980-03-31",6.1487603305785121E-2]
[" ","1980-04-30",5.9504132231404959E-2]
[" ","1980-05-31",6.1487603305785121E-2]
[" ","1980-06-30",{"$f":"(B717-B716)*86400/43560/1000","v":5.9504132231404959E-2}]
[" ","1980-07-31",6.1487603305785121E-2]
[" ","1980-08-31",6.1487603305785121E-2]
[" ","1980-09-30",5.9504132231404959E-2]
[" ","1980-10-31",6.1487603305785121E-2]
[" ","1980-11-30",5.9504132231404959E-2]
[" ","1980-12-31",6.1487603305785121E-2]
[" ","1981-01-31",6.1487603305785121E-2]
[" ","1981-02-28",5.5537190082644627E-2]
[" ","1981-03-31",6.1487603305785121E-2]
[" ","1981-04-30",5.9504132231404959E-2]
[" ","1981-05-31",6.1487603305785121E-2]
[" ","1981-06-30",5.9504132231404959E-2]
[" ","1981-07-31",6.1487603305785121E-2]
[" ","1981-08-31",6.1487603305785121E-2]
[" ","1981-09-30",5.9504132231404959E-2]
[" ","1981-10-31",6.1487603305785121E-2]
[" ","1981-11-30",5.9504132231404959E-2]
[" ","1981-12-31",6.1487603305785121E-2]
[" ","1982-01-31",6.1487603305785121E-2]
[" ","1982-02-28",5.5537190082644627E-2]
[" ","1982-03-31",6.1487603305785121E-2]
[" ","1982-04-30",5.9504132231404959E-2]
[" ","1982-05-31",6.1487603305785121E-2]
[" ","1982-06-30",5.9504132231404959E-2]
[" ","1982-07-31",6.1487603305785121E-2]
[" ","1982-08-31",6.1487603305785121E-2]
[" ","1982-09-30",5.9504132231404959E-2]
[" ","1982-10-31",6.1487603305785121E-2]
[" ","1982-11-30",5.9504132231404959E-2]
[" ","1982-12-31",6.1487603305785121E-2]
[" ","1983-01-31",6.1487603305785121E-2]
[" ","1983-02-28",5.5537190082644627E-2]
[" ","1983-03-31",6.1487603305785121E-2]
[" ","1983-04-30",5.9504132231404959E-2]
[" ","1983-05-31",6.1487603305785121E-2]
[" ","1983-06-30",5.9504132231404959E-2]
[" ","1983-07-31",6.1487603305785121E-2]
[" ","1983-08-31",6.1487603305785121E-2]
[" ","1983-09-30",5.9504132231404959E-2]
[" ","1983-10-31",6.1487603305785121E-2]
[" ","1983-11-30",5.9504132231404959E-2]
[" ","1983-12-31",6.1487603305785121E-2]
[" ","1984-01-31",6.1487603305785121E-2]
[" ","1984-02-29",5.752066115702479E-2]
[" ","1984-03-31",6.1487603305785121E-2]
[" ","1984-04-30",5.9504132231404959E-2]
[" ","1984-05-31",6.1487603305785121E-2]
[" ","1984-06-30",5.9504132231404959E-2]
[" ","1984-07-31",6.1487603305785121E-2]
[" ","1984-08-31",6.1487603305785121E-2]
[" ","1984-09-30",5.9504132231404959E-2]
[" ","1984-10-31",6.1487603305785121E-2]
[" ","1984-11-30",5.9504132231404959E-2]
[" ","1984-12-31",6.1487603305785121E-2]
[" ","1985-01-31",6.1487603305785121E-2]
[" ","1985-02-28",5.5537190082644627E-2]
[" ","1985-03-31",6.1487603305785121E-2]
[" ","1985-04-30",5.9504132231404959E-2]
[" ","1985-05-31",6.1487603305785121E-2]
[" ","1985-06-30",5.9504132231404959E-2]
[" ","1985-07-31",6.1487603305785121E-2]
[" ","1985-08-31",6.1487603305785121E-2]
[" ","1985-09-30",5.9504132231404959E-2]
[" ","1985-10-31",{"$f":"(B781-B780)*86400/43560/1000","v":6.1487603305785121E-2}]
[" ","1985-11-30",5.9504132231404959E-2]
[" ","1985-12-31",6.1487603305785121E-2]
[" ","1986-01-31",6.1487603305785121E-2]
[" ","1986-02-28",5.5537190082644627E-2]
[" ","1986-03-31",6.1487603305785121E-2]
[" ","1986-04-30",5.9504132231404959E-2]
[" ","1986-05-31",6.1487603305785121E-2]
[" ","1986-06-30",5.9504132231404959E-2]
[" ","1986-07-31",6.1487603305785121E-2]
[" ","1986-08-31",6.1487603305785121E-2]
[" ","1986-09-30",5.9504132231404959E-2]
[" ","1986-10-31",6.1487603305785121E-2]
[" ","1986-11-30",5.9504132231404959E-2]
[" ","1986-12-31",6.1487603305785121E-2]
[" ","1987-01-31",6.1487603305785121E-2]
[" ","1987-02-28",5.5537190082644627E-2]
[" ","1987-03-31",6.1487603305785121E-2]
[" ","1987-04-30",5.9504132231404959E-2]
[" ","1987-05-31",6.1487603305785121E-2]
[" ","1987-06-30",5.9504132231404959E-2]
[" ","1987-07-31",6.1487603305785121E-2]
[" ","1987-08-31",6.1487603305785121E-2]
[" ","1987-09-30",5.9504132231404959E-2]
[" ","1987-10-31",6.1487603305785121E-2]
[" ","1987-11-30",5.9504132231404959E-2]
[" ","1987-12-31",6.1487603305785121E-2]
[" ","1988-01-31",6.1487603305785121E-2]
[" ","1988-02-29",5.752066115702479E-2]
[" ","1988-03-31",6.1487603305785121E-2]
[" ","1988-04-30",5.9504132231404959E-2]
[" ","1988-05-31",6.1487603305785121E-2]
[" ","1988-06-30",5.9504132231404959E-2]
[" ","1988-07-31",6.1487603305785121E-2]
[" ","1988-08-31",6.1487603305785121E-2]
[" ","1988-09-30",5.9504132231404959E-2]
[" ","1988-10-31",6.1487603305785121E-2]
[" ","1988-11-30",5.9504132231404959E-2]
[" ","1988-12-31",6.1487603305785121E-2]
[" ","1989-01-31",6.1487603305785121E-2]
[" ","1989-02-28",5.5537190082644627E-2]
[" ","1989-03-31",6.1487603305785121E-2]
[" ","1989-04-30",5.9504132231404959E-2]
[" ","1989-05-31",6.1487603305785121E-2]
[" ","1989-06-30",5.9504132231404959E-2]
[" ","1989-07-31",6.1487603305785121E-2]
[" ","1989-08-31",6.1487603305785121E-2]
[" ","1989-09-30",5.9504132231404959E-2]
[" ","1989-10-31",6.1487603305785121E-2]
[" ","1989-11-30",5.9504132231404959E-2]
[" ","1989-12-31",6.1487603305785121E-2]
[" ","1990-01-31",6.1487603305785121E-2]
[" ","1990-02-28",5.5537190082644627E-2]
[" ","1990-03-31",6.1487603305785121E-2]
[" ","1990-04-30",5.9504132231404959E-2]
[" ","1990-05-31",6.1487603305785121E-2]
[" ","1990-06-30",5.9504132231404959E-2]
[" ","1990-07-31",6.1487603305785121E-2]
[" ","1990-08-31",6.1487603305785121E-2]
[" ","1990-09-30",5.9504132231404959E-2]
[" ","1990-10-31",6.1487603305785121E-2]
[" ","1990-11-30",5.9504132231404959E-2]
[" ","1990-12-31",6.1487603305785121E-2]
[" ","1991-01-31",6.1487603305785121E-2]
[" ","1991-02-28",{"$f":"(B845-B844)*86400/43560/1000","v":5.5537190082644627E-2}]
[" ","1991-03-31",6.1487603305785121E-2]
[" ","1991-04-30",5.9504132231404959E-2]
[" ","1991-05-31",6.1487603305785121E-2]
[" ","1991-06-30",5.9504132231404959E-2]
[" ","1991-07-31",6.1487603305785121E-2]
[" ","1991-08-31",6.1487603305785121E-2]
[" ","1991-09-30",5.9504132231404959E-2]
[" ","1991-10-31",6.1487603305785121E-2]
[" ","1991-11-30",5.9504132231404959E-2]
[" ","1991-12-31",6.1487603305785121E-2]
[" ","1992-01-31",6.1487603305785121E-2]
[" ","1992-02-29",5.752066115702479E-2]
[" ","1992-03-31",6.1487603305785121E-2]
[" ","1992-04-30",5.9504132231404959E-2]
[" ","1992-05-31",6.1487603305785121E-2]
[" ","1992-06-30",5.9504132231404959E-2]
[" ","1992-07-31",6.1487603305785121E-2]
[" ","1992-08-31",6.1487603305785121E-2]
[" ","1992-09-30",5.9504132231404959E-2]
[" ","1992-10-31",6.1487603305785121E-2]
[" ","1992-11-30",5.9504132231404959E-2]
[" ","1992-12-31",6.1487603305785121E-2]
[" ","1993-01-31",6.1487603305785121E-2]
[" ","1993-02-28",5.5537190082644627E-2]
[" ","1993-03-31",6.1487603305785121E-2]
[" ","1993-04-30",5.9504132231404959E-2]
[" ","1993-05-31",6.1487603305785121E-2]
[" ","1993-06-30",5.9504132231404959E-2]
[" ","1993-07-31",6.1487603305785121E-2]
[" ","1993-08-31",6.1487603305785121E-2]
[" ","1993-09-30",5.9504132231404959E-2]
[" ","1993-10-31",6.1487603305785121E-2]
[" ","1993-11-30",5.9504132231404959E-2]
[" ","1993-12-31",6.1487603305785121E-2]
[" ","1994-01-31",6.1487603305785121E-2]
[" ","1994-02-28",5.5537190082644627E-2]
[" ","1994-03-31",6.1487603305785121E-2]
[" ","1994-04-30",5.9504132231404959E-2]
[" ","1994-05-31",6.1487603305785121E-2]
[" ","1994-06-30",5.9504132231404959E-2]
[" ","1994-07-31",6.1487603305785121E-2]
[" ","1994-08-31",6.1487603305785121E-2]
[" ","1994-09-30",5.9504132231404959E-2]
[null,"1994-10-31",6.1487603305785121E-2]
[null,"1994-11-30",5.9504132231404959E-2]
[null,"1994-12-31",6.1487603305785121E-2]
[null,"1995-01-31",6.1487603305785121E-2]
[null,"1995-02-28",5.5537190082644627E-2]
[null,"1995-03-31",6.1487603305785121E-2]
[null,"1995-04-30",5.9504132231404959E-2]
[null,"1995-05-31",6.1487603305785121E-2]
[null,"1995-06-30",5.9504132231404959E-2]
[null,"1995-07-31",6.1487603305785121E-2]
[null,"1995-08-31",6.1487603305785121E-2]
[null,"1995-09-30",5.9504132231404959E-2]
[null,"1995-10-31",6.1487603305785121E-2]
[null,"1995-11-30",5.9504132231404959E-2]
[null,"1995-12-31",6.1487603305785121E-2]
[null,"1996-01-31",6.1487603305785121E-2]
[null,"1996-02-29",5.752066115702479E-2]
[null,"1996-03-31",6.1487603305785121E-2]
[null,"1996-04-30",5.9504132231404959E-2]
[null,"1996-05-31",6.1487603305785121E-2]
[null,"1996-06-30",{"$f":"(B909-B908)*86400/43560/1000","v":5.9504132231404959E-2}]
[null,"1996-07-31",6.1487603305785121E-2]
[null,"1996-08-31",6.1487603305785121E-2]
[null,"1996-09-30",5.9504132231404959E-2]
[null,"1996-10-31",6.1487603305785121E-2]
[null,"1996-11-30",5.9504132231404959E-2]
[null,"1996-12-31",6.1487603305785121E-2]
[null,"1997-01-31",6.1487603305785121E-2]
[null,"1997-02-28",5.5537190082644627E-2]
[null,"1997-03-31",6.1487603305785121E-2]
[null,"1997-04-30",5.9504132231404959E-2]
[null,"1997-05-31",6.1487603305785121E-2]
[null,"1997-06-30",5.9504132231404959E-2]
[null,"1997-07-31",6.1487603305785121E-2]
[null,"1997-08-31",6.1487603305785121E-2]
[null,"1997-09-30",5.9504132231404959E-2]
[null,"1997-10-31",6.1487603305785121E-2]
[null,"1997-11-30",5.9504132231404959E-2]
[null,"1997-12-31",6.1487603305785121E-2]
[null,"1998-01-31",6.1487603305785121E-2]
[null,"1998-02-28",5.5537190082644627E-2]
[null,"1998-03-31",6.1487603305785121E-2]
[null,"1998-04-30",5.9504132231404959E-2]
[null,"1998-05-31",6.1487603305785121E-2]
[null,"1998-06-30",5.9504132231404959E-2]
[null,"1998-07-31",6.1487603305785121E-2]
[null,"1998-08-31",6.1487603305785121E-2]
[null,"1998-09-30",5.9504132231404959E-2]
[null,"1998-10-31",6.1487603305785121E-2]
[null,"1998-11-30",5.9504132231404959E-2]
[null,"1998-12-31",6.1487603305785121E-2]
[null,"1999-01-31",6.1487603305785121E-2]
[null,"1999-02-28",5.5537190082644627E-2]
[null,"1999-03-31",6.1487603305785121E-2]
[null,"1999-04-30",5.9504132231404959E-2]
[null,"1999-05-31",6.1487603305785121E-2]
[null,"1999-06-30",5.9504132231404959E-2]
[null,"1999-07-31",6.1487603305785121E-2]
[null,"1999-08-31",6.1487603305785121E-2]
[null,"1999-09-30",5.9504132231404959E-2]
[null,"1999-10-31",6.1487603305785121E-2]
[null,"1999-11-30",5.9504132231404959E-2]
[null,"1999-12-31",6.1487603305785121E-2]
[null,"2000-01-31",6.1487603305785121E-2]
[null,"2000-02-29",5.752066115702479E-2]
[null,"2000-03-31",6.1487603305785121E-2]
[null,"2000-04-30",5.9504132231404959E-2]
[null,"2000-05-31",6.1487603305785121E-2]
[null,"2000-06-30",5.9504132231404959E-2]
[null,"2000-07-31",6.1487603305785121E-2]
[null,"2000-08-31",6.1487603305785121E-2]
[null,"2000-09-30",5.9504132231404959E-2]
[null,"2000-10-31",6.1487603305785121E-2]
[null,"2000-11-30",5.9504132231404959E-2]
[null,"2000-12-31",6.1487603305785121E-2]
[null,"2001-01-31",6.1487603305785121E-2]
[null,"2001-02-28",5.5537190082644627E-2]
[null,"2001-03-31",6.1487603305785121E-2]
[null,"2001-04-30",5.9504132231404959E-2]
[null,"2001-05-31",6.1487603305785121E-2]
[null,"2001-06-30",5.9504132231404959E-2]
[null,"2001-07-31",6.1487603305785121E-2]
[null,"2001-08-31",6.1487603305785121E-2]
[null,"2001-09-30",5.9504132231404959E-2]
[null,"2001-10-31",{"$f":"(B973-B972)*86400/43560/1000","v":6.1487603305785121E-2}]
[null,"2001-11-30",5.9504132231404959E-2]
[null,"2001-12-31",6.1487603305785121E-2]
[null,"2002-01-31",6.1487603305785121E-2]
[null,"2002-02-28",5.5537190082644627E-2]
[null,"2002-03-31",6.1487603305785121E-2]
[null,"2002-04-30",5.9504132231404959E-2]
[null,"2002-05-31",6.1487603305785121E-2]
[null,"2002-06-30",5.9504132231404959E-2]
[null,"2002-07-31",6.1487603305785121E-2]
[null,"2002-08-31",6.1487603305785121E-2]
[null,"2002-09-30",5.9504132231404959E-2]
[null,"2002-10-31",6.1487603305785121E-2]
[null,"2002-11-30",5.9504132231404959E-2]
[null,"2002-12-31",6.1487603305785121E-2]
[null,"2003-01-31",6.1487603305785121E-2]
[null,"2003-02-28",5.5537190082644627E-2]
[null,"2003-03-31",6.1487603305785121E-2]
[null,"2003-04-30",5.9504132231404959E-2]
[null,"2003-05-31",6.1487603305785121E-2]
[null,"2003-06-30",5.9504132231404959E-2]
[null,"2003-07-31",6.1487603305785121E-2]
[null,"2003-08-31",6.1487603305785121E-2]
[null,"2003-09-30",5.9504132231404959E-2]